{"text_format":"1","workbook":"xlsx","n_sheets":19,"sheets":["Inputs","Output - 2 Years","Output - 3 Years","Output - 4 Years","FLSAvoidedFxCost","FLSPreventedFx","Expected2ndFxCost","2ndFxCounts","Expected2ndFx","REF_IncCost2ndFx","REF_2ndFxProp","Report","Next Steps","Sources","Backend","Protocols","ZipLocal","Rates","ToDo"],"not_rendered":{"charts":3,"images":38,"macros":1,"external_links":0,"defined_names":22,"comments":0,"pivot_tables":0},"unopened":[],"bounds":{"document_bytes":16777216,"sheet_cells":100000,"rows_first":2000,"rows_last":500,"rows_between":2000,"halvings":0,"cell_chars":16384,"cell_head_chars":4096},"cells_cut":0,"cells_raw":0,"read":"whole","date_system":"1900"}

{"sheet":"Inputs","index":0,"n_rows":246,"n_cols":7,"rows_kept":246,"cut":false,"hidden":false,"merged":[[207,2,207,3],[202,2,202,3],[203,2,203,3],[204,2,204,3],[205,2,205,3],[206,2,206,3],[197,2,197,3],[198,2,198,3],[199,2,199,3],[200,2,200,3],[201,2,201,3],[192,2,192,3],[193,2,193,3],[194,2,194,3],[195,2,195,3],[196,2,196,3],[187,2,187,3],[188,2,188,3],[189,2,189,3],[190,2,190,3],[191,2,191,3],[182,2,182,3],[183,2,183,3],[184,2,184,3],[185,2,185,3],[186,2,186,3],[177,2,177,3],[178,2,178,3],[179,2,179,3],[180,2,180,3],[181,2,181,3],[172,2,172,3],[173,2,173,3],[174,2,174,3],[175,2,175,3],[176,2,176,3],[167,2,167,3],[168,2,168,3],[169,2,169,3],[170,2,170,3],[171,2,171,3],[162,2,162,3],[163,2,163,3],[164,2,164,3],[165,2,165,3],[166,2,166,3],[139,2,139,3],[158,2,158,3],[159,2,159,3],[160,2,160,3],[161,2,161,3],[134,2,134,3],[135,2,135,3],[136,2,136,3],[137,2,137,3],[138,2,138,3],[129,2,129,3],[130,2,130,3],[131,2,131,3],[132,2,132,3],[133,2,133,3],[124,2,124,3],[111,0,111,7],[113,1,114,1],[113,2,114,3],[113,4,114,4],[125,2,125,3],[126,2,126,3],[127,2,127,3],[128,2,128,3],[119,2,119,3],[120,2,120,3],[121,2,121,3],[122,2,122,3],[123,2,123,3],[113,5,113,6],[115,2,115,3],[116,2,116,3],[117,2,117,3],[118,2,118,3],[0,0,0,2],[94,4,95,4],[94,2,95,3],[55,3,55,5],[64,0,64,7],[67,5,67,6],[68,5,68,6],[51,0,51,7],[90,0,90,7],[3,0,3,2],[3,3,3,6],[94,5,94,6],[6,0,6,7],[71,5,71,6],[72,5,72,6],[73,5,73,6],[67,0,67,2],[73,0,73,2],[72,0,72,2],[71,0,71,2],[68,0,68,2],[69,5,69,6],[78,0,78,2],[81,0,81,2],[1,0,1,7],[5,0,5,2],[82,0,82,2],[84,1,84,2],[80,0,80,2],[79,0,79,2],[89,0,89,2],[93,0,93,1],[76,0,76,2],[45,0,45,2],[46,0,46,7],[11,0,11,2],[12,0,12,6],[20,0,20,7],[31,0,31,3],[32,0,32,7],[15,0,17,0],[13,0,14,0],[23,0,28,0],[61,1,61,2],[59,1,59,2],[69,0,69,2],[70,5,70,6],[106,2,106,3],[107,2,107,3],[245,5,245,6],[244,5,244,6],[243,5,243,6],[242,5,242,6],[217,0,217,2],[245,3,245,4],[244,3,244,4],[243,3,243,4],[242,3,242,4],[242,0,242,2],[243,0,243,2],[244,0,244,2],[245,0,245,2],[238,0,239,7],[241,3,241,4],[241,0,241,2],[218,0,218,7],[223,0,223,3],[224,0,224,7],[237,0,237,3],[241,5,241,6],[109,2,109,3],[108,2,108,3],[77,0,77,2],[214,2,214,3],[112,4,112,7],[53,1,53,2],[55,1,55,2],[209,2,209,3],[210,2,210,3],[211,2,211,3],[212,2,212,3],[213,2,213,3],[94,1,95,1],[102,2,102,3],[101,2,101,3],[100,2,100,3],[99,2,99,3],[98,2,98,3],[97,2,97,3],[70,0,70,2],[208,2,208,3],[96,2,96,3],[104,2,104,3],[103,2,103,3],[105,2,105,3]]}
["National Bone Health Alliance FLS Calculator"]
["The purpose of this tool is to estimate the cost and revenue associated with implementing an FLS program, as well as to describe the impact of an FLS program on subsequent fracture outcomes of patients with initial fragility fractures in the 2, 3, and 4 years following their initial fracture. To use the calculator, please input the information below, entering data into the shaded cells only. "]
[]
["Name of Organization Sponsoring the FLS Program:"]
[]
["Initial Fracture Data Entry: "]
["Select your data entry preference and characterize patient population and fragility fractures.Choose simplified to enter demographics and fracture counts separately, or detailed to provide fracture counts by demographic group."]
[]
["Data Entry Type:"]
[]
[]
["Patient Characteristics: "]
["Describe the demographic characteristics of your fragility fracture patients (age 65+)"]
["Sex","Male"]
[null,"Female"]
["Age","65-74"]
[null,"75-84"]
[null,"85+"]
[]
["Fragility Fractures:"]
["Use the checkboxes below to  select the fracture types that would lead to a referral to the FLS. Then, enter the number of cases of those fractures you've treated over the past year for patients age 65+. If an incident involved fractures at multiple sites, count it toward the primary (most severe) fracture site. \n\nFracture sites to include:\n"]
[null,"Ankle"]
[null,"Clavicle"]
[null,"Femur"]
[null,"Hip"]
[null,"Humerus"]
[null,"Pelvis"]
[null,"Radius/Ulna"]
[null,"Spine"]
[null,"Tibia/Fibula"]
[]
["Fragility Fractures by Demographic Group:"]
["Use the checkboxes below to  select the fracture types that would lead to a referral to the FLS. Then, enter the number of fragility fractures cases you've treated over the past year for patients in each demographic group. If an incident involved fractures at multiple sites, count it toward the primary (most severe) fracture site.\n\nFracture sites to include:\n"]
[null,"Male","Male","Male","Female","Female","Female"]
["Fracture Site","65-74","75-84","85+","65-74","75-84","85+"]
["Ankle"]
["Clavicle"]
["Femur"]
["Hip"]
["Humerus"]
["Pelvis"]
["Radius/Ulna"]
["Spine"]
["Tibia/Fibula"]
[]
["FLS Recruitment Rate:"]
["What percentage of patients with initial fractures will be recruited into the FLS protocol. "]
[]
["FLS Recruitment Rate:",0.8]
[]
["FLS Coordinator:"]
[{"$f":"\"Based on the number of fragility fractures you've treated over the past year, you will need an estimated \"&(MAX(CEILING(IF(Backend!$K$1=1,SUM(Inputs!C22:C30),SUM(Inputs!B36:G44))/250,1),2))*0.25&\" full time equivalents (FTEs) of FLS coordinator support. You may use this value by default or modify it below.\"&\" To revert to the estimated level of effort, check the box to the right of the FTE input. Note that the estimated level of effort will change as the input number of fractures change.\"&CHAR(10)&CHAR(10)&\"Choose the type of staff that will serve as an FLS coordinator, and the salary box will be populated with a default value.\"&\" Please adjust this value with local salary data, if available, using FTE salaries. If you choose the 'other staff' option, the salary box will remain empty, so be sure to provide a salary value.\"&\" Please also adjust the fringe benefit rate if your facility's rate differs from the default of 30%.\"&\" The fringe benefit rate includes benefits such as paid time off and employer-paid health insurance as well as payroll taxes for Social Security and Medicare.\"","v":"Based on the number of fragility fractures you've treated over the past year, you will need an estimated 0.5 full time equivalents (FTEs) of FLS coordinator support. You may use this value by default or modify it below. To revert to the estimated level of effort, check the box to the right of the FTE input. Note that the estimated level of effort will change as the input number of fractures change.\n\nChoose the type of staff that will serve as an FLS coordinator, and the salary box will be populated with a default value. Please adjust this value with local salary data, if available, using FTE salaries. If you choose the 'other staff' option, the salary box will remain empty, so be sure to provide a salary value. Please also adjust the fringe benefit rate if your facility's rate differs from the default of 30%. The fringe benefit rate includes benefits such as paid time off and employer-paid health insurance as well as payroll taxes for Social Security and Medicare."}]
[]
["Estimated level of effort for FLS Coordinator:",{"$f":"(MAX(CEILING(IF(Backend!$K$1=1,SUM(Inputs!C22:C30),SUM(Inputs!B36:G44))/250,1),2))*0.25&\" FTEs\"","v":"0.5 FTEs"}]
[]
["FLS Coordinator level of effort for calculation (FTEs):",{"$f":"(MAX(CEILING(IF(Backend!$K$1=1,SUM(Inputs!C22:C30),SUM(Inputs!B36:G44))/250,1),2))*0.25","v":0.5}]
[]
["FLS Coordinator Type: "]
[]
["FLS Coordinator FTE Salary1:"]
[]
["Fringe Benefit Rate:"]
[]
["Other Costs:"]
["Describe other labor and non-labor costs incurred by the FLS program. For labor costs, briefly describe the staff and their level of effort with the FLS program. Enter a full-time salary for an individual in this position, and a fringe benefit rate, if applicable. For non-labor costs, briefly describe and provide the annual cost for each resource. If the FLS program incurs an overhead cost, specify the rate and whether it is applied to labor costs or all costs."]
[]
["Labor:"]
["Staff Type (max 25 chars)",null,null,"FTE","Full FTE Salary","Fringe Benefit Rate"]
[]
[]
[]
[]
[]
[]
[]
["Non-labor:"]
["Description (max 25 chars)",null,null,"Cost"]
[]
[]
[]
[]
[]
[]
[]
["Overhead Rate:"]
["Apply to:"]
[]
[]
[]
["Characterize FLS Protocol:"]
["In this section, we'll describe how services provided to FLS patients differ from those provided to non-FLS patients. We'll call this the FLS protocol. First, we'll describe the base protocol, which comprises a typical set of FLS office visits. The tool contains default base protocols for convenience. To import a base protocol, enter your ZIP code, select the protocol that best fits your facility type and reimbursement schedule from the drop-down menu, and click \"Import Protocol.\"  Freely adjust the base protocol by adding, modifying, or deleting information in the shaded cells. To revert to a default protocol, select the appropriate protocol and click \"Import Protocol.\" To erase the contents of the base protocol field, click the \"Clear All\" button."]
[]
["Zip Code:"]
[]
[null,"Elapsed Months\n(from FLS initiation)","Anticipated CPT Code\n(optional)",null,"Reimbursement Revenue2","Probability of Receipt"]
["Item",null,null,null,null,"FLS","Non-FLS"]
[]
[]
[]
[]
[]
[]
[]
[]
[]
[]
[]
[]
[]
[]
[]
["Next, we'll identify procedures in addition to typical FLS office visits listed above. To maximize accuracy, all revenue-generating appointments, labs, etc. that an FLS patient is more or less likely to receive than a non-FLS patient should be included here. The tool is preloaded with services commonly delivered to FLS patients. If a procedure is not included in the list below you may enter it in manually in the shaded cells. If a procedure occurs multiple times, enter it once for each instance. The procedures below do not need to be in chronological order. For each row in which you enter data, either manually or by using the preloaded services, be sure to indicate when the procedure is expected to be delivered and the probability that an FLS patient and non-FLS patient will receive a given service. If you do not enter this information, the calculations will be incorrect. If you wish to consider total revenue rather than incremental revenue (vs.usual care), simply enter 0% for Non-FLS probability of receipt for all procedures."]
["\nZip Code:"]
[null,"Elapsed Months\n(from FLS initiation)","Anticipated CPT Code\n(optional)",null,"Reimbursement Revenue2","Probability of Receipt"]
["Item",null,null,null,null,"FLS","Non-FLS"]
[]
[]
[]
[]
[]
[]
[]
[]
[]
[]
[]
[]
[]
[]
[]
[]
[]
[]
[]
[]
[]
[]
[]
[]
[]
[]
[]
[]
[]
[]
[]
[]
[]
[]
[]
[]
[]
[]
[]
[]
[]
[]
[]
[]
[]
[]
[]
[]
[]
[]
[]
[]
[]
[]
[]
[]
[]
[]
[]
[]
[]
[]
[]
[]
[]
[]
[]
[]
[]
[]
[]
[]
[]
[]
[]
[]
[]
[]
[]
[]
[]
[]
[]
[]
[]
[]
[]
[]
[]
[]
[]
[]
[]
[]
[]
[]
[]
[]
[]
[]
[]
[]
["Characterize FLS Impact: "]
["Choose how you would like the calculator to estimate the impact of FLS and enter the relevant information."]
[]
["FLS Impact:"]
[]
[]
["Direct Estimates of Fractures Prevented"]
["Enter the percentage of fractures at each site that the FLS is expected to prevent. "]
[]
["Fracture Site","% Reduction"]
["Ankle"]
["Clavicle"]
["Femur"]
["Hip"]
["Humerus"]
["Pelvis"]
["Radius/Ulna"]
["Spine"]
["Tibia/Fibula"]
[]
["Percentage of FLS Patients Receiving Treatment"]
["Enter the percentage of patients, both FLS and non-FLS, expected to receive each treatment after an initial fragility fracture. Note, treatment options are mutually exclusive. If a patient receives supplements and a pharmacological treatment, enter the patient into the pharmacological treatment field only. The columns do not need to add to 100%, but they cannot exceed it. Estimates for non-FLS patients are necessary because the estimated impact of FLS must be relative to the status quo, not relative to no treatment at all. "]
[]
[]
["Treatment",null,null,"%FLS Patients Treated",null,"% Non-FLS Patients Treated"]
["Optimal Calcium and Vitamin D Supplementation \n(16% fracture reduction rate)3"]
["Bisphosphonates (e.g., Alendronate)\n(50% fracture reduction rate)4"]
["Denosumab (Prolia)\n(39% fracture reduction rate)5"]
["Parathyroid Hormone: Teriparatide (Forteo)\n(59% fracture reduction rate)6"]

{"sheet":"Output - 2 Years","index":1,"n_rows":25,"n_cols":6,"rows_kept":25,"cut":false,"hidden":true,"merged":[[0,0,0,5],[1,0,2,5],[19,1,19,2],[19,3,19,4],[18,1,18,2],[18,3,18,4],[15,1,15,2],[15,3,15,4],[16,1,16,2],[16,3,16,4],[17,1,17,2],[17,3,17,4],[12,1,12,2],[12,3,12,4],[13,1,13,2],[13,3,13,4],[14,1,14,2],[14,3,14,4],[9,1,9,2],[9,3,9,4],[10,1,10,2],[10,3,10,4],[11,1,11,2],[11,3,11,4]]}
["FLS Two Year Outcomes"]
[{"$f":"\"The information below summarizes the impact of the FLS program at \"&Inputs!D4&\" with respect to the \"&IF(Backend!$K$1=1, SUM(Inputs!C24:C29), SUM(Inputs!B38:G43))&\" patients with initial fragility fractures indicated on the inputs tab. Outputs include information on revenue generated by the FLS program based on the recruitment rate and the FLS protocol specified in the calculator inputs,\"&\" subsequent fractures expected to occur over the two years following the initial fracture with and without an FLS program in place, and the estimated costs associated with second fractures with and without an an FLS program in place.\"&\"A complete report on all time periods is available on the report tab.\"","v":"The information below summarizes the impact of the FLS program at  with respect to the 0 patients with initial fragility fractures indicated on the inputs tab. Outputs include information on revenue generated by the FLS program based on the recruitment rate and the FLS protocol specified in the calculator inputs, subsequent fractures expected to occur over the two years following the initial fracture with and without an FLS program in place, and the estimated costs associated with second fractures with and without an an FLS program in place.A complete report on all time periods is available on the report tab."}]
[]
[]
["Patients Recruited to FLS",{"$f":"ROUND(IF(Backend!$K$1=1, SUM(Inputs!C24:C29), SUM(Inputs!B38:G43))*Inputs!$B$49, 0)","v":0}]
["Incremental Revenue per Patient Generated by FLS",{"$f":"Backend!G23","v":0}]
["Revenue Generated by FLS Program",{"$f":"$B$5*B6","v":0}]
[]
["Second Fracture Outcomes"]
["Fracture site","Expected fractures\n without FLS",null,"Expected fractures\nwith FLS",null,"Expected fractures\nprevented by FLS"]
["Ankle",{"$f":"Backend!L27","v":0},null,{"$f":"Backend!M27","v":0},null,{"$f":"B11-D11","v":0}]
["Clavicle",{"$f":"Backend!L28","v":0},null,{"$f":"Backend!M28","v":0},null,{"$f":"B12-D12","v":0}]
["Femur",{"$f":"Backend!L29","v":0},null,{"$f":"Backend!M29","v":0},null,0]
["Hip",{"$f":"Backend!L30","v":0},null,{"$f":"Backend!M30","v":0},null,0]
["Humerus",{"$f":"Backend!L31","v":0},null,{"$f":"Backend!M31","v":0},null,0]
["Pelvis",{"$f":"Backend!L32","v":0},null,{"$f":"Backend!M32","v":0},null,0]
["Radius/Ulna",{"$f":"Backend!L33","v":0},null,{"$f":"Backend!M33","v":0},null,0]
["Spine",{"$f":"Backend!L34","v":0},null,{"$f":"Backend!M34","v":0},null,0]
["Tibia/Fibula",{"$f":"Backend!L35","v":0},null,{"$f":"Backend!M35","v":0},null,0]
["All sites",{"$f":"SUM(B11:C19)","v":0},null,{"$f":"SUM(D11:E19)","v":0},null,{"$f":"B20-D20","v":0}]
[]
["Cost Outcomes"]
["Costs associated with second fractures occurring without FLS",{"$f":"SUM(Expected2ndFxCost!D7:L60)","v":0}]
["Costs associated with second fractures occurring with FLS",{"$f":"SUM(Expected2ndFxCost!D7:L60)-SUM(FLSAvoidedFxCost!D7:L60)","v":0}]
["Fracture treatment costs avoided",{"$f":"B23-B24","v":0}]

{"sheet":"Output - 3 Years","index":2,"n_rows":25,"n_cols":6,"rows_kept":25,"cut":false,"hidden":true,"merged":[[15,1,15,2],[15,3,15,4],[12,1,12,2],[12,3,12,4],[0,0,0,5],[1,0,2,5],[13,1,13,2],[13,3,13,4],[14,1,14,2],[14,3,14,4],[9,1,9,2],[9,3,9,4],[10,1,10,2],[10,3,10,4],[11,1,11,2],[11,3,11,4],[19,1,19,2],[19,3,19,4],[16,1,16,2],[16,3,16,4],[17,1,17,2],[17,3,17,4],[18,1,18,2],[18,3,18,4]]}
["FLS Three Year Outcomes"]
[{"$f":"\"The information below summarizes the impact of the FLS program at \"&Inputs!D4&\" with respect to the \"&IF(Backend!$K$1=1, SUM(Inputs!C24:C29), SUM(Inputs!B38:G43))&\" patients with initial fragility fractures indicated on the inputs tab. Outputs include information on revenue generated by the FLS program based on the recruitment rate and the FLS protocol specified in the calculator inputs,\"&\" subsequent fractures expected to occur over the two years following the initial fracture with and without an FLS program in place, and the estimated costs associated with second fractures with and without an an FLS program in place.\"&\"A complete report on all time periods is available on the report tab.\"","v":"The information below summarizes the impact of the FLS program at  with respect to the 0 patients with initial fragility fractures indicated on the inputs tab. Outputs include information on revenue generated by the FLS program based on the recruitment rate and the FLS protocol specified in the calculator inputs, subsequent fractures expected to occur over the two years following the initial fracture with and without an FLS program in place, and the estimated costs associated with second fractures with and without an an FLS program in place.A complete report on all time periods is available on the report tab."}]
[]
[]
["Patients Recruited to FLS",{"$f":"ROUND(IF(Backend!$K$1=1, SUM(Inputs!C24:C29), SUM(Inputs!B38:G43))*Inputs!$B$49, 0)","v":0}]
["Incremental Revenue per Patient Generated by FLS",{"$f":"Backend!G24","v":0}]
["Revenue Generated by FLS Program",{"$f":"$B$5*B6","v":0}]
[]
["Second Fracture Outcomes"]
["Fracture site","Expected fractures\n without FLS",null,"Expected fractures\nwith FLS",null,"Expected fractures\nprevented by FLS"]
["Ankle",{"$f":"Backend!N27","v":0},null,{"$f":"Backend!O27","v":0},null,{"$f":"B11-D11","v":0}]
["Clavicle",{"$f":"Backend!N28","v":0},null,{"$f":"Backend!O28","v":0},null,{"$f":"B12-D12","v":0}]
["Femur",{"$f":"Backend!N29","v":0},null,{"$f":"Backend!O29","v":0},null,0]
["Hip",{"$f":"Backend!N30","v":0},null,{"$f":"Backend!O30","v":0},null,0]
["Humerus",{"$f":"Backend!N31","v":0},null,{"$f":"Backend!O31","v":0},null,0]
["Pelvis",{"$f":"Backend!N32","v":0},null,{"$f":"Backend!O32","v":0},null,0]
["Radius/Ulna",{"$f":"Backend!N33","v":0},null,{"$f":"Backend!O33","v":0},null,0]
["Spine",{"$f":"Backend!N34","v":0},null,{"$f":"Backend!O34","v":0},null,0]
["Tibia/Fibula",{"$f":"Backend!N35","v":0},null,{"$f":"Backend!O35","v":0},null,0]
["All sites",{"$f":"SUM(B11:C19)","v":0},null,{"$f":"SUM(D11:E19)","v":0},null,0]
[]
["Cost Outcomes"]
["Costs associated with second fractures occurring without FLS",{"$f":"SUM(Expected2ndFxCost!D66:L119)","v":0}]
["Costs associated with second fractures occurring with FLS",{"$f":"SUM(Expected2ndFxCost!D66:L119)-SUM(FLSAvoidedFxCost!D66:L119)","v":0}]
["Fracture treatment costs avoided",{"$f":"B23-B24","v":0}]

{"sheet":"Output - 4 Years","index":3,"n_rows":25,"n_cols":6,"rows_kept":25,"cut":false,"hidden":true,"merged":[[0,0,0,5],[1,0,2,5],[17,1,17,2],[17,3,17,4],[18,1,18,2],[18,3,18,4],[11,1,11,2],[11,3,11,4],[12,1,12,2],[12,3,12,4],[13,1,13,2],[13,3,13,4],[9,1,9,2],[9,3,9,4],[10,1,10,2],[10,3,10,4],[19,1,19,2],[19,3,19,4],[14,1,14,2],[14,3,14,4],[15,1,15,2],[15,3,15,4],[16,1,16,2],[16,3,16,4]]}
["FLS Four Year Outcomes"]
[{"$f":"\"The information below summarizes the impact of the FLS program at \"&Inputs!D4&\" with respect to the \"&IF(Backend!$K$1=1, SUM(Inputs!C24:C29), SUM(Inputs!B38:G43))&\" patients with initial fragility fractures indicated on the inputs tab. Outputs include information on revenue generated by the FLS program based on the recruitment rate and the FLS protocol specified in the calculator inputs,\"&\" subsequent fractures expected to occur over the two years following the initial fracture with and without an FLS program in place, and the estimated costs associated with second fractures with and without an an FLS program in place.\"&\"A complete report on all time periods is available on the report tab.\"","v":"The information below summarizes the impact of the FLS program at  with respect to the 0 patients with initial fragility fractures indicated on the inputs tab. Outputs include information on revenue generated by the FLS program based on the recruitment rate and the FLS protocol specified in the calculator inputs, subsequent fractures expected to occur over the two years following the initial fracture with and without an FLS program in place, and the estimated costs associated with second fractures with and without an an FLS program in place.A complete report on all time periods is available on the report tab."}]
[]
[]
["Patients Recruited to FLS",{"$f":"ROUND(IF(Backend!$K$1=1, SUM(Inputs!C24:C29), SUM(Inputs!B38:G43))*Inputs!$B$49, 0)","v":0}]
["Incremental Revenue per Patient Generated by FLS",{"$f":"Backend!G25","v":0}]
["Revenue Generated by FLS Program",{"$f":"$B$5*B6","v":0}]
[]
["Second Fracture Outcomes"]
["Fracture site","Expected fractures\n without FLS",null,"Expected fractures\nwith FLS",null,"Expected fractures\nprevented by FLS"]
["Ankle",{"$f":"Backend!P27","v":0},null,{"$f":"Backend!Q27","v":0},null,{"$f":"B11-D11","v":0}]
["Clavicle",{"$f":"Backend!P28","v":0},null,{"$f":"Backend!Q28","v":0},null,{"$f":"B12-D12","v":0}]
["Femur",{"$f":"Backend!P29","v":0},null,{"$f":"Backend!Q29","v":0},null,0]
["Hip",{"$f":"Backend!P30","v":0},null,{"$f":"Backend!Q30","v":0},null,0]
["Humerus",{"$f":"Backend!P31","v":0},null,{"$f":"Backend!Q31","v":0},null,0]
["Pelvis",{"$f":"Backend!P32","v":0},null,{"$f":"Backend!Q32","v":0},null,0]
["Radius/Ulna",{"$f":"Backend!P33","v":0},null,{"$f":"Backend!Q33","v":0},null,0]
["Spine",{"$f":"Backend!P34","v":0},null,{"$f":"Backend!Q34","v":0},null,0]
["Tibia/Fibula",{"$f":"Backend!P35","v":0},null,{"$f":"Backend!Q35","v":0},null,0]
["All sites",{"$f":"SUM(B11:C19)","v":0},null,{"$f":"SUM(D11:E19)","v":0},null,0]
[]
["Cost Outcomes"]
["Costs associated with second fractures occurring without FLS",{"$f":"SUM(Expected2ndFxCost!D125:L178)","v":0}]
["Costs associated with second fractures occurring with FLS",{"$f":"SUM(Expected2ndFxCost!D125:L178)-SUM(FLSAvoidedFxCost!D125:L178)","v":0}]
["Fracture treatment costs avoided",{"$f":"B23-B24","v":0}]

{"sheet":"FLSAvoidedFxCost","index":4,"n_rows":178,"n_cols":12,"rows_kept":178,"cut":false,"hidden":true,"merged":[[122,0,123,0],[122,1,123,1],[122,2,123,2],[122,3,122,11],[3,0,3,11],[4,0,5,0],[4,1,5,1],[4,2,5,2],[4,3,4,11],[62,0,62,11],[63,0,64,0],[63,1,64,1],[63,2,64,2],[63,3,63,11],[121,0,121,11]]}
["Fracture Cost Avoided: "]
["The table below describes fracture costs avoided over various time periods by age, sex, and initial fracture site"]
[]
["Two Year Model"]
["Sex","Age","Initial Fracture Site","Second Fracture Status"]
[null,null,null,"Ankle","Clavicle","Femur","Hip","Humerus","Pelvis","Radius/Ulna","Spine","Tibia/Fibula"]
["Male","65-74","Ankle",{"$f":"FLSPreventedFx!D7*REF_IncCost2ndFx!D7","v":0},{"$f":"FLSPreventedFx!E7*REF_IncCost2ndFx!E7","v":0},{"$f":"FLSPreventedFx!F7*REF_IncCost2ndFx!F7","v":0},{"$f":"FLSPreventedFx!G7*REF_IncCost2ndFx!G7","v":0},{"$f":"FLSPreventedFx!H7*REF_IncCost2ndFx!H7","v":0},{"$f":"FLSPreventedFx!I7*REF_IncCost2ndFx!I7","v":0},{"$f":"FLSPreventedFx!J7*REF_IncCost2ndFx!J7","v":0},{"$f":"FLSPreventedFx!K7*REF_IncCost2ndFx!K7","v":0},{"$f":"FLSPreventedFx!L7*REF_IncCost2ndFx!L7","v":0}]
["Male","65-74","Clavicle",{"$f":"FLSPreventedFx!D8*REF_IncCost2ndFx!D8","v":0},{"$f":"FLSPreventedFx!E8*REF_IncCost2ndFx!E8","v":0},{"$f":"FLSPreventedFx!F8*REF_IncCost2ndFx!F8","v":0},{"$f":"FLSPreventedFx!G8*REF_IncCost2ndFx!G8","v":0},{"$f":"FLSPreventedFx!H8*REF_IncCost2ndFx!H8","v":0},{"$f":"FLSPreventedFx!I8*REF_IncCost2ndFx!I8","v":0},{"$f":"FLSPreventedFx!J8*REF_IncCost2ndFx!J8","v":0},{"$f":"FLSPreventedFx!K8*REF_IncCost2ndFx!K8","v":0},{"$f":"FLSPreventedFx!L8*REF_IncCost2ndFx!L8","v":0}]
["Male","65-74","Femur",{"$f":"FLSPreventedFx!D9*REF_IncCost2ndFx!D9","v":0},{"$f":"FLSPreventedFx!E9*REF_IncCost2ndFx!E9","v":0},{"$f":"FLSPreventedFx!F9*REF_IncCost2ndFx!F9","v":0},{"$f":"FLSPreventedFx!G9*REF_IncCost2ndFx!G9","v":0},{"$f":"FLSPreventedFx!H9*REF_IncCost2ndFx!H9","v":0},{"$f":"FLSPreventedFx!I9*REF_IncCost2ndFx!I9","v":0},{"$f":"FLSPreventedFx!J9*REF_IncCost2ndFx!J9","v":0},{"$f":"FLSPreventedFx!K9*REF_IncCost2ndFx!K9","v":0},{"$f":"FLSPreventedFx!L9*REF_IncCost2ndFx!L9","v":0}]
["Male","65-74","Hip",{"$f":"FLSPreventedFx!D10*REF_IncCost2ndFx!D10","v":0},{"$f":"FLSPreventedFx!E10*REF_IncCost2ndFx!E10","v":0},{"$f":"FLSPreventedFx!F10*REF_IncCost2ndFx!F10","v":0},{"$f":"FLSPreventedFx!G10*REF_IncCost2ndFx!G10","v":0},{"$f":"FLSPreventedFx!H10*REF_IncCost2ndFx!H10","v":0},{"$f":"FLSPreventedFx!I10*REF_IncCost2ndFx!I10","v":0},{"$f":"FLSPreventedFx!J10*REF_IncCost2ndFx!J10","v":0},{"$f":"FLSPreventedFx!K10*REF_IncCost2ndFx!K10","v":0},{"$f":"FLSPreventedFx!L10*REF_IncCost2ndFx!L10","v":0}]
["Male","65-74","Humerus",{"$f":"FLSPreventedFx!D11*REF_IncCost2ndFx!D11","v":0},{"$f":"FLSPreventedFx!E11*REF_IncCost2ndFx!E11","v":0},{"$f":"FLSPreventedFx!F11*REF_IncCost2ndFx!F11","v":0},{"$f":"FLSPreventedFx!G11*REF_IncCost2ndFx!G11","v":0},{"$f":"FLSPreventedFx!H11*REF_IncCost2ndFx!H11","v":0},{"$f":"FLSPreventedFx!I11*REF_IncCost2ndFx!I11","v":0},{"$f":"FLSPreventedFx!J11*REF_IncCost2ndFx!J11","v":0},{"$f":"FLSPreventedFx!K11*REF_IncCost2ndFx!K11","v":0},{"$f":"FLSPreventedFx!L11*REF_IncCost2ndFx!L11","v":0}]
["Male","65-74","Pelvis",{"$f":"FLSPreventedFx!D12*REF_IncCost2ndFx!D12","v":0},{"$f":"FLSPreventedFx!E12*REF_IncCost2ndFx!E12","v":0},{"$f":"FLSPreventedFx!F12*REF_IncCost2ndFx!F12","v":0},{"$f":"FLSPreventedFx!G12*REF_IncCost2ndFx!G12","v":0},{"$f":"FLSPreventedFx!H12*REF_IncCost2ndFx!H12","v":0},{"$f":"FLSPreventedFx!I12*REF_IncCost2ndFx!I12","v":0},{"$f":"FLSPreventedFx!J12*REF_IncCost2ndFx!J12","v":0},{"$f":"FLSPreventedFx!K12*REF_IncCost2ndFx!K12","v":0},{"$f":"FLSPreventedFx!L12*REF_IncCost2ndFx!L12","v":0}]
["Male","65-74","Radius/Ulna",{"$f":"FLSPreventedFx!D13*REF_IncCost2ndFx!D13","v":0},{"$f":"FLSPreventedFx!E13*REF_IncCost2ndFx!E13","v":0},{"$f":"FLSPreventedFx!F13*REF_IncCost2ndFx!F13","v":0},{"$f":"FLSPreventedFx!G13*REF_IncCost2ndFx!G13","v":0},{"$f":"FLSPreventedFx!H13*REF_IncCost2ndFx!H13","v":0},{"$f":"FLSPreventedFx!I13*REF_IncCost2ndFx!I13","v":0},{"$f":"FLSPreventedFx!J13*REF_IncCost2ndFx!J13","v":0},{"$f":"FLSPreventedFx!K13*REF_IncCost2ndFx!K13","v":0},{"$f":"FLSPreventedFx!L13*REF_IncCost2ndFx!L13","v":0}]
["Male","65-74","Spine",{"$f":"FLSPreventedFx!D14*REF_IncCost2ndFx!D14","v":0},{"$f":"FLSPreventedFx!E14*REF_IncCost2ndFx!E14","v":0},{"$f":"FLSPreventedFx!F14*REF_IncCost2ndFx!F14","v":0},{"$f":"FLSPreventedFx!G14*REF_IncCost2ndFx!G14","v":0},{"$f":"FLSPreventedFx!H14*REF_IncCost2ndFx!H14","v":0},{"$f":"FLSPreventedFx!I14*REF_IncCost2ndFx!I14","v":0},{"$f":"FLSPreventedFx!J14*REF_IncCost2ndFx!J14","v":0},{"$f":"FLSPreventedFx!K14*REF_IncCost2ndFx!K14","v":0},{"$f":"FLSPreventedFx!L14*REF_IncCost2ndFx!L14","v":0}]
["Male","65-74","Tibia/Fibula",{"$f":"FLSPreventedFx!D15*REF_IncCost2ndFx!D15","v":0},{"$f":"FLSPreventedFx!E15*REF_IncCost2ndFx!E15","v":0},{"$f":"FLSPreventedFx!F15*REF_IncCost2ndFx!F15","v":0},{"$f":"FLSPreventedFx!G15*REF_IncCost2ndFx!G15","v":0},{"$f":"FLSPreventedFx!H15*REF_IncCost2ndFx!H15","v":0},{"$f":"FLSPreventedFx!I15*REF_IncCost2ndFx!I15","v":0},{"$f":"FLSPreventedFx!J15*REF_IncCost2ndFx!J15","v":0},{"$f":"FLSPreventedFx!K15*REF_IncCost2ndFx!K15","v":0},{"$f":"FLSPreventedFx!L15*REF_IncCost2ndFx!L15","v":0}]
["Male","75-84","Ankle",{"$f":"FLSPreventedFx!D16*REF_IncCost2ndFx!D16","v":0},{"$f":"FLSPreventedFx!E16*REF_IncCost2ndFx!E16","v":0},{"$f":"FLSPreventedFx!F16*REF_IncCost2ndFx!F16","v":0},{"$f":"FLSPreventedFx!G16*REF_IncCost2ndFx!G16","v":0},{"$f":"FLSPreventedFx!H16*REF_IncCost2ndFx!H16","v":0},{"$f":"FLSPreventedFx!I16*REF_IncCost2ndFx!I16","v":0},{"$f":"FLSPreventedFx!J16*REF_IncCost2ndFx!J16","v":0},{"$f":"FLSPreventedFx!K16*REF_IncCost2ndFx!K16","v":0},{"$f":"FLSPreventedFx!L16*REF_IncCost2ndFx!L16","v":0}]
["Male","75-84","Clavicle",{"$f":"FLSPreventedFx!D17*REF_IncCost2ndFx!D17","v":0},{"$f":"FLSPreventedFx!E17*REF_IncCost2ndFx!E17","v":0},{"$f":"FLSPreventedFx!F17*REF_IncCost2ndFx!F17","v":0},{"$f":"FLSPreventedFx!G17*REF_IncCost2ndFx!G17","v":0},{"$f":"FLSPreventedFx!H17*REF_IncCost2ndFx!H17","v":0},{"$f":"FLSPreventedFx!I17*REF_IncCost2ndFx!I17","v":0},{"$f":"FLSPreventedFx!J17*REF_IncCost2ndFx!J17","v":0},{"$f":"FLSPreventedFx!K17*REF_IncCost2ndFx!K17","v":0},{"$f":"FLSPreventedFx!L17*REF_IncCost2ndFx!L17","v":0}]
["Male","75-84","Femur",{"$f":"FLSPreventedFx!D18*REF_IncCost2ndFx!D18","v":0},{"$f":"FLSPreventedFx!E18*REF_IncCost2ndFx!E18","v":0},{"$f":"FLSPreventedFx!F18*REF_IncCost2ndFx!F18","v":0},{"$f":"FLSPreventedFx!G18*REF_IncCost2ndFx!G18","v":0},{"$f":"FLSPreventedFx!H18*REF_IncCost2ndFx!H18","v":0},{"$f":"FLSPreventedFx!I18*REF_IncCost2ndFx!I18","v":0},{"$f":"FLSPreventedFx!J18*REF_IncCost2ndFx!J18","v":0},{"$f":"FLSPreventedFx!K18*REF_IncCost2ndFx!K18","v":0},{"$f":"FLSPreventedFx!L18*REF_IncCost2ndFx!L18","v":0}]
["Male","75-84","Hip",{"$f":"FLSPreventedFx!D19*REF_IncCost2ndFx!D19","v":0},{"$f":"FLSPreventedFx!E19*REF_IncCost2ndFx!E19","v":0},{"$f":"FLSPreventedFx!F19*REF_IncCost2ndFx!F19","v":0},{"$f":"FLSPreventedFx!G19*REF_IncCost2ndFx!G19","v":0},{"$f":"FLSPreventedFx!H19*REF_IncCost2ndFx!H19","v":0},{"$f":"FLSPreventedFx!I19*REF_IncCost2ndFx!I19","v":0},{"$f":"FLSPreventedFx!J19*REF_IncCost2ndFx!J19","v":0},{"$f":"FLSPreventedFx!K19*REF_IncCost2ndFx!K19","v":0},{"$f":"FLSPreventedFx!L19*REF_IncCost2ndFx!L19","v":0}]
["Male","75-84","Humerus",{"$f":"FLSPreventedFx!D20*REF_IncCost2ndFx!D20","v":0},{"$f":"FLSPreventedFx!E20*REF_IncCost2ndFx!E20","v":0},{"$f":"FLSPreventedFx!F20*REF_IncCost2ndFx!F20","v":0},{"$f":"FLSPreventedFx!G20*REF_IncCost2ndFx!G20","v":0},{"$f":"FLSPreventedFx!H20*REF_IncCost2ndFx!H20","v":0},{"$f":"FLSPreventedFx!I20*REF_IncCost2ndFx!I20","v":0},{"$f":"FLSPreventedFx!J20*REF_IncCost2ndFx!J20","v":0},{"$f":"FLSPreventedFx!K20*REF_IncCost2ndFx!K20","v":0},{"$f":"FLSPreventedFx!L20*REF_IncCost2ndFx!L20","v":0}]
["Male","75-84","Pelvis",{"$f":"FLSPreventedFx!D21*REF_IncCost2ndFx!D21","v":0},{"$f":"FLSPreventedFx!E21*REF_IncCost2ndFx!E21","v":0},{"$f":"FLSPreventedFx!F21*REF_IncCost2ndFx!F21","v":0},{"$f":"FLSPreventedFx!G21*REF_IncCost2ndFx!G21","v":0},{"$f":"FLSPreventedFx!H21*REF_IncCost2ndFx!H21","v":0},{"$f":"FLSPreventedFx!I21*REF_IncCost2ndFx!I21","v":0},{"$f":"FLSPreventedFx!J21*REF_IncCost2ndFx!J21","v":0},{"$f":"FLSPreventedFx!K21*REF_IncCost2ndFx!K21","v":0},{"$f":"FLSPreventedFx!L21*REF_IncCost2ndFx!L21","v":0}]
["Male","75-84","Radius/Ulna",{"$f":"FLSPreventedFx!D22*REF_IncCost2ndFx!D22","v":0},{"$f":"FLSPreventedFx!E22*REF_IncCost2ndFx!E22","v":0},{"$f":"FLSPreventedFx!F22*REF_IncCost2ndFx!F22","v":0},{"$f":"FLSPreventedFx!G22*REF_IncCost2ndFx!G22","v":0},{"$f":"FLSPreventedFx!H22*REF_IncCost2ndFx!H22","v":0},{"$f":"FLSPreventedFx!I22*REF_IncCost2ndFx!I22","v":0},{"$f":"FLSPreventedFx!J22*REF_IncCost2ndFx!J22","v":0},{"$f":"FLSPreventedFx!K22*REF_IncCost2ndFx!K22","v":0},{"$f":"FLSPreventedFx!L22*REF_IncCost2ndFx!L22","v":0}]
["Male","75-84","Spine",{"$f":"FLSPreventedFx!D23*REF_IncCost2ndFx!D23","v":0},{"$f":"FLSPreventedFx!E23*REF_IncCost2ndFx!E23","v":0},{"$f":"FLSPreventedFx!F23*REF_IncCost2ndFx!F23","v":0},{"$f":"FLSPreventedFx!G23*REF_IncCost2ndFx!G23","v":0},{"$f":"FLSPreventedFx!H23*REF_IncCost2ndFx!H23","v":0},{"$f":"FLSPreventedFx!I23*REF_IncCost2ndFx!I23","v":0},{"$f":"FLSPreventedFx!J23*REF_IncCost2ndFx!J23","v":0},{"$f":"FLSPreventedFx!K23*REF_IncCost2ndFx!K23","v":0},{"$f":"FLSPreventedFx!L23*REF_IncCost2ndFx!L23","v":0}]
["Male","75-84","Tibia/Fibula",{"$f":"FLSPreventedFx!D24*REF_IncCost2ndFx!D24","v":0},{"$f":"FLSPreventedFx!E24*REF_IncCost2ndFx!E24","v":0},{"$f":"FLSPreventedFx!F24*REF_IncCost2ndFx!F24","v":0},{"$f":"FLSPreventedFx!G24*REF_IncCost2ndFx!G24","v":0},{"$f":"FLSPreventedFx!H24*REF_IncCost2ndFx!H24","v":0},{"$f":"FLSPreventedFx!I24*REF_IncCost2ndFx!I24","v":0},{"$f":"FLSPreventedFx!J24*REF_IncCost2ndFx!J24","v":0},{"$f":"FLSPreventedFx!K24*REF_IncCost2ndFx!K24","v":0},{"$f":"FLSPreventedFx!L24*REF_IncCost2ndFx!L24","v":0}]
["Male","85+","Ankle",{"$f":"FLSPreventedFx!D25*REF_IncCost2ndFx!D25","v":0},{"$f":"FLSPreventedFx!E25*REF_IncCost2ndFx!E25","v":0},{"$f":"FLSPreventedFx!F25*REF_IncCost2ndFx!F25","v":0},{"$f":"FLSPreventedFx!G25*REF_IncCost2ndFx!G25","v":0},{"$f":"FLSPreventedFx!H25*REF_IncCost2ndFx!H25","v":0},{"$f":"FLSPreventedFx!I25*REF_IncCost2ndFx!I25","v":0},{"$f":"FLSPreventedFx!J25*REF_IncCost2ndFx!J25","v":0},{"$f":"FLSPreventedFx!K25*REF_IncCost2ndFx!K25","v":0},{"$f":"FLSPreventedFx!L25*REF_IncCost2ndFx!L25","v":0}]
["Male","85+","Clavicle",{"$f":"FLSPreventedFx!D26*REF_IncCost2ndFx!D26","v":0},{"$f":"FLSPreventedFx!E26*REF_IncCost2ndFx!E26","v":0},{"$f":"FLSPreventedFx!F26*REF_IncCost2ndFx!F26","v":0},{"$f":"FLSPreventedFx!G26*REF_IncCost2ndFx!G26","v":0},{"$f":"FLSPreventedFx!H26*REF_IncCost2ndFx!H26","v":0},{"$f":"FLSPreventedFx!I26*REF_IncCost2ndFx!I26","v":0},{"$f":"FLSPreventedFx!J26*REF_IncCost2ndFx!J26","v":0},{"$f":"FLSPreventedFx!K26*REF_IncCost2ndFx!K26","v":0},{"$f":"FLSPreventedFx!L26*REF_IncCost2ndFx!L26","v":0}]
["Male","85+","Femur",{"$f":"FLSPreventedFx!D27*REF_IncCost2ndFx!D27","v":0},{"$f":"FLSPreventedFx!E27*REF_IncCost2ndFx!E27","v":0},{"$f":"FLSPreventedFx!F27*REF_IncCost2ndFx!F27","v":0},{"$f":"FLSPreventedFx!G27*REF_IncCost2ndFx!G27","v":0},{"$f":"FLSPreventedFx!H27*REF_IncCost2ndFx!H27","v":0},{"$f":"FLSPreventedFx!I27*REF_IncCost2ndFx!I27","v":0},{"$f":"FLSPreventedFx!J27*REF_IncCost2ndFx!J27","v":0},{"$f":"FLSPreventedFx!K27*REF_IncCost2ndFx!K27","v":0},{"$f":"FLSPreventedFx!L27*REF_IncCost2ndFx!L27","v":0}]
["Male","85+","Hip",{"$f":"FLSPreventedFx!D28*REF_IncCost2ndFx!D28","v":0},{"$f":"FLSPreventedFx!E28*REF_IncCost2ndFx!E28","v":0},{"$f":"FLSPreventedFx!F28*REF_IncCost2ndFx!F28","v":0},{"$f":"FLSPreventedFx!G28*REF_IncCost2ndFx!G28","v":0},{"$f":"FLSPreventedFx!H28*REF_IncCost2ndFx!H28","v":0},{"$f":"FLSPreventedFx!I28*REF_IncCost2ndFx!I28","v":0},{"$f":"FLSPreventedFx!J28*REF_IncCost2ndFx!J28","v":0},{"$f":"FLSPreventedFx!K28*REF_IncCost2ndFx!K28","v":0},{"$f":"FLSPreventedFx!L28*REF_IncCost2ndFx!L28","v":0}]
["Male","85+","Humerus",{"$f":"FLSPreventedFx!D29*REF_IncCost2ndFx!D29","v":0},{"$f":"FLSPreventedFx!E29*REF_IncCost2ndFx!E29","v":0},{"$f":"FLSPreventedFx!F29*REF_IncCost2ndFx!F29","v":0},{"$f":"FLSPreventedFx!G29*REF_IncCost2ndFx!G29","v":0},{"$f":"FLSPreventedFx!H29*REF_IncCost2ndFx!H29","v":0},{"$f":"FLSPreventedFx!I29*REF_IncCost2ndFx!I29","v":0},{"$f":"FLSPreventedFx!J29*REF_IncCost2ndFx!J29","v":0},{"$f":"FLSPreventedFx!K29*REF_IncCost2ndFx!K29","v":0},{"$f":"FLSPreventedFx!L29*REF_IncCost2ndFx!L29","v":0}]
["Male","85+","Pelvis",{"$f":"FLSPreventedFx!D30*REF_IncCost2ndFx!D30","v":0},{"$f":"FLSPreventedFx!E30*REF_IncCost2ndFx!E30","v":0},{"$f":"FLSPreventedFx!F30*REF_IncCost2ndFx!F30","v":0},{"$f":"FLSPreventedFx!G30*REF_IncCost2ndFx!G30","v":0},{"$f":"FLSPreventedFx!H30*REF_IncCost2ndFx!H30","v":0},{"$f":"FLSPreventedFx!I30*REF_IncCost2ndFx!I30","v":0},{"$f":"FLSPreventedFx!J30*REF_IncCost2ndFx!J30","v":0},{"$f":"FLSPreventedFx!K30*REF_IncCost2ndFx!K30","v":0},{"$f":"FLSPreventedFx!L30*REF_IncCost2ndFx!L30","v":0}]
["Male","85+","Radius/Ulna",{"$f":"FLSPreventedFx!D31*REF_IncCost2ndFx!D31","v":0},{"$f":"FLSPreventedFx!E31*REF_IncCost2ndFx!E31","v":0},{"$f":"FLSPreventedFx!F31*REF_IncCost2ndFx!F31","v":0},{"$f":"FLSPreventedFx!G31*REF_IncCost2ndFx!G31","v":0},{"$f":"FLSPreventedFx!H31*REF_IncCost2ndFx!H31","v":0},{"$f":"FLSPreventedFx!I31*REF_IncCost2ndFx!I31","v":0},{"$f":"FLSPreventedFx!J31*REF_IncCost2ndFx!J31","v":0},{"$f":"FLSPreventedFx!K31*REF_IncCost2ndFx!K31","v":0},{"$f":"FLSPreventedFx!L31*REF_IncCost2ndFx!L31","v":0}]
["Male","85+","Spine",{"$f":"FLSPreventedFx!D32*REF_IncCost2ndFx!D32","v":0},{"$f":"FLSPreventedFx!E32*REF_IncCost2ndFx!E32","v":0},{"$f":"FLSPreventedFx!F32*REF_IncCost2ndFx!F32","v":0},{"$f":"FLSPreventedFx!G32*REF_IncCost2ndFx!G32","v":0},{"$f":"FLSPreventedFx!H32*REF_IncCost2ndFx!H32","v":0},{"$f":"FLSPreventedFx!I32*REF_IncCost2ndFx!I32","v":0},{"$f":"FLSPreventedFx!J32*REF_IncCost2ndFx!J32","v":0},{"$f":"FLSPreventedFx!K32*REF_IncCost2ndFx!K32","v":0},{"$f":"FLSPreventedFx!L32*REF_IncCost2ndFx!L32","v":0}]
["Male","85+","Tibia/Fibula",{"$f":"FLSPreventedFx!D33*REF_IncCost2ndFx!D33","v":0},{"$f":"FLSPreventedFx!E33*REF_IncCost2ndFx!E33","v":0},{"$f":"FLSPreventedFx!F33*REF_IncCost2ndFx!F33","v":0},{"$f":"FLSPreventedFx!G33*REF_IncCost2ndFx!G33","v":0},{"$f":"FLSPreventedFx!H33*REF_IncCost2ndFx!H33","v":0},{"$f":"FLSPreventedFx!I33*REF_IncCost2ndFx!I33","v":0},{"$f":"FLSPreventedFx!J33*REF_IncCost2ndFx!J33","v":0},{"$f":"FLSPreventedFx!K33*REF_IncCost2ndFx!K33","v":0},{"$f":"FLSPreventedFx!L33*REF_IncCost2ndFx!L33","v":0}]
["Female","65-74","Ankle",{"$f":"FLSPreventedFx!D34*REF_IncCost2ndFx!D34","v":0},{"$f":"FLSPreventedFx!E34*REF_IncCost2ndFx!E34","v":0},{"$f":"FLSPreventedFx!F34*REF_IncCost2ndFx!F34","v":0},{"$f":"FLSPreventedFx!G34*REF_IncCost2ndFx!G34","v":0},{"$f":"FLSPreventedFx!H34*REF_IncCost2ndFx!H34","v":0},{"$f":"FLSPreventedFx!I34*REF_IncCost2ndFx!I34","v":0},{"$f":"FLSPreventedFx!J34*REF_IncCost2ndFx!J34","v":0},{"$f":"FLSPreventedFx!K34*REF_IncCost2ndFx!K34","v":0},{"$f":"FLSPreventedFx!L34*REF_IncCost2ndFx!L34","v":0}]
["Female","65-74","Clavicle",{"$f":"FLSPreventedFx!D35*REF_IncCost2ndFx!D35","v":0},{"$f":"FLSPreventedFx!E35*REF_IncCost2ndFx!E35","v":0},{"$f":"FLSPreventedFx!F35*REF_IncCost2ndFx!F35","v":0},{"$f":"FLSPreventedFx!G35*REF_IncCost2ndFx!G35","v":0},{"$f":"FLSPreventedFx!H35*REF_IncCost2ndFx!H35","v":0},{"$f":"FLSPreventedFx!I35*REF_IncCost2ndFx!I35","v":0},{"$f":"FLSPreventedFx!J35*REF_IncCost2ndFx!J35","v":0},{"$f":"FLSPreventedFx!K35*REF_IncCost2ndFx!K35","v":0},{"$f":"FLSPreventedFx!L35*REF_IncCost2ndFx!L35","v":0}]
["Female","65-74","Femur",{"$f":"FLSPreventedFx!D36*REF_IncCost2ndFx!D36","v":0},{"$f":"FLSPreventedFx!E36*REF_IncCost2ndFx!E36","v":0},{"$f":"FLSPreventedFx!F36*REF_IncCost2ndFx!F36","v":0},{"$f":"FLSPreventedFx!G36*REF_IncCost2ndFx!G36","v":0},{"$f":"FLSPreventedFx!H36*REF_IncCost2ndFx!H36","v":0},{"$f":"FLSPreventedFx!I36*REF_IncCost2ndFx!I36","v":0},{"$f":"FLSPreventedFx!J36*REF_IncCost2ndFx!J36","v":0},{"$f":"FLSPreventedFx!K36*REF_IncCost2ndFx!K36","v":0},{"$f":"FLSPreventedFx!L36*REF_IncCost2ndFx!L36","v":0}]
["Female","65-74","Hip",{"$f":"FLSPreventedFx!D37*REF_IncCost2ndFx!D37","v":0},{"$f":"FLSPreventedFx!E37*REF_IncCost2ndFx!E37","v":0},{"$f":"FLSPreventedFx!F37*REF_IncCost2ndFx!F37","v":0},{"$f":"FLSPreventedFx!G37*REF_IncCost2ndFx!G37","v":0},{"$f":"FLSPreventedFx!H37*REF_IncCost2ndFx!H37","v":0},{"$f":"FLSPreventedFx!I37*REF_IncCost2ndFx!I37","v":0},{"$f":"FLSPreventedFx!J37*REF_IncCost2ndFx!J37","v":0},{"$f":"FLSPreventedFx!K37*REF_IncCost2ndFx!K37","v":0},{"$f":"FLSPreventedFx!L37*REF_IncCost2ndFx!L37","v":0}]
["Female","65-74","Humerus",{"$f":"FLSPreventedFx!D38*REF_IncCost2ndFx!D38","v":0},{"$f":"FLSPreventedFx!E38*REF_IncCost2ndFx!E38","v":0},{"$f":"FLSPreventedFx!F38*REF_IncCost2ndFx!F38","v":0},{"$f":"FLSPreventedFx!G38*REF_IncCost2ndFx!G38","v":0},{"$f":"FLSPreventedFx!H38*REF_IncCost2ndFx!H38","v":0},{"$f":"FLSPreventedFx!I38*REF_IncCost2ndFx!I38","v":0},{"$f":"FLSPreventedFx!J38*REF_IncCost2ndFx!J38","v":0},{"$f":"FLSPreventedFx!K38*REF_IncCost2ndFx!K38","v":0},{"$f":"FLSPreventedFx!L38*REF_IncCost2ndFx!L38","v":0}]
["Female","65-74","Pelvis",{"$f":"FLSPreventedFx!D39*REF_IncCost2ndFx!D39","v":0},{"$f":"FLSPreventedFx!E39*REF_IncCost2ndFx!E39","v":0},{"$f":"FLSPreventedFx!F39*REF_IncCost2ndFx!F39","v":0},{"$f":"FLSPreventedFx!G39*REF_IncCost2ndFx!G39","v":0},{"$f":"FLSPreventedFx!H39*REF_IncCost2ndFx!H39","v":0},{"$f":"FLSPreventedFx!I39*REF_IncCost2ndFx!I39","v":0},{"$f":"FLSPreventedFx!J39*REF_IncCost2ndFx!J39","v":0},{"$f":"FLSPreventedFx!K39*REF_IncCost2ndFx!K39","v":0},{"$f":"FLSPreventedFx!L39*REF_IncCost2ndFx!L39","v":0}]
["Female","65-74","Radius/Ulna",{"$f":"FLSPreventedFx!D40*REF_IncCost2ndFx!D40","v":0},{"$f":"FLSPreventedFx!E40*REF_IncCost2ndFx!E40","v":0},{"$f":"FLSPreventedFx!F40*REF_IncCost2ndFx!F40","v":0},{"$f":"FLSPreventedFx!G40*REF_IncCost2ndFx!G40","v":0},{"$f":"FLSPreventedFx!H40*REF_IncCost2ndFx!H40","v":0},{"$f":"FLSPreventedFx!I40*REF_IncCost2ndFx!I40","v":0},{"$f":"FLSPreventedFx!J40*REF_IncCost2ndFx!J40","v":0},{"$f":"FLSPreventedFx!K40*REF_IncCost2ndFx!K40","v":0},{"$f":"FLSPreventedFx!L40*REF_IncCost2ndFx!L40","v":0}]
["Female","65-74","Spine",{"$f":"FLSPreventedFx!D41*REF_IncCost2ndFx!D41","v":0},{"$f":"FLSPreventedFx!E41*REF_IncCost2ndFx!E41","v":0},{"$f":"FLSPreventedFx!F41*REF_IncCost2ndFx!F41","v":0},{"$f":"FLSPreventedFx!G41*REF_IncCost2ndFx!G41","v":0},{"$f":"FLSPreventedFx!H41*REF_IncCost2ndFx!H41","v":0},{"$f":"FLSPreventedFx!I41*REF_IncCost2ndFx!I41","v":0},{"$f":"FLSPreventedFx!J41*REF_IncCost2ndFx!J41","v":0},{"$f":"FLSPreventedFx!K41*REF_IncCost2ndFx!K41","v":0},{"$f":"FLSPreventedFx!L41*REF_IncCost2ndFx!L41","v":0}]
["Female","65-74","Tibia/Fibula",{"$f":"FLSPreventedFx!D42*REF_IncCost2ndFx!D42","v":0},{"$f":"FLSPreventedFx!E42*REF_IncCost2ndFx!E42","v":0},{"$f":"FLSPreventedFx!F42*REF_IncCost2ndFx!F42","v":0},{"$f":"FLSPreventedFx!G42*REF_IncCost2ndFx!G42","v":0},{"$f":"FLSPreventedFx!H42*REF_IncCost2ndFx!H42","v":0},{"$f":"FLSPreventedFx!I42*REF_IncCost2ndFx!I42","v":0},{"$f":"FLSPreventedFx!J42*REF_IncCost2ndFx!J42","v":0},{"$f":"FLSPreventedFx!K42*REF_IncCost2ndFx!K42","v":0},{"$f":"FLSPreventedFx!L42*REF_IncCost2ndFx!L42","v":0}]
["Female","75-84","Ankle",{"$f":"FLSPreventedFx!D43*REF_IncCost2ndFx!D43","v":0},{"$f":"FLSPreventedFx!E43*REF_IncCost2ndFx!E43","v":0},{"$f":"FLSPreventedFx!F43*REF_IncCost2ndFx!F43","v":0},{"$f":"FLSPreventedFx!G43*REF_IncCost2ndFx!G43","v":0},{"$f":"FLSPreventedFx!H43*REF_IncCost2ndFx!H43","v":0},{"$f":"FLSPreventedFx!I43*REF_IncCost2ndFx!I43","v":0},{"$f":"FLSPreventedFx!J43*REF_IncCost2ndFx!J43","v":0},{"$f":"FLSPreventedFx!K43*REF_IncCost2ndFx!K43","v":0},{"$f":"FLSPreventedFx!L43*REF_IncCost2ndFx!L43","v":0}]
["Female","75-84","Clavicle",{"$f":"FLSPreventedFx!D44*REF_IncCost2ndFx!D44","v":0},{"$f":"FLSPreventedFx!E44*REF_IncCost2ndFx!E44","v":0},{"$f":"FLSPreventedFx!F44*REF_IncCost2ndFx!F44","v":0},{"$f":"FLSPreventedFx!G44*REF_IncCost2ndFx!G44","v":0},{"$f":"FLSPreventedFx!H44*REF_IncCost2ndFx!H44","v":0},{"$f":"FLSPreventedFx!I44*REF_IncCost2ndFx!I44","v":0},{"$f":"FLSPreventedFx!J44*REF_IncCost2ndFx!J44","v":0},{"$f":"FLSPreventedFx!K44*REF_IncCost2ndFx!K44","v":0},{"$f":"FLSPreventedFx!L44*REF_IncCost2ndFx!L44","v":0}]
["Female","75-84","Femur",{"$f":"FLSPreventedFx!D45*REF_IncCost2ndFx!D45","v":0},{"$f":"FLSPreventedFx!E45*REF_IncCost2ndFx!E45","v":0},{"$f":"FLSPreventedFx!F45*REF_IncCost2ndFx!F45","v":0},{"$f":"FLSPreventedFx!G45*REF_IncCost2ndFx!G45","v":0},{"$f":"FLSPreventedFx!H45*REF_IncCost2ndFx!H45","v":0},{"$f":"FLSPreventedFx!I45*REF_IncCost2ndFx!I45","v":0},{"$f":"FLSPreventedFx!J45*REF_IncCost2ndFx!J45","v":0},{"$f":"FLSPreventedFx!K45*REF_IncCost2ndFx!K45","v":0},{"$f":"FLSPreventedFx!L45*REF_IncCost2ndFx!L45","v":0}]
["Female","75-84","Hip",{"$f":"FLSPreventedFx!D46*REF_IncCost2ndFx!D46","v":0},{"$f":"FLSPreventedFx!E46*REF_IncCost2ndFx!E46","v":0},{"$f":"FLSPreventedFx!F46*REF_IncCost2ndFx!F46","v":0},{"$f":"FLSPreventedFx!G46*REF_IncCost2ndFx!G46","v":0},{"$f":"FLSPreventedFx!H46*REF_IncCost2ndFx!H46","v":0},{"$f":"FLSPreventedFx!I46*REF_IncCost2ndFx!I46","v":0},{"$f":"FLSPreventedFx!J46*REF_IncCost2ndFx!J46","v":0},{"$f":"FLSPreventedFx!K46*REF_IncCost2ndFx!K46","v":0},{"$f":"FLSPreventedFx!L46*REF_IncCost2ndFx!L46","v":0}]
["Female","75-84","Humerus",{"$f":"FLSPreventedFx!D47*REF_IncCost2ndFx!D47","v":0},{"$f":"FLSPreventedFx!E47*REF_IncCost2ndFx!E47","v":0},{"$f":"FLSPreventedFx!F47*REF_IncCost2ndFx!F47","v":0},{"$f":"FLSPreventedFx!G47*REF_IncCost2ndFx!G47","v":0},{"$f":"FLSPreventedFx!H47*REF_IncCost2ndFx!H47","v":0},{"$f":"FLSPreventedFx!I47*REF_IncCost2ndFx!I47","v":0},{"$f":"FLSPreventedFx!J47*REF_IncCost2ndFx!J47","v":0},{"$f":"FLSPreventedFx!K47*REF_IncCost2ndFx!K47","v":0},{"$f":"FLSPreventedFx!L47*REF_IncCost2ndFx!L47","v":0}]
["Female","75-84","Pelvis",{"$f":"FLSPreventedFx!D48*REF_IncCost2ndFx!D48","v":0},{"$f":"FLSPreventedFx!E48*REF_IncCost2ndFx!E48","v":0},{"$f":"FLSPreventedFx!F48*REF_IncCost2ndFx!F48","v":0},{"$f":"FLSPreventedFx!G48*REF_IncCost2ndFx!G48","v":0},{"$f":"FLSPreventedFx!H48*REF_IncCost2ndFx!H48","v":0},{"$f":"FLSPreventedFx!I48*REF_IncCost2ndFx!I48","v":0},{"$f":"FLSPreventedFx!J48*REF_IncCost2ndFx!J48","v":0},{"$f":"FLSPreventedFx!K48*REF_IncCost2ndFx!K48","v":0},{"$f":"FLSPreventedFx!L48*REF_IncCost2ndFx!L48","v":0}]
["Female","75-84","Radius/Ulna",{"$f":"FLSPreventedFx!D49*REF_IncCost2ndFx!D49","v":0},{"$f":"FLSPreventedFx!E49*REF_IncCost2ndFx!E49","v":0},{"$f":"FLSPreventedFx!F49*REF_IncCost2ndFx!F49","v":0},{"$f":"FLSPreventedFx!G49*REF_IncCost2ndFx!G49","v":0},{"$f":"FLSPreventedFx!H49*REF_IncCost2ndFx!H49","v":0},{"$f":"FLSPreventedFx!I49*REF_IncCost2ndFx!I49","v":0},{"$f":"FLSPreventedFx!J49*REF_IncCost2ndFx!J49","v":0},{"$f":"FLSPreventedFx!K49*REF_IncCost2ndFx!K49","v":0},{"$f":"FLSPreventedFx!L49*REF_IncCost2ndFx!L49","v":0}]
["Female","75-84","Spine",{"$f":"FLSPreventedFx!D50*REF_IncCost2ndFx!D50","v":0},{"$f":"FLSPreventedFx!E50*REF_IncCost2ndFx!E50","v":0},{"$f":"FLSPreventedFx!F50*REF_IncCost2ndFx!F50","v":0},{"$f":"FLSPreventedFx!G50*REF_IncCost2ndFx!G50","v":0},{"$f":"FLSPreventedFx!H50*REF_IncCost2ndFx!H50","v":0},{"$f":"FLSPreventedFx!I50*REF_IncCost2ndFx!I50","v":0},{"$f":"FLSPreventedFx!J50*REF_IncCost2ndFx!J50","v":0},{"$f":"FLSPreventedFx!K50*REF_IncCost2ndFx!K50","v":0},{"$f":"FLSPreventedFx!L50*REF_IncCost2ndFx!L50","v":0}]
["Female","75-84","Tibia/Fibula",{"$f":"FLSPreventedFx!D51*REF_IncCost2ndFx!D51","v":0},{"$f":"FLSPreventedFx!E51*REF_IncCost2ndFx!E51","v":0},{"$f":"FLSPreventedFx!F51*REF_IncCost2ndFx!F51","v":0},{"$f":"FLSPreventedFx!G51*REF_IncCost2ndFx!G51","v":0},{"$f":"FLSPreventedFx!H51*REF_IncCost2ndFx!H51","v":0},{"$f":"FLSPreventedFx!I51*REF_IncCost2ndFx!I51","v":0},{"$f":"FLSPreventedFx!J51*REF_IncCost2ndFx!J51","v":0},{"$f":"FLSPreventedFx!K51*REF_IncCost2ndFx!K51","v":0},{"$f":"FLSPreventedFx!L51*REF_IncCost2ndFx!L51","v":0}]
["Female","85+","Ankle",{"$f":"FLSPreventedFx!D52*REF_IncCost2ndFx!D52","v":0},{"$f":"FLSPreventedFx!E52*REF_IncCost2ndFx!E52","v":0},{"$f":"FLSPreventedFx!F52*REF_IncCost2ndFx!F52","v":0},{"$f":"FLSPreventedFx!G52*REF_IncCost2ndFx!G52","v":0},{"$f":"FLSPreventedFx!H52*REF_IncCost2ndFx!H52","v":0},{"$f":"FLSPreventedFx!I52*REF_IncCost2ndFx!I52","v":0},{"$f":"FLSPreventedFx!J52*REF_IncCost2ndFx!J52","v":0},{"$f":"FLSPreventedFx!K52*REF_IncCost2ndFx!K52","v":0},{"$f":"FLSPreventedFx!L52*REF_IncCost2ndFx!L52","v":0}]
["Female","85+","Clavicle",{"$f":"FLSPreventedFx!D53*REF_IncCost2ndFx!D53","v":0},{"$f":"FLSPreventedFx!E53*REF_IncCost2ndFx!E53","v":0},{"$f":"FLSPreventedFx!F53*REF_IncCost2ndFx!F53","v":0},{"$f":"FLSPreventedFx!G53*REF_IncCost2ndFx!G53","v":0},{"$f":"FLSPreventedFx!H53*REF_IncCost2ndFx!H53","v":0},{"$f":"FLSPreventedFx!I53*REF_IncCost2ndFx!I53","v":0},{"$f":"FLSPreventedFx!J53*REF_IncCost2ndFx!J53","v":0},{"$f":"FLSPreventedFx!K53*REF_IncCost2ndFx!K53","v":0},{"$f":"FLSPreventedFx!L53*REF_IncCost2ndFx!L53","v":0}]
["Female","85+","Femur",{"$f":"FLSPreventedFx!D54*REF_IncCost2ndFx!D54","v":0},{"$f":"FLSPreventedFx!E54*REF_IncCost2ndFx!E54","v":0},{"$f":"FLSPreventedFx!F54*REF_IncCost2ndFx!F54","v":0},{"$f":"FLSPreventedFx!G54*REF_IncCost2ndFx!G54","v":0},{"$f":"FLSPreventedFx!H54*REF_IncCost2ndFx!H54","v":0},{"$f":"FLSPreventedFx!I54*REF_IncCost2ndFx!I54","v":0},{"$f":"FLSPreventedFx!J54*REF_IncCost2ndFx!J54","v":0},{"$f":"FLSPreventedFx!K54*REF_IncCost2ndFx!K54","v":0},{"$f":"FLSPreventedFx!L54*REF_IncCost2ndFx!L54","v":0}]
["Female","85+","Hip",{"$f":"FLSPreventedFx!D55*REF_IncCost2ndFx!D55","v":0},{"$f":"FLSPreventedFx!E55*REF_IncCost2ndFx!E55","v":0},{"$f":"FLSPreventedFx!F55*REF_IncCost2ndFx!F55","v":0},{"$f":"FLSPreventedFx!G55*REF_IncCost2ndFx!G55","v":0},{"$f":"FLSPreventedFx!H55*REF_IncCost2ndFx!H55","v":0},{"$f":"FLSPreventedFx!I55*REF_IncCost2ndFx!I55","v":0},{"$f":"FLSPreventedFx!J55*REF_IncCost2ndFx!J55","v":0},{"$f":"FLSPreventedFx!K55*REF_IncCost2ndFx!K55","v":0},{"$f":"FLSPreventedFx!L55*REF_IncCost2ndFx!L55","v":0}]
["Female","85+","Humerus",{"$f":"FLSPreventedFx!D56*REF_IncCost2ndFx!D56","v":0},{"$f":"FLSPreventedFx!E56*REF_IncCost2ndFx!E56","v":0},{"$f":"FLSPreventedFx!F56*REF_IncCost2ndFx!F56","v":0},{"$f":"FLSPreventedFx!G56*REF_IncCost2ndFx!G56","v":0},{"$f":"FLSPreventedFx!H56*REF_IncCost2ndFx!H56","v":0},{"$f":"FLSPreventedFx!I56*REF_IncCost2ndFx!I56","v":0},{"$f":"FLSPreventedFx!J56*REF_IncCost2ndFx!J56","v":0},{"$f":"FLSPreventedFx!K56*REF_IncCost2ndFx!K56","v":0},{"$f":"FLSPreventedFx!L56*REF_IncCost2ndFx!L56","v":0}]
["Female","85+","Pelvis",{"$f":"FLSPreventedFx!D57*REF_IncCost2ndFx!D57","v":0},{"$f":"FLSPreventedFx!E57*REF_IncCost2ndFx!E57","v":0},{"$f":"FLSPreventedFx!F57*REF_IncCost2ndFx!F57","v":0},{"$f":"FLSPreventedFx!G57*REF_IncCost2ndFx!G57","v":0},{"$f":"FLSPreventedFx!H57*REF_IncCost2ndFx!H57","v":0},{"$f":"FLSPreventedFx!I57*REF_IncCost2ndFx!I57","v":0},{"$f":"FLSPreventedFx!J57*REF_IncCost2ndFx!J57","v":0},{"$f":"FLSPreventedFx!K57*REF_IncCost2ndFx!K57","v":0},{"$f":"FLSPreventedFx!L57*REF_IncCost2ndFx!L57","v":0}]
["Female","85+","Radius/Ulna",{"$f":"FLSPreventedFx!D58*REF_IncCost2ndFx!D58","v":0},{"$f":"FLSPreventedFx!E58*REF_IncCost2ndFx!E58","v":0},{"$f":"FLSPreventedFx!F58*REF_IncCost2ndFx!F58","v":0},{"$f":"FLSPreventedFx!G58*REF_IncCost2ndFx!G58","v":0},{"$f":"FLSPreventedFx!H58*REF_IncCost2ndFx!H58","v":0},{"$f":"FLSPreventedFx!I58*REF_IncCost2ndFx!I58","v":0},{"$f":"FLSPreventedFx!J58*REF_IncCost2ndFx!J58","v":0},{"$f":"FLSPreventedFx!K58*REF_IncCost2ndFx!K58","v":0},{"$f":"FLSPreventedFx!L58*REF_IncCost2ndFx!L58","v":0}]
["Female","85+","Spine",{"$f":"FLSPreventedFx!D59*REF_IncCost2ndFx!D59","v":0},{"$f":"FLSPreventedFx!E59*REF_IncCost2ndFx!E59","v":0},{"$f":"FLSPreventedFx!F59*REF_IncCost2ndFx!F59","v":0},{"$f":"FLSPreventedFx!G59*REF_IncCost2ndFx!G59","v":0},{"$f":"FLSPreventedFx!H59*REF_IncCost2ndFx!H59","v":0},{"$f":"FLSPreventedFx!I59*REF_IncCost2ndFx!I59","v":0},{"$f":"FLSPreventedFx!J59*REF_IncCost2ndFx!J59","v":0},{"$f":"FLSPreventedFx!K59*REF_IncCost2ndFx!K59","v":0},{"$f":"FLSPreventedFx!L59*REF_IncCost2ndFx!L59","v":0}]
["Female","85+","Tibia/Fibula",{"$f":"FLSPreventedFx!D60*REF_IncCost2ndFx!D60","v":0},{"$f":"FLSPreventedFx!E60*REF_IncCost2ndFx!E60","v":0},{"$f":"FLSPreventedFx!F60*REF_IncCost2ndFx!F60","v":0},{"$f":"FLSPreventedFx!G60*REF_IncCost2ndFx!G60","v":0},{"$f":"FLSPreventedFx!H60*REF_IncCost2ndFx!H60","v":0},{"$f":"FLSPreventedFx!I60*REF_IncCost2ndFx!I60","v":0},{"$f":"FLSPreventedFx!J60*REF_IncCost2ndFx!J60","v":0},{"$f":"FLSPreventedFx!K60*REF_IncCost2ndFx!K60","v":0},{"$f":"FLSPreventedFx!L60*REF_IncCost2ndFx!L60","v":0}]
[]
[]
["Three Year Model"]
["Sex","Age","Initial Fracture Site","Second Fracture Status"]
[null,null,null,"Ankle","Clavicle","Femur","Hip","Humerus","Pelvis","Radius/Ulna","Spine","Tibia/Fibula"]
["Male","65-74","Ankle",{"$f":"FLSPreventedFx!D66*REF_IncCost2ndFx!D66","v":0},{"$f":"FLSPreventedFx!E66*REF_IncCost2ndFx!E66","v":0},{"$f":"FLSPreventedFx!F66*REF_IncCost2ndFx!F66","v":0},{"$f":"FLSPreventedFx!G66*REF_IncCost2ndFx!G66","v":0},{"$f":"FLSPreventedFx!H66*REF_IncCost2ndFx!H66","v":0},{"$f":"FLSPreventedFx!I66*REF_IncCost2ndFx!I66","v":0},{"$f":"FLSPreventedFx!J66*REF_IncCost2ndFx!J66","v":0},{"$f":"FLSPreventedFx!K66*REF_IncCost2ndFx!K66","v":0},{"$f":"FLSPreventedFx!L66*REF_IncCost2ndFx!L66","v":0}]
["Male","65-74","Clavicle",{"$f":"FLSPreventedFx!D67*REF_IncCost2ndFx!D67","v":0},{"$f":"FLSPreventedFx!E67*REF_IncCost2ndFx!E67","v":0},{"$f":"FLSPreventedFx!F67*REF_IncCost2ndFx!F67","v":0},{"$f":"FLSPreventedFx!G67*REF_IncCost2ndFx!G67","v":0},{"$f":"FLSPreventedFx!H67*REF_IncCost2ndFx!H67","v":0},{"$f":"FLSPreventedFx!I67*REF_IncCost2ndFx!I67","v":0},{"$f":"FLSPreventedFx!J67*REF_IncCost2ndFx!J67","v":0},{"$f":"FLSPreventedFx!K67*REF_IncCost2ndFx!K67","v":0},{"$f":"FLSPreventedFx!L67*REF_IncCost2ndFx!L67","v":0}]
["Male","65-74","Femur",{"$f":"FLSPreventedFx!D68*REF_IncCost2ndFx!D68","v":0},{"$f":"FLSPreventedFx!E68*REF_IncCost2ndFx!E68","v":0},{"$f":"FLSPreventedFx!F68*REF_IncCost2ndFx!F68","v":0},{"$f":"FLSPreventedFx!G68*REF_IncCost2ndFx!G68","v":0},{"$f":"FLSPreventedFx!H68*REF_IncCost2ndFx!H68","v":0},{"$f":"FLSPreventedFx!I68*REF_IncCost2ndFx!I68","v":0},{"$f":"FLSPreventedFx!J68*REF_IncCost2ndFx!J68","v":0},{"$f":"FLSPreventedFx!K68*REF_IncCost2ndFx!K68","v":0},{"$f":"FLSPreventedFx!L68*REF_IncCost2ndFx!L68","v":0}]
["Male","65-74","Hip",{"$f":"FLSPreventedFx!D69*REF_IncCost2ndFx!D69","v":0},{"$f":"FLSPreventedFx!E69*REF_IncCost2ndFx!E69","v":0},{"$f":"FLSPreventedFx!F69*REF_IncCost2ndFx!F69","v":0},{"$f":"FLSPreventedFx!G69*REF_IncCost2ndFx!G69","v":0},{"$f":"FLSPreventedFx!H69*REF_IncCost2ndFx!H69","v":0},{"$f":"FLSPreventedFx!I69*REF_IncCost2ndFx!I69","v":0},{"$f":"FLSPreventedFx!J69*REF_IncCost2ndFx!J69","v":0},{"$f":"FLSPreventedFx!K69*REF_IncCost2ndFx!K69","v":0},{"$f":"FLSPreventedFx!L69*REF_IncCost2ndFx!L69","v":0}]
["Male","65-74","Humerus",{"$f":"FLSPreventedFx!D70*REF_IncCost2ndFx!D70","v":0},{"$f":"FLSPreventedFx!E70*REF_IncCost2ndFx!E70","v":0},{"$f":"FLSPreventedFx!F70*REF_IncCost2ndFx!F70","v":0},{"$f":"FLSPreventedFx!G70*REF_IncCost2ndFx!G70","v":0},{"$f":"FLSPreventedFx!H70*REF_IncCost2ndFx!H70","v":0},{"$f":"FLSPreventedFx!I70*REF_IncCost2ndFx!I70","v":0},{"$f":"FLSPreventedFx!J70*REF_IncCost2ndFx!J70","v":0},{"$f":"FLSPreventedFx!K70*REF_IncCost2ndFx!K70","v":0},{"$f":"FLSPreventedFx!L70*REF_IncCost2ndFx!L70","v":0}]
["Male","65-74","Pelvis",{"$f":"FLSPreventedFx!D71*REF_IncCost2ndFx!D71","v":0},{"$f":"FLSPreventedFx!E71*REF_IncCost2ndFx!E71","v":0},{"$f":"FLSPreventedFx!F71*REF_IncCost2ndFx!F71","v":0},{"$f":"FLSPreventedFx!G71*REF_IncCost2ndFx!G71","v":0},{"$f":"FLSPreventedFx!H71*REF_IncCost2ndFx!H71","v":0},{"$f":"FLSPreventedFx!I71*REF_IncCost2ndFx!I71","v":0},{"$f":"FLSPreventedFx!J71*REF_IncCost2ndFx!J71","v":0},{"$f":"FLSPreventedFx!K71*REF_IncCost2ndFx!K71","v":0},{"$f":"FLSPreventedFx!L71*REF_IncCost2ndFx!L71","v":0}]
["Male","65-74","Radius/Ulna",{"$f":"FLSPreventedFx!D72*REF_IncCost2ndFx!D72","v":0},{"$f":"FLSPreventedFx!E72*REF_IncCost2ndFx!E72","v":0},{"$f":"FLSPreventedFx!F72*REF_IncCost2ndFx!F72","v":0},{"$f":"FLSPreventedFx!G72*REF_IncCost2ndFx!G72","v":0},{"$f":"FLSPreventedFx!H72*REF_IncCost2ndFx!H72","v":0},{"$f":"FLSPreventedFx!I72*REF_IncCost2ndFx!I72","v":0},{"$f":"FLSPreventedFx!J72*REF_IncCost2ndFx!J72","v":0},{"$f":"FLSPreventedFx!K72*REF_IncCost2ndFx!K72","v":0},{"$f":"FLSPreventedFx!L72*REF_IncCost2ndFx!L72","v":0}]
["Male","65-74","Spine",{"$f":"FLSPreventedFx!D73*REF_IncCost2ndFx!D73","v":0},{"$f":"FLSPreventedFx!E73*REF_IncCost2ndFx!E73","v":0},{"$f":"FLSPreventedFx!F73*REF_IncCost2ndFx!F73","v":0},{"$f":"FLSPreventedFx!G73*REF_IncCost2ndFx!G73","v":0},{"$f":"FLSPreventedFx!H73*REF_IncCost2ndFx!H73","v":0},{"$f":"FLSPreventedFx!I73*REF_IncCost2ndFx!I73","v":0},{"$f":"FLSPreventedFx!J73*REF_IncCost2ndFx!J73","v":0},{"$f":"FLSPreventedFx!K73*REF_IncCost2ndFx!K73","v":0},{"$f":"FLSPreventedFx!L73*REF_IncCost2ndFx!L73","v":0}]
["Male","65-74","Tibia/Fibula",{"$f":"FLSPreventedFx!D74*REF_IncCost2ndFx!D74","v":0},{"$f":"FLSPreventedFx!E74*REF_IncCost2ndFx!E74","v":0},{"$f":"FLSPreventedFx!F74*REF_IncCost2ndFx!F74","v":0},{"$f":"FLSPreventedFx!G74*REF_IncCost2ndFx!G74","v":0},{"$f":"FLSPreventedFx!H74*REF_IncCost2ndFx!H74","v":0},{"$f":"FLSPreventedFx!I74*REF_IncCost2ndFx!I74","v":0},{"$f":"FLSPreventedFx!J74*REF_IncCost2ndFx!J74","v":0},{"$f":"FLSPreventedFx!K74*REF_IncCost2ndFx!K74","v":0},{"$f":"FLSPreventedFx!L74*REF_IncCost2ndFx!L74","v":0}]
["Male","75-84","Ankle",{"$f":"FLSPreventedFx!D75*REF_IncCost2ndFx!D75","v":0},{"$f":"FLSPreventedFx!E75*REF_IncCost2ndFx!E75","v":0},{"$f":"FLSPreventedFx!F75*REF_IncCost2ndFx!F75","v":0},{"$f":"FLSPreventedFx!G75*REF_IncCost2ndFx!G75","v":0},{"$f":"FLSPreventedFx!H75*REF_IncCost2ndFx!H75","v":0},{"$f":"FLSPreventedFx!I75*REF_IncCost2ndFx!I75","v":0},{"$f":"FLSPreventedFx!J75*REF_IncCost2ndFx!J75","v":0},{"$f":"FLSPreventedFx!K75*REF_IncCost2ndFx!K75","v":0},{"$f":"FLSPreventedFx!L75*REF_IncCost2ndFx!L75","v":0}]
["Male","75-84","Clavicle",{"$f":"FLSPreventedFx!D76*REF_IncCost2ndFx!D76","v":0},{"$f":"FLSPreventedFx!E76*REF_IncCost2ndFx!E76","v":0},{"$f":"FLSPreventedFx!F76*REF_IncCost2ndFx!F76","v":0},{"$f":"FLSPreventedFx!G76*REF_IncCost2ndFx!G76","v":0},{"$f":"FLSPreventedFx!H76*REF_IncCost2ndFx!H76","v":0},{"$f":"FLSPreventedFx!I76*REF_IncCost2ndFx!I76","v":0},{"$f":"FLSPreventedFx!J76*REF_IncCost2ndFx!J76","v":0},{"$f":"FLSPreventedFx!K76*REF_IncCost2ndFx!K76","v":0},{"$f":"FLSPreventedFx!L76*REF_IncCost2ndFx!L76","v":0}]
["Male","75-84","Femur",{"$f":"FLSPreventedFx!D77*REF_IncCost2ndFx!D77","v":0},{"$f":"FLSPreventedFx!E77*REF_IncCost2ndFx!E77","v":0},{"$f":"FLSPreventedFx!F77*REF_IncCost2ndFx!F77","v":0},{"$f":"FLSPreventedFx!G77*REF_IncCost2ndFx!G77","v":0},{"$f":"FLSPreventedFx!H77*REF_IncCost2ndFx!H77","v":0},{"$f":"FLSPreventedFx!I77*REF_IncCost2ndFx!I77","v":0},{"$f":"FLSPreventedFx!J77*REF_IncCost2ndFx!J77","v":0},{"$f":"FLSPreventedFx!K77*REF_IncCost2ndFx!K77","v":0},{"$f":"FLSPreventedFx!L77*REF_IncCost2ndFx!L77","v":0}]
["Male","75-84","Hip",{"$f":"FLSPreventedFx!D78*REF_IncCost2ndFx!D78","v":0},{"$f":"FLSPreventedFx!E78*REF_IncCost2ndFx!E78","v":0},{"$f":"FLSPreventedFx!F78*REF_IncCost2ndFx!F78","v":0},{"$f":"FLSPreventedFx!G78*REF_IncCost2ndFx!G78","v":0},{"$f":"FLSPreventedFx!H78*REF_IncCost2ndFx!H78","v":0},{"$f":"FLSPreventedFx!I78*REF_IncCost2ndFx!I78","v":0},{"$f":"FLSPreventedFx!J78*REF_IncCost2ndFx!J78","v":0},{"$f":"FLSPreventedFx!K78*REF_IncCost2ndFx!K78","v":0},{"$f":"FLSPreventedFx!L78*REF_IncCost2ndFx!L78","v":0}]
["Male","75-84","Humerus",{"$f":"FLSPreventedFx!D79*REF_IncCost2ndFx!D79","v":0},{"$f":"FLSPreventedFx!E79*REF_IncCost2ndFx!E79","v":0},{"$f":"FLSPreventedFx!F79*REF_IncCost2ndFx!F79","v":0},{"$f":"FLSPreventedFx!G79*REF_IncCost2ndFx!G79","v":0},{"$f":"FLSPreventedFx!H79*REF_IncCost2ndFx!H79","v":0},{"$f":"FLSPreventedFx!I79*REF_IncCost2ndFx!I79","v":0},{"$f":"FLSPreventedFx!J79*REF_IncCost2ndFx!J79","v":0},{"$f":"FLSPreventedFx!K79*REF_IncCost2ndFx!K79","v":0},{"$f":"FLSPreventedFx!L79*REF_IncCost2ndFx!L79","v":0}]
["Male","75-84","Pelvis",{"$f":"FLSPreventedFx!D80*REF_IncCost2ndFx!D80","v":0},{"$f":"FLSPreventedFx!E80*REF_IncCost2ndFx!E80","v":0},{"$f":"FLSPreventedFx!F80*REF_IncCost2ndFx!F80","v":0},{"$f":"FLSPreventedFx!G80*REF_IncCost2ndFx!G80","v":0},{"$f":"FLSPreventedFx!H80*REF_IncCost2ndFx!H80","v":0},{"$f":"FLSPreventedFx!I80*REF_IncCost2ndFx!I80","v":0},{"$f":"FLSPreventedFx!J80*REF_IncCost2ndFx!J80","v":0},{"$f":"FLSPreventedFx!K80*REF_IncCost2ndFx!K80","v":0},{"$f":"FLSPreventedFx!L80*REF_IncCost2ndFx!L80","v":0}]
["Male","75-84","Radius/Ulna",{"$f":"FLSPreventedFx!D81*REF_IncCost2ndFx!D81","v":0},{"$f":"FLSPreventedFx!E81*REF_IncCost2ndFx!E81","v":0},{"$f":"FLSPreventedFx!F81*REF_IncCost2ndFx!F81","v":0},{"$f":"FLSPreventedFx!G81*REF_IncCost2ndFx!G81","v":0},{"$f":"FLSPreventedFx!H81*REF_IncCost2ndFx!H81","v":0},{"$f":"FLSPreventedFx!I81*REF_IncCost2ndFx!I81","v":0},{"$f":"FLSPreventedFx!J81*REF_IncCost2ndFx!J81","v":0},{"$f":"FLSPreventedFx!K81*REF_IncCost2ndFx!K81","v":0},{"$f":"FLSPreventedFx!L81*REF_IncCost2ndFx!L81","v":0}]
["Male","75-84","Spine",{"$f":"FLSPreventedFx!D82*REF_IncCost2ndFx!D82","v":0},{"$f":"FLSPreventedFx!E82*REF_IncCost2ndFx!E82","v":0},{"$f":"FLSPreventedFx!F82*REF_IncCost2ndFx!F82","v":0},{"$f":"FLSPreventedFx!G82*REF_IncCost2ndFx!G82","v":0},{"$f":"FLSPreventedFx!H82*REF_IncCost2ndFx!H82","v":0},{"$f":"FLSPreventedFx!I82*REF_IncCost2ndFx!I82","v":0},{"$f":"FLSPreventedFx!J82*REF_IncCost2ndFx!J82","v":0},{"$f":"FLSPreventedFx!K82*REF_IncCost2ndFx!K82","v":0},{"$f":"FLSPreventedFx!L82*REF_IncCost2ndFx!L82","v":0}]
["Male","75-84","Tibia/Fibula",{"$f":"FLSPreventedFx!D83*REF_IncCost2ndFx!D83","v":0},{"$f":"FLSPreventedFx!E83*REF_IncCost2ndFx!E83","v":0},{"$f":"FLSPreventedFx!F83*REF_IncCost2ndFx!F83","v":0},{"$f":"FLSPreventedFx!G83*REF_IncCost2ndFx!G83","v":0},{"$f":"FLSPreventedFx!H83*REF_IncCost2ndFx!H83","v":0},{"$f":"FLSPreventedFx!I83*REF_IncCost2ndFx!I83","v":0},{"$f":"FLSPreventedFx!J83*REF_IncCost2ndFx!J83","v":0},{"$f":"FLSPreventedFx!K83*REF_IncCost2ndFx!K83","v":0},{"$f":"FLSPreventedFx!L83*REF_IncCost2ndFx!L83","v":0}]
["Male","85+","Ankle",{"$f":"FLSPreventedFx!D84*REF_IncCost2ndFx!D84","v":0},{"$f":"FLSPreventedFx!E84*REF_IncCost2ndFx!E84","v":0},{"$f":"FLSPreventedFx!F84*REF_IncCost2ndFx!F84","v":0},{"$f":"FLSPreventedFx!G84*REF_IncCost2ndFx!G84","v":0},{"$f":"FLSPreventedFx!H84*REF_IncCost2ndFx!H84","v":0},{"$f":"FLSPreventedFx!I84*REF_IncCost2ndFx!I84","v":0},{"$f":"FLSPreventedFx!J84*REF_IncCost2ndFx!J84","v":0},{"$f":"FLSPreventedFx!K84*REF_IncCost2ndFx!K84","v":0},{"$f":"FLSPreventedFx!L84*REF_IncCost2ndFx!L84","v":0}]
["Male","85+","Clavicle",{"$f":"FLSPreventedFx!D85*REF_IncCost2ndFx!D85","v":0},{"$f":"FLSPreventedFx!E85*REF_IncCost2ndFx!E85","v":0},{"$f":"FLSPreventedFx!F85*REF_IncCost2ndFx!F85","v":0},{"$f":"FLSPreventedFx!G85*REF_IncCost2ndFx!G85","v":0},{"$f":"FLSPreventedFx!H85*REF_IncCost2ndFx!H85","v":0},{"$f":"FLSPreventedFx!I85*REF_IncCost2ndFx!I85","v":0},{"$f":"FLSPreventedFx!J85*REF_IncCost2ndFx!J85","v":0},{"$f":"FLSPreventedFx!K85*REF_IncCost2ndFx!K85","v":0},{"$f":"FLSPreventedFx!L85*REF_IncCost2ndFx!L85","v":0}]
["Male","85+","Femur",{"$f":"FLSPreventedFx!D86*REF_IncCost2ndFx!D86","v":0},{"$f":"FLSPreventedFx!E86*REF_IncCost2ndFx!E86","v":0},{"$f":"FLSPreventedFx!F86*REF_IncCost2ndFx!F86","v":0},{"$f":"FLSPreventedFx!G86*REF_IncCost2ndFx!G86","v":0},{"$f":"FLSPreventedFx!H86*REF_IncCost2ndFx!H86","v":0},{"$f":"FLSPreventedFx!I86*REF_IncCost2ndFx!I86","v":0},{"$f":"FLSPreventedFx!J86*REF_IncCost2ndFx!J86","v":0},{"$f":"FLSPreventedFx!K86*REF_IncCost2ndFx!K86","v":0},{"$f":"FLSPreventedFx!L86*REF_IncCost2ndFx!L86","v":0}]
["Male","85+","Hip",{"$f":"FLSPreventedFx!D87*REF_IncCost2ndFx!D87","v":0},{"$f":"FLSPreventedFx!E87*REF_IncCost2ndFx!E87","v":0},{"$f":"FLSPreventedFx!F87*REF_IncCost2ndFx!F87","v":0},{"$f":"FLSPreventedFx!G87*REF_IncCost2ndFx!G87","v":0},{"$f":"FLSPreventedFx!H87*REF_IncCost2ndFx!H87","v":0},{"$f":"FLSPreventedFx!I87*REF_IncCost2ndFx!I87","v":0},{"$f":"FLSPreventedFx!J87*REF_IncCost2ndFx!J87","v":0},{"$f":"FLSPreventedFx!K87*REF_IncCost2ndFx!K87","v":0},{"$f":"FLSPreventedFx!L87*REF_IncCost2ndFx!L87","v":0}]
["Male","85+","Humerus",{"$f":"FLSPreventedFx!D88*REF_IncCost2ndFx!D88","v":0},{"$f":"FLSPreventedFx!E88*REF_IncCost2ndFx!E88","v":0},{"$f":"FLSPreventedFx!F88*REF_IncCost2ndFx!F88","v":0},{"$f":"FLSPreventedFx!G88*REF_IncCost2ndFx!G88","v":0},{"$f":"FLSPreventedFx!H88*REF_IncCost2ndFx!H88","v":0},{"$f":"FLSPreventedFx!I88*REF_IncCost2ndFx!I88","v":0},{"$f":"FLSPreventedFx!J88*REF_IncCost2ndFx!J88","v":0},{"$f":"FLSPreventedFx!K88*REF_IncCost2ndFx!K88","v":0},{"$f":"FLSPreventedFx!L88*REF_IncCost2ndFx!L88","v":0}]
["Male","85+","Pelvis",{"$f":"FLSPreventedFx!D89*REF_IncCost2ndFx!D89","v":0},{"$f":"FLSPreventedFx!E89*REF_IncCost2ndFx!E89","v":0},{"$f":"FLSPreventedFx!F89*REF_IncCost2ndFx!F89","v":0},{"$f":"FLSPreventedFx!G89*REF_IncCost2ndFx!G89","v":0},{"$f":"FLSPreventedFx!H89*REF_IncCost2ndFx!H89","v":0},{"$f":"FLSPreventedFx!I89*REF_IncCost2ndFx!I89","v":0},{"$f":"FLSPreventedFx!J89*REF_IncCost2ndFx!J89","v":0},{"$f":"FLSPreventedFx!K89*REF_IncCost2ndFx!K89","v":0},{"$f":"FLSPreventedFx!L89*REF_IncCost2ndFx!L89","v":0}]
["Male","85+","Radius/Ulna",{"$f":"FLSPreventedFx!D90*REF_IncCost2ndFx!D90","v":0},{"$f":"FLSPreventedFx!E90*REF_IncCost2ndFx!E90","v":0},{"$f":"FLSPreventedFx!F90*REF_IncCost2ndFx!F90","v":0},{"$f":"FLSPreventedFx!G90*REF_IncCost2ndFx!G90","v":0},{"$f":"FLSPreventedFx!H90*REF_IncCost2ndFx!H90","v":0},{"$f":"FLSPreventedFx!I90*REF_IncCost2ndFx!I90","v":0},{"$f":"FLSPreventedFx!J90*REF_IncCost2ndFx!J90","v":0},{"$f":"FLSPreventedFx!K90*REF_IncCost2ndFx!K90","v":0},{"$f":"FLSPreventedFx!L90*REF_IncCost2ndFx!L90","v":0}]
["Male","85+","Spine",{"$f":"FLSPreventedFx!D91*REF_IncCost2ndFx!D91","v":0},{"$f":"FLSPreventedFx!E91*REF_IncCost2ndFx!E91","v":0},{"$f":"FLSPreventedFx!F91*REF_IncCost2ndFx!F91","v":0},{"$f":"FLSPreventedFx!G91*REF_IncCost2ndFx!G91","v":0},{"$f":"FLSPreventedFx!H91*REF_IncCost2ndFx!H91","v":0},{"$f":"FLSPreventedFx!I91*REF_IncCost2ndFx!I91","v":0},{"$f":"FLSPreventedFx!J91*REF_IncCost2ndFx!J91","v":0},{"$f":"FLSPreventedFx!K91*REF_IncCost2ndFx!K91","v":0},{"$f":"FLSPreventedFx!L91*REF_IncCost2ndFx!L91","v":0}]
["Male","85+","Tibia/Fibula",{"$f":"FLSPreventedFx!D92*REF_IncCost2ndFx!D92","v":0},{"$f":"FLSPreventedFx!E92*REF_IncCost2ndFx!E92","v":0},{"$f":"FLSPreventedFx!F92*REF_IncCost2ndFx!F92","v":0},{"$f":"FLSPreventedFx!G92*REF_IncCost2ndFx!G92","v":0},{"$f":"FLSPreventedFx!H92*REF_IncCost2ndFx!H92","v":0},{"$f":"FLSPreventedFx!I92*REF_IncCost2ndFx!I92","v":0},{"$f":"FLSPreventedFx!J92*REF_IncCost2ndFx!J92","v":0},{"$f":"FLSPreventedFx!K92*REF_IncCost2ndFx!K92","v":0},{"$f":"FLSPreventedFx!L92*REF_IncCost2ndFx!L92","v":0}]
["Female","65-74","Ankle",{"$f":"FLSPreventedFx!D93*REF_IncCost2ndFx!D93","v":0},{"$f":"FLSPreventedFx!E93*REF_IncCost2ndFx!E93","v":0},{"$f":"FLSPreventedFx!F93*REF_IncCost2ndFx!F93","v":0},{"$f":"FLSPreventedFx!G93*REF_IncCost2ndFx!G93","v":0},{"$f":"FLSPreventedFx!H93*REF_IncCost2ndFx!H93","v":0},{"$f":"FLSPreventedFx!I93*REF_IncCost2ndFx!I93","v":0},{"$f":"FLSPreventedFx!J93*REF_IncCost2ndFx!J93","v":0},{"$f":"FLSPreventedFx!K93*REF_IncCost2ndFx!K93","v":0},{"$f":"FLSPreventedFx!L93*REF_IncCost2ndFx!L93","v":0}]
["Female","65-74","Clavicle",{"$f":"FLSPreventedFx!D94*REF_IncCost2ndFx!D94","v":0},{"$f":"FLSPreventedFx!E94*REF_IncCost2ndFx!E94","v":0},{"$f":"FLSPreventedFx!F94*REF_IncCost2ndFx!F94","v":0},{"$f":"FLSPreventedFx!G94*REF_IncCost2ndFx!G94","v":0},{"$f":"FLSPreventedFx!H94*REF_IncCost2ndFx!H94","v":0},{"$f":"FLSPreventedFx!I94*REF_IncCost2ndFx!I94","v":0},{"$f":"FLSPreventedFx!J94*REF_IncCost2ndFx!J94","v":0},{"$f":"FLSPreventedFx!K94*REF_IncCost2ndFx!K94","v":0},{"$f":"FLSPreventedFx!L94*REF_IncCost2ndFx!L94","v":0}]
["Female","65-74","Femur",{"$f":"FLSPreventedFx!D95*REF_IncCost2ndFx!D95","v":0},{"$f":"FLSPreventedFx!E95*REF_IncCost2ndFx!E95","v":0},{"$f":"FLSPreventedFx!F95*REF_IncCost2ndFx!F95","v":0},{"$f":"FLSPreventedFx!G95*REF_IncCost2ndFx!G95","v":0},{"$f":"FLSPreventedFx!H95*REF_IncCost2ndFx!H95","v":0},{"$f":"FLSPreventedFx!I95*REF_IncCost2ndFx!I95","v":0},{"$f":"FLSPreventedFx!J95*REF_IncCost2ndFx!J95","v":0},{"$f":"FLSPreventedFx!K95*REF_IncCost2ndFx!K95","v":0},{"$f":"FLSPreventedFx!L95*REF_IncCost2ndFx!L95","v":0}]
["Female","65-74","Hip",{"$f":"FLSPreventedFx!D96*REF_IncCost2ndFx!D96","v":0},{"$f":"FLSPreventedFx!E96*REF_IncCost2ndFx!E96","v":0},{"$f":"FLSPreventedFx!F96*REF_IncCost2ndFx!F96","v":0},{"$f":"FLSPreventedFx!G96*REF_IncCost2ndFx!G96","v":0},{"$f":"FLSPreventedFx!H96*REF_IncCost2ndFx!H96","v":0},{"$f":"FLSPreventedFx!I96*REF_IncCost2ndFx!I96","v":0},{"$f":"FLSPreventedFx!J96*REF_IncCost2ndFx!J96","v":0},{"$f":"FLSPreventedFx!K96*REF_IncCost2ndFx!K96","v":0},{"$f":"FLSPreventedFx!L96*REF_IncCost2ndFx!L96","v":0}]
["Female","65-74","Humerus",{"$f":"FLSPreventedFx!D97*REF_IncCost2ndFx!D97","v":0},{"$f":"FLSPreventedFx!E97*REF_IncCost2ndFx!E97","v":0},{"$f":"FLSPreventedFx!F97*REF_IncCost2ndFx!F97","v":0},{"$f":"FLSPreventedFx!G97*REF_IncCost2ndFx!G97","v":0},{"$f":"FLSPreventedFx!H97*REF_IncCost2ndFx!H97","v":0},{"$f":"FLSPreventedFx!I97*REF_IncCost2ndFx!I97","v":0},{"$f":"FLSPreventedFx!J97*REF_IncCost2ndFx!J97","v":0},{"$f":"FLSPreventedFx!K97*REF_IncCost2ndFx!K97","v":0},{"$f":"FLSPreventedFx!L97*REF_IncCost2ndFx!L97","v":0}]
["Female","65-74","Pelvis",{"$f":"FLSPreventedFx!D98*REF_IncCost2ndFx!D98","v":0},{"$f":"FLSPreventedFx!E98*REF_IncCost2ndFx!E98","v":0},{"$f":"FLSPreventedFx!F98*REF_IncCost2ndFx!F98","v":0},{"$f":"FLSPreventedFx!G98*REF_IncCost2ndFx!G98","v":0},{"$f":"FLSPreventedFx!H98*REF_IncCost2ndFx!H98","v":0},{"$f":"FLSPreventedFx!I98*REF_IncCost2ndFx!I98","v":0},{"$f":"FLSPreventedFx!J98*REF_IncCost2ndFx!J98","v":0},{"$f":"FLSPreventedFx!K98*REF_IncCost2ndFx!K98","v":0},{"$f":"FLSPreventedFx!L98*REF_IncCost2ndFx!L98","v":0}]
["Female","65-74","Radius/Ulna",{"$f":"FLSPreventedFx!D99*REF_IncCost2ndFx!D99","v":0},{"$f":"FLSPreventedFx!E99*REF_IncCost2ndFx!E99","v":0},{"$f":"FLSPreventedFx!F99*REF_IncCost2ndFx!F99","v":0},{"$f":"FLSPreventedFx!G99*REF_IncCost2ndFx!G99","v":0},{"$f":"FLSPreventedFx!H99*REF_IncCost2ndFx!H99","v":0},{"$f":"FLSPreventedFx!I99*REF_IncCost2ndFx!I99","v":0},{"$f":"FLSPreventedFx!J99*REF_IncCost2ndFx!J99","v":0},{"$f":"FLSPreventedFx!K99*REF_IncCost2ndFx!K99","v":0},{"$f":"FLSPreventedFx!L99*REF_IncCost2ndFx!L99","v":0}]
["Female","65-74","Spine",{"$f":"FLSPreventedFx!D100*REF_IncCost2ndFx!D100","v":0},{"$f":"FLSPreventedFx!E100*REF_IncCost2ndFx!E100","v":0},{"$f":"FLSPreventedFx!F100*REF_IncCost2ndFx!F100","v":0},{"$f":"FLSPreventedFx!G100*REF_IncCost2ndFx!G100","v":0},{"$f":"FLSPreventedFx!H100*REF_IncCost2ndFx!H100","v":0},{"$f":"FLSPreventedFx!I100*REF_IncCost2ndFx!I100","v":0},{"$f":"FLSPreventedFx!J100*REF_IncCost2ndFx!J100","v":0},{"$f":"FLSPreventedFx!K100*REF_IncCost2ndFx!K100","v":0},{"$f":"FLSPreventedFx!L100*REF_IncCost2ndFx!L100","v":0}]
["Female","65-74","Tibia/Fibula",{"$f":"FLSPreventedFx!D101*REF_IncCost2ndFx!D101","v":0},{"$f":"FLSPreventedFx!E101*REF_IncCost2ndFx!E101","v":0},{"$f":"FLSPreventedFx!F101*REF_IncCost2ndFx!F101","v":0},{"$f":"FLSPreventedFx!G101*REF_IncCost2ndFx!G101","v":0},{"$f":"FLSPreventedFx!H101*REF_IncCost2ndFx!H101","v":0},{"$f":"FLSPreventedFx!I101*REF_IncCost2ndFx!I101","v":0},{"$f":"FLSPreventedFx!J101*REF_IncCost2ndFx!J101","v":0},{"$f":"FLSPreventedFx!K101*REF_IncCost2ndFx!K101","v":0},{"$f":"FLSPreventedFx!L101*REF_IncCost2ndFx!L101","v":0}]
["Female","75-84","Ankle",{"$f":"FLSPreventedFx!D102*REF_IncCost2ndFx!D102","v":0},{"$f":"FLSPreventedFx!E102*REF_IncCost2ndFx!E102","v":0},{"$f":"FLSPreventedFx!F102*REF_IncCost2ndFx!F102","v":0},{"$f":"FLSPreventedFx!G102*REF_IncCost2ndFx!G102","v":0},{"$f":"FLSPreventedFx!H102*REF_IncCost2ndFx!H102","v":0},{"$f":"FLSPreventedFx!I102*REF_IncCost2ndFx!I102","v":0},{"$f":"FLSPreventedFx!J102*REF_IncCost2ndFx!J102","v":0},{"$f":"FLSPreventedFx!K102*REF_IncCost2ndFx!K102","v":0},{"$f":"FLSPreventedFx!L102*REF_IncCost2ndFx!L102","v":0}]
["Female","75-84","Clavicle",{"$f":"FLSPreventedFx!D103*REF_IncCost2ndFx!D103","v":0},{"$f":"FLSPreventedFx!E103*REF_IncCost2ndFx!E103","v":0},{"$f":"FLSPreventedFx!F103*REF_IncCost2ndFx!F103","v":0},{"$f":"FLSPreventedFx!G103*REF_IncCost2ndFx!G103","v":0},{"$f":"FLSPreventedFx!H103*REF_IncCost2ndFx!H103","v":0},{"$f":"FLSPreventedFx!I103*REF_IncCost2ndFx!I103","v":0},{"$f":"FLSPreventedFx!J103*REF_IncCost2ndFx!J103","v":0},{"$f":"FLSPreventedFx!K103*REF_IncCost2ndFx!K103","v":0},{"$f":"FLSPreventedFx!L103*REF_IncCost2ndFx!L103","v":0}]
["Female","75-84","Femur",{"$f":"FLSPreventedFx!D104*REF_IncCost2ndFx!D104","v":0},{"$f":"FLSPreventedFx!E104*REF_IncCost2ndFx!E104","v":0},{"$f":"FLSPreventedFx!F104*REF_IncCost2ndFx!F104","v":0},{"$f":"FLSPreventedFx!G104*REF_IncCost2ndFx!G104","v":0},{"$f":"FLSPreventedFx!H104*REF_IncCost2ndFx!H104","v":0},{"$f":"FLSPreventedFx!I104*REF_IncCost2ndFx!I104","v":0},{"$f":"FLSPreventedFx!J104*REF_IncCost2ndFx!J104","v":0},{"$f":"FLSPreventedFx!K104*REF_IncCost2ndFx!K104","v":0},{"$f":"FLSPreventedFx!L104*REF_IncCost2ndFx!L104","v":0}]
["Female","75-84","Hip",{"$f":"FLSPreventedFx!D105*REF_IncCost2ndFx!D105","v":0},{"$f":"FLSPreventedFx!E105*REF_IncCost2ndFx!E105","v":0},{"$f":"FLSPreventedFx!F105*REF_IncCost2ndFx!F105","v":0},{"$f":"FLSPreventedFx!G105*REF_IncCost2ndFx!G105","v":0},{"$f":"FLSPreventedFx!H105*REF_IncCost2ndFx!H105","v":0},{"$f":"FLSPreventedFx!I105*REF_IncCost2ndFx!I105","v":0},{"$f":"FLSPreventedFx!J105*REF_IncCost2ndFx!J105","v":0},{"$f":"FLSPreventedFx!K105*REF_IncCost2ndFx!K105","v":0},{"$f":"FLSPreventedFx!L105*REF_IncCost2ndFx!L105","v":0}]
["Female","75-84","Humerus",{"$f":"FLSPreventedFx!D106*REF_IncCost2ndFx!D106","v":0},{"$f":"FLSPreventedFx!E106*REF_IncCost2ndFx!E106","v":0},{"$f":"FLSPreventedFx!F106*REF_IncCost2ndFx!F106","v":0},{"$f":"FLSPreventedFx!G106*REF_IncCost2ndFx!G106","v":0},{"$f":"FLSPreventedFx!H106*REF_IncCost2ndFx!H106","v":0},{"$f":"FLSPreventedFx!I106*REF_IncCost2ndFx!I106","v":0},{"$f":"FLSPreventedFx!J106*REF_IncCost2ndFx!J106","v":0},{"$f":"FLSPreventedFx!K106*REF_IncCost2ndFx!K106","v":0},{"$f":"FLSPreventedFx!L106*REF_IncCost2ndFx!L106","v":0}]
["Female","75-84","Pelvis",{"$f":"FLSPreventedFx!D107*REF_IncCost2ndFx!D107","v":0},{"$f":"FLSPreventedFx!E107*REF_IncCost2ndFx!E107","v":0},{"$f":"FLSPreventedFx!F107*REF_IncCost2ndFx!F107","v":0},{"$f":"FLSPreventedFx!G107*REF_IncCost2ndFx!G107","v":0},{"$f":"FLSPreventedFx!H107*REF_IncCost2ndFx!H107","v":0},{"$f":"FLSPreventedFx!I107*REF_IncCost2ndFx!I107","v":0},{"$f":"FLSPreventedFx!J107*REF_IncCost2ndFx!J107","v":0},{"$f":"FLSPreventedFx!K107*REF_IncCost2ndFx!K107","v":0},{"$f":"FLSPreventedFx!L107*REF_IncCost2ndFx!L107","v":0}]
["Female","75-84","Radius/Ulna",{"$f":"FLSPreventedFx!D108*REF_IncCost2ndFx!D108","v":0},{"$f":"FLSPreventedFx!E108*REF_IncCost2ndFx!E108","v":0},{"$f":"FLSPreventedFx!F108*REF_IncCost2ndFx!F108","v":0},{"$f":"FLSPreventedFx!G108*REF_IncCost2ndFx!G108","v":0},{"$f":"FLSPreventedFx!H108*REF_IncCost2ndFx!H108","v":0},{"$f":"FLSPreventedFx!I108*REF_IncCost2ndFx!I108","v":0},{"$f":"FLSPreventedFx!J108*REF_IncCost2ndFx!J108","v":0},{"$f":"FLSPreventedFx!K108*REF_IncCost2ndFx!K108","v":0},{"$f":"FLSPreventedFx!L108*REF_IncCost2ndFx!L108","v":0}]
["Female","75-84","Spine",{"$f":"FLSPreventedFx!D109*REF_IncCost2ndFx!D109","v":0},{"$f":"FLSPreventedFx!E109*REF_IncCost2ndFx!E109","v":0},{"$f":"FLSPreventedFx!F109*REF_IncCost2ndFx!F109","v":0},{"$f":"FLSPreventedFx!G109*REF_IncCost2ndFx!G109","v":0},{"$f":"FLSPreventedFx!H109*REF_IncCost2ndFx!H109","v":0},{"$f":"FLSPreventedFx!I109*REF_IncCost2ndFx!I109","v":0},{"$f":"FLSPreventedFx!J109*REF_IncCost2ndFx!J109","v":0},{"$f":"FLSPreventedFx!K109*REF_IncCost2ndFx!K109","v":0},{"$f":"FLSPreventedFx!L109*REF_IncCost2ndFx!L109","v":0}]
["Female","75-84","Tibia/Fibula",{"$f":"FLSPreventedFx!D110*REF_IncCost2ndFx!D110","v":0},{"$f":"FLSPreventedFx!E110*REF_IncCost2ndFx!E110","v":0},{"$f":"FLSPreventedFx!F110*REF_IncCost2ndFx!F110","v":0},{"$f":"FLSPreventedFx!G110*REF_IncCost2ndFx!G110","v":0},{"$f":"FLSPreventedFx!H110*REF_IncCost2ndFx!H110","v":0},{"$f":"FLSPreventedFx!I110*REF_IncCost2ndFx!I110","v":0},{"$f":"FLSPreventedFx!J110*REF_IncCost2ndFx!J110","v":0},{"$f":"FLSPreventedFx!K110*REF_IncCost2ndFx!K110","v":0},{"$f":"FLSPreventedFx!L110*REF_IncCost2ndFx!L110","v":0}]
["Female","85+","Ankle",{"$f":"FLSPreventedFx!D111*REF_IncCost2ndFx!D111","v":0},{"$f":"FLSPreventedFx!E111*REF_IncCost2ndFx!E111","v":0},{"$f":"FLSPreventedFx!F111*REF_IncCost2ndFx!F111","v":0},{"$f":"FLSPreventedFx!G111*REF_IncCost2ndFx!G111","v":0},{"$f":"FLSPreventedFx!H111*REF_IncCost2ndFx!H111","v":0},{"$f":"FLSPreventedFx!I111*REF_IncCost2ndFx!I111","v":0},{"$f":"FLSPreventedFx!J111*REF_IncCost2ndFx!J111","v":0},{"$f":"FLSPreventedFx!K111*REF_IncCost2ndFx!K111","v":0},{"$f":"FLSPreventedFx!L111*REF_IncCost2ndFx!L111","v":0}]
["Female","85+","Clavicle",{"$f":"FLSPreventedFx!D112*REF_IncCost2ndFx!D112","v":0},{"$f":"FLSPreventedFx!E112*REF_IncCost2ndFx!E112","v":0},{"$f":"FLSPreventedFx!F112*REF_IncCost2ndFx!F112","v":0},{"$f":"FLSPreventedFx!G112*REF_IncCost2ndFx!G112","v":0},{"$f":"FLSPreventedFx!H112*REF_IncCost2ndFx!H112","v":0},{"$f":"FLSPreventedFx!I112*REF_IncCost2ndFx!I112","v":0},{"$f":"FLSPreventedFx!J112*REF_IncCost2ndFx!J112","v":0},{"$f":"FLSPreventedFx!K112*REF_IncCost2ndFx!K112","v":0},{"$f":"FLSPreventedFx!L112*REF_IncCost2ndFx!L112","v":0}]
["Female","85+","Femur",{"$f":"FLSPreventedFx!D113*REF_IncCost2ndFx!D113","v":0},{"$f":"FLSPreventedFx!E113*REF_IncCost2ndFx!E113","v":0},{"$f":"FLSPreventedFx!F113*REF_IncCost2ndFx!F113","v":0},{"$f":"FLSPreventedFx!G113*REF_IncCost2ndFx!G113","v":0},{"$f":"FLSPreventedFx!H113*REF_IncCost2ndFx!H113","v":0},{"$f":"FLSPreventedFx!I113*REF_IncCost2ndFx!I113","v":0},{"$f":"FLSPreventedFx!J113*REF_IncCost2ndFx!J113","v":0},{"$f":"FLSPreventedFx!K113*REF_IncCost2ndFx!K113","v":0},{"$f":"FLSPreventedFx!L113*REF_IncCost2ndFx!L113","v":0}]
["Female","85+","Hip",{"$f":"FLSPreventedFx!D114*REF_IncCost2ndFx!D114","v":0},{"$f":"FLSPreventedFx!E114*REF_IncCost2ndFx!E114","v":0},{"$f":"FLSPreventedFx!F114*REF_IncCost2ndFx!F114","v":0},{"$f":"FLSPreventedFx!G114*REF_IncCost2ndFx!G114","v":0},{"$f":"FLSPreventedFx!H114*REF_IncCost2ndFx!H114","v":0},{"$f":"FLSPreventedFx!I114*REF_IncCost2ndFx!I114","v":0},{"$f":"FLSPreventedFx!J114*REF_IncCost2ndFx!J114","v":0},{"$f":"FLSPreventedFx!K114*REF_IncCost2ndFx!K114","v":0},{"$f":"FLSPreventedFx!L114*REF_IncCost2ndFx!L114","v":0}]
["Female","85+","Humerus",{"$f":"FLSPreventedFx!D115*REF_IncCost2ndFx!D115","v":0},{"$f":"FLSPreventedFx!E115*REF_IncCost2ndFx!E115","v":0},{"$f":"FLSPreventedFx!F115*REF_IncCost2ndFx!F115","v":0},{"$f":"FLSPreventedFx!G115*REF_IncCost2ndFx!G115","v":0},{"$f":"FLSPreventedFx!H115*REF_IncCost2ndFx!H115","v":0},{"$f":"FLSPreventedFx!I115*REF_IncCost2ndFx!I115","v":0},{"$f":"FLSPreventedFx!J115*REF_IncCost2ndFx!J115","v":0},{"$f":"FLSPreventedFx!K115*REF_IncCost2ndFx!K115","v":0},{"$f":"FLSPreventedFx!L115*REF_IncCost2ndFx!L115","v":0}]
["Female","85+","Pelvis",{"$f":"FLSPreventedFx!D116*REF_IncCost2ndFx!D116","v":0},{"$f":"FLSPreventedFx!E116*REF_IncCost2ndFx!E116","v":0},{"$f":"FLSPreventedFx!F116*REF_IncCost2ndFx!F116","v":0},{"$f":"FLSPreventedFx!G116*REF_IncCost2ndFx!G116","v":0},{"$f":"FLSPreventedFx!H116*REF_IncCost2ndFx!H116","v":0},{"$f":"FLSPreventedFx!I116*REF_IncCost2ndFx!I116","v":0},{"$f":"FLSPreventedFx!J116*REF_IncCost2ndFx!J116","v":0},{"$f":"FLSPreventedFx!K116*REF_IncCost2ndFx!K116","v":0},{"$f":"FLSPreventedFx!L116*REF_IncCost2ndFx!L116","v":0}]
["Female","85+","Radius/Ulna",{"$f":"FLSPreventedFx!D117*REF_IncCost2ndFx!D117","v":0},{"$f":"FLSPreventedFx!E117*REF_IncCost2ndFx!E117","v":0},{"$f":"FLSPreventedFx!F117*REF_IncCost2ndFx!F117","v":0},{"$f":"FLSPreventedFx!G117*REF_IncCost2ndFx!G117","v":0},{"$f":"FLSPreventedFx!H117*REF_IncCost2ndFx!H117","v":0},{"$f":"FLSPreventedFx!I117*REF_IncCost2ndFx!I117","v":0},{"$f":"FLSPreventedFx!J117*REF_IncCost2ndFx!J117","v":0},{"$f":"FLSPreventedFx!K117*REF_IncCost2ndFx!K117","v":0},{"$f":"FLSPreventedFx!L117*REF_IncCost2ndFx!L117","v":0}]
["Female","85+","Spine",{"$f":"FLSPreventedFx!D118*REF_IncCost2ndFx!D118","v":0},{"$f":"FLSPreventedFx!E118*REF_IncCost2ndFx!E118","v":0},{"$f":"FLSPreventedFx!F118*REF_IncCost2ndFx!F118","v":0},{"$f":"FLSPreventedFx!G118*REF_IncCost2ndFx!G118","v":0},{"$f":"FLSPreventedFx!H118*REF_IncCost2ndFx!H118","v":0},{"$f":"FLSPreventedFx!I118*REF_IncCost2ndFx!I118","v":0},{"$f":"FLSPreventedFx!J118*REF_IncCost2ndFx!J118","v":0},{"$f":"FLSPreventedFx!K118*REF_IncCost2ndFx!K118","v":0},{"$f":"FLSPreventedFx!L118*REF_IncCost2ndFx!L118","v":0}]
["Female","85+","Tibia/Fibula",{"$f":"FLSPreventedFx!D119*REF_IncCost2ndFx!D119","v":0},{"$f":"FLSPreventedFx!E119*REF_IncCost2ndFx!E119","v":0},{"$f":"FLSPreventedFx!F119*REF_IncCost2ndFx!F119","v":0},{"$f":"FLSPreventedFx!G119*REF_IncCost2ndFx!G119","v":0},{"$f":"FLSPreventedFx!H119*REF_IncCost2ndFx!H119","v":0},{"$f":"FLSPreventedFx!I119*REF_IncCost2ndFx!I119","v":0},{"$f":"FLSPreventedFx!J119*REF_IncCost2ndFx!J119","v":0},{"$f":"FLSPreventedFx!K119*REF_IncCost2ndFx!K119","v":0},{"$f":"FLSPreventedFx!L119*REF_IncCost2ndFx!L119","v":0}]
[]
[]
["Four Year Model"]
["Sex","Age","Initial Fracture Site","Second Fracture Status"]
[null,null,null,"Ankle","Clavicle","Femur","Hip","Humerus","Pelvis","Radius/Ulna","Spine","Tibia/Fibula"]
["Male","65-74","Ankle",{"$f":"FLSPreventedFx!D125*REF_IncCost2ndFx!D125","v":0},{"$f":"FLSPreventedFx!E125*REF_IncCost2ndFx!E125","v":0},{"$f":"FLSPreventedFx!F125*REF_IncCost2ndFx!F125","v":0},{"$f":"FLSPreventedFx!G125*REF_IncCost2ndFx!G125","v":0},{"$f":"FLSPreventedFx!H125*REF_IncCost2ndFx!H125","v":0},{"$f":"FLSPreventedFx!I125*REF_IncCost2ndFx!I125","v":0},{"$f":"FLSPreventedFx!J125*REF_IncCost2ndFx!J125","v":0},{"$f":"FLSPreventedFx!K125*REF_IncCost2ndFx!K125","v":0},{"$f":"FLSPreventedFx!L125*REF_IncCost2ndFx!L125","v":0}]
["Male","65-74","Clavicle",{"$f":"FLSPreventedFx!D126*REF_IncCost2ndFx!D126","v":0},{"$f":"FLSPreventedFx!E126*REF_IncCost2ndFx!E126","v":0},{"$f":"FLSPreventedFx!F126*REF_IncCost2ndFx!F126","v":0},{"$f":"FLSPreventedFx!G126*REF_IncCost2ndFx!G126","v":0},{"$f":"FLSPreventedFx!H126*REF_IncCost2ndFx!H126","v":0},{"$f":"FLSPreventedFx!I126*REF_IncCost2ndFx!I126","v":0},{"$f":"FLSPreventedFx!J126*REF_IncCost2ndFx!J126","v":0},{"$f":"FLSPreventedFx!K126*REF_IncCost2ndFx!K126","v":0},{"$f":"FLSPreventedFx!L126*REF_IncCost2ndFx!L126","v":0}]
["Male","65-74","Femur",{"$f":"FLSPreventedFx!D127*REF_IncCost2ndFx!D127","v":0},{"$f":"FLSPreventedFx!E127*REF_IncCost2ndFx!E127","v":0},{"$f":"FLSPreventedFx!F127*REF_IncCost2ndFx!F127","v":0},{"$f":"FLSPreventedFx!G127*REF_IncCost2ndFx!G127","v":0},{"$f":"FLSPreventedFx!H127*REF_IncCost2ndFx!H127","v":0},{"$f":"FLSPreventedFx!I127*REF_IncCost2ndFx!I127","v":0},{"$f":"FLSPreventedFx!J127*REF_IncCost2ndFx!J127","v":0},{"$f":"FLSPreventedFx!K127*REF_IncCost2ndFx!K127","v":0},{"$f":"FLSPreventedFx!L127*REF_IncCost2ndFx!L127","v":0}]
["Male","65-74","Hip",{"$f":"FLSPreventedFx!D128*REF_IncCost2ndFx!D128","v":0},{"$f":"FLSPreventedFx!E128*REF_IncCost2ndFx!E128","v":0},{"$f":"FLSPreventedFx!F128*REF_IncCost2ndFx!F128","v":0},{"$f":"FLSPreventedFx!G128*REF_IncCost2ndFx!G128","v":0},{"$f":"FLSPreventedFx!H128*REF_IncCost2ndFx!H128","v":0},{"$f":"FLSPreventedFx!I128*REF_IncCost2ndFx!I128","v":0},{"$f":"FLSPreventedFx!J128*REF_IncCost2ndFx!J128","v":0},{"$f":"FLSPreventedFx!K128*REF_IncCost2ndFx!K128","v":0},{"$f":"FLSPreventedFx!L128*REF_IncCost2ndFx!L128","v":0}]
["Male","65-74","Humerus",{"$f":"FLSPreventedFx!D129*REF_IncCost2ndFx!D129","v":0},{"$f":"FLSPreventedFx!E129*REF_IncCost2ndFx!E129","v":0},{"$f":"FLSPreventedFx!F129*REF_IncCost2ndFx!F129","v":0},{"$f":"FLSPreventedFx!G129*REF_IncCost2ndFx!G129","v":0},{"$f":"FLSPreventedFx!H129*REF_IncCost2ndFx!H129","v":0},{"$f":"FLSPreventedFx!I129*REF_IncCost2ndFx!I129","v":0},{"$f":"FLSPreventedFx!J129*REF_IncCost2ndFx!J129","v":0},{"$f":"FLSPreventedFx!K129*REF_IncCost2ndFx!K129","v":0},{"$f":"FLSPreventedFx!L129*REF_IncCost2ndFx!L129","v":0}]
["Male","65-74","Pelvis",{"$f":"FLSPreventedFx!D130*REF_IncCost2ndFx!D130","v":0},{"$f":"FLSPreventedFx!E130*REF_IncCost2ndFx!E130","v":0},{"$f":"FLSPreventedFx!F130*REF_IncCost2ndFx!F130","v":0},{"$f":"FLSPreventedFx!G130*REF_IncCost2ndFx!G130","v":0},{"$f":"FLSPreventedFx!H130*REF_IncCost2ndFx!H130","v":0},{"$f":"FLSPreventedFx!I130*REF_IncCost2ndFx!I130","v":0},{"$f":"FLSPreventedFx!J130*REF_IncCost2ndFx!J130","v":0},{"$f":"FLSPreventedFx!K130*REF_IncCost2ndFx!K130","v":0},{"$f":"FLSPreventedFx!L130*REF_IncCost2ndFx!L130","v":0}]
["Male","65-74","Radius/Ulna",{"$f":"FLSPreventedFx!D131*REF_IncCost2ndFx!D131","v":0},{"$f":"FLSPreventedFx!E131*REF_IncCost2ndFx!E131","v":0},{"$f":"FLSPreventedFx!F131*REF_IncCost2ndFx!F131","v":0},{"$f":"FLSPreventedFx!G131*REF_IncCost2ndFx!G131","v":0},{"$f":"FLSPreventedFx!H131*REF_IncCost2ndFx!H131","v":0},{"$f":"FLSPreventedFx!I131*REF_IncCost2ndFx!I131","v":0},{"$f":"FLSPreventedFx!J131*REF_IncCost2ndFx!J131","v":0},{"$f":"FLSPreventedFx!K131*REF_IncCost2ndFx!K131","v":0},{"$f":"FLSPreventedFx!L131*REF_IncCost2ndFx!L131","v":0}]
["Male","65-74","Spine",{"$f":"FLSPreventedFx!D132*REF_IncCost2ndFx!D132","v":0},{"$f":"FLSPreventedFx!E132*REF_IncCost2ndFx!E132","v":0},{"$f":"FLSPreventedFx!F132*REF_IncCost2ndFx!F132","v":0},{"$f":"FLSPreventedFx!G132*REF_IncCost2ndFx!G132","v":0},{"$f":"FLSPreventedFx!H132*REF_IncCost2ndFx!H132","v":0},{"$f":"FLSPreventedFx!I132*REF_IncCost2ndFx!I132","v":0},{"$f":"FLSPreventedFx!J132*REF_IncCost2ndFx!J132","v":0},{"$f":"FLSPreventedFx!K132*REF_IncCost2ndFx!K132","v":0},{"$f":"FLSPreventedFx!L132*REF_IncCost2ndFx!L132","v":0}]
["Male","65-74","Tibia/Fibula",{"$f":"FLSPreventedFx!D133*REF_IncCost2ndFx!D133","v":0},{"$f":"FLSPreventedFx!E133*REF_IncCost2ndFx!E133","v":0},{"$f":"FLSPreventedFx!F133*REF_IncCost2ndFx!F133","v":0},{"$f":"FLSPreventedFx!G133*REF_IncCost2ndFx!G133","v":0},{"$f":"FLSPreventedFx!H133*REF_IncCost2ndFx!H133","v":0},{"$f":"FLSPreventedFx!I133*REF_IncCost2ndFx!I133","v":0},{"$f":"FLSPreventedFx!J133*REF_IncCost2ndFx!J133","v":0},{"$f":"FLSPreventedFx!K133*REF_IncCost2ndFx!K133","v":0},{"$f":"FLSPreventedFx!L133*REF_IncCost2ndFx!L133","v":0}]
["Male","75-84","Ankle",{"$f":"FLSPreventedFx!D134*REF_IncCost2ndFx!D134","v":0},{"$f":"FLSPreventedFx!E134*REF_IncCost2ndFx!E134","v":0},{"$f":"FLSPreventedFx!F134*REF_IncCost2ndFx!F134","v":0},{"$f":"FLSPreventedFx!G134*REF_IncCost2ndFx!G134","v":0},{"$f":"FLSPreventedFx!H134*REF_IncCost2ndFx!H134","v":0},{"$f":"FLSPreventedFx!I134*REF_IncCost2ndFx!I134","v":0},{"$f":"FLSPreventedFx!J134*REF_IncCost2ndFx!J134","v":0},{"$f":"FLSPreventedFx!K134*REF_IncCost2ndFx!K134","v":0},{"$f":"FLSPreventedFx!L134*REF_IncCost2ndFx!L134","v":0}]
["Male","75-84","Clavicle",{"$f":"FLSPreventedFx!D135*REF_IncCost2ndFx!D135","v":0},{"$f":"FLSPreventedFx!E135*REF_IncCost2ndFx!E135","v":0},{"$f":"FLSPreventedFx!F135*REF_IncCost2ndFx!F135","v":0},{"$f":"FLSPreventedFx!G135*REF_IncCost2ndFx!G135","v":0},{"$f":"FLSPreventedFx!H135*REF_IncCost2ndFx!H135","v":0},{"$f":"FLSPreventedFx!I135*REF_IncCost2ndFx!I135","v":0},{"$f":"FLSPreventedFx!J135*REF_IncCost2ndFx!J135","v":0},{"$f":"FLSPreventedFx!K135*REF_IncCost2ndFx!K135","v":0},{"$f":"FLSPreventedFx!L135*REF_IncCost2ndFx!L135","v":0}]
["Male","75-84","Femur",{"$f":"FLSPreventedFx!D136*REF_IncCost2ndFx!D136","v":0},{"$f":"FLSPreventedFx!E136*REF_IncCost2ndFx!E136","v":0},{"$f":"FLSPreventedFx!F136*REF_IncCost2ndFx!F136","v":0},{"$f":"FLSPreventedFx!G136*REF_IncCost2ndFx!G136","v":0},{"$f":"FLSPreventedFx!H136*REF_IncCost2ndFx!H136","v":0},{"$f":"FLSPreventedFx!I136*REF_IncCost2ndFx!I136","v":0},{"$f":"FLSPreventedFx!J136*REF_IncCost2ndFx!J136","v":0},{"$f":"FLSPreventedFx!K136*REF_IncCost2ndFx!K136","v":0},{"$f":"FLSPreventedFx!L136*REF_IncCost2ndFx!L136","v":0}]
["Male","75-84","Hip",{"$f":"FLSPreventedFx!D137*REF_IncCost2ndFx!D137","v":0},{"$f":"FLSPreventedFx!E137*REF_IncCost2ndFx!E137","v":0},{"$f":"FLSPreventedFx!F137*REF_IncCost2ndFx!F137","v":0},{"$f":"FLSPreventedFx!G137*REF_IncCost2ndFx!G137","v":0},{"$f":"FLSPreventedFx!H137*REF_IncCost2ndFx!H137","v":0},{"$f":"FLSPreventedFx!I137*REF_IncCost2ndFx!I137","v":0},{"$f":"FLSPreventedFx!J137*REF_IncCost2ndFx!J137","v":0},{"$f":"FLSPreventedFx!K137*REF_IncCost2ndFx!K137","v":0},{"$f":"FLSPreventedFx!L137*REF_IncCost2ndFx!L137","v":0}]
["Male","75-84","Humerus",{"$f":"FLSPreventedFx!D138*REF_IncCost2ndFx!D138","v":0},{"$f":"FLSPreventedFx!E138*REF_IncCost2ndFx!E138","v":0},{"$f":"FLSPreventedFx!F138*REF_IncCost2ndFx!F138","v":0},{"$f":"FLSPreventedFx!G138*REF_IncCost2ndFx!G138","v":0},{"$f":"FLSPreventedFx!H138*REF_IncCost2ndFx!H138","v":0},{"$f":"FLSPreventedFx!I138*REF_IncCost2ndFx!I138","v":0},{"$f":"FLSPreventedFx!J138*REF_IncCost2ndFx!J138","v":0},{"$f":"FLSPreventedFx!K138*REF_IncCost2ndFx!K138","v":0},{"$f":"FLSPreventedFx!L138*REF_IncCost2ndFx!L138","v":0}]
["Male","75-84","Pelvis",{"$f":"FLSPreventedFx!D139*REF_IncCost2ndFx!D139","v":0},{"$f":"FLSPreventedFx!E139*REF_IncCost2ndFx!E139","v":0},{"$f":"FLSPreventedFx!F139*REF_IncCost2ndFx!F139","v":0},{"$f":"FLSPreventedFx!G139*REF_IncCost2ndFx!G139","v":0},{"$f":"FLSPreventedFx!H139*REF_IncCost2ndFx!H139","v":0},{"$f":"FLSPreventedFx!I139*REF_IncCost2ndFx!I139","v":0},{"$f":"FLSPreventedFx!J139*REF_IncCost2ndFx!J139","v":0},{"$f":"FLSPreventedFx!K139*REF_IncCost2ndFx!K139","v":0},{"$f":"FLSPreventedFx!L139*REF_IncCost2ndFx!L139","v":0}]
["Male","75-84","Radius/Ulna",{"$f":"FLSPreventedFx!D140*REF_IncCost2ndFx!D140","v":0},{"$f":"FLSPreventedFx!E140*REF_IncCost2ndFx!E140","v":0},{"$f":"FLSPreventedFx!F140*REF_IncCost2ndFx!F140","v":0},{"$f":"FLSPreventedFx!G140*REF_IncCost2ndFx!G140","v":0},{"$f":"FLSPreventedFx!H140*REF_IncCost2ndFx!H140","v":0},{"$f":"FLSPreventedFx!I140*REF_IncCost2ndFx!I140","v":0},{"$f":"FLSPreventedFx!J140*REF_IncCost2ndFx!J140","v":0},{"$f":"FLSPreventedFx!K140*REF_IncCost2ndFx!K140","v":0},{"$f":"FLSPreventedFx!L140*REF_IncCost2ndFx!L140","v":0}]
["Male","75-84","Spine",{"$f":"FLSPreventedFx!D141*REF_IncCost2ndFx!D141","v":0},{"$f":"FLSPreventedFx!E141*REF_IncCost2ndFx!E141","v":0},{"$f":"FLSPreventedFx!F141*REF_IncCost2ndFx!F141","v":0},{"$f":"FLSPreventedFx!G141*REF_IncCost2ndFx!G141","v":0},{"$f":"FLSPreventedFx!H141*REF_IncCost2ndFx!H141","v":0},{"$f":"FLSPreventedFx!I141*REF_IncCost2ndFx!I141","v":0},{"$f":"FLSPreventedFx!J141*REF_IncCost2ndFx!J141","v":0},{"$f":"FLSPreventedFx!K141*REF_IncCost2ndFx!K141","v":0},{"$f":"FLSPreventedFx!L141*REF_IncCost2ndFx!L141","v":0}]
["Male","75-84","Tibia/Fibula",{"$f":"FLSPreventedFx!D142*REF_IncCost2ndFx!D142","v":0},{"$f":"FLSPreventedFx!E142*REF_IncCost2ndFx!E142","v":0},{"$f":"FLSPreventedFx!F142*REF_IncCost2ndFx!F142","v":0},{"$f":"FLSPreventedFx!G142*REF_IncCost2ndFx!G142","v":0},{"$f":"FLSPreventedFx!H142*REF_IncCost2ndFx!H142","v":0},{"$f":"FLSPreventedFx!I142*REF_IncCost2ndFx!I142","v":0},{"$f":"FLSPreventedFx!J142*REF_IncCost2ndFx!J142","v":0},{"$f":"FLSPreventedFx!K142*REF_IncCost2ndFx!K142","v":0},{"$f":"FLSPreventedFx!L142*REF_IncCost2ndFx!L142","v":0}]
["Male","85+","Ankle",{"$f":"FLSPreventedFx!D143*REF_IncCost2ndFx!D143","v":0},{"$f":"FLSPreventedFx!E143*REF_IncCost2ndFx!E143","v":0},{"$f":"FLSPreventedFx!F143*REF_IncCost2ndFx!F143","v":0},{"$f":"FLSPreventedFx!G143*REF_IncCost2ndFx!G143","v":0},{"$f":"FLSPreventedFx!H143*REF_IncCost2ndFx!H143","v":0},{"$f":"FLSPreventedFx!I143*REF_IncCost2ndFx!I143","v":0},{"$f":"FLSPreventedFx!J143*REF_IncCost2ndFx!J143","v":0},{"$f":"FLSPreventedFx!K143*REF_IncCost2ndFx!K143","v":0},{"$f":"FLSPreventedFx!L143*REF_IncCost2ndFx!L143","v":0}]
["Male","85+","Clavicle",{"$f":"FLSPreventedFx!D144*REF_IncCost2ndFx!D144","v":0},{"$f":"FLSPreventedFx!E144*REF_IncCost2ndFx!E144","v":0},{"$f":"FLSPreventedFx!F144*REF_IncCost2ndFx!F144","v":0},{"$f":"FLSPreventedFx!G144*REF_IncCost2ndFx!G144","v":0},{"$f":"FLSPreventedFx!H144*REF_IncCost2ndFx!H144","v":0},{"$f":"FLSPreventedFx!I144*REF_IncCost2ndFx!I144","v":0},{"$f":"FLSPreventedFx!J144*REF_IncCost2ndFx!J144","v":0},{"$f":"FLSPreventedFx!K144*REF_IncCost2ndFx!K144","v":0},{"$f":"FLSPreventedFx!L144*REF_IncCost2ndFx!L144","v":0}]
["Male","85+","Femur",{"$f":"FLSPreventedFx!D145*REF_IncCost2ndFx!D145","v":0},{"$f":"FLSPreventedFx!E145*REF_IncCost2ndFx!E145","v":0},{"$f":"FLSPreventedFx!F145*REF_IncCost2ndFx!F145","v":0},{"$f":"FLSPreventedFx!G145*REF_IncCost2ndFx!G145","v":0},{"$f":"FLSPreventedFx!H145*REF_IncCost2ndFx!H145","v":0},{"$f":"FLSPreventedFx!I145*REF_IncCost2ndFx!I145","v":0},{"$f":"FLSPreventedFx!J145*REF_IncCost2ndFx!J145","v":0},{"$f":"FLSPreventedFx!K145*REF_IncCost2ndFx!K145","v":0},{"$f":"FLSPreventedFx!L145*REF_IncCost2ndFx!L145","v":0}]
["Male","85+","Hip",{"$f":"FLSPreventedFx!D146*REF_IncCost2ndFx!D146","v":0},{"$f":"FLSPreventedFx!E146*REF_IncCost2ndFx!E146","v":0},{"$f":"FLSPreventedFx!F146*REF_IncCost2ndFx!F146","v":0},{"$f":"FLSPreventedFx!G146*REF_IncCost2ndFx!G146","v":0},{"$f":"FLSPreventedFx!H146*REF_IncCost2ndFx!H146","v":0},{"$f":"FLSPreventedFx!I146*REF_IncCost2ndFx!I146","v":0},{"$f":"FLSPreventedFx!J146*REF_IncCost2ndFx!J146","v":0},{"$f":"FLSPreventedFx!K146*REF_IncCost2ndFx!K146","v":0},{"$f":"FLSPreventedFx!L146*REF_IncCost2ndFx!L146","v":0}]
["Male","85+","Humerus",{"$f":"FLSPreventedFx!D147*REF_IncCost2ndFx!D147","v":0},{"$f":"FLSPreventedFx!E147*REF_IncCost2ndFx!E147","v":0},{"$f":"FLSPreventedFx!F147*REF_IncCost2ndFx!F147","v":0},{"$f":"FLSPreventedFx!G147*REF_IncCost2ndFx!G147","v":0},{"$f":"FLSPreventedFx!H147*REF_IncCost2ndFx!H147","v":0},{"$f":"FLSPreventedFx!I147*REF_IncCost2ndFx!I147","v":0},{"$f":"FLSPreventedFx!J147*REF_IncCost2ndFx!J147","v":0},{"$f":"FLSPreventedFx!K147*REF_IncCost2ndFx!K147","v":0},{"$f":"FLSPreventedFx!L147*REF_IncCost2ndFx!L147","v":0}]
["Male","85+","Pelvis",{"$f":"FLSPreventedFx!D148*REF_IncCost2ndFx!D148","v":0},{"$f":"FLSPreventedFx!E148*REF_IncCost2ndFx!E148","v":0},{"$f":"FLSPreventedFx!F148*REF_IncCost2ndFx!F148","v":0},{"$f":"FLSPreventedFx!G148*REF_IncCost2ndFx!G148","v":0},{"$f":"FLSPreventedFx!H148*REF_IncCost2ndFx!H148","v":0},{"$f":"FLSPreventedFx!I148*REF_IncCost2ndFx!I148","v":0},{"$f":"FLSPreventedFx!J148*REF_IncCost2ndFx!J148","v":0},{"$f":"FLSPreventedFx!K148*REF_IncCost2ndFx!K148","v":0},{"$f":"FLSPreventedFx!L148*REF_IncCost2ndFx!L148","v":0}]
["Male","85+","Radius/Ulna",{"$f":"FLSPreventedFx!D149*REF_IncCost2ndFx!D149","v":0},{"$f":"FLSPreventedFx!E149*REF_IncCost2ndFx!E149","v":0},{"$f":"FLSPreventedFx!F149*REF_IncCost2ndFx!F149","v":0},{"$f":"FLSPreventedFx!G149*REF_IncCost2ndFx!G149","v":0},{"$f":"FLSPreventedFx!H149*REF_IncCost2ndFx!H149","v":0},{"$f":"FLSPreventedFx!I149*REF_IncCost2ndFx!I149","v":0},{"$f":"FLSPreventedFx!J149*REF_IncCost2ndFx!J149","v":0},{"$f":"FLSPreventedFx!K149*REF_IncCost2ndFx!K149","v":0},{"$f":"FLSPreventedFx!L149*REF_IncCost2ndFx!L149","v":0}]
["Male","85+","Spine",{"$f":"FLSPreventedFx!D150*REF_IncCost2ndFx!D150","v":0},{"$f":"FLSPreventedFx!E150*REF_IncCost2ndFx!E150","v":0},{"$f":"FLSPreventedFx!F150*REF_IncCost2ndFx!F150","v":0},{"$f":"FLSPreventedFx!G150*REF_IncCost2ndFx!G150","v":0},{"$f":"FLSPreventedFx!H150*REF_IncCost2ndFx!H150","v":0},{"$f":"FLSPreventedFx!I150*REF_IncCost2ndFx!I150","v":0},{"$f":"FLSPreventedFx!J150*REF_IncCost2ndFx!J150","v":0},{"$f":"FLSPreventedFx!K150*REF_IncCost2ndFx!K150","v":0},{"$f":"FLSPreventedFx!L150*REF_IncCost2ndFx!L150","v":0}]
["Male","85+","Tibia/Fibula",{"$f":"FLSPreventedFx!D151*REF_IncCost2ndFx!D151","v":0},{"$f":"FLSPreventedFx!E151*REF_IncCost2ndFx!E151","v":0},{"$f":"FLSPreventedFx!F151*REF_IncCost2ndFx!F151","v":0},{"$f":"FLSPreventedFx!G151*REF_IncCost2ndFx!G151","v":0},{"$f":"FLSPreventedFx!H151*REF_IncCost2ndFx!H151","v":0},{"$f":"FLSPreventedFx!I151*REF_IncCost2ndFx!I151","v":0},{"$f":"FLSPreventedFx!J151*REF_IncCost2ndFx!J151","v":0},{"$f":"FLSPreventedFx!K151*REF_IncCost2ndFx!K151","v":0},{"$f":"FLSPreventedFx!L151*REF_IncCost2ndFx!L151","v":0}]
["Female","65-74","Ankle",{"$f":"FLSPreventedFx!D152*REF_IncCost2ndFx!D152","v":0},{"$f":"FLSPreventedFx!E152*REF_IncCost2ndFx!E152","v":0},{"$f":"FLSPreventedFx!F152*REF_IncCost2ndFx!F152","v":0},{"$f":"FLSPreventedFx!G152*REF_IncCost2ndFx!G152","v":0},{"$f":"FLSPreventedFx!H152*REF_IncCost2ndFx!H152","v":0},{"$f":"FLSPreventedFx!I152*REF_IncCost2ndFx!I152","v":0},{"$f":"FLSPreventedFx!J152*REF_IncCost2ndFx!J152","v":0},{"$f":"FLSPreventedFx!K152*REF_IncCost2ndFx!K152","v":0},{"$f":"FLSPreventedFx!L152*REF_IncCost2ndFx!L152","v":0}]
["Female","65-74","Clavicle",{"$f":"FLSPreventedFx!D153*REF_IncCost2ndFx!D153","v":0},{"$f":"FLSPreventedFx!E153*REF_IncCost2ndFx!E153","v":0},{"$f":"FLSPreventedFx!F153*REF_IncCost2ndFx!F153","v":0},{"$f":"FLSPreventedFx!G153*REF_IncCost2ndFx!G153","v":0},{"$f":"FLSPreventedFx!H153*REF_IncCost2ndFx!H153","v":0},{"$f":"FLSPreventedFx!I153*REF_IncCost2ndFx!I153","v":0},{"$f":"FLSPreventedFx!J153*REF_IncCost2ndFx!J153","v":0},{"$f":"FLSPreventedFx!K153*REF_IncCost2ndFx!K153","v":0},{"$f":"FLSPreventedFx!L153*REF_IncCost2ndFx!L153","v":0}]
["Female","65-74","Femur",{"$f":"FLSPreventedFx!D154*REF_IncCost2ndFx!D154","v":0},{"$f":"FLSPreventedFx!E154*REF_IncCost2ndFx!E154","v":0},{"$f":"FLSPreventedFx!F154*REF_IncCost2ndFx!F154","v":0},{"$f":"FLSPreventedFx!G154*REF_IncCost2ndFx!G154","v":0},{"$f":"FLSPreventedFx!H154*REF_IncCost2ndFx!H154","v":0},{"$f":"FLSPreventedFx!I154*REF_IncCost2ndFx!I154","v":0},{"$f":"FLSPreventedFx!J154*REF_IncCost2ndFx!J154","v":0},{"$f":"FLSPreventedFx!K154*REF_IncCost2ndFx!K154","v":0},{"$f":"FLSPreventedFx!L154*REF_IncCost2ndFx!L154","v":0}]
["Female","65-74","Hip",{"$f":"FLSPreventedFx!D155*REF_IncCost2ndFx!D155","v":0},{"$f":"FLSPreventedFx!E155*REF_IncCost2ndFx!E155","v":0},{"$f":"FLSPreventedFx!F155*REF_IncCost2ndFx!F155","v":0},{"$f":"FLSPreventedFx!G155*REF_IncCost2ndFx!G155","v":0},{"$f":"FLSPreventedFx!H155*REF_IncCost2ndFx!H155","v":0},{"$f":"FLSPreventedFx!I155*REF_IncCost2ndFx!I155","v":0},{"$f":"FLSPreventedFx!J155*REF_IncCost2ndFx!J155","v":0},{"$f":"FLSPreventedFx!K155*REF_IncCost2ndFx!K155","v":0},{"$f":"FLSPreventedFx!L155*REF_IncCost2ndFx!L155","v":0}]
["Female","65-74","Humerus",{"$f":"FLSPreventedFx!D156*REF_IncCost2ndFx!D156","v":0},{"$f":"FLSPreventedFx!E156*REF_IncCost2ndFx!E156","v":0},{"$f":"FLSPreventedFx!F156*REF_IncCost2ndFx!F156","v":0},{"$f":"FLSPreventedFx!G156*REF_IncCost2ndFx!G156","v":0},{"$f":"FLSPreventedFx!H156*REF_IncCost2ndFx!H156","v":0},{"$f":"FLSPreventedFx!I156*REF_IncCost2ndFx!I156","v":0},{"$f":"FLSPreventedFx!J156*REF_IncCost2ndFx!J156","v":0},{"$f":"FLSPreventedFx!K156*REF_IncCost2ndFx!K156","v":0},{"$f":"FLSPreventedFx!L156*REF_IncCost2ndFx!L156","v":0}]
["Female","65-74","Pelvis",{"$f":"FLSPreventedFx!D157*REF_IncCost2ndFx!D157","v":0},{"$f":"FLSPreventedFx!E157*REF_IncCost2ndFx!E157","v":0},{"$f":"FLSPreventedFx!F157*REF_IncCost2ndFx!F157","v":0},{"$f":"FLSPreventedFx!G157*REF_IncCost2ndFx!G157","v":0},{"$f":"FLSPreventedFx!H157*REF_IncCost2ndFx!H157","v":0},{"$f":"FLSPreventedFx!I157*REF_IncCost2ndFx!I157","v":0},{"$f":"FLSPreventedFx!J157*REF_IncCost2ndFx!J157","v":0},{"$f":"FLSPreventedFx!K157*REF_IncCost2ndFx!K157","v":0},{"$f":"FLSPreventedFx!L157*REF_IncCost2ndFx!L157","v":0}]
["Female","65-74","Radius/Ulna",{"$f":"FLSPreventedFx!D158*REF_IncCost2ndFx!D158","v":0},{"$f":"FLSPreventedFx!E158*REF_IncCost2ndFx!E158","v":0},{"$f":"FLSPreventedFx!F158*REF_IncCost2ndFx!F158","v":0},{"$f":"FLSPreventedFx!G158*REF_IncCost2ndFx!G158","v":0},{"$f":"FLSPreventedFx!H158*REF_IncCost2ndFx!H158","v":0},{"$f":"FLSPreventedFx!I158*REF_IncCost2ndFx!I158","v":0},{"$f":"FLSPreventedFx!J158*REF_IncCost2ndFx!J158","v":0},{"$f":"FLSPreventedFx!K158*REF_IncCost2ndFx!K158","v":0},{"$f":"FLSPreventedFx!L158*REF_IncCost2ndFx!L158","v":0}]
["Female","65-74","Spine",{"$f":"FLSPreventedFx!D159*REF_IncCost2ndFx!D159","v":0},{"$f":"FLSPreventedFx!E159*REF_IncCost2ndFx!E159","v":0},{"$f":"FLSPreventedFx!F159*REF_IncCost2ndFx!F159","v":0},{"$f":"FLSPreventedFx!G159*REF_IncCost2ndFx!G159","v":0},{"$f":"FLSPreventedFx!H159*REF_IncCost2ndFx!H159","v":0},{"$f":"FLSPreventedFx!I159*REF_IncCost2ndFx!I159","v":0},{"$f":"FLSPreventedFx!J159*REF_IncCost2ndFx!J159","v":0},{"$f":"FLSPreventedFx!K159*REF_IncCost2ndFx!K159","v":0},{"$f":"FLSPreventedFx!L159*REF_IncCost2ndFx!L159","v":0}]
["Female","65-74","Tibia/Fibula",{"$f":"FLSPreventedFx!D160*REF_IncCost2ndFx!D160","v":0},{"$f":"FLSPreventedFx!E160*REF_IncCost2ndFx!E160","v":0},{"$f":"FLSPreventedFx!F160*REF_IncCost2ndFx!F160","v":0},{"$f":"FLSPreventedFx!G160*REF_IncCost2ndFx!G160","v":0},{"$f":"FLSPreventedFx!H160*REF_IncCost2ndFx!H160","v":0},{"$f":"FLSPreventedFx!I160*REF_IncCost2ndFx!I160","v":0},{"$f":"FLSPreventedFx!J160*REF_IncCost2ndFx!J160","v":0},{"$f":"FLSPreventedFx!K160*REF_IncCost2ndFx!K160","v":0},{"$f":"FLSPreventedFx!L160*REF_IncCost2ndFx!L160","v":0}]
["Female","75-84","Ankle",{"$f":"FLSPreventedFx!D161*REF_IncCost2ndFx!D161","v":0},{"$f":"FLSPreventedFx!E161*REF_IncCost2ndFx!E161","v":0},{"$f":"FLSPreventedFx!F161*REF_IncCost2ndFx!F161","v":0},{"$f":"FLSPreventedFx!G161*REF_IncCost2ndFx!G161","v":0},{"$f":"FLSPreventedFx!H161*REF_IncCost2ndFx!H161","v":0},{"$f":"FLSPreventedFx!I161*REF_IncCost2ndFx!I161","v":0},{"$f":"FLSPreventedFx!J161*REF_IncCost2ndFx!J161","v":0},{"$f":"FLSPreventedFx!K161*REF_IncCost2ndFx!K161","v":0},{"$f":"FLSPreventedFx!L161*REF_IncCost2ndFx!L161","v":0}]
["Female","75-84","Clavicle",{"$f":"FLSPreventedFx!D162*REF_IncCost2ndFx!D162","v":0},{"$f":"FLSPreventedFx!E162*REF_IncCost2ndFx!E162","v":0},{"$f":"FLSPreventedFx!F162*REF_IncCost2ndFx!F162","v":0},{"$f":"FLSPreventedFx!G162*REF_IncCost2ndFx!G162","v":0},{"$f":"FLSPreventedFx!H162*REF_IncCost2ndFx!H162","v":0},{"$f":"FLSPreventedFx!I162*REF_IncCost2ndFx!I162","v":0},{"$f":"FLSPreventedFx!J162*REF_IncCost2ndFx!J162","v":0},{"$f":"FLSPreventedFx!K162*REF_IncCost2ndFx!K162","v":0},{"$f":"FLSPreventedFx!L162*REF_IncCost2ndFx!L162","v":0}]
["Female","75-84","Femur",{"$f":"FLSPreventedFx!D163*REF_IncCost2ndFx!D163","v":0},{"$f":"FLSPreventedFx!E163*REF_IncCost2ndFx!E163","v":0},{"$f":"FLSPreventedFx!F163*REF_IncCost2ndFx!F163","v":0},{"$f":"FLSPreventedFx!G163*REF_IncCost2ndFx!G163","v":0},{"$f":"FLSPreventedFx!H163*REF_IncCost2ndFx!H163","v":0},{"$f":"FLSPreventedFx!I163*REF_IncCost2ndFx!I163","v":0},{"$f":"FLSPreventedFx!J163*REF_IncCost2ndFx!J163","v":0},{"$f":"FLSPreventedFx!K163*REF_IncCost2ndFx!K163","v":0},{"$f":"FLSPreventedFx!L163*REF_IncCost2ndFx!L163","v":0}]
["Female","75-84","Hip",{"$f":"FLSPreventedFx!D164*REF_IncCost2ndFx!D164","v":0},{"$f":"FLSPreventedFx!E164*REF_IncCost2ndFx!E164","v":0},{"$f":"FLSPreventedFx!F164*REF_IncCost2ndFx!F164","v":0},{"$f":"FLSPreventedFx!G164*REF_IncCost2ndFx!G164","v":0},{"$f":"FLSPreventedFx!H164*REF_IncCost2ndFx!H164","v":0},{"$f":"FLSPreventedFx!I164*REF_IncCost2ndFx!I164","v":0},{"$f":"FLSPreventedFx!J164*REF_IncCost2ndFx!J164","v":0},{"$f":"FLSPreventedFx!K164*REF_IncCost2ndFx!K164","v":0},{"$f":"FLSPreventedFx!L164*REF_IncCost2ndFx!L164","v":0}]
["Female","75-84","Humerus",{"$f":"FLSPreventedFx!D165*REF_IncCost2ndFx!D165","v":0},{"$f":"FLSPreventedFx!E165*REF_IncCost2ndFx!E165","v":0},{"$f":"FLSPreventedFx!F165*REF_IncCost2ndFx!F165","v":0},{"$f":"FLSPreventedFx!G165*REF_IncCost2ndFx!G165","v":0},{"$f":"FLSPreventedFx!H165*REF_IncCost2ndFx!H165","v":0},{"$f":"FLSPreventedFx!I165*REF_IncCost2ndFx!I165","v":0},{"$f":"FLSPreventedFx!J165*REF_IncCost2ndFx!J165","v":0},{"$f":"FLSPreventedFx!K165*REF_IncCost2ndFx!K165","v":0},{"$f":"FLSPreventedFx!L165*REF_IncCost2ndFx!L165","v":0}]
["Female","75-84","Pelvis",{"$f":"FLSPreventedFx!D166*REF_IncCost2ndFx!D166","v":0},{"$f":"FLSPreventedFx!E166*REF_IncCost2ndFx!E166","v":0},{"$f":"FLSPreventedFx!F166*REF_IncCost2ndFx!F166","v":0},{"$f":"FLSPreventedFx!G166*REF_IncCost2ndFx!G166","v":0},{"$f":"FLSPreventedFx!H166*REF_IncCost2ndFx!H166","v":0},{"$f":"FLSPreventedFx!I166*REF_IncCost2ndFx!I166","v":0},{"$f":"FLSPreventedFx!J166*REF_IncCost2ndFx!J166","v":0},{"$f":"FLSPreventedFx!K166*REF_IncCost2ndFx!K166","v":0},{"$f":"FLSPreventedFx!L166*REF_IncCost2ndFx!L166","v":0}]
["Female","75-84","Radius/Ulna",{"$f":"FLSPreventedFx!D167*REF_IncCost2ndFx!D167","v":0},{"$f":"FLSPreventedFx!E167*REF_IncCost2ndFx!E167","v":0},{"$f":"FLSPreventedFx!F167*REF_IncCost2ndFx!F167","v":0},{"$f":"FLSPreventedFx!G167*REF_IncCost2ndFx!G167","v":0},{"$f":"FLSPreventedFx!H167*REF_IncCost2ndFx!H167","v":0},{"$f":"FLSPreventedFx!I167*REF_IncCost2ndFx!I167","v":0},{"$f":"FLSPreventedFx!J167*REF_IncCost2ndFx!J167","v":0},{"$f":"FLSPreventedFx!K167*REF_IncCost2ndFx!K167","v":0},{"$f":"FLSPreventedFx!L167*REF_IncCost2ndFx!L167","v":0}]
["Female","75-84","Spine",{"$f":"FLSPreventedFx!D168*REF_IncCost2ndFx!D168","v":0},{"$f":"FLSPreventedFx!E168*REF_IncCost2ndFx!E168","v":0},{"$f":"FLSPreventedFx!F168*REF_IncCost2ndFx!F168","v":0},{"$f":"FLSPreventedFx!G168*REF_IncCost2ndFx!G168","v":0},{"$f":"FLSPreventedFx!H168*REF_IncCost2ndFx!H168","v":0},{"$f":"FLSPreventedFx!I168*REF_IncCost2ndFx!I168","v":0},{"$f":"FLSPreventedFx!J168*REF_IncCost2ndFx!J168","v":0},{"$f":"FLSPreventedFx!K168*REF_IncCost2ndFx!K168","v":0},{"$f":"FLSPreventedFx!L168*REF_IncCost2ndFx!L168","v":0}]
["Female","75-84","Tibia/Fibula",{"$f":"FLSPreventedFx!D169*REF_IncCost2ndFx!D169","v":0},{"$f":"FLSPreventedFx!E169*REF_IncCost2ndFx!E169","v":0},{"$f":"FLSPreventedFx!F169*REF_IncCost2ndFx!F169","v":0},{"$f":"FLSPreventedFx!G169*REF_IncCost2ndFx!G169","v":0},{"$f":"FLSPreventedFx!H169*REF_IncCost2ndFx!H169","v":0},{"$f":"FLSPreventedFx!I169*REF_IncCost2ndFx!I169","v":0},{"$f":"FLSPreventedFx!J169*REF_IncCost2ndFx!J169","v":0},{"$f":"FLSPreventedFx!K169*REF_IncCost2ndFx!K169","v":0},{"$f":"FLSPreventedFx!L169*REF_IncCost2ndFx!L169","v":0}]
["Female","85+","Ankle",{"$f":"FLSPreventedFx!D170*REF_IncCost2ndFx!D170","v":0},{"$f":"FLSPreventedFx!E170*REF_IncCost2ndFx!E170","v":0},{"$f":"FLSPreventedFx!F170*REF_IncCost2ndFx!F170","v":0},{"$f":"FLSPreventedFx!G170*REF_IncCost2ndFx!G170","v":0},{"$f":"FLSPreventedFx!H170*REF_IncCost2ndFx!H170","v":0},{"$f":"FLSPreventedFx!I170*REF_IncCost2ndFx!I170","v":0},{"$f":"FLSPreventedFx!J170*REF_IncCost2ndFx!J170","v":0},{"$f":"FLSPreventedFx!K170*REF_IncCost2ndFx!K170","v":0},{"$f":"FLSPreventedFx!L170*REF_IncCost2ndFx!L170","v":0}]
["Female","85+","Clavicle",{"$f":"FLSPreventedFx!D171*REF_IncCost2ndFx!D171","v":0},{"$f":"FLSPreventedFx!E171*REF_IncCost2ndFx!E171","v":0},{"$f":"FLSPreventedFx!F171*REF_IncCost2ndFx!F171","v":0},{"$f":"FLSPreventedFx!G171*REF_IncCost2ndFx!G171","v":0},{"$f":"FLSPreventedFx!H171*REF_IncCost2ndFx!H171","v":0},{"$f":"FLSPreventedFx!I171*REF_IncCost2ndFx!I171","v":0},{"$f":"FLSPreventedFx!J171*REF_IncCost2ndFx!J171","v":0},{"$f":"FLSPreventedFx!K171*REF_IncCost2ndFx!K171","v":0},{"$f":"FLSPreventedFx!L171*REF_IncCost2ndFx!L171","v":0}]
["Female","85+","Femur",{"$f":"FLSPreventedFx!D172*REF_IncCost2ndFx!D172","v":0},{"$f":"FLSPreventedFx!E172*REF_IncCost2ndFx!E172","v":0},{"$f":"FLSPreventedFx!F172*REF_IncCost2ndFx!F172","v":0},{"$f":"FLSPreventedFx!G172*REF_IncCost2ndFx!G172","v":0},{"$f":"FLSPreventedFx!H172*REF_IncCost2ndFx!H172","v":0},{"$f":"FLSPreventedFx!I172*REF_IncCost2ndFx!I172","v":0},{"$f":"FLSPreventedFx!J172*REF_IncCost2ndFx!J172","v":0},{"$f":"FLSPreventedFx!K172*REF_IncCost2ndFx!K172","v":0},{"$f":"FLSPreventedFx!L172*REF_IncCost2ndFx!L172","v":0}]
["Female","85+","Hip",{"$f":"FLSPreventedFx!D173*REF_IncCost2ndFx!D173","v":0},{"$f":"FLSPreventedFx!E173*REF_IncCost2ndFx!E173","v":0},{"$f":"FLSPreventedFx!F173*REF_IncCost2ndFx!F173","v":0},{"$f":"FLSPreventedFx!G173*REF_IncCost2ndFx!G173","v":0},{"$f":"FLSPreventedFx!H173*REF_IncCost2ndFx!H173","v":0},{"$f":"FLSPreventedFx!I173*REF_IncCost2ndFx!I173","v":0},{"$f":"FLSPreventedFx!J173*REF_IncCost2ndFx!J173","v":0},{"$f":"FLSPreventedFx!K173*REF_IncCost2ndFx!K173","v":0},{"$f":"FLSPreventedFx!L173*REF_IncCost2ndFx!L173","v":0}]
["Female","85+","Humerus",{"$f":"FLSPreventedFx!D174*REF_IncCost2ndFx!D174","v":0},{"$f":"FLSPreventedFx!E174*REF_IncCost2ndFx!E174","v":0},{"$f":"FLSPreventedFx!F174*REF_IncCost2ndFx!F174","v":0},{"$f":"FLSPreventedFx!G174*REF_IncCost2ndFx!G174","v":0},{"$f":"FLSPreventedFx!H174*REF_IncCost2ndFx!H174","v":0},{"$f":"FLSPreventedFx!I174*REF_IncCost2ndFx!I174","v":0},{"$f":"FLSPreventedFx!J174*REF_IncCost2ndFx!J174","v":0},{"$f":"FLSPreventedFx!K174*REF_IncCost2ndFx!K174","v":0},{"$f":"FLSPreventedFx!L174*REF_IncCost2ndFx!L174","v":0}]
["Female","85+","Pelvis",{"$f":"FLSPreventedFx!D175*REF_IncCost2ndFx!D175","v":0},{"$f":"FLSPreventedFx!E175*REF_IncCost2ndFx!E175","v":0},{"$f":"FLSPreventedFx!F175*REF_IncCost2ndFx!F175","v":0},{"$f":"FLSPreventedFx!G175*REF_IncCost2ndFx!G175","v":0},{"$f":"FLSPreventedFx!H175*REF_IncCost2ndFx!H175","v":0},{"$f":"FLSPreventedFx!I175*REF_IncCost2ndFx!I175","v":0},{"$f":"FLSPreventedFx!J175*REF_IncCost2ndFx!J175","v":0},{"$f":"FLSPreventedFx!K175*REF_IncCost2ndFx!K175","v":0},{"$f":"FLSPreventedFx!L175*REF_IncCost2ndFx!L175","v":0}]
["Female","85+","Radius/Ulna",{"$f":"FLSPreventedFx!D176*REF_IncCost2ndFx!D176","v":0},{"$f":"FLSPreventedFx!E176*REF_IncCost2ndFx!E176","v":0},{"$f":"FLSPreventedFx!F176*REF_IncCost2ndFx!F176","v":0},{"$f":"FLSPreventedFx!G176*REF_IncCost2ndFx!G176","v":0},{"$f":"FLSPreventedFx!H176*REF_IncCost2ndFx!H176","v":0},{"$f":"FLSPreventedFx!I176*REF_IncCost2ndFx!I176","v":0},{"$f":"FLSPreventedFx!J176*REF_IncCost2ndFx!J176","v":0},{"$f":"FLSPreventedFx!K176*REF_IncCost2ndFx!K176","v":0},{"$f":"FLSPreventedFx!L176*REF_IncCost2ndFx!L176","v":0}]
["Female","85+","Spine",{"$f":"FLSPreventedFx!D177*REF_IncCost2ndFx!D177","v":0},{"$f":"FLSPreventedFx!E177*REF_IncCost2ndFx!E177","v":0},{"$f":"FLSPreventedFx!F177*REF_IncCost2ndFx!F177","v":0},{"$f":"FLSPreventedFx!G177*REF_IncCost2ndFx!G177","v":0},{"$f":"FLSPreventedFx!H177*REF_IncCost2ndFx!H177","v":0},{"$f":"FLSPreventedFx!I177*REF_IncCost2ndFx!I177","v":0},{"$f":"FLSPreventedFx!J177*REF_IncCost2ndFx!J177","v":0},{"$f":"FLSPreventedFx!K177*REF_IncCost2ndFx!K177","v":0},{"$f":"FLSPreventedFx!L177*REF_IncCost2ndFx!L177","v":0}]
["Female","85+","Tibia/Fibula",{"$f":"FLSPreventedFx!D178*REF_IncCost2ndFx!D178","v":0},{"$f":"FLSPreventedFx!E178*REF_IncCost2ndFx!E178","v":0},{"$f":"FLSPreventedFx!F178*REF_IncCost2ndFx!F178","v":0},{"$f":"FLSPreventedFx!G178*REF_IncCost2ndFx!G178","v":0},{"$f":"FLSPreventedFx!H178*REF_IncCost2ndFx!H178","v":0},{"$f":"FLSPreventedFx!I178*REF_IncCost2ndFx!I178","v":0},{"$f":"FLSPreventedFx!J178*REF_IncCost2ndFx!J178","v":0},{"$f":"FLSPreventedFx!K178*REF_IncCost2ndFx!K178","v":0},{"$f":"FLSPreventedFx!L178*REF_IncCost2ndFx!L178","v":0}]

{"sheet":"FLSPreventedFx","index":5,"n_rows":178,"n_cols":12,"rows_kept":178,"cut":false,"hidden":true,"merged":[[122,0,123,0],[122,1,123,1],[122,2,123,2],[122,3,122,11],[3,0,3,11],[4,0,5,0],[4,1,5,1],[4,2,5,2],[4,3,4,11],[62,0,62,11],[63,0,64,0],[63,1,64,1],[63,2,64,2],[63,3,63,11],[121,0,121,11]]}
["Fractures Prevented: "]
["The table below lists the expected number of fractures prevented over various time periods by age, sex, and initial fracture site"]
[]
["Two Year Model"]
["Sex","Age","Initial Fracture Site","Second Fracture Status"]
[null,null,null,"Ankle","Clavicle","Femur","Hip","Humerus","Pelvis","Radius/Ulna","Spine","Tibia/Fibula"]
["Male","65-74","Ankle",{"$f":"REF_2ndFxProp!D7*Backend!$D2*Inputs!$B$49*Backend!H$10","v":0},{"$f":"REF_2ndFxProp!E7*Backend!$D2*Inputs!$B$49*Backend!I$10","v":0},{"$f":"REF_2ndFxProp!F7*Backend!$D2*Inputs!$B$49*Backend!J$10","v":0},{"$f":"REF_2ndFxProp!G7*Backend!$D2*Inputs!$B$49*Backend!K$10","v":0},{"$f":"REF_2ndFxProp!H7*Backend!$D2*Inputs!$B$49*Backend!L$10","v":0},{"$f":"REF_2ndFxProp!I7*Backend!$D2*Inputs!$B$49*Backend!M$10","v":0},{"$f":"REF_2ndFxProp!J7*Backend!$D2*Inputs!$B$49*Backend!N$10","v":0},{"$f":"REF_2ndFxProp!K7*Backend!$D2*Inputs!$B$49*Backend!O$10","v":0},{"$f":"REF_2ndFxProp!L7*Backend!$D2*Inputs!$B$49*Backend!P$10","v":0}]
["Male","65-74","Clavicle",{"$f":"REF_2ndFxProp!D8*Backend!$D3*Inputs!$B$49*Backend!H$10","v":0},{"$f":"REF_2ndFxProp!E8*Backend!$D3*Inputs!$B$49*Backend!I$10","v":0},{"$f":"REF_2ndFxProp!F8*Backend!$D3*Inputs!$B$49*Backend!J$10","v":0},{"$f":"REF_2ndFxProp!G8*Backend!$D3*Inputs!$B$49*Backend!K$10","v":0},{"$f":"REF_2ndFxProp!H8*Backend!$D3*Inputs!$B$49*Backend!L$10","v":0},{"$f":"REF_2ndFxProp!I8*Backend!$D3*Inputs!$B$49*Backend!M$10","v":0},{"$f":"REF_2ndFxProp!J8*Backend!$D3*Inputs!$B$49*Backend!N$10","v":0},{"$f":"REF_2ndFxProp!K8*Backend!$D3*Inputs!$B$49*Backend!O$10","v":0},{"$f":"REF_2ndFxProp!L8*Backend!$D3*Inputs!$B$49*Backend!P$10","v":0}]
["Male","65-74","Femur",{"$f":"REF_2ndFxProp!D9*Backend!$D4*Inputs!$B$49*Backend!H$10","v":0},{"$f":"REF_2ndFxProp!E9*Backend!$D4*Inputs!$B$49*Backend!I$10","v":0},{"$f":"REF_2ndFxProp!F9*Backend!$D4*Inputs!$B$49*Backend!J$10","v":0},{"$f":"REF_2ndFxProp!G9*Backend!$D4*Inputs!$B$49*Backend!K$10","v":0},{"$f":"REF_2ndFxProp!H9*Backend!$D4*Inputs!$B$49*Backend!L$10","v":0},{"$f":"REF_2ndFxProp!I9*Backend!$D4*Inputs!$B$49*Backend!M$10","v":0},{"$f":"REF_2ndFxProp!J9*Backend!$D4*Inputs!$B$49*Backend!N$10","v":0},{"$f":"REF_2ndFxProp!K9*Backend!$D4*Inputs!$B$49*Backend!O$10","v":0},{"$f":"REF_2ndFxProp!L9*Backend!$D4*Inputs!$B$49*Backend!P$10","v":0}]
["Male","65-74","Hip",{"$f":"REF_2ndFxProp!D10*Backend!$D5*Inputs!$B$49*Backend!H$10","v":0},{"$f":"REF_2ndFxProp!E10*Backend!$D5*Inputs!$B$49*Backend!I$10","v":0},{"$f":"REF_2ndFxProp!F10*Backend!$D5*Inputs!$B$49*Backend!J$10","v":0},{"$f":"REF_2ndFxProp!G10*Backend!$D5*Inputs!$B$49*Backend!K$10","v":0},{"$f":"REF_2ndFxProp!H10*Backend!$D5*Inputs!$B$49*Backend!L$10","v":0},{"$f":"REF_2ndFxProp!I10*Backend!$D5*Inputs!$B$49*Backend!M$10","v":0},{"$f":"REF_2ndFxProp!J10*Backend!$D5*Inputs!$B$49*Backend!N$10","v":0},{"$f":"REF_2ndFxProp!K10*Backend!$D5*Inputs!$B$49*Backend!O$10","v":0},{"$f":"REF_2ndFxProp!L10*Backend!$D5*Inputs!$B$49*Backend!P$10","v":0}]
["Male","65-74","Humerus",{"$f":"REF_2ndFxProp!D11*Backend!$D6*Inputs!$B$49*Backend!H$10","v":0},{"$f":"REF_2ndFxProp!E11*Backend!$D6*Inputs!$B$49*Backend!I$10","v":0},{"$f":"REF_2ndFxProp!F11*Backend!$D6*Inputs!$B$49*Backend!J$10","v":0},{"$f":"REF_2ndFxProp!G11*Backend!$D6*Inputs!$B$49*Backend!K$10","v":0},{"$f":"REF_2ndFxProp!H11*Backend!$D6*Inputs!$B$49*Backend!L$10","v":0},{"$f":"REF_2ndFxProp!I11*Backend!$D6*Inputs!$B$49*Backend!M$10","v":0},{"$f":"REF_2ndFxProp!J11*Backend!$D6*Inputs!$B$49*Backend!N$10","v":0},{"$f":"REF_2ndFxProp!K11*Backend!$D6*Inputs!$B$49*Backend!O$10","v":0},{"$f":"REF_2ndFxProp!L11*Backend!$D6*Inputs!$B$49*Backend!P$10","v":0}]
["Male","65-74","Pelvis",{"$f":"REF_2ndFxProp!D12*Backend!$D7*Inputs!$B$49*Backend!H$10","v":0},{"$f":"REF_2ndFxProp!E12*Backend!$D7*Inputs!$B$49*Backend!I$10","v":0},{"$f":"REF_2ndFxProp!F12*Backend!$D7*Inputs!$B$49*Backend!J$10","v":0},{"$f":"REF_2ndFxProp!G12*Backend!$D7*Inputs!$B$49*Backend!K$10","v":0},{"$f":"REF_2ndFxProp!H12*Backend!$D7*Inputs!$B$49*Backend!L$10","v":0},{"$f":"REF_2ndFxProp!I12*Backend!$D7*Inputs!$B$49*Backend!M$10","v":0},{"$f":"REF_2ndFxProp!J12*Backend!$D7*Inputs!$B$49*Backend!N$10","v":0},{"$f":"REF_2ndFxProp!K12*Backend!$D7*Inputs!$B$49*Backend!O$10","v":0},{"$f":"REF_2ndFxProp!L12*Backend!$D7*Inputs!$B$49*Backend!P$10","v":0}]
["Male","65-74","Radius/Ulna",{"$f":"REF_2ndFxProp!D13*Backend!$D8*Inputs!$B$49*Backend!H$10","v":0},{"$f":"REF_2ndFxProp!E13*Backend!$D8*Inputs!$B$49*Backend!I$10","v":0},{"$f":"REF_2ndFxProp!F13*Backend!$D8*Inputs!$B$49*Backend!J$10","v":0},{"$f":"REF_2ndFxProp!G13*Backend!$D8*Inputs!$B$49*Backend!K$10","v":0},{"$f":"REF_2ndFxProp!H13*Backend!$D8*Inputs!$B$49*Backend!L$10","v":0},{"$f":"REF_2ndFxProp!I13*Backend!$D8*Inputs!$B$49*Backend!M$10","v":0},{"$f":"REF_2ndFxProp!J13*Backend!$D8*Inputs!$B$49*Backend!N$10","v":0},{"$f":"REF_2ndFxProp!K13*Backend!$D8*Inputs!$B$49*Backend!O$10","v":0},{"$f":"REF_2ndFxProp!L13*Backend!$D8*Inputs!$B$49*Backend!P$10","v":0}]
["Male","65-74","Spine",{"$f":"REF_2ndFxProp!D14*Backend!$D9*Inputs!$B$49*Backend!H$10","v":0},{"$f":"REF_2ndFxProp!E14*Backend!$D9*Inputs!$B$49*Backend!I$10","v":0},{"$f":"REF_2ndFxProp!F14*Backend!$D9*Inputs!$B$49*Backend!J$10","v":0},{"$f":"REF_2ndFxProp!G14*Backend!$D9*Inputs!$B$49*Backend!K$10","v":0},{"$f":"REF_2ndFxProp!H14*Backend!$D9*Inputs!$B$49*Backend!L$10","v":0},{"$f":"REF_2ndFxProp!I14*Backend!$D9*Inputs!$B$49*Backend!M$10","v":0},{"$f":"REF_2ndFxProp!J14*Backend!$D9*Inputs!$B$49*Backend!N$10","v":0},{"$f":"REF_2ndFxProp!K14*Backend!$D9*Inputs!$B$49*Backend!O$10","v":0},{"$f":"REF_2ndFxProp!L14*Backend!$D9*Inputs!$B$49*Backend!P$10","v":0}]
["Male","65-74","Tibia/Fibula",{"$f":"REF_2ndFxProp!D15*Backend!$D10*Inputs!$B$49*Backend!H$10","v":0},{"$f":"REF_2ndFxProp!E15*Backend!$D10*Inputs!$B$49*Backend!I$10","v":0},{"$f":"REF_2ndFxProp!F15*Backend!$D10*Inputs!$B$49*Backend!J$10","v":0},{"$f":"REF_2ndFxProp!G15*Backend!$D10*Inputs!$B$49*Backend!K$10","v":0},{"$f":"REF_2ndFxProp!H15*Backend!$D10*Inputs!$B$49*Backend!L$10","v":0},{"$f":"REF_2ndFxProp!I15*Backend!$D10*Inputs!$B$49*Backend!M$10","v":0},{"$f":"REF_2ndFxProp!J15*Backend!$D10*Inputs!$B$49*Backend!N$10","v":0},{"$f":"REF_2ndFxProp!K15*Backend!$D10*Inputs!$B$49*Backend!O$10","v":0},{"$f":"REF_2ndFxProp!L15*Backend!$D10*Inputs!$B$49*Backend!P$10","v":0}]
["Male","75-84","Ankle",{"$f":"REF_2ndFxProp!D16*Backend!$D11*Inputs!$B$49*Backend!H$10","v":0},{"$f":"REF_2ndFxProp!E16*Backend!$D11*Inputs!$B$49*Backend!I$10","v":0},{"$f":"REF_2ndFxProp!F16*Backend!$D11*Inputs!$B$49*Backend!J$10","v":0},{"$f":"REF_2ndFxProp!G16*Backend!$D11*Inputs!$B$49*Backend!K$10","v":0},{"$f":"REF_2ndFxProp!H16*Backend!$D11*Inputs!$B$49*Backend!L$10","v":0},{"$f":"REF_2ndFxProp!I16*Backend!$D11*Inputs!$B$49*Backend!M$10","v":0},{"$f":"REF_2ndFxProp!J16*Backend!$D11*Inputs!$B$49*Backend!N$10","v":0},{"$f":"REF_2ndFxProp!K16*Backend!$D11*Inputs!$B$49*Backend!O$10","v":0},{"$f":"REF_2ndFxProp!L16*Backend!$D11*Inputs!$B$49*Backend!P$10","v":0}]
["Male","75-84","Clavicle",{"$f":"REF_2ndFxProp!D17*Backend!$D12*Inputs!$B$49*Backend!H$10","v":0},{"$f":"REF_2ndFxProp!E17*Backend!$D12*Inputs!$B$49*Backend!I$10","v":0},{"$f":"REF_2ndFxProp!F17*Backend!$D12*Inputs!$B$49*Backend!J$10","v":0},{"$f":"REF_2ndFxProp!G17*Backend!$D12*Inputs!$B$49*Backend!K$10","v":0},{"$f":"REF_2ndFxProp!H17*Backend!$D12*Inputs!$B$49*Backend!L$10","v":0},{"$f":"REF_2ndFxProp!I17*Backend!$D12*Inputs!$B$49*Backend!M$10","v":0},{"$f":"REF_2ndFxProp!J17*Backend!$D12*Inputs!$B$49*Backend!N$10","v":0},{"$f":"REF_2ndFxProp!K17*Backend!$D12*Inputs!$B$49*Backend!O$10","v":0},{"$f":"REF_2ndFxProp!L17*Backend!$D12*Inputs!$B$49*Backend!P$10","v":0}]
["Male","75-84","Femur",{"$f":"REF_2ndFxProp!D18*Backend!$D13*Inputs!$B$49*Backend!H$10","v":0},{"$f":"REF_2ndFxProp!E18*Backend!$D13*Inputs!$B$49*Backend!I$10","v":0},{"$f":"REF_2ndFxProp!F18*Backend!$D13*Inputs!$B$49*Backend!J$10","v":0},{"$f":"REF_2ndFxProp!G18*Backend!$D13*Inputs!$B$49*Backend!K$10","v":0},{"$f":"REF_2ndFxProp!H18*Backend!$D13*Inputs!$B$49*Backend!L$10","v":0},{"$f":"REF_2ndFxProp!I18*Backend!$D13*Inputs!$B$49*Backend!M$10","v":0},{"$f":"REF_2ndFxProp!J18*Backend!$D13*Inputs!$B$49*Backend!N$10","v":0},{"$f":"REF_2ndFxProp!K18*Backend!$D13*Inputs!$B$49*Backend!O$10","v":0},{"$f":"REF_2ndFxProp!L18*Backend!$D13*Inputs!$B$49*Backend!P$10","v":0}]
["Male","75-84","Hip",{"$f":"REF_2ndFxProp!D19*Backend!$D14*Inputs!$B$49*Backend!H$10","v":0},{"$f":"REF_2ndFxProp!E19*Backend!$D14*Inputs!$B$49*Backend!I$10","v":0},{"$f":"REF_2ndFxProp!F19*Backend!$D14*Inputs!$B$49*Backend!J$10","v":0},{"$f":"REF_2ndFxProp!G19*Backend!$D14*Inputs!$B$49*Backend!K$10","v":0},{"$f":"REF_2ndFxProp!H19*Backend!$D14*Inputs!$B$49*Backend!L$10","v":0},{"$f":"REF_2ndFxProp!I19*Backend!$D14*Inputs!$B$49*Backend!M$10","v":0},{"$f":"REF_2ndFxProp!J19*Backend!$D14*Inputs!$B$49*Backend!N$10","v":0},{"$f":"REF_2ndFxProp!K19*Backend!$D14*Inputs!$B$49*Backend!O$10","v":0},{"$f":"REF_2ndFxProp!L19*Backend!$D14*Inputs!$B$49*Backend!P$10","v":0}]
["Male","75-84","Humerus",{"$f":"REF_2ndFxProp!D20*Backend!$D15*Inputs!$B$49*Backend!H$10","v":0},{"$f":"REF_2ndFxProp!E20*Backend!$D15*Inputs!$B$49*Backend!I$10","v":0},{"$f":"REF_2ndFxProp!F20*Backend!$D15*Inputs!$B$49*Backend!J$10","v":0},{"$f":"REF_2ndFxProp!G20*Backend!$D15*Inputs!$B$49*Backend!K$10","v":0},{"$f":"REF_2ndFxProp!H20*Backend!$D15*Inputs!$B$49*Backend!L$10","v":0},{"$f":"REF_2ndFxProp!I20*Backend!$D15*Inputs!$B$49*Backend!M$10","v":0},{"$f":"REF_2ndFxProp!J20*Backend!$D15*Inputs!$B$49*Backend!N$10","v":0},{"$f":"REF_2ndFxProp!K20*Backend!$D15*Inputs!$B$49*Backend!O$10","v":0},{"$f":"REF_2ndFxProp!L20*Backend!$D15*Inputs!$B$49*Backend!P$10","v":0}]
["Male","75-84","Pelvis",{"$f":"REF_2ndFxProp!D21*Backend!$D16*Inputs!$B$49*Backend!H$10","v":0},{"$f":"REF_2ndFxProp!E21*Backend!$D16*Inputs!$B$49*Backend!I$10","v":0},{"$f":"REF_2ndFxProp!F21*Backend!$D16*Inputs!$B$49*Backend!J$10","v":0},{"$f":"REF_2ndFxProp!G21*Backend!$D16*Inputs!$B$49*Backend!K$10","v":0},{"$f":"REF_2ndFxProp!H21*Backend!$D16*Inputs!$B$49*Backend!L$10","v":0},{"$f":"REF_2ndFxProp!I21*Backend!$D16*Inputs!$B$49*Backend!M$10","v":0},{"$f":"REF_2ndFxProp!J21*Backend!$D16*Inputs!$B$49*Backend!N$10","v":0},{"$f":"REF_2ndFxProp!K21*Backend!$D16*Inputs!$B$49*Backend!O$10","v":0},{"$f":"REF_2ndFxProp!L21*Backend!$D16*Inputs!$B$49*Backend!P$10","v":0}]
["Male","75-84","Radius/Ulna",{"$f":"REF_2ndFxProp!D22*Backend!$D17*Inputs!$B$49*Backend!H$10","v":0},{"$f":"REF_2ndFxProp!E22*Backend!$D17*Inputs!$B$49*Backend!I$10","v":0},{"$f":"REF_2ndFxProp!F22*Backend!$D17*Inputs!$B$49*Backend!J$10","v":0},{"$f":"REF_2ndFxProp!G22*Backend!$D17*Inputs!$B$49*Backend!K$10","v":0},{"$f":"REF_2ndFxProp!H22*Backend!$D17*Inputs!$B$49*Backend!L$10","v":0},{"$f":"REF_2ndFxProp!I22*Backend!$D17*Inputs!$B$49*Backend!M$10","v":0},{"$f":"REF_2ndFxProp!J22*Backend!$D17*Inputs!$B$49*Backend!N$10","v":0},{"$f":"REF_2ndFxProp!K22*Backend!$D17*Inputs!$B$49*Backend!O$10","v":0},{"$f":"REF_2ndFxProp!L22*Backend!$D17*Inputs!$B$49*Backend!P$10","v":0}]
["Male","75-84","Spine",{"$f":"REF_2ndFxProp!D23*Backend!$D18*Inputs!$B$49*Backend!H$10","v":0},{"$f":"REF_2ndFxProp!E23*Backend!$D18*Inputs!$B$49*Backend!I$10","v":0},{"$f":"REF_2ndFxProp!F23*Backend!$D18*Inputs!$B$49*Backend!J$10","v":0},{"$f":"REF_2ndFxProp!G23*Backend!$D18*Inputs!$B$49*Backend!K$10","v":0},{"$f":"REF_2ndFxProp!H23*Backend!$D18*Inputs!$B$49*Backend!L$10","v":0},{"$f":"REF_2ndFxProp!I23*Backend!$D18*Inputs!$B$49*Backend!M$10","v":0},{"$f":"REF_2ndFxProp!J23*Backend!$D18*Inputs!$B$49*Backend!N$10","v":0},{"$f":"REF_2ndFxProp!K23*Backend!$D18*Inputs!$B$49*Backend!O$10","v":0},{"$f":"REF_2ndFxProp!L23*Backend!$D18*Inputs!$B$49*Backend!P$10","v":0}]
["Male","75-84","Tibia/Fibula",{"$f":"REF_2ndFxProp!D24*Backend!$D19*Inputs!$B$49*Backend!H$10","v":0},{"$f":"REF_2ndFxProp!E24*Backend!$D19*Inputs!$B$49*Backend!I$10","v":0},{"$f":"REF_2ndFxProp!F24*Backend!$D19*Inputs!$B$49*Backend!J$10","v":0},{"$f":"REF_2ndFxProp!G24*Backend!$D19*Inputs!$B$49*Backend!K$10","v":0},{"$f":"REF_2ndFxProp!H24*Backend!$D19*Inputs!$B$49*Backend!L$10","v":0},{"$f":"REF_2ndFxProp!I24*Backend!$D19*Inputs!$B$49*Backend!M$10","v":0},{"$f":"REF_2ndFxProp!J24*Backend!$D19*Inputs!$B$49*Backend!N$10","v":0},{"$f":"REF_2ndFxProp!K24*Backend!$D19*Inputs!$B$49*Backend!O$10","v":0},{"$f":"REF_2ndFxProp!L24*Backend!$D19*Inputs!$B$49*Backend!P$10","v":0}]
["Male","85+","Ankle",{"$f":"REF_2ndFxProp!D25*Backend!$D20*Inputs!$B$49*Backend!H$10","v":0},{"$f":"REF_2ndFxProp!E25*Backend!$D20*Inputs!$B$49*Backend!I$10","v":0},{"$f":"REF_2ndFxProp!F25*Backend!$D20*Inputs!$B$49*Backend!J$10","v":0},{"$f":"REF_2ndFxProp!G25*Backend!$D20*Inputs!$B$49*Backend!K$10","v":0},{"$f":"REF_2ndFxProp!H25*Backend!$D20*Inputs!$B$49*Backend!L$10","v":0},{"$f":"REF_2ndFxProp!I25*Backend!$D20*Inputs!$B$49*Backend!M$10","v":0},{"$f":"REF_2ndFxProp!J25*Backend!$D20*Inputs!$B$49*Backend!N$10","v":0},{"$f":"REF_2ndFxProp!K25*Backend!$D20*Inputs!$B$49*Backend!O$10","v":0},{"$f":"REF_2ndFxProp!L25*Backend!$D20*Inputs!$B$49*Backend!P$10","v":0}]
["Male","85+","Clavicle",{"$f":"REF_2ndFxProp!D26*Backend!$D21*Inputs!$B$49*Backend!H$10","v":0},{"$f":"REF_2ndFxProp!E26*Backend!$D21*Inputs!$B$49*Backend!I$10","v":0},{"$f":"REF_2ndFxProp!F26*Backend!$D21*Inputs!$B$49*Backend!J$10","v":0},{"$f":"REF_2ndFxProp!G26*Backend!$D21*Inputs!$B$49*Backend!K$10","v":0},{"$f":"REF_2ndFxProp!H26*Backend!$D21*Inputs!$B$49*Backend!L$10","v":0},{"$f":"REF_2ndFxProp!I26*Backend!$D21*Inputs!$B$49*Backend!M$10","v":0},{"$f":"REF_2ndFxProp!J26*Backend!$D21*Inputs!$B$49*Backend!N$10","v":0},{"$f":"REF_2ndFxProp!K26*Backend!$D21*Inputs!$B$49*Backend!O$10","v":0},{"$f":"REF_2ndFxProp!L26*Backend!$D21*Inputs!$B$49*Backend!P$10","v":0}]
["Male","85+","Femur",{"$f":"REF_2ndFxProp!D27*Backend!$D22*Inputs!$B$49*Backend!H$10","v":0},{"$f":"REF_2ndFxProp!E27*Backend!$D22*Inputs!$B$49*Backend!I$10","v":0},{"$f":"REF_2ndFxProp!F27*Backend!$D22*Inputs!$B$49*Backend!J$10","v":0},{"$f":"REF_2ndFxProp!G27*Backend!$D22*Inputs!$B$49*Backend!K$10","v":0},{"$f":"REF_2ndFxProp!H27*Backend!$D22*Inputs!$B$49*Backend!L$10","v":0},{"$f":"REF_2ndFxProp!I27*Backend!$D22*Inputs!$B$49*Backend!M$10","v":0},{"$f":"REF_2ndFxProp!J27*Backend!$D22*Inputs!$B$49*Backend!N$10","v":0},{"$f":"REF_2ndFxProp!K27*Backend!$D22*Inputs!$B$49*Backend!O$10","v":0},{"$f":"REF_2ndFxProp!L27*Backend!$D22*Inputs!$B$49*Backend!P$10","v":0}]
["Male","85+","Hip",{"$f":"REF_2ndFxProp!D28*Backend!$D23*Inputs!$B$49*Backend!H$10","v":0},{"$f":"REF_2ndFxProp!E28*Backend!$D23*Inputs!$B$49*Backend!I$10","v":0},{"$f":"REF_2ndFxProp!F28*Backend!$D23*Inputs!$B$49*Backend!J$10","v":0},{"$f":"REF_2ndFxProp!G28*Backend!$D23*Inputs!$B$49*Backend!K$10","v":0},{"$f":"REF_2ndFxProp!H28*Backend!$D23*Inputs!$B$49*Backend!L$10","v":0},{"$f":"REF_2ndFxProp!I28*Backend!$D23*Inputs!$B$49*Backend!M$10","v":0},{"$f":"REF_2ndFxProp!J28*Backend!$D23*Inputs!$B$49*Backend!N$10","v":0},{"$f":"REF_2ndFxProp!K28*Backend!$D23*Inputs!$B$49*Backend!O$10","v":0},{"$f":"REF_2ndFxProp!L28*Backend!$D23*Inputs!$B$49*Backend!P$10","v":0}]
["Male","85+","Humerus",{"$f":"REF_2ndFxProp!D29*Backend!$D24*Inputs!$B$49*Backend!H$10","v":0},{"$f":"REF_2ndFxProp!E29*Backend!$D24*Inputs!$B$49*Backend!I$10","v":0},{"$f":"REF_2ndFxProp!F29*Backend!$D24*Inputs!$B$49*Backend!J$10","v":0},{"$f":"REF_2ndFxProp!G29*Backend!$D24*Inputs!$B$49*Backend!K$10","v":0},{"$f":"REF_2ndFxProp!H29*Backend!$D24*Inputs!$B$49*Backend!L$10","v":0},{"$f":"REF_2ndFxProp!I29*Backend!$D24*Inputs!$B$49*Backend!M$10","v":0},{"$f":"REF_2ndFxProp!J29*Backend!$D24*Inputs!$B$49*Backend!N$10","v":0},{"$f":"REF_2ndFxProp!K29*Backend!$D24*Inputs!$B$49*Backend!O$10","v":0},{"$f":"REF_2ndFxProp!L29*Backend!$D24*Inputs!$B$49*Backend!P$10","v":0}]
["Male","85+","Pelvis",{"$f":"REF_2ndFxProp!D30*Backend!$D25*Inputs!$B$49*Backend!H$10","v":0},{"$f":"REF_2ndFxProp!E30*Backend!$D25*Inputs!$B$49*Backend!I$10","v":0},{"$f":"REF_2ndFxProp!F30*Backend!$D25*Inputs!$B$49*Backend!J$10","v":0},{"$f":"REF_2ndFxProp!G30*Backend!$D25*Inputs!$B$49*Backend!K$10","v":0},{"$f":"REF_2ndFxProp!H30*Backend!$D25*Inputs!$B$49*Backend!L$10","v":0},{"$f":"REF_2ndFxProp!I30*Backend!$D25*Inputs!$B$49*Backend!M$10","v":0},{"$f":"REF_2ndFxProp!J30*Backend!$D25*Inputs!$B$49*Backend!N$10","v":0},{"$f":"REF_2ndFxProp!K30*Backend!$D25*Inputs!$B$49*Backend!O$10","v":0},{"$f":"REF_2ndFxProp!L30*Backend!$D25*Inputs!$B$49*Backend!P$10","v":0}]
["Male","85+","Radius/Ulna",{"$f":"REF_2ndFxProp!D31*Backend!$D26*Inputs!$B$49*Backend!H$10","v":0},{"$f":"REF_2ndFxProp!E31*Backend!$D26*Inputs!$B$49*Backend!I$10","v":0},{"$f":"REF_2ndFxProp!F31*Backend!$D26*Inputs!$B$49*Backend!J$10","v":0},{"$f":"REF_2ndFxProp!G31*Backend!$D26*Inputs!$B$49*Backend!K$10","v":0},{"$f":"REF_2ndFxProp!H31*Backend!$D26*Inputs!$B$49*Backend!L$10","v":0},{"$f":"REF_2ndFxProp!I31*Backend!$D26*Inputs!$B$49*Backend!M$10","v":0},{"$f":"REF_2ndFxProp!J31*Backend!$D26*Inputs!$B$49*Backend!N$10","v":0},{"$f":"REF_2ndFxProp!K31*Backend!$D26*Inputs!$B$49*Backend!O$10","v":0},{"$f":"REF_2ndFxProp!L31*Backend!$D26*Inputs!$B$49*Backend!P$10","v":0}]
["Male","85+","Spine",{"$f":"REF_2ndFxProp!D32*Backend!$D27*Inputs!$B$49*Backend!H$10","v":0},{"$f":"REF_2ndFxProp!E32*Backend!$D27*Inputs!$B$49*Backend!I$10","v":0},{"$f":"REF_2ndFxProp!F32*Backend!$D27*Inputs!$B$49*Backend!J$10","v":0},{"$f":"REF_2ndFxProp!G32*Backend!$D27*Inputs!$B$49*Backend!K$10","v":0},{"$f":"REF_2ndFxProp!H32*Backend!$D27*Inputs!$B$49*Backend!L$10","v":0},{"$f":"REF_2ndFxProp!I32*Backend!$D27*Inputs!$B$49*Backend!M$10","v":0},{"$f":"REF_2ndFxProp!J32*Backend!$D27*Inputs!$B$49*Backend!N$10","v":0},{"$f":"REF_2ndFxProp!K32*Backend!$D27*Inputs!$B$49*Backend!O$10","v":0},{"$f":"REF_2ndFxProp!L32*Backend!$D27*Inputs!$B$49*Backend!P$10","v":0}]
["Male","85+","Tibia/Fibula",{"$f":"REF_2ndFxProp!D33*Backend!$D28*Inputs!$B$49*Backend!H$10","v":0},{"$f":"REF_2ndFxProp!E33*Backend!$D28*Inputs!$B$49*Backend!I$10","v":0},{"$f":"REF_2ndFxProp!F33*Backend!$D28*Inputs!$B$49*Backend!J$10","v":0},{"$f":"REF_2ndFxProp!G33*Backend!$D28*Inputs!$B$49*Backend!K$10","v":0},{"$f":"REF_2ndFxProp!H33*Backend!$D28*Inputs!$B$49*Backend!L$10","v":0},{"$f":"REF_2ndFxProp!I33*Backend!$D28*Inputs!$B$49*Backend!M$10","v":0},{"$f":"REF_2ndFxProp!J33*Backend!$D28*Inputs!$B$49*Backend!N$10","v":0},{"$f":"REF_2ndFxProp!K33*Backend!$D28*Inputs!$B$49*Backend!O$10","v":0},{"$f":"REF_2ndFxProp!L33*Backend!$D28*Inputs!$B$49*Backend!P$10","v":0}]
["Female","65-74","Ankle",{"$f":"REF_2ndFxProp!D34*Backend!$D29*Inputs!$B$49*Backend!H$10","v":0},{"$f":"REF_2ndFxProp!E34*Backend!$D29*Inputs!$B$49*Backend!I$10","v":0},{"$f":"REF_2ndFxProp!F34*Backend!$D29*Inputs!$B$49*Backend!J$10","v":0},{"$f":"REF_2ndFxProp!G34*Backend!$D29*Inputs!$B$49*Backend!K$10","v":0},{"$f":"REF_2ndFxProp!H34*Backend!$D29*Inputs!$B$49*Backend!L$10","v":0},{"$f":"REF_2ndFxProp!I34*Backend!$D29*Inputs!$B$49*Backend!M$10","v":0},{"$f":"REF_2ndFxProp!J34*Backend!$D29*Inputs!$B$49*Backend!N$10","v":0},{"$f":"REF_2ndFxProp!K34*Backend!$D29*Inputs!$B$49*Backend!O$10","v":0},{"$f":"REF_2ndFxProp!L34*Backend!$D29*Inputs!$B$49*Backend!P$10","v":0}]
["Female","65-74","Clavicle",{"$f":"REF_2ndFxProp!D35*Backend!$D30*Inputs!$B$49*Backend!H$10","v":0},{"$f":"REF_2ndFxProp!E35*Backend!$D30*Inputs!$B$49*Backend!I$10","v":0},{"$f":"REF_2ndFxProp!F35*Backend!$D30*Inputs!$B$49*Backend!J$10","v":0},{"$f":"REF_2ndFxProp!G35*Backend!$D30*Inputs!$B$49*Backend!K$10","v":0},{"$f":"REF_2ndFxProp!H35*Backend!$D30*Inputs!$B$49*Backend!L$10","v":0},{"$f":"REF_2ndFxProp!I35*Backend!$D30*Inputs!$B$49*Backend!M$10","v":0},{"$f":"REF_2ndFxProp!J35*Backend!$D30*Inputs!$B$49*Backend!N$10","v":0},{"$f":"REF_2ndFxProp!K35*Backend!$D30*Inputs!$B$49*Backend!O$10","v":0},{"$f":"REF_2ndFxProp!L35*Backend!$D30*Inputs!$B$49*Backend!P$10","v":0}]
["Female","65-74","Femur",{"$f":"REF_2ndFxProp!D36*Backend!$D31*Inputs!$B$49*Backend!H$10","v":0},{"$f":"REF_2ndFxProp!E36*Backend!$D31*Inputs!$B$49*Backend!I$10","v":0},{"$f":"REF_2ndFxProp!F36*Backend!$D31*Inputs!$B$49*Backend!J$10","v":0},{"$f":"REF_2ndFxProp!G36*Backend!$D31*Inputs!$B$49*Backend!K$10","v":0},{"$f":"REF_2ndFxProp!H36*Backend!$D31*Inputs!$B$49*Backend!L$10","v":0},{"$f":"REF_2ndFxProp!I36*Backend!$D31*Inputs!$B$49*Backend!M$10","v":0},{"$f":"REF_2ndFxProp!J36*Backend!$D31*Inputs!$B$49*Backend!N$10","v":0},{"$f":"REF_2ndFxProp!K36*Backend!$D31*Inputs!$B$49*Backend!O$10","v":0},{"$f":"REF_2ndFxProp!L36*Backend!$D31*Inputs!$B$49*Backend!P$10","v":0}]
["Female","65-74","Hip",{"$f":"REF_2ndFxProp!D37*Backend!$D32*Inputs!$B$49*Backend!H$10","v":0},{"$f":"REF_2ndFxProp!E37*Backend!$D32*Inputs!$B$49*Backend!I$10","v":0},{"$f":"REF_2ndFxProp!F37*Backend!$D32*Inputs!$B$49*Backend!J$10","v":0},{"$f":"REF_2ndFxProp!G37*Backend!$D32*Inputs!$B$49*Backend!K$10","v":0},{"$f":"REF_2ndFxProp!H37*Backend!$D32*Inputs!$B$49*Backend!L$10","v":0},{"$f":"REF_2ndFxProp!I37*Backend!$D32*Inputs!$B$49*Backend!M$10","v":0},{"$f":"REF_2ndFxProp!J37*Backend!$D32*Inputs!$B$49*Backend!N$10","v":0},{"$f":"REF_2ndFxProp!K37*Backend!$D32*Inputs!$B$49*Backend!O$10","v":0},{"$f":"REF_2ndFxProp!L37*Backend!$D32*Inputs!$B$49*Backend!P$10","v":0}]
["Female","65-74","Humerus",{"$f":"REF_2ndFxProp!D38*Backend!$D33*Inputs!$B$49*Backend!H$10","v":0},{"$f":"REF_2ndFxProp!E38*Backend!$D33*Inputs!$B$49*Backend!I$10","v":0},{"$f":"REF_2ndFxProp!F38*Backend!$D33*Inputs!$B$49*Backend!J$10","v":0},{"$f":"REF_2ndFxProp!G38*Backend!$D33*Inputs!$B$49*Backend!K$10","v":0},{"$f":"REF_2ndFxProp!H38*Backend!$D33*Inputs!$B$49*Backend!L$10","v":0},{"$f":"REF_2ndFxProp!I38*Backend!$D33*Inputs!$B$49*Backend!M$10","v":0},{"$f":"REF_2ndFxProp!J38*Backend!$D33*Inputs!$B$49*Backend!N$10","v":0},{"$f":"REF_2ndFxProp!K38*Backend!$D33*Inputs!$B$49*Backend!O$10","v":0},{"$f":"REF_2ndFxProp!L38*Backend!$D33*Inputs!$B$49*Backend!P$10","v":0}]
["Female","65-74","Pelvis",{"$f":"REF_2ndFxProp!D39*Backend!$D34*Inputs!$B$49*Backend!H$10","v":0},{"$f":"REF_2ndFxProp!E39*Backend!$D34*Inputs!$B$49*Backend!I$10","v":0},{"$f":"REF_2ndFxProp!F39*Backend!$D34*Inputs!$B$49*Backend!J$10","v":0},{"$f":"REF_2ndFxProp!G39*Backend!$D34*Inputs!$B$49*Backend!K$10","v":0},{"$f":"REF_2ndFxProp!H39*Backend!$D34*Inputs!$B$49*Backend!L$10","v":0},{"$f":"REF_2ndFxProp!I39*Backend!$D34*Inputs!$B$49*Backend!M$10","v":0},{"$f":"REF_2ndFxProp!J39*Backend!$D34*Inputs!$B$49*Backend!N$10","v":0},{"$f":"REF_2ndFxProp!K39*Backend!$D34*Inputs!$B$49*Backend!O$10","v":0},{"$f":"REF_2ndFxProp!L39*Backend!$D34*Inputs!$B$49*Backend!P$10","v":0}]
["Female","65-74","Radius/Ulna",{"$f":"REF_2ndFxProp!D40*Backend!$D35*Inputs!$B$49*Backend!H$10","v":0},{"$f":"REF_2ndFxProp!E40*Backend!$D35*Inputs!$B$49*Backend!I$10","v":0},{"$f":"REF_2ndFxProp!F40*Backend!$D35*Inputs!$B$49*Backend!J$10","v":0},{"$f":"REF_2ndFxProp!G40*Backend!$D35*Inputs!$B$49*Backend!K$10","v":0},{"$f":"REF_2ndFxProp!H40*Backend!$D35*Inputs!$B$49*Backend!L$10","v":0},{"$f":"REF_2ndFxProp!I40*Backend!$D35*Inputs!$B$49*Backend!M$10","v":0},{"$f":"REF_2ndFxProp!J40*Backend!$D35*Inputs!$B$49*Backend!N$10","v":0},{"$f":"REF_2ndFxProp!K40*Backend!$D35*Inputs!$B$49*Backend!O$10","v":0},{"$f":"REF_2ndFxProp!L40*Backend!$D35*Inputs!$B$49*Backend!P$10","v":0}]
["Female","65-74","Spine",{"$f":"REF_2ndFxProp!D41*Backend!$D36*Inputs!$B$49*Backend!H$10","v":0},{"$f":"REF_2ndFxProp!E41*Backend!$D36*Inputs!$B$49*Backend!I$10","v":0},{"$f":"REF_2ndFxProp!F41*Backend!$D36*Inputs!$B$49*Backend!J$10","v":0},{"$f":"REF_2ndFxProp!G41*Backend!$D36*Inputs!$B$49*Backend!K$10","v":0},{"$f":"REF_2ndFxProp!H41*Backend!$D36*Inputs!$B$49*Backend!L$10","v":0},{"$f":"REF_2ndFxProp!I41*Backend!$D36*Inputs!$B$49*Backend!M$10","v":0},{"$f":"REF_2ndFxProp!J41*Backend!$D36*Inputs!$B$49*Backend!N$10","v":0},{"$f":"REF_2ndFxProp!K41*Backend!$D36*Inputs!$B$49*Backend!O$10","v":0},{"$f":"REF_2ndFxProp!L41*Backend!$D36*Inputs!$B$49*Backend!P$10","v":0}]
["Female","65-74","Tibia/Fibula",{"$f":"REF_2ndFxProp!D42*Backend!$D37*Inputs!$B$49*Backend!H$10","v":0},{"$f":"REF_2ndFxProp!E42*Backend!$D37*Inputs!$B$49*Backend!I$10","v":0},{"$f":"REF_2ndFxProp!F42*Backend!$D37*Inputs!$B$49*Backend!J$10","v":0},{"$f":"REF_2ndFxProp!G42*Backend!$D37*Inputs!$B$49*Backend!K$10","v":0},{"$f":"REF_2ndFxProp!H42*Backend!$D37*Inputs!$B$49*Backend!L$10","v":0},{"$f":"REF_2ndFxProp!I42*Backend!$D37*Inputs!$B$49*Backend!M$10","v":0},{"$f":"REF_2ndFxProp!J42*Backend!$D37*Inputs!$B$49*Backend!N$10","v":0},{"$f":"REF_2ndFxProp!K42*Backend!$D37*Inputs!$B$49*Backend!O$10","v":0},{"$f":"REF_2ndFxProp!L42*Backend!$D37*Inputs!$B$49*Backend!P$10","v":0}]
["Female","75-84","Ankle",{"$f":"REF_2ndFxProp!D43*Backend!$D38*Inputs!$B$49*Backend!H$10","v":0},{"$f":"REF_2ndFxProp!E43*Backend!$D38*Inputs!$B$49*Backend!I$10","v":0},{"$f":"REF_2ndFxProp!F43*Backend!$D38*Inputs!$B$49*Backend!J$10","v":0},{"$f":"REF_2ndFxProp!G43*Backend!$D38*Inputs!$B$49*Backend!K$10","v":0},{"$f":"REF_2ndFxProp!H43*Backend!$D38*Inputs!$B$49*Backend!L$10","v":0},{"$f":"REF_2ndFxProp!I43*Backend!$D38*Inputs!$B$49*Backend!M$10","v":0},{"$f":"REF_2ndFxProp!J43*Backend!$D38*Inputs!$B$49*Backend!N$10","v":0},{"$f":"REF_2ndFxProp!K43*Backend!$D38*Inputs!$B$49*Backend!O$10","v":0},{"$f":"REF_2ndFxProp!L43*Backend!$D38*Inputs!$B$49*Backend!P$10","v":0}]
["Female","75-84","Clavicle",{"$f":"REF_2ndFxProp!D44*Backend!$D39*Inputs!$B$49*Backend!H$10","v":0},{"$f":"REF_2ndFxProp!E44*Backend!$D39*Inputs!$B$49*Backend!I$10","v":0},{"$f":"REF_2ndFxProp!F44*Backend!$D39*Inputs!$B$49*Backend!J$10","v":0},{"$f":"REF_2ndFxProp!G44*Backend!$D39*Inputs!$B$49*Backend!K$10","v":0},{"$f":"REF_2ndFxProp!H44*Backend!$D39*Inputs!$B$49*Backend!L$10","v":0},{"$f":"REF_2ndFxProp!I44*Backend!$D39*Inputs!$B$49*Backend!M$10","v":0},{"$f":"REF_2ndFxProp!J44*Backend!$D39*Inputs!$B$49*Backend!N$10","v":0},{"$f":"REF_2ndFxProp!K44*Backend!$D39*Inputs!$B$49*Backend!O$10","v":0},{"$f":"REF_2ndFxProp!L44*Backend!$D39*Inputs!$B$49*Backend!P$10","v":0}]
["Female","75-84","Femur",{"$f":"REF_2ndFxProp!D45*Backend!$D40*Inputs!$B$49*Backend!H$10","v":0},{"$f":"REF_2ndFxProp!E45*Backend!$D40*Inputs!$B$49*Backend!I$10","v":0},{"$f":"REF_2ndFxProp!F45*Backend!$D40*Inputs!$B$49*Backend!J$10","v":0},{"$f":"REF_2ndFxProp!G45*Backend!$D40*Inputs!$B$49*Backend!K$10","v":0},{"$f":"REF_2ndFxProp!H45*Backend!$D40*Inputs!$B$49*Backend!L$10","v":0},{"$f":"REF_2ndFxProp!I45*Backend!$D40*Inputs!$B$49*Backend!M$10","v":0},{"$f":"REF_2ndFxProp!J45*Backend!$D40*Inputs!$B$49*Backend!N$10","v":0},{"$f":"REF_2ndFxProp!K45*Backend!$D40*Inputs!$B$49*Backend!O$10","v":0},{"$f":"REF_2ndFxProp!L45*Backend!$D40*Inputs!$B$49*Backend!P$10","v":0}]
["Female","75-84","Hip",{"$f":"REF_2ndFxProp!D46*Backend!$D41*Inputs!$B$49*Backend!H$10","v":0},{"$f":"REF_2ndFxProp!E46*Backend!$D41*Inputs!$B$49*Backend!I$10","v":0},{"$f":"REF_2ndFxProp!F46*Backend!$D41*Inputs!$B$49*Backend!J$10","v":0},{"$f":"REF_2ndFxProp!G46*Backend!$D41*Inputs!$B$49*Backend!K$10","v":0},{"$f":"REF_2ndFxProp!H46*Backend!$D41*Inputs!$B$49*Backend!L$10","v":0},{"$f":"REF_2ndFxProp!I46*Backend!$D41*Inputs!$B$49*Backend!M$10","v":0},{"$f":"REF_2ndFxProp!J46*Backend!$D41*Inputs!$B$49*Backend!N$10","v":0},{"$f":"REF_2ndFxProp!K46*Backend!$D41*Inputs!$B$49*Backend!O$10","v":0},{"$f":"REF_2ndFxProp!L46*Backend!$D41*Inputs!$B$49*Backend!P$10","v":0}]
["Female","75-84","Humerus",{"$f":"REF_2ndFxProp!D47*Backend!$D42*Inputs!$B$49*Backend!H$10","v":0},{"$f":"REF_2ndFxProp!E47*Backend!$D42*Inputs!$B$49*Backend!I$10","v":0},{"$f":"REF_2ndFxProp!F47*Backend!$D42*Inputs!$B$49*Backend!J$10","v":0},{"$f":"REF_2ndFxProp!G47*Backend!$D42*Inputs!$B$49*Backend!K$10","v":0},{"$f":"REF_2ndFxProp!H47*Backend!$D42*Inputs!$B$49*Backend!L$10","v":0},{"$f":"REF_2ndFxProp!I47*Backend!$D42*Inputs!$B$49*Backend!M$10","v":0},{"$f":"REF_2ndFxProp!J47*Backend!$D42*Inputs!$B$49*Backend!N$10","v":0},{"$f":"REF_2ndFxProp!K47*Backend!$D42*Inputs!$B$49*Backend!O$10","v":0},{"$f":"REF_2ndFxProp!L47*Backend!$D42*Inputs!$B$49*Backend!P$10","v":0}]
["Female","75-84","Pelvis",{"$f":"REF_2ndFxProp!D48*Backend!$D43*Inputs!$B$49*Backend!H$10","v":0},{"$f":"REF_2ndFxProp!E48*Backend!$D43*Inputs!$B$49*Backend!I$10","v":0},{"$f":"REF_2ndFxProp!F48*Backend!$D43*Inputs!$B$49*Backend!J$10","v":0},{"$f":"REF_2ndFxProp!G48*Backend!$D43*Inputs!$B$49*Backend!K$10","v":0},{"$f":"REF_2ndFxProp!H48*Backend!$D43*Inputs!$B$49*Backend!L$10","v":0},{"$f":"REF_2ndFxProp!I48*Backend!$D43*Inputs!$B$49*Backend!M$10","v":0},{"$f":"REF_2ndFxProp!J48*Backend!$D43*Inputs!$B$49*Backend!N$10","v":0},{"$f":"REF_2ndFxProp!K48*Backend!$D43*Inputs!$B$49*Backend!O$10","v":0},{"$f":"REF_2ndFxProp!L48*Backend!$D43*Inputs!$B$49*Backend!P$10","v":0}]
["Female","75-84","Radius/Ulna",{"$f":"REF_2ndFxProp!D49*Backend!$D44*Inputs!$B$49*Backend!H$10","v":0},{"$f":"REF_2ndFxProp!E49*Backend!$D44*Inputs!$B$49*Backend!I$10","v":0},{"$f":"REF_2ndFxProp!F49*Backend!$D44*Inputs!$B$49*Backend!J$10","v":0},{"$f":"REF_2ndFxProp!G49*Backend!$D44*Inputs!$B$49*Backend!K$10","v":0},{"$f":"REF_2ndFxProp!H49*Backend!$D44*Inputs!$B$49*Backend!L$10","v":0},{"$f":"REF_2ndFxProp!I49*Backend!$D44*Inputs!$B$49*Backend!M$10","v":0},{"$f":"REF_2ndFxProp!J49*Backend!$D44*Inputs!$B$49*Backend!N$10","v":0},{"$f":"REF_2ndFxProp!K49*Backend!$D44*Inputs!$B$49*Backend!O$10","v":0},{"$f":"REF_2ndFxProp!L49*Backend!$D44*Inputs!$B$49*Backend!P$10","v":0}]
["Female","75-84","Spine",{"$f":"REF_2ndFxProp!D50*Backend!$D45*Inputs!$B$49*Backend!H$10","v":0},{"$f":"REF_2ndFxProp!E50*Backend!$D45*Inputs!$B$49*Backend!I$10","v":0},{"$f":"REF_2ndFxProp!F50*Backend!$D45*Inputs!$B$49*Backend!J$10","v":0},{"$f":"REF_2ndFxProp!G50*Backend!$D45*Inputs!$B$49*Backend!K$10","v":0},{"$f":"REF_2ndFxProp!H50*Backend!$D45*Inputs!$B$49*Backend!L$10","v":0},{"$f":"REF_2ndFxProp!I50*Backend!$D45*Inputs!$B$49*Backend!M$10","v":0},{"$f":"REF_2ndFxProp!J50*Backend!$D45*Inputs!$B$49*Backend!N$10","v":0},{"$f":"REF_2ndFxProp!K50*Backend!$D45*Inputs!$B$49*Backend!O$10","v":0},{"$f":"REF_2ndFxProp!L50*Backend!$D45*Inputs!$B$49*Backend!P$10","v":0}]
["Female","75-84","Tibia/Fibula",{"$f":"REF_2ndFxProp!D51*Backend!$D46*Inputs!$B$49*Backend!H$10","v":0},{"$f":"REF_2ndFxProp!E51*Backend!$D46*Inputs!$B$49*Backend!I$10","v":0},{"$f":"REF_2ndFxProp!F51*Backend!$D46*Inputs!$B$49*Backend!J$10","v":0},{"$f":"REF_2ndFxProp!G51*Backend!$D46*Inputs!$B$49*Backend!K$10","v":0},{"$f":"REF_2ndFxProp!H51*Backend!$D46*Inputs!$B$49*Backend!L$10","v":0},{"$f":"REF_2ndFxProp!I51*Backend!$D46*Inputs!$B$49*Backend!M$10","v":0},{"$f":"REF_2ndFxProp!J51*Backend!$D46*Inputs!$B$49*Backend!N$10","v":0},{"$f":"REF_2ndFxProp!K51*Backend!$D46*Inputs!$B$49*Backend!O$10","v":0},{"$f":"REF_2ndFxProp!L51*Backend!$D46*Inputs!$B$49*Backend!P$10","v":0}]
["Female","85+","Ankle",{"$f":"REF_2ndFxProp!D52*Backend!$D47*Inputs!$B$49*Backend!H$10","v":0},{"$f":"REF_2ndFxProp!E52*Backend!$D47*Inputs!$B$49*Backend!I$10","v":0},{"$f":"REF_2ndFxProp!F52*Backend!$D47*Inputs!$B$49*Backend!J$10","v":0},{"$f":"REF_2ndFxProp!G52*Backend!$D47*Inputs!$B$49*Backend!K$10","v":0},{"$f":"REF_2ndFxProp!H52*Backend!$D47*Inputs!$B$49*Backend!L$10","v":0},{"$f":"REF_2ndFxProp!I52*Backend!$D47*Inputs!$B$49*Backend!M$10","v":0},{"$f":"REF_2ndFxProp!J52*Backend!$D47*Inputs!$B$49*Backend!N$10","v":0},{"$f":"REF_2ndFxProp!K52*Backend!$D47*Inputs!$B$49*Backend!O$10","v":0},{"$f":"REF_2ndFxProp!L52*Backend!$D47*Inputs!$B$49*Backend!P$10","v":0}]
["Female","85+","Clavicle",{"$f":"REF_2ndFxProp!D53*Backend!$D48*Inputs!$B$49*Backend!H$10","v":0},{"$f":"REF_2ndFxProp!E53*Backend!$D48*Inputs!$B$49*Backend!I$10","v":0},{"$f":"REF_2ndFxProp!F53*Backend!$D48*Inputs!$B$49*Backend!J$10","v":0},{"$f":"REF_2ndFxProp!G53*Backend!$D48*Inputs!$B$49*Backend!K$10","v":0},{"$f":"REF_2ndFxProp!H53*Backend!$D48*Inputs!$B$49*Backend!L$10","v":0},{"$f":"REF_2ndFxProp!I53*Backend!$D48*Inputs!$B$49*Backend!M$10","v":0},{"$f":"REF_2ndFxProp!J53*Backend!$D48*Inputs!$B$49*Backend!N$10","v":0},{"$f":"REF_2ndFxProp!K53*Backend!$D48*Inputs!$B$49*Backend!O$10","v":0},{"$f":"REF_2ndFxProp!L53*Backend!$D48*Inputs!$B$49*Backend!P$10","v":0}]
["Female","85+","Femur",{"$f":"REF_2ndFxProp!D54*Backend!$D49*Inputs!$B$49*Backend!H$10","v":0},{"$f":"REF_2ndFxProp!E54*Backend!$D49*Inputs!$B$49*Backend!I$10","v":0},{"$f":"REF_2ndFxProp!F54*Backend!$D49*Inputs!$B$49*Backend!J$10","v":0},{"$f":"REF_2ndFxProp!G54*Backend!$D49*Inputs!$B$49*Backend!K$10","v":0},{"$f":"REF_2ndFxProp!H54*Backend!$D49*Inputs!$B$49*Backend!L$10","v":0},{"$f":"REF_2ndFxProp!I54*Backend!$D49*Inputs!$B$49*Backend!M$10","v":0},{"$f":"REF_2ndFxProp!J54*Backend!$D49*Inputs!$B$49*Backend!N$10","v":0},{"$f":"REF_2ndFxProp!K54*Backend!$D49*Inputs!$B$49*Backend!O$10","v":0},{"$f":"REF_2ndFxProp!L54*Backend!$D49*Inputs!$B$49*Backend!P$10","v":0}]
["Female","85+","Hip",{"$f":"REF_2ndFxProp!D55*Backend!$D50*Inputs!$B$49*Backend!H$10","v":0},{"$f":"REF_2ndFxProp!E55*Backend!$D50*Inputs!$B$49*Backend!I$10","v":0},{"$f":"REF_2ndFxProp!F55*Backend!$D50*Inputs!$B$49*Backend!J$10","v":0},{"$f":"REF_2ndFxProp!G55*Backend!$D50*Inputs!$B$49*Backend!K$10","v":0},{"$f":"REF_2ndFxProp!H55*Backend!$D50*Inputs!$B$49*Backend!L$10","v":0},{"$f":"REF_2ndFxProp!I55*Backend!$D50*Inputs!$B$49*Backend!M$10","v":0},{"$f":"REF_2ndFxProp!J55*Backend!$D50*Inputs!$B$49*Backend!N$10","v":0},{"$f":"REF_2ndFxProp!K55*Backend!$D50*Inputs!$B$49*Backend!O$10","v":0},{"$f":"REF_2ndFxProp!L55*Backend!$D50*Inputs!$B$49*Backend!P$10","v":0}]
["Female","85+","Humerus",{"$f":"REF_2ndFxProp!D56*Backend!$D51*Inputs!$B$49*Backend!H$10","v":0},{"$f":"REF_2ndFxProp!E56*Backend!$D51*Inputs!$B$49*Backend!I$10","v":0},{"$f":"REF_2ndFxProp!F56*Backend!$D51*Inputs!$B$49*Backend!J$10","v":0},{"$f":"REF_2ndFxProp!G56*Backend!$D51*Inputs!$B$49*Backend!K$10","v":0},{"$f":"REF_2ndFxProp!H56*Backend!$D51*Inputs!$B$49*Backend!L$10","v":0},{"$f":"REF_2ndFxProp!I56*Backend!$D51*Inputs!$B$49*Backend!M$10","v":0},{"$f":"REF_2ndFxProp!J56*Backend!$D51*Inputs!$B$49*Backend!N$10","v":0},{"$f":"REF_2ndFxProp!K56*Backend!$D51*Inputs!$B$49*Backend!O$10","v":0},{"$f":"REF_2ndFxProp!L56*Backend!$D51*Inputs!$B$49*Backend!P$10","v":0}]
["Female","85+","Pelvis",{"$f":"REF_2ndFxProp!D57*Backend!$D52*Inputs!$B$49*Backend!H$10","v":0},{"$f":"REF_2ndFxProp!E57*Backend!$D52*Inputs!$B$49*Backend!I$10","v":0},{"$f":"REF_2ndFxProp!F57*Backend!$D52*Inputs!$B$49*Backend!J$10","v":0},{"$f":"REF_2ndFxProp!G57*Backend!$D52*Inputs!$B$49*Backend!K$10","v":0},{"$f":"REF_2ndFxProp!H57*Backend!$D52*Inputs!$B$49*Backend!L$10","v":0},{"$f":"REF_2ndFxProp!I57*Backend!$D52*Inputs!$B$49*Backend!M$10","v":0},{"$f":"REF_2ndFxProp!J57*Backend!$D52*Inputs!$B$49*Backend!N$10","v":0},{"$f":"REF_2ndFxProp!K57*Backend!$D52*Inputs!$B$49*Backend!O$10","v":0},{"$f":"REF_2ndFxProp!L57*Backend!$D52*Inputs!$B$49*Backend!P$10","v":0}]
["Female","85+","Radius/Ulna",{"$f":"REF_2ndFxProp!D58*Backend!$D53*Inputs!$B$49*Backend!H$10","v":0},{"$f":"REF_2ndFxProp!E58*Backend!$D53*Inputs!$B$49*Backend!I$10","v":0},{"$f":"REF_2ndFxProp!F58*Backend!$D53*Inputs!$B$49*Backend!J$10","v":0},{"$f":"REF_2ndFxProp!G58*Backend!$D53*Inputs!$B$49*Backend!K$10","v":0},{"$f":"REF_2ndFxProp!H58*Backend!$D53*Inputs!$B$49*Backend!L$10","v":0},{"$f":"REF_2ndFxProp!I58*Backend!$D53*Inputs!$B$49*Backend!M$10","v":0},{"$f":"REF_2ndFxProp!J58*Backend!$D53*Inputs!$B$49*Backend!N$10","v":0},{"$f":"REF_2ndFxProp!K58*Backend!$D53*Inputs!$B$49*Backend!O$10","v":0},{"$f":"REF_2ndFxProp!L58*Backend!$D53*Inputs!$B$49*Backend!P$10","v":0}]
["Female","85+","Spine",{"$f":"REF_2ndFxProp!D59*Backend!$D54*Inputs!$B$49*Backend!H$10","v":0},{"$f":"REF_2ndFxProp!E59*Backend!$D54*Inputs!$B$49*Backend!I$10","v":0},{"$f":"REF_2ndFxProp!F59*Backend!$D54*Inputs!$B$49*Backend!J$10","v":0},{"$f":"REF_2ndFxProp!G59*Backend!$D54*Inputs!$B$49*Backend!K$10","v":0},{"$f":"REF_2ndFxProp!H59*Backend!$D54*Inputs!$B$49*Backend!L$10","v":0},{"$f":"REF_2ndFxProp!I59*Backend!$D54*Inputs!$B$49*Backend!M$10","v":0},{"$f":"REF_2ndFxProp!J59*Backend!$D54*Inputs!$B$49*Backend!N$10","v":0},{"$f":"REF_2ndFxProp!K59*Backend!$D54*Inputs!$B$49*Backend!O$10","v":0},{"$f":"REF_2ndFxProp!L59*Backend!$D54*Inputs!$B$49*Backend!P$10","v":0}]
["Female","85+","Tibia/Fibula",{"$f":"REF_2ndFxProp!D60*Backend!$D55*Inputs!$B$49*Backend!H$10","v":0},{"$f":"REF_2ndFxProp!E60*Backend!$D55*Inputs!$B$49*Backend!I$10","v":0},{"$f":"REF_2ndFxProp!F60*Backend!$D55*Inputs!$B$49*Backend!J$10","v":0},{"$f":"REF_2ndFxProp!G60*Backend!$D55*Inputs!$B$49*Backend!K$10","v":0},{"$f":"REF_2ndFxProp!H60*Backend!$D55*Inputs!$B$49*Backend!L$10","v":0},{"$f":"REF_2ndFxProp!I60*Backend!$D55*Inputs!$B$49*Backend!M$10","v":0},{"$f":"REF_2ndFxProp!J60*Backend!$D55*Inputs!$B$49*Backend!N$10","v":0},{"$f":"REF_2ndFxProp!K60*Backend!$D55*Inputs!$B$49*Backend!O$10","v":0},{"$f":"REF_2ndFxProp!L60*Backend!$D55*Inputs!$B$49*Backend!P$10","v":0}]
[]
[]
["Three Year Model"]
["Sex","Age","Initial Fracture Site","Second Fracture Status"]
[null,null,null,"Ankle","Clavicle","Femur","Hip","Humerus","Pelvis","Radius/Ulna","Spine","Tibia/Fibula"]
["Male","65-74","Ankle",{"$f":"REF_2ndFxProp!D66*Backend!$D2*Inputs!$B$49*Backend!H$10","v":0},{"$f":"REF_2ndFxProp!E66*Backend!$D2*Inputs!$B$49*Backend!I$10","v":0},{"$f":"REF_2ndFxProp!F66*Backend!$D2*Inputs!$B$49*Backend!J$10","v":0},{"$f":"REF_2ndFxProp!G66*Backend!$D2*Inputs!$B$49*Backend!K$10","v":0},{"$f":"REF_2ndFxProp!H66*Backend!$D2*Inputs!$B$49*Backend!L$10","v":0},{"$f":"REF_2ndFxProp!I66*Backend!$D2*Inputs!$B$49*Backend!M$10","v":0},{"$f":"REF_2ndFxProp!J66*Backend!$D2*Inputs!$B$49*Backend!N$10","v":0},{"$f":"REF_2ndFxProp!K66*Backend!$D2*Inputs!$B$49*Backend!O$10","v":0},{"$f":"REF_2ndFxProp!L66*Backend!$D2*Inputs!$B$49*Backend!P$10","v":0}]
["Male","65-74","Clavicle",{"$f":"REF_2ndFxProp!D67*Backend!$D3*Inputs!$B$49*Backend!H$10","v":0},{"$f":"REF_2ndFxProp!E67*Backend!$D3*Inputs!$B$49*Backend!I$10","v":0},{"$f":"REF_2ndFxProp!F67*Backend!$D3*Inputs!$B$49*Backend!J$10","v":0},{"$f":"REF_2ndFxProp!G67*Backend!$D3*Inputs!$B$49*Backend!K$10","v":0},{"$f":"REF_2ndFxProp!H67*Backend!$D3*Inputs!$B$49*Backend!L$10","v":0},{"$f":"REF_2ndFxProp!I67*Backend!$D3*Inputs!$B$49*Backend!M$10","v":0},{"$f":"REF_2ndFxProp!J67*Backend!$D3*Inputs!$B$49*Backend!N$10","v":0},{"$f":"REF_2ndFxProp!K67*Backend!$D3*Inputs!$B$49*Backend!O$10","v":0},{"$f":"REF_2ndFxProp!L67*Backend!$D3*Inputs!$B$49*Backend!P$10","v":0}]
["Male","65-74","Femur",{"$f":"REF_2ndFxProp!D68*Backend!$D4*Inputs!$B$49*Backend!H$10","v":0},{"$f":"REF_2ndFxProp!E68*Backend!$D4*Inputs!$B$49*Backend!I$10","v":0},{"$f":"REF_2ndFxProp!F68*Backend!$D4*Inputs!$B$49*Backend!J$10","v":0},{"$f":"REF_2ndFxProp!G68*Backend!$D4*Inputs!$B$49*Backend!K$10","v":0},{"$f":"REF_2ndFxProp!H68*Backend!$D4*Inputs!$B$49*Backend!L$10","v":0},{"$f":"REF_2ndFxProp!I68*Backend!$D4*Inputs!$B$49*Backend!M$10","v":0},{"$f":"REF_2ndFxProp!J68*Backend!$D4*Inputs!$B$49*Backend!N$10","v":0},{"$f":"REF_2ndFxProp!K68*Backend!$D4*Inputs!$B$49*Backend!O$10","v":0},{"$f":"REF_2ndFxProp!L68*Backend!$D4*Inputs!$B$49*Backend!P$10","v":0}]
["Male","65-74","Hip",{"$f":"REF_2ndFxProp!D69*Backend!$D5*Inputs!$B$49*Backend!H$10","v":0},{"$f":"REF_2ndFxProp!E69*Backend!$D5*Inputs!$B$49*Backend!I$10","v":0},{"$f":"REF_2ndFxProp!F69*Backend!$D5*Inputs!$B$49*Backend!J$10","v":0},{"$f":"REF_2ndFxProp!G69*Backend!$D5*Inputs!$B$49*Backend!K$10","v":0},{"$f":"REF_2ndFxProp!H69*Backend!$D5*Inputs!$B$49*Backend!L$10","v":0},{"$f":"REF_2ndFxProp!I69*Backend!$D5*Inputs!$B$49*Backend!M$10","v":0},{"$f":"REF_2ndFxProp!J69*Backend!$D5*Inputs!$B$49*Backend!N$10","v":0},{"$f":"REF_2ndFxProp!K69*Backend!$D5*Inputs!$B$49*Backend!O$10","v":0},{"$f":"REF_2ndFxProp!L69*Backend!$D5*Inputs!$B$49*Backend!P$10","v":0}]
["Male","65-74","Humerus",{"$f":"REF_2ndFxProp!D70*Backend!$D6*Inputs!$B$49*Backend!H$10","v":0},{"$f":"REF_2ndFxProp!E70*Backend!$D6*Inputs!$B$49*Backend!I$10","v":0},{"$f":"REF_2ndFxProp!F70*Backend!$D6*Inputs!$B$49*Backend!J$10","v":0},{"$f":"REF_2ndFxProp!G70*Backend!$D6*Inputs!$B$49*Backend!K$10","v":0},{"$f":"REF_2ndFxProp!H70*Backend!$D6*Inputs!$B$49*Backend!L$10","v":0},{"$f":"REF_2ndFxProp!I70*Backend!$D6*Inputs!$B$49*Backend!M$10","v":0},{"$f":"REF_2ndFxProp!J70*Backend!$D6*Inputs!$B$49*Backend!N$10","v":0},{"$f":"REF_2ndFxProp!K70*Backend!$D6*Inputs!$B$49*Backend!O$10","v":0},{"$f":"REF_2ndFxProp!L70*Backend!$D6*Inputs!$B$49*Backend!P$10","v":0}]
["Male","65-74","Pelvis",{"$f":"REF_2ndFxProp!D71*Backend!$D7*Inputs!$B$49*Backend!H$10","v":0},{"$f":"REF_2ndFxProp!E71*Backend!$D7*Inputs!$B$49*Backend!I$10","v":0},{"$f":"REF_2ndFxProp!F71*Backend!$D7*Inputs!$B$49*Backend!J$10","v":0},{"$f":"REF_2ndFxProp!G71*Backend!$D7*Inputs!$B$49*Backend!K$10","v":0},{"$f":"REF_2ndFxProp!H71*Backend!$D7*Inputs!$B$49*Backend!L$10","v":0},{"$f":"REF_2ndFxProp!I71*Backend!$D7*Inputs!$B$49*Backend!M$10","v":0},{"$f":"REF_2ndFxProp!J71*Backend!$D7*Inputs!$B$49*Backend!N$10","v":0},{"$f":"REF_2ndFxProp!K71*Backend!$D7*Inputs!$B$49*Backend!O$10","v":0},{"$f":"REF_2ndFxProp!L71*Backend!$D7*Inputs!$B$49*Backend!P$10","v":0}]
["Male","65-74","Radius/Ulna",{"$f":"REF_2ndFxProp!D72*Backend!$D8*Inputs!$B$49*Backend!H$10","v":0},{"$f":"REF_2ndFxProp!E72*Backend!$D8*Inputs!$B$49*Backend!I$10","v":0},{"$f":"REF_2ndFxProp!F72*Backend!$D8*Inputs!$B$49*Backend!J$10","v":0},{"$f":"REF_2ndFxProp!G72*Backend!$D8*Inputs!$B$49*Backend!K$10","v":0},{"$f":"REF_2ndFxProp!H72*Backend!$D8*Inputs!$B$49*Backend!L$10","v":0},{"$f":"REF_2ndFxProp!I72*Backend!$D8*Inputs!$B$49*Backend!M$10","v":0},{"$f":"REF_2ndFxProp!J72*Backend!$D8*Inputs!$B$49*Backend!N$10","v":0},{"$f":"REF_2ndFxProp!K72*Backend!$D8*Inputs!$B$49*Backend!O$10","v":0},{"$f":"REF_2ndFxProp!L72*Backend!$D8*Inputs!$B$49*Backend!P$10","v":0}]
["Male","65-74","Spine",{"$f":"REF_2ndFxProp!D73*Backend!$D9*Inputs!$B$49*Backend!H$10","v":0},{"$f":"REF_2ndFxProp!E73*Backend!$D9*Inputs!$B$49*Backend!I$10","v":0},{"$f":"REF_2ndFxProp!F73*Backend!$D9*Inputs!$B$49*Backend!J$10","v":0},{"$f":"REF_2ndFxProp!G73*Backend!$D9*Inputs!$B$49*Backend!K$10","v":0},{"$f":"REF_2ndFxProp!H73*Backend!$D9*Inputs!$B$49*Backend!L$10","v":0},{"$f":"REF_2ndFxProp!I73*Backend!$D9*Inputs!$B$49*Backend!M$10","v":0},{"$f":"REF_2ndFxProp!J73*Backend!$D9*Inputs!$B$49*Backend!N$10","v":0},{"$f":"REF_2ndFxProp!K73*Backend!$D9*Inputs!$B$49*Backend!O$10","v":0},{"$f":"REF_2ndFxProp!L73*Backend!$D9*Inputs!$B$49*Backend!P$10","v":0}]
["Male","65-74","Tibia/Fibula",{"$f":"REF_2ndFxProp!D74*Backend!$D10*Inputs!$B$49*Backend!H$10","v":0},{"$f":"REF_2ndFxProp!E74*Backend!$D10*Inputs!$B$49*Backend!I$10","v":0},{"$f":"REF_2ndFxProp!F74*Backend!$D10*Inputs!$B$49*Backend!J$10","v":0},{"$f":"REF_2ndFxProp!G74*Backend!$D10*Inputs!$B$49*Backend!K$10","v":0},{"$f":"REF_2ndFxProp!H74*Backend!$D10*Inputs!$B$49*Backend!L$10","v":0},{"$f":"REF_2ndFxProp!I74*Backend!$D10*Inputs!$B$49*Backend!M$10","v":0},{"$f":"REF_2ndFxProp!J74*Backend!$D10*Inputs!$B$49*Backend!N$10","v":0},{"$f":"REF_2ndFxProp!K74*Backend!$D10*Inputs!$B$49*Backend!O$10","v":0},{"$f":"REF_2ndFxProp!L74*Backend!$D10*Inputs!$B$49*Backend!P$10","v":0}]
["Male","75-84","Ankle",{"$f":"REF_2ndFxProp!D75*Backend!$D11*Inputs!$B$49*Backend!H$10","v":0},{"$f":"REF_2ndFxProp!E75*Backend!$D11*Inputs!$B$49*Backend!I$10","v":0},{"$f":"REF_2ndFxProp!F75*Backend!$D11*Inputs!$B$49*Backend!J$10","v":0},{"$f":"REF_2ndFxProp!G75*Backend!$D11*Inputs!$B$49*Backend!K$10","v":0},{"$f":"REF_2ndFxProp!H75*Backend!$D11*Inputs!$B$49*Backend!L$10","v":0},{"$f":"REF_2ndFxProp!I75*Backend!$D11*Inputs!$B$49*Backend!M$10","v":0},{"$f":"REF_2ndFxProp!J75*Backend!$D11*Inputs!$B$49*Backend!N$10","v":0},{"$f":"REF_2ndFxProp!K75*Backend!$D11*Inputs!$B$49*Backend!O$10","v":0},{"$f":"REF_2ndFxProp!L75*Backend!$D11*Inputs!$B$49*Backend!P$10","v":0}]
["Male","75-84","Clavicle",{"$f":"REF_2ndFxProp!D76*Backend!$D12*Inputs!$B$49*Backend!H$10","v":0},{"$f":"REF_2ndFxProp!E76*Backend!$D12*Inputs!$B$49*Backend!I$10","v":0},{"$f":"REF_2ndFxProp!F76*Backend!$D12*Inputs!$B$49*Backend!J$10","v":0},{"$f":"REF_2ndFxProp!G76*Backend!$D12*Inputs!$B$49*Backend!K$10","v":0},{"$f":"REF_2ndFxProp!H76*Backend!$D12*Inputs!$B$49*Backend!L$10","v":0},{"$f":"REF_2ndFxProp!I76*Backend!$D12*Inputs!$B$49*Backend!M$10","v":0},{"$f":"REF_2ndFxProp!J76*Backend!$D12*Inputs!$B$49*Backend!N$10","v":0},{"$f":"REF_2ndFxProp!K76*Backend!$D12*Inputs!$B$49*Backend!O$10","v":0},{"$f":"REF_2ndFxProp!L76*Backend!$D12*Inputs!$B$49*Backend!P$10","v":0}]
["Male","75-84","Femur",{"$f":"REF_2ndFxProp!D77*Backend!$D13*Inputs!$B$49*Backend!H$10","v":0},{"$f":"REF_2ndFxProp!E77*Backend!$D13*Inputs!$B$49*Backend!I$10","v":0},{"$f":"REF_2ndFxProp!F77*Backend!$D13*Inputs!$B$49*Backend!J$10","v":0},{"$f":"REF_2ndFxProp!G77*Backend!$D13*Inputs!$B$49*Backend!K$10","v":0},{"$f":"REF_2ndFxProp!H77*Backend!$D13*Inputs!$B$49*Backend!L$10","v":0},{"$f":"REF_2ndFxProp!I77*Backend!$D13*Inputs!$B$49*Backend!M$10","v":0},{"$f":"REF_2ndFxProp!J77*Backend!$D13*Inputs!$B$49*Backend!N$10","v":0},{"$f":"REF_2ndFxProp!K77*Backend!$D13*Inputs!$B$49*Backend!O$10","v":0},{"$f":"REF_2ndFxProp!L77*Backend!$D13*Inputs!$B$49*Backend!P$10","v":0}]
["Male","75-84","Hip",{"$f":"REF_2ndFxProp!D78*Backend!$D14*Inputs!$B$49*Backend!H$10","v":0},{"$f":"REF_2ndFxProp!E78*Backend!$D14*Inputs!$B$49*Backend!I$10","v":0},{"$f":"REF_2ndFxProp!F78*Backend!$D14*Inputs!$B$49*Backend!J$10","v":0},{"$f":"REF_2ndFxProp!G78*Backend!$D14*Inputs!$B$49*Backend!K$10","v":0},{"$f":"REF_2ndFxProp!H78*Backend!$D14*Inputs!$B$49*Backend!L$10","v":0},{"$f":"REF_2ndFxProp!I78*Backend!$D14*Inputs!$B$49*Backend!M$10","v":0},{"$f":"REF_2ndFxProp!J78*Backend!$D14*Inputs!$B$49*Backend!N$10","v":0},{"$f":"REF_2ndFxProp!K78*Backend!$D14*Inputs!$B$49*Backend!O$10","v":0},{"$f":"REF_2ndFxProp!L78*Backend!$D14*Inputs!$B$49*Backend!P$10","v":0}]
["Male","75-84","Humerus",{"$f":"REF_2ndFxProp!D79*Backend!$D15*Inputs!$B$49*Backend!H$10","v":0},{"$f":"REF_2ndFxProp!E79*Backend!$D15*Inputs!$B$49*Backend!I$10","v":0},{"$f":"REF_2ndFxProp!F79*Backend!$D15*Inputs!$B$49*Backend!J$10","v":0},{"$f":"REF_2ndFxProp!G79*Backend!$D15*Inputs!$B$49*Backend!K$10","v":0},{"$f":"REF_2ndFxProp!H79*Backend!$D15*Inputs!$B$49*Backend!L$10","v":0},{"$f":"REF_2ndFxProp!I79*Backend!$D15*Inputs!$B$49*Backend!M$10","v":0},{"$f":"REF_2ndFxProp!J79*Backend!$D15*Inputs!$B$49*Backend!N$10","v":0},{"$f":"REF_2ndFxProp!K79*Backend!$D15*Inputs!$B$49*Backend!O$10","v":0},{"$f":"REF_2ndFxProp!L79*Backend!$D15*Inputs!$B$49*Backend!P$10","v":0}]
["Male","75-84","Pelvis",{"$f":"REF_2ndFxProp!D80*Backend!$D16*Inputs!$B$49*Backend!H$10","v":0},{"$f":"REF_2ndFxProp!E80*Backend!$D16*Inputs!$B$49*Backend!I$10","v":0},{"$f":"REF_2ndFxProp!F80*Backend!$D16*Inputs!$B$49*Backend!J$10","v":0},{"$f":"REF_2ndFxProp!G80*Backend!$D16*Inputs!$B$49*Backend!K$10","v":0},{"$f":"REF_2ndFxProp!H80*Backend!$D16*Inputs!$B$49*Backend!L$10","v":0},{"$f":"REF_2ndFxProp!I80*Backend!$D16*Inputs!$B$49*Backend!M$10","v":0},{"$f":"REF_2ndFxProp!J80*Backend!$D16*Inputs!$B$49*Backend!N$10","v":0},{"$f":"REF_2ndFxProp!K80*Backend!$D16*Inputs!$B$49*Backend!O$10","v":0},{"$f":"REF_2ndFxProp!L80*Backend!$D16*Inputs!$B$49*Backend!P$10","v":0}]
["Male","75-84","Radius/Ulna",{"$f":"REF_2ndFxProp!D81*Backend!$D17*Inputs!$B$49*Backend!H$10","v":0},{"$f":"REF_2ndFxProp!E81*Backend!$D17*Inputs!$B$49*Backend!I$10","v":0},{"$f":"REF_2ndFxProp!F81*Backend!$D17*Inputs!$B$49*Backend!J$10","v":0},{"$f":"REF_2ndFxProp!G81*Backend!$D17*Inputs!$B$49*Backend!K$10","v":0},{"$f":"REF_2ndFxProp!H81*Backend!$D17*Inputs!$B$49*Backend!L$10","v":0},{"$f":"REF_2ndFxProp!I81*Backend!$D17*Inputs!$B$49*Backend!M$10","v":0},{"$f":"REF_2ndFxProp!J81*Backend!$D17*Inputs!$B$49*Backend!N$10","v":0},{"$f":"REF_2ndFxProp!K81*Backend!$D17*Inputs!$B$49*Backend!O$10","v":0},{"$f":"REF_2ndFxProp!L81*Backend!$D17*Inputs!$B$49*Backend!P$10","v":0}]
["Male","75-84","Spine",{"$f":"REF_2ndFxProp!D82*Backend!$D18*Inputs!$B$49*Backend!H$10","v":0},{"$f":"REF_2ndFxProp!E82*Backend!$D18*Inputs!$B$49*Backend!I$10","v":0},{"$f":"REF_2ndFxProp!F82*Backend!$D18*Inputs!$B$49*Backend!J$10","v":0},{"$f":"REF_2ndFxProp!G82*Backend!$D18*Inputs!$B$49*Backend!K$10","v":0},{"$f":"REF_2ndFxProp!H82*Backend!$D18*Inputs!$B$49*Backend!L$10","v":0},{"$f":"REF_2ndFxProp!I82*Backend!$D18*Inputs!$B$49*Backend!M$10","v":0},{"$f":"REF_2ndFxProp!J82*Backend!$D18*Inputs!$B$49*Backend!N$10","v":0},{"$f":"REF_2ndFxProp!K82*Backend!$D18*Inputs!$B$49*Backend!O$10","v":0},{"$f":"REF_2ndFxProp!L82*Backend!$D18*Inputs!$B$49*Backend!P$10","v":0}]
["Male","75-84","Tibia/Fibula",{"$f":"REF_2ndFxProp!D83*Backend!$D19*Inputs!$B$49*Backend!H$10","v":0},{"$f":"REF_2ndFxProp!E83*Backend!$D19*Inputs!$B$49*Backend!I$10","v":0},{"$f":"REF_2ndFxProp!F83*Backend!$D19*Inputs!$B$49*Backend!J$10","v":0},{"$f":"REF_2ndFxProp!G83*Backend!$D19*Inputs!$B$49*Backend!K$10","v":0},{"$f":"REF_2ndFxProp!H83*Backend!$D19*Inputs!$B$49*Backend!L$10","v":0},{"$f":"REF_2ndFxProp!I83*Backend!$D19*Inputs!$B$49*Backend!M$10","v":0},{"$f":"REF_2ndFxProp!J83*Backend!$D19*Inputs!$B$49*Backend!N$10","v":0},{"$f":"REF_2ndFxProp!K83*Backend!$D19*Inputs!$B$49*Backend!O$10","v":0},{"$f":"REF_2ndFxProp!L83*Backend!$D19*Inputs!$B$49*Backend!P$10","v":0}]
["Male","85+","Ankle",{"$f":"REF_2ndFxProp!D84*Backend!$D20*Inputs!$B$49*Backend!H$10","v":0},{"$f":"REF_2ndFxProp!E84*Backend!$D20*Inputs!$B$49*Backend!I$10","v":0},{"$f":"REF_2ndFxProp!F84*Backend!$D20*Inputs!$B$49*Backend!J$10","v":0},{"$f":"REF_2ndFxProp!G84*Backend!$D20*Inputs!$B$49*Backend!K$10","v":0},{"$f":"REF_2ndFxProp!H84*Backend!$D20*Inputs!$B$49*Backend!L$10","v":0},{"$f":"REF_2ndFxProp!I84*Backend!$D20*Inputs!$B$49*Backend!M$10","v":0},{"$f":"REF_2ndFxProp!J84*Backend!$D20*Inputs!$B$49*Backend!N$10","v":0},{"$f":"REF_2ndFxProp!K84*Backend!$D20*Inputs!$B$49*Backend!O$10","v":0},{"$f":"REF_2ndFxProp!L84*Backend!$D20*Inputs!$B$49*Backend!P$10","v":0}]
["Male","85+","Clavicle",{"$f":"REF_2ndFxProp!D85*Backend!$D21*Inputs!$B$49*Backend!H$10","v":0},{"$f":"REF_2ndFxProp!E85*Backend!$D21*Inputs!$B$49*Backend!I$10","v":0},{"$f":"REF_2ndFxProp!F85*Backend!$D21*Inputs!$B$49*Backend!J$10","v":0},{"$f":"REF_2ndFxProp!G85*Backend!$D21*Inputs!$B$49*Backend!K$10","v":0},{"$f":"REF_2ndFxProp!H85*Backend!$D21*Inputs!$B$49*Backend!L$10","v":0},{"$f":"REF_2ndFxProp!I85*Backend!$D21*Inputs!$B$49*Backend!M$10","v":0},{"$f":"REF_2ndFxProp!J85*Backend!$D21*Inputs!$B$49*Backend!N$10","v":0},{"$f":"REF_2ndFxProp!K85*Backend!$D21*Inputs!$B$49*Backend!O$10","v":0},{"$f":"REF_2ndFxProp!L85*Backend!$D21*Inputs!$B$49*Backend!P$10","v":0}]
["Male","85+","Femur",{"$f":"REF_2ndFxProp!D86*Backend!$D22*Inputs!$B$49*Backend!H$10","v":0},{"$f":"REF_2ndFxProp!E86*Backend!$D22*Inputs!$B$49*Backend!I$10","v":0},{"$f":"REF_2ndFxProp!F86*Backend!$D22*Inputs!$B$49*Backend!J$10","v":0},{"$f":"REF_2ndFxProp!G86*Backend!$D22*Inputs!$B$49*Backend!K$10","v":0},{"$f":"REF_2ndFxProp!H86*Backend!$D22*Inputs!$B$49*Backend!L$10","v":0},{"$f":"REF_2ndFxProp!I86*Backend!$D22*Inputs!$B$49*Backend!M$10","v":0},{"$f":"REF_2ndFxProp!J86*Backend!$D22*Inputs!$B$49*Backend!N$10","v":0},{"$f":"REF_2ndFxProp!K86*Backend!$D22*Inputs!$B$49*Backend!O$10","v":0},{"$f":"REF_2ndFxProp!L86*Backend!$D22*Inputs!$B$49*Backend!P$10","v":0}]
["Male","85+","Hip",{"$f":"REF_2ndFxProp!D87*Backend!$D23*Inputs!$B$49*Backend!H$10","v":0},{"$f":"REF_2ndFxProp!E87*Backend!$D23*Inputs!$B$49*Backend!I$10","v":0},{"$f":"REF_2ndFxProp!F87*Backend!$D23*Inputs!$B$49*Backend!J$10","v":0},{"$f":"REF_2ndFxProp!G87*Backend!$D23*Inputs!$B$49*Backend!K$10","v":0},{"$f":"REF_2ndFxProp!H87*Backend!$D23*Inputs!$B$49*Backend!L$10","v":0},{"$f":"REF_2ndFxProp!I87*Backend!$D23*Inputs!$B$49*Backend!M$10","v":0},{"$f":"REF_2ndFxProp!J87*Backend!$D23*Inputs!$B$49*Backend!N$10","v":0},{"$f":"REF_2ndFxProp!K87*Backend!$D23*Inputs!$B$49*Backend!O$10","v":0},{"$f":"REF_2ndFxProp!L87*Backend!$D23*Inputs!$B$49*Backend!P$10","v":0}]
["Male","85+","Humerus",{"$f":"REF_2ndFxProp!D88*Backend!$D24*Inputs!$B$49*Backend!H$10","v":0},{"$f":"REF_2ndFxProp!E88*Backend!$D24*Inputs!$B$49*Backend!I$10","v":0},{"$f":"REF_2ndFxProp!F88*Backend!$D24*Inputs!$B$49*Backend!J$10","v":0},{"$f":"REF_2ndFxProp!G88*Backend!$D24*Inputs!$B$49*Backend!K$10","v":0},{"$f":"REF_2ndFxProp!H88*Backend!$D24*Inputs!$B$49*Backend!L$10","v":0},{"$f":"REF_2ndFxProp!I88*Backend!$D24*Inputs!$B$49*Backend!M$10","v":0},{"$f":"REF_2ndFxProp!J88*Backend!$D24*Inputs!$B$49*Backend!N$10","v":0},{"$f":"REF_2ndFxProp!K88*Backend!$D24*Inputs!$B$49*Backend!O$10","v":0},{"$f":"REF_2ndFxProp!L88*Backend!$D24*Inputs!$B$49*Backend!P$10","v":0}]
["Male","85+","Pelvis",{"$f":"REF_2ndFxProp!D89*Backend!$D25*Inputs!$B$49*Backend!H$10","v":0},{"$f":"REF_2ndFxProp!E89*Backend!$D25*Inputs!$B$49*Backend!I$10","v":0},{"$f":"REF_2ndFxProp!F89*Backend!$D25*Inputs!$B$49*Backend!J$10","v":0},{"$f":"REF_2ndFxProp!G89*Backend!$D25*Inputs!$B$49*Backend!K$10","v":0},{"$f":"REF_2ndFxProp!H89*Backend!$D25*Inputs!$B$49*Backend!L$10","v":0},{"$f":"REF_2ndFxProp!I89*Backend!$D25*Inputs!$B$49*Backend!M$10","v":0},{"$f":"REF_2ndFxProp!J89*Backend!$D25*Inputs!$B$49*Backend!N$10","v":0},{"$f":"REF_2ndFxProp!K89*Backend!$D25*Inputs!$B$49*Backend!O$10","v":0},{"$f":"REF_2ndFxProp!L89*Backend!$D25*Inputs!$B$49*Backend!P$10","v":0}]
["Male","85+","Radius/Ulna",{"$f":"REF_2ndFxProp!D90*Backend!$D26*Inputs!$B$49*Backend!H$10","v":0},{"$f":"REF_2ndFxProp!E90*Backend!$D26*Inputs!$B$49*Backend!I$10","v":0},{"$f":"REF_2ndFxProp!F90*Backend!$D26*Inputs!$B$49*Backend!J$10","v":0},{"$f":"REF_2ndFxProp!G90*Backend!$D26*Inputs!$B$49*Backend!K$10","v":0},{"$f":"REF_2ndFxProp!H90*Backend!$D26*Inputs!$B$49*Backend!L$10","v":0},{"$f":"REF_2ndFxProp!I90*Backend!$D26*Inputs!$B$49*Backend!M$10","v":0},{"$f":"REF_2ndFxProp!J90*Backend!$D26*Inputs!$B$49*Backend!N$10","v":0},{"$f":"REF_2ndFxProp!K90*Backend!$D26*Inputs!$B$49*Backend!O$10","v":0},{"$f":"REF_2ndFxProp!L90*Backend!$D26*Inputs!$B$49*Backend!P$10","v":0}]
["Male","85+","Spine",{"$f":"REF_2ndFxProp!D91*Backend!$D27*Inputs!$B$49*Backend!H$10","v":0},{"$f":"REF_2ndFxProp!E91*Backend!$D27*Inputs!$B$49*Backend!I$10","v":0},{"$f":"REF_2ndFxProp!F91*Backend!$D27*Inputs!$B$49*Backend!J$10","v":0},{"$f":"REF_2ndFxProp!G91*Backend!$D27*Inputs!$B$49*Backend!K$10","v":0},{"$f":"REF_2ndFxProp!H91*Backend!$D27*Inputs!$B$49*Backend!L$10","v":0},{"$f":"REF_2ndFxProp!I91*Backend!$D27*Inputs!$B$49*Backend!M$10","v":0},{"$f":"REF_2ndFxProp!J91*Backend!$D27*Inputs!$B$49*Backend!N$10","v":0},{"$f":"REF_2ndFxProp!K91*Backend!$D27*Inputs!$B$49*Backend!O$10","v":0},{"$f":"REF_2ndFxProp!L91*Backend!$D27*Inputs!$B$49*Backend!P$10","v":0}]
["Male","85+","Tibia/Fibula",{"$f":"REF_2ndFxProp!D92*Backend!$D28*Inputs!$B$49*Backend!H$10","v":0},{"$f":"REF_2ndFxProp!E92*Backend!$D28*Inputs!$B$49*Backend!I$10","v":0},{"$f":"REF_2ndFxProp!F92*Backend!$D28*Inputs!$B$49*Backend!J$10","v":0},{"$f":"REF_2ndFxProp!G92*Backend!$D28*Inputs!$B$49*Backend!K$10","v":0},{"$f":"REF_2ndFxProp!H92*Backend!$D28*Inputs!$B$49*Backend!L$10","v":0},{"$f":"REF_2ndFxProp!I92*Backend!$D28*Inputs!$B$49*Backend!M$10","v":0},{"$f":"REF_2ndFxProp!J92*Backend!$D28*Inputs!$B$49*Backend!N$10","v":0},{"$f":"REF_2ndFxProp!K92*Backend!$D28*Inputs!$B$49*Backend!O$10","v":0},{"$f":"REF_2ndFxProp!L92*Backend!$D28*Inputs!$B$49*Backend!P$10","v":0}]
["Female","65-74","Ankle",{"$f":"REF_2ndFxProp!D93*Backend!$D29*Inputs!$B$49*Backend!H$10","v":0},{"$f":"REF_2ndFxProp!E93*Backend!$D29*Inputs!$B$49*Backend!I$10","v":0},{"$f":"REF_2ndFxProp!F93*Backend!$D29*Inputs!$B$49*Backend!J$10","v":0},{"$f":"REF_2ndFxProp!G93*Backend!$D29*Inputs!$B$49*Backend!K$10","v":0},{"$f":"REF_2ndFxProp!H93*Backend!$D29*Inputs!$B$49*Backend!L$10","v":0},{"$f":"REF_2ndFxProp!I93*Backend!$D29*Inputs!$B$49*Backend!M$10","v":0},{"$f":"REF_2ndFxProp!J93*Backend!$D29*Inputs!$B$49*Backend!N$10","v":0},{"$f":"REF_2ndFxProp!K93*Backend!$D29*Inputs!$B$49*Backend!O$10","v":0},{"$f":"REF_2ndFxProp!L93*Backend!$D29*Inputs!$B$49*Backend!P$10","v":0}]
["Female","65-74","Clavicle",{"$f":"REF_2ndFxProp!D94*Backend!$D30*Inputs!$B$49*Backend!H$10","v":0},{"$f":"REF_2ndFxProp!E94*Backend!$D30*Inputs!$B$49*Backend!I$10","v":0},{"$f":"REF_2ndFxProp!F94*Backend!$D30*Inputs!$B$49*Backend!J$10","v":0},{"$f":"REF_2ndFxProp!G94*Backend!$D30*Inputs!$B$49*Backend!K$10","v":0},{"$f":"REF_2ndFxProp!H94*Backend!$D30*Inputs!$B$49*Backend!L$10","v":0},{"$f":"REF_2ndFxProp!I94*Backend!$D30*Inputs!$B$49*Backend!M$10","v":0},{"$f":"REF_2ndFxProp!J94*Backend!$D30*Inputs!$B$49*Backend!N$10","v":0},{"$f":"REF_2ndFxProp!K94*Backend!$D30*Inputs!$B$49*Backend!O$10","v":0},{"$f":"REF_2ndFxProp!L94*Backend!$D30*Inputs!$B$49*Backend!P$10","v":0}]
["Female","65-74","Femur",{"$f":"REF_2ndFxProp!D95*Backend!$D31*Inputs!$B$49*Backend!H$10","v":0},{"$f":"REF_2ndFxProp!E95*Backend!$D31*Inputs!$B$49*Backend!I$10","v":0},{"$f":"REF_2ndFxProp!F95*Backend!$D31*Inputs!$B$49*Backend!J$10","v":0},{"$f":"REF_2ndFxProp!G95*Backend!$D31*Inputs!$B$49*Backend!K$10","v":0},{"$f":"REF_2ndFxProp!H95*Backend!$D31*Inputs!$B$49*Backend!L$10","v":0},{"$f":"REF_2ndFxProp!I95*Backend!$D31*Inputs!$B$49*Backend!M$10","v":0},{"$f":"REF_2ndFxProp!J95*Backend!$D31*Inputs!$B$49*Backend!N$10","v":0},{"$f":"REF_2ndFxProp!K95*Backend!$D31*Inputs!$B$49*Backend!O$10","v":0},{"$f":"REF_2ndFxProp!L95*Backend!$D31*Inputs!$B$49*Backend!P$10","v":0}]
["Female","65-74","Hip",{"$f":"REF_2ndFxProp!D96*Backend!$D32*Inputs!$B$49*Backend!H$10","v":0},{"$f":"REF_2ndFxProp!E96*Backend!$D32*Inputs!$B$49*Backend!I$10","v":0},{"$f":"REF_2ndFxProp!F96*Backend!$D32*Inputs!$B$49*Backend!J$10","v":0},{"$f":"REF_2ndFxProp!G96*Backend!$D32*Inputs!$B$49*Backend!K$10","v":0},{"$f":"REF_2ndFxProp!H96*Backend!$D32*Inputs!$B$49*Backend!L$10","v":0},{"$f":"REF_2ndFxProp!I96*Backend!$D32*Inputs!$B$49*Backend!M$10","v":0},{"$f":"REF_2ndFxProp!J96*Backend!$D32*Inputs!$B$49*Backend!N$10","v":0},{"$f":"REF_2ndFxProp!K96*Backend!$D32*Inputs!$B$49*Backend!O$10","v":0},{"$f":"REF_2ndFxProp!L96*Backend!$D32*Inputs!$B$49*Backend!P$10","v":0}]
["Female","65-74","Humerus",{"$f":"REF_2ndFxProp!D97*Backend!$D33*Inputs!$B$49*Backend!H$10","v":0},{"$f":"REF_2ndFxProp!E97*Backend!$D33*Inputs!$B$49*Backend!I$10","v":0},{"$f":"REF_2ndFxProp!F97*Backend!$D33*Inputs!$B$49*Backend!J$10","v":0},{"$f":"REF_2ndFxProp!G97*Backend!$D33*Inputs!$B$49*Backend!K$10","v":0},{"$f":"REF_2ndFxProp!H97*Backend!$D33*Inputs!$B$49*Backend!L$10","v":0},{"$f":"REF_2ndFxProp!I97*Backend!$D33*Inputs!$B$49*Backend!M$10","v":0},{"$f":"REF_2ndFxProp!J97*Backend!$D33*Inputs!$B$49*Backend!N$10","v":0},{"$f":"REF_2ndFxProp!K97*Backend!$D33*Inputs!$B$49*Backend!O$10","v":0},{"$f":"REF_2ndFxProp!L97*Backend!$D33*Inputs!$B$49*Backend!P$10","v":0}]
["Female","65-74","Pelvis",{"$f":"REF_2ndFxProp!D98*Backend!$D34*Inputs!$B$49*Backend!H$10","v":0},{"$f":"REF_2ndFxProp!E98*Backend!$D34*Inputs!$B$49*Backend!I$10","v":0},{"$f":"REF_2ndFxProp!F98*Backend!$D34*Inputs!$B$49*Backend!J$10","v":0},{"$f":"REF_2ndFxProp!G98*Backend!$D34*Inputs!$B$49*Backend!K$10","v":0},{"$f":"REF_2ndFxProp!H98*Backend!$D34*Inputs!$B$49*Backend!L$10","v":0},{"$f":"REF_2ndFxProp!I98*Backend!$D34*Inputs!$B$49*Backend!M$10","v":0},{"$f":"REF_2ndFxProp!J98*Backend!$D34*Inputs!$B$49*Backend!N$10","v":0},{"$f":"REF_2ndFxProp!K98*Backend!$D34*Inputs!$B$49*Backend!O$10","v":0},{"$f":"REF_2ndFxProp!L98*Backend!$D34*Inputs!$B$49*Backend!P$10","v":0}]
["Female","65-74","Radius/Ulna",{"$f":"REF_2ndFxProp!D99*Backend!$D35*Inputs!$B$49*Backend!H$10","v":0},{"$f":"REF_2ndFxProp!E99*Backend!$D35*Inputs!$B$49*Backend!I$10","v":0},{"$f":"REF_2ndFxProp!F99*Backend!$D35*Inputs!$B$49*Backend!J$10","v":0},{"$f":"REF_2ndFxProp!G99*Backend!$D35*Inputs!$B$49*Backend!K$10","v":0},{"$f":"REF_2ndFxProp!H99*Backend!$D35*Inputs!$B$49*Backend!L$10","v":0},{"$f":"REF_2ndFxProp!I99*Backend!$D35*Inputs!$B$49*Backend!M$10","v":0},{"$f":"REF_2ndFxProp!J99*Backend!$D35*Inputs!$B$49*Backend!N$10","v":0},{"$f":"REF_2ndFxProp!K99*Backend!$D35*Inputs!$B$49*Backend!O$10","v":0},{"$f":"REF_2ndFxProp!L99*Backend!$D35*Inputs!$B$49*Backend!P$10","v":0}]
["Female","65-74","Spine",{"$f":"REF_2ndFxProp!D100*Backend!$D36*Inputs!$B$49*Backend!H$10","v":0},{"$f":"REF_2ndFxProp!E100*Backend!$D36*Inputs!$B$49*Backend!I$10","v":0},{"$f":"REF_2ndFxProp!F100*Backend!$D36*Inputs!$B$49*Backend!J$10","v":0},{"$f":"REF_2ndFxProp!G100*Backend!$D36*Inputs!$B$49*Backend!K$10","v":0},{"$f":"REF_2ndFxProp!H100*Backend!$D36*Inputs!$B$49*Backend!L$10","v":0},{"$f":"REF_2ndFxProp!I100*Backend!$D36*Inputs!$B$49*Backend!M$10","v":0},{"$f":"REF_2ndFxProp!J100*Backend!$D36*Inputs!$B$49*Backend!N$10","v":0},{"$f":"REF_2ndFxProp!K100*Backend!$D36*Inputs!$B$49*Backend!O$10","v":0},{"$f":"REF_2ndFxProp!L100*Backend!$D36*Inputs!$B$49*Backend!P$10","v":0}]
["Female","65-74","Tibia/Fibula",{"$f":"REF_2ndFxProp!D101*Backend!$D37*Inputs!$B$49*Backend!H$10","v":0},{"$f":"REF_2ndFxProp!E101*Backend!$D37*Inputs!$B$49*Backend!I$10","v":0},{"$f":"REF_2ndFxProp!F101*Backend!$D37*Inputs!$B$49*Backend!J$10","v":0},{"$f":"REF_2ndFxProp!G101*Backend!$D37*Inputs!$B$49*Backend!K$10","v":0},{"$f":"REF_2ndFxProp!H101*Backend!$D37*Inputs!$B$49*Backend!L$10","v":0},{"$f":"REF_2ndFxProp!I101*Backend!$D37*Inputs!$B$49*Backend!M$10","v":0},{"$f":"REF_2ndFxProp!J101*Backend!$D37*Inputs!$B$49*Backend!N$10","v":0},{"$f":"REF_2ndFxProp!K101*Backend!$D37*Inputs!$B$49*Backend!O$10","v":0},{"$f":"REF_2ndFxProp!L101*Backend!$D37*Inputs!$B$49*Backend!P$10","v":0}]
["Female","75-84","Ankle",{"$f":"REF_2ndFxProp!D102*Backend!$D38*Inputs!$B$49*Backend!H$10","v":0},{"$f":"REF_2ndFxProp!E102*Backend!$D38*Inputs!$B$49*Backend!I$10","v":0},{"$f":"REF_2ndFxProp!F102*Backend!$D38*Inputs!$B$49*Backend!J$10","v":0},{"$f":"REF_2ndFxProp!G102*Backend!$D38*Inputs!$B$49*Backend!K$10","v":0},{"$f":"REF_2ndFxProp!H102*Backend!$D38*Inputs!$B$49*Backend!L$10","v":0},{"$f":"REF_2ndFxProp!I102*Backend!$D38*Inputs!$B$49*Backend!M$10","v":0},{"$f":"REF_2ndFxProp!J102*Backend!$D38*Inputs!$B$49*Backend!N$10","v":0},{"$f":"REF_2ndFxProp!K102*Backend!$D38*Inputs!$B$49*Backend!O$10","v":0},{"$f":"REF_2ndFxProp!L102*Backend!$D38*Inputs!$B$49*Backend!P$10","v":0}]
["Female","75-84","Clavicle",{"$f":"REF_2ndFxProp!D103*Backend!$D39*Inputs!$B$49*Backend!H$10","v":0},{"$f":"REF_2ndFxProp!E103*Backend!$D39*Inputs!$B$49*Backend!I$10","v":0},{"$f":"REF_2ndFxProp!F103*Backend!$D39*Inputs!$B$49*Backend!J$10","v":0},{"$f":"REF_2ndFxProp!G103*Backend!$D39*Inputs!$B$49*Backend!K$10","v":0},{"$f":"REF_2ndFxProp!H103*Backend!$D39*Inputs!$B$49*Backend!L$10","v":0},{"$f":"REF_2ndFxProp!I103*Backend!$D39*Inputs!$B$49*Backend!M$10","v":0},{"$f":"REF_2ndFxProp!J103*Backend!$D39*Inputs!$B$49*Backend!N$10","v":0},{"$f":"REF_2ndFxProp!K103*Backend!$D39*Inputs!$B$49*Backend!O$10","v":0},{"$f":"REF_2ndFxProp!L103*Backend!$D39*Inputs!$B$49*Backend!P$10","v":0}]
["Female","75-84","Femur",{"$f":"REF_2ndFxProp!D104*Backend!$D40*Inputs!$B$49*Backend!H$10","v":0},{"$f":"REF_2ndFxProp!E104*Backend!$D40*Inputs!$B$49*Backend!I$10","v":0},{"$f":"REF_2ndFxProp!F104*Backend!$D40*Inputs!$B$49*Backend!J$10","v":0},{"$f":"REF_2ndFxProp!G104*Backend!$D40*Inputs!$B$49*Backend!K$10","v":0},{"$f":"REF_2ndFxProp!H104*Backend!$D40*Inputs!$B$49*Backend!L$10","v":0},{"$f":"REF_2ndFxProp!I104*Backend!$D40*Inputs!$B$49*Backend!M$10","v":0},{"$f":"REF_2ndFxProp!J104*Backend!$D40*Inputs!$B$49*Backend!N$10","v":0},{"$f":"REF_2ndFxProp!K104*Backend!$D40*Inputs!$B$49*Backend!O$10","v":0},{"$f":"REF_2ndFxProp!L104*Backend!$D40*Inputs!$B$49*Backend!P$10","v":0}]
["Female","75-84","Hip",{"$f":"REF_2ndFxProp!D105*Backend!$D41*Inputs!$B$49*Backend!H$10","v":0},{"$f":"REF_2ndFxProp!E105*Backend!$D41*Inputs!$B$49*Backend!I$10","v":0},{"$f":"REF_2ndFxProp!F105*Backend!$D41*Inputs!$B$49*Backend!J$10","v":0},{"$f":"REF_2ndFxProp!G105*Backend!$D41*Inputs!$B$49*Backend!K$10","v":0},{"$f":"REF_2ndFxProp!H105*Backend!$D41*Inputs!$B$49*Backend!L$10","v":0},{"$f":"REF_2ndFxProp!I105*Backend!$D41*Inputs!$B$49*Backend!M$10","v":0},{"$f":"REF_2ndFxProp!J105*Backend!$D41*Inputs!$B$49*Backend!N$10","v":0},{"$f":"REF_2ndFxProp!K105*Backend!$D41*Inputs!$B$49*Backend!O$10","v":0},{"$f":"REF_2ndFxProp!L105*Backend!$D41*Inputs!$B$49*Backend!P$10","v":0}]
["Female","75-84","Humerus",{"$f":"REF_2ndFxProp!D106*Backend!$D42*Inputs!$B$49*Backend!H$10","v":0},{"$f":"REF_2ndFxProp!E106*Backend!$D42*Inputs!$B$49*Backend!I$10","v":0},{"$f":"REF_2ndFxProp!F106*Backend!$D42*Inputs!$B$49*Backend!J$10","v":0},{"$f":"REF_2ndFxProp!G106*Backend!$D42*Inputs!$B$49*Backend!K$10","v":0},{"$f":"REF_2ndFxProp!H106*Backend!$D42*Inputs!$B$49*Backend!L$10","v":0},{"$f":"REF_2ndFxProp!I106*Backend!$D42*Inputs!$B$49*Backend!M$10","v":0},{"$f":"REF_2ndFxProp!J106*Backend!$D42*Inputs!$B$49*Backend!N$10","v":0},{"$f":"REF_2ndFxProp!K106*Backend!$D42*Inputs!$B$49*Backend!O$10","v":0},{"$f":"REF_2ndFxProp!L106*Backend!$D42*Inputs!$B$49*Backend!P$10","v":0}]
["Female","75-84","Pelvis",{"$f":"REF_2ndFxProp!D107*Backend!$D43*Inputs!$B$49*Backend!H$10","v":0},{"$f":"REF_2ndFxProp!E107*Backend!$D43*Inputs!$B$49*Backend!I$10","v":0},{"$f":"REF_2ndFxProp!F107*Backend!$D43*Inputs!$B$49*Backend!J$10","v":0},{"$f":"REF_2ndFxProp!G107*Backend!$D43*Inputs!$B$49*Backend!K$10","v":0},{"$f":"REF_2ndFxProp!H107*Backend!$D43*Inputs!$B$49*Backend!L$10","v":0},{"$f":"REF_2ndFxProp!I107*Backend!$D43*Inputs!$B$49*Backend!M$10","v":0},{"$f":"REF_2ndFxProp!J107*Backend!$D43*Inputs!$B$49*Backend!N$10","v":0},{"$f":"REF_2ndFxProp!K107*Backend!$D43*Inputs!$B$49*Backend!O$10","v":0},{"$f":"REF_2ndFxProp!L107*Backend!$D43*Inputs!$B$49*Backend!P$10","v":0}]
["Female","75-84","Radius/Ulna",{"$f":"REF_2ndFxProp!D108*Backend!$D44*Inputs!$B$49*Backend!H$10","v":0},{"$f":"REF_2ndFxProp!E108*Backend!$D44*Inputs!$B$49*Backend!I$10","v":0},{"$f":"REF_2ndFxProp!F108*Backend!$D44*Inputs!$B$49*Backend!J$10","v":0},{"$f":"REF_2ndFxProp!G108*Backend!$D44*Inputs!$B$49*Backend!K$10","v":0},{"$f":"REF_2ndFxProp!H108*Backend!$D44*Inputs!$B$49*Backend!L$10","v":0},{"$f":"REF_2ndFxProp!I108*Backend!$D44*Inputs!$B$49*Backend!M$10","v":0},{"$f":"REF_2ndFxProp!J108*Backend!$D44*Inputs!$B$49*Backend!N$10","v":0},{"$f":"REF_2ndFxProp!K108*Backend!$D44*Inputs!$B$49*Backend!O$10","v":0},{"$f":"REF_2ndFxProp!L108*Backend!$D44*Inputs!$B$49*Backend!P$10","v":0}]
["Female","75-84","Spine",{"$f":"REF_2ndFxProp!D109*Backend!$D45*Inputs!$B$49*Backend!H$10","v":0},{"$f":"REF_2ndFxProp!E109*Backend!$D45*Inputs!$B$49*Backend!I$10","v":0},{"$f":"REF_2ndFxProp!F109*Backend!$D45*Inputs!$B$49*Backend!J$10","v":0},{"$f":"REF_2ndFxProp!G109*Backend!$D45*Inputs!$B$49*Backend!K$10","v":0},{"$f":"REF_2ndFxProp!H109*Backend!$D45*Inputs!$B$49*Backend!L$10","v":0},{"$f":"REF_2ndFxProp!I109*Backend!$D45*Inputs!$B$49*Backend!M$10","v":0},{"$f":"REF_2ndFxProp!J109*Backend!$D45*Inputs!$B$49*Backend!N$10","v":0},{"$f":"REF_2ndFxProp!K109*Backend!$D45*Inputs!$B$49*Backend!O$10","v":0},{"$f":"REF_2ndFxProp!L109*Backend!$D45*Inputs!$B$49*Backend!P$10","v":0}]
["Female","75-84","Tibia/Fibula",{"$f":"REF_2ndFxProp!D110*Backend!$D46*Inputs!$B$49*Backend!H$10","v":0},{"$f":"REF_2ndFxProp!E110*Backend!$D46*Inputs!$B$49*Backend!I$10","v":0},{"$f":"REF_2ndFxProp!F110*Backend!$D46*Inputs!$B$49*Backend!J$10","v":0},{"$f":"REF_2ndFxProp!G110*Backend!$D46*Inputs!$B$49*Backend!K$10","v":0},{"$f":"REF_2ndFxProp!H110*Backend!$D46*Inputs!$B$49*Backend!L$10","v":0},{"$f":"REF_2ndFxProp!I110*Backend!$D46*Inputs!$B$49*Backend!M$10","v":0},{"$f":"REF_2ndFxProp!J110*Backend!$D46*Inputs!$B$49*Backend!N$10","v":0},{"$f":"REF_2ndFxProp!K110*Backend!$D46*Inputs!$B$49*Backend!O$10","v":0},{"$f":"REF_2ndFxProp!L110*Backend!$D46*Inputs!$B$49*Backend!P$10","v":0}]
["Female","85+","Ankle",{"$f":"REF_2ndFxProp!D111*Backend!$D47*Inputs!$B$49*Backend!H$10","v":0},{"$f":"REF_2ndFxProp!E111*Backend!$D47*Inputs!$B$49*Backend!I$10","v":0},{"$f":"REF_2ndFxProp!F111*Backend!$D47*Inputs!$B$49*Backend!J$10","v":0},{"$f":"REF_2ndFxProp!G111*Backend!$D47*Inputs!$B$49*Backend!K$10","v":0},{"$f":"REF_2ndFxProp!H111*Backend!$D47*Inputs!$B$49*Backend!L$10","v":0},{"$f":"REF_2ndFxProp!I111*Backend!$D47*Inputs!$B$49*Backend!M$10","v":0},{"$f":"REF_2ndFxProp!J111*Backend!$D47*Inputs!$B$49*Backend!N$10","v":0},{"$f":"REF_2ndFxProp!K111*Backend!$D47*Inputs!$B$49*Backend!O$10","v":0},{"$f":"REF_2ndFxProp!L111*Backend!$D47*Inputs!$B$49*Backend!P$10","v":0}]
["Female","85+","Clavicle",{"$f":"REF_2ndFxProp!D112*Backend!$D48*Inputs!$B$49*Backend!H$10","v":0},{"$f":"REF_2ndFxProp!E112*Backend!$D48*Inputs!$B$49*Backend!I$10","v":0},{"$f":"REF_2ndFxProp!F112*Backend!$D48*Inputs!$B$49*Backend!J$10","v":0},{"$f":"REF_2ndFxProp!G112*Backend!$D48*Inputs!$B$49*Backend!K$10","v":0},{"$f":"REF_2ndFxProp!H112*Backend!$D48*Inputs!$B$49*Backend!L$10","v":0},{"$f":"REF_2ndFxProp!I112*Backend!$D48*Inputs!$B$49*Backend!M$10","v":0},{"$f":"REF_2ndFxProp!J112*Backend!$D48*Inputs!$B$49*Backend!N$10","v":0},{"$f":"REF_2ndFxProp!K112*Backend!$D48*Inputs!$B$49*Backend!O$10","v":0},{"$f":"REF_2ndFxProp!L112*Backend!$D48*Inputs!$B$49*Backend!P$10","v":0}]
["Female","85+","Femur",{"$f":"REF_2ndFxProp!D113*Backend!$D49*Inputs!$B$49*Backend!H$10","v":0},{"$f":"REF_2ndFxProp!E113*Backend!$D49*Inputs!$B$49*Backend!I$10","v":0},{"$f":"REF_2ndFxProp!F113*Backend!$D49*Inputs!$B$49*Backend!J$10","v":0},{"$f":"REF_2ndFxProp!G113*Backend!$D49*Inputs!$B$49*Backend!K$10","v":0},{"$f":"REF_2ndFxProp!H113*Backend!$D49*Inputs!$B$49*Backend!L$10","v":0},{"$f":"REF_2ndFxProp!I113*Backend!$D49*Inputs!$B$49*Backend!M$10","v":0},{"$f":"REF_2ndFxProp!J113*Backend!$D49*Inputs!$B$49*Backend!N$10","v":0},{"$f":"REF_2ndFxProp!K113*Backend!$D49*Inputs!$B$49*Backend!O$10","v":0},{"$f":"REF_2ndFxProp!L113*Backend!$D49*Inputs!$B$49*Backend!P$10","v":0}]
["Female","85+","Hip",{"$f":"REF_2ndFxProp!D114*Backend!$D50*Inputs!$B$49*Backend!H$10","v":0},{"$f":"REF_2ndFxProp!E114*Backend!$D50*Inputs!$B$49*Backend!I$10","v":0},{"$f":"REF_2ndFxProp!F114*Backend!$D50*Inputs!$B$49*Backend!J$10","v":0},{"$f":"REF_2ndFxProp!G114*Backend!$D50*Inputs!$B$49*Backend!K$10","v":0},{"$f":"REF_2ndFxProp!H114*Backend!$D50*Inputs!$B$49*Backend!L$10","v":0},{"$f":"REF_2ndFxProp!I114*Backend!$D50*Inputs!$B$49*Backend!M$10","v":0},{"$f":"REF_2ndFxProp!J114*Backend!$D50*Inputs!$B$49*Backend!N$10","v":0},{"$f":"REF_2ndFxProp!K114*Backend!$D50*Inputs!$B$49*Backend!O$10","v":0},{"$f":"REF_2ndFxProp!L114*Backend!$D50*Inputs!$B$49*Backend!P$10","v":0}]
["Female","85+","Humerus",{"$f":"REF_2ndFxProp!D115*Backend!$D51*Inputs!$B$49*Backend!H$10","v":0},{"$f":"REF_2ndFxProp!E115*Backend!$D51*Inputs!$B$49*Backend!I$10","v":0},{"$f":"REF_2ndFxProp!F115*Backend!$D51*Inputs!$B$49*Backend!J$10","v":0},{"$f":"REF_2ndFxProp!G115*Backend!$D51*Inputs!$B$49*Backend!K$10","v":0},{"$f":"REF_2ndFxProp!H115*Backend!$D51*Inputs!$B$49*Backend!L$10","v":0},{"$f":"REF_2ndFxProp!I115*Backend!$D51*Inputs!$B$49*Backend!M$10","v":0},{"$f":"REF_2ndFxProp!J115*Backend!$D51*Inputs!$B$49*Backend!N$10","v":0},{"$f":"REF_2ndFxProp!K115*Backend!$D51*Inputs!$B$49*Backend!O$10","v":0},{"$f":"REF_2ndFxProp!L115*Backend!$D51*Inputs!$B$49*Backend!P$10","v":0}]
["Female","85+","Pelvis",{"$f":"REF_2ndFxProp!D116*Backend!$D52*Inputs!$B$49*Backend!H$10","v":0},{"$f":"REF_2ndFxProp!E116*Backend!$D52*Inputs!$B$49*Backend!I$10","v":0},{"$f":"REF_2ndFxProp!F116*Backend!$D52*Inputs!$B$49*Backend!J$10","v":0},{"$f":"REF_2ndFxProp!G116*Backend!$D52*Inputs!$B$49*Backend!K$10","v":0},{"$f":"REF_2ndFxProp!H116*Backend!$D52*Inputs!$B$49*Backend!L$10","v":0},{"$f":"REF_2ndFxProp!I116*Backend!$D52*Inputs!$B$49*Backend!M$10","v":0},{"$f":"REF_2ndFxProp!J116*Backend!$D52*Inputs!$B$49*Backend!N$10","v":0},{"$f":"REF_2ndFxProp!K116*Backend!$D52*Inputs!$B$49*Backend!O$10","v":0},{"$f":"REF_2ndFxProp!L116*Backend!$D52*Inputs!$B$49*Backend!P$10","v":0}]
["Female","85+","Radius/Ulna",{"$f":"REF_2ndFxProp!D117*Backend!$D53*Inputs!$B$49*Backend!H$10","v":0},{"$f":"REF_2ndFxProp!E117*Backend!$D53*Inputs!$B$49*Backend!I$10","v":0},{"$f":"REF_2ndFxProp!F117*Backend!$D53*Inputs!$B$49*Backend!J$10","v":0},{"$f":"REF_2ndFxProp!G117*Backend!$D53*Inputs!$B$49*Backend!K$10","v":0},{"$f":"REF_2ndFxProp!H117*Backend!$D53*Inputs!$B$49*Backend!L$10","v":0},{"$f":"REF_2ndFxProp!I117*Backend!$D53*Inputs!$B$49*Backend!M$10","v":0},{"$f":"REF_2ndFxProp!J117*Backend!$D53*Inputs!$B$49*Backend!N$10","v":0},{"$f":"REF_2ndFxProp!K117*Backend!$D53*Inputs!$B$49*Backend!O$10","v":0},{"$f":"REF_2ndFxProp!L117*Backend!$D53*Inputs!$B$49*Backend!P$10","v":0}]
["Female","85+","Spine",{"$f":"REF_2ndFxProp!D118*Backend!$D54*Inputs!$B$49*Backend!H$10","v":0},{"$f":"REF_2ndFxProp!E118*Backend!$D54*Inputs!$B$49*Backend!I$10","v":0},{"$f":"REF_2ndFxProp!F118*Backend!$D54*Inputs!$B$49*Backend!J$10","v":0},{"$f":"REF_2ndFxProp!G118*Backend!$D54*Inputs!$B$49*Backend!K$10","v":0},{"$f":"REF_2ndFxProp!H118*Backend!$D54*Inputs!$B$49*Backend!L$10","v":0},{"$f":"REF_2ndFxProp!I118*Backend!$D54*Inputs!$B$49*Backend!M$10","v":0},{"$f":"REF_2ndFxProp!J118*Backend!$D54*Inputs!$B$49*Backend!N$10","v":0},{"$f":"REF_2ndFxProp!K118*Backend!$D54*Inputs!$B$49*Backend!O$10","v":0},{"$f":"REF_2ndFxProp!L118*Backend!$D54*Inputs!$B$49*Backend!P$10","v":0}]
["Female","85+","Tibia/Fibula",{"$f":"REF_2ndFxProp!D119*Backend!$D55*Inputs!$B$49*Backend!H$10","v":0},{"$f":"REF_2ndFxProp!E119*Backend!$D55*Inputs!$B$49*Backend!I$10","v":0},{"$f":"REF_2ndFxProp!F119*Backend!$D55*Inputs!$B$49*Backend!J$10","v":0},{"$f":"REF_2ndFxProp!G119*Backend!$D55*Inputs!$B$49*Backend!K$10","v":0},{"$f":"REF_2ndFxProp!H119*Backend!$D55*Inputs!$B$49*Backend!L$10","v":0},{"$f":"REF_2ndFxProp!I119*Backend!$D55*Inputs!$B$49*Backend!M$10","v":0},{"$f":"REF_2ndFxProp!J119*Backend!$D55*Inputs!$B$49*Backend!N$10","v":0},{"$f":"REF_2ndFxProp!K119*Backend!$D55*Inputs!$B$49*Backend!O$10","v":0},{"$f":"REF_2ndFxProp!L119*Backend!$D55*Inputs!$B$49*Backend!P$10","v":0}]
[]
[]
["Four Year Model"]
["Sex","Age","Initial Fracture Site","Second Fracture Status"]
[null,null,null,"Ankle","Clavicle","Femur","Hip","Humerus","Pelvis","Radius/Ulna","Spine","Tibia/Fibula"]
["Male","65-74","Ankle",{"$f":"REF_2ndFxProp!D125*Backend!$D2*Inputs!$B$49*Backend!H$10","v":0},{"$f":"REF_2ndFxProp!E125*Backend!$D2*Inputs!$B$49*Backend!I$10","v":0},{"$f":"REF_2ndFxProp!F125*Backend!$D2*Inputs!$B$49*Backend!J$10","v":0},{"$f":"REF_2ndFxProp!G125*Backend!$D2*Inputs!$B$49*Backend!K$10","v":0},{"$f":"REF_2ndFxProp!H125*Backend!$D2*Inputs!$B$49*Backend!L$10","v":0},{"$f":"REF_2ndFxProp!I125*Backend!$D2*Inputs!$B$49*Backend!M$10","v":0},{"$f":"REF_2ndFxProp!J125*Backend!$D2*Inputs!$B$49*Backend!N$10","v":0},{"$f":"REF_2ndFxProp!K125*Backend!$D2*Inputs!$B$49*Backend!O$10","v":0},{"$f":"REF_2ndFxProp!L125*Backend!$D2*Inputs!$B$49*Backend!P$10","v":0}]
["Male","65-74","Clavicle",{"$f":"REF_2ndFxProp!D126*Backend!$D3*Inputs!$B$49*Backend!H$10","v":0},{"$f":"REF_2ndFxProp!E126*Backend!$D3*Inputs!$B$49*Backend!I$10","v":0},{"$f":"REF_2ndFxProp!F126*Backend!$D3*Inputs!$B$49*Backend!J$10","v":0},{"$f":"REF_2ndFxProp!G126*Backend!$D3*Inputs!$B$49*Backend!K$10","v":0},{"$f":"REF_2ndFxProp!H126*Backend!$D3*Inputs!$B$49*Backend!L$10","v":0},{"$f":"REF_2ndFxProp!I126*Backend!$D3*Inputs!$B$49*Backend!M$10","v":0},{"$f":"REF_2ndFxProp!J126*Backend!$D3*Inputs!$B$49*Backend!N$10","v":0},{"$f":"REF_2ndFxProp!K126*Backend!$D3*Inputs!$B$49*Backend!O$10","v":0},{"$f":"REF_2ndFxProp!L126*Backend!$D3*Inputs!$B$49*Backend!P$10","v":0}]
["Male","65-74","Femur",{"$f":"REF_2ndFxProp!D127*Backend!$D4*Inputs!$B$49*Backend!H$10","v":0},{"$f":"REF_2ndFxProp!E127*Backend!$D4*Inputs!$B$49*Backend!I$10","v":0},{"$f":"REF_2ndFxProp!F127*Backend!$D4*Inputs!$B$49*Backend!J$10","v":0},{"$f":"REF_2ndFxProp!G127*Backend!$D4*Inputs!$B$49*Backend!K$10","v":0},{"$f":"REF_2ndFxProp!H127*Backend!$D4*Inputs!$B$49*Backend!L$10","v":0},{"$f":"REF_2ndFxProp!I127*Backend!$D4*Inputs!$B$49*Backend!M$10","v":0},{"$f":"REF_2ndFxProp!J127*Backend!$D4*Inputs!$B$49*Backend!N$10","v":0},{"$f":"REF_2ndFxProp!K127*Backend!$D4*Inputs!$B$49*Backend!O$10","v":0},{"$f":"REF_2ndFxProp!L127*Backend!$D4*Inputs!$B$49*Backend!P$10","v":0}]
["Male","65-74","Hip",{"$f":"REF_2ndFxProp!D128*Backend!$D5*Inputs!$B$49*Backend!H$10","v":0},{"$f":"REF_2ndFxProp!E128*Backend!$D5*Inputs!$B$49*Backend!I$10","v":0},{"$f":"REF_2ndFxProp!F128*Backend!$D5*Inputs!$B$49*Backend!J$10","v":0},{"$f":"REF_2ndFxProp!G128*Backend!$D5*Inputs!$B$49*Backend!K$10","v":0},{"$f":"REF_2ndFxProp!H128*Backend!$D5*Inputs!$B$49*Backend!L$10","v":0},{"$f":"REF_2ndFxProp!I128*Backend!$D5*Inputs!$B$49*Backend!M$10","v":0},{"$f":"REF_2ndFxProp!J128*Backend!$D5*Inputs!$B$49*Backend!N$10","v":0},{"$f":"REF_2ndFxProp!K128*Backend!$D5*Inputs!$B$49*Backend!O$10","v":0},{"$f":"REF_2ndFxProp!L128*Backend!$D5*Inputs!$B$49*Backend!P$10","v":0}]
["Male","65-74","Humerus",{"$f":"REF_2ndFxProp!D129*Backend!$D6*Inputs!$B$49*Backend!H$10","v":0},{"$f":"REF_2ndFxProp!E129*Backend!$D6*Inputs!$B$49*Backend!I$10","v":0},{"$f":"REF_2ndFxProp!F129*Backend!$D6*Inputs!$B$49*Backend!J$10","v":0},{"$f":"REF_2ndFxProp!G129*Backend!$D6*Inputs!$B$49*Backend!K$10","v":0},{"$f":"REF_2ndFxProp!H129*Backend!$D6*Inputs!$B$49*Backend!L$10","v":0},{"$f":"REF_2ndFxProp!I129*Backend!$D6*Inputs!$B$49*Backend!M$10","v":0},{"$f":"REF_2ndFxProp!J129*Backend!$D6*Inputs!$B$49*Backend!N$10","v":0},{"$f":"REF_2ndFxProp!K129*Backend!$D6*Inputs!$B$49*Backend!O$10","v":0},{"$f":"REF_2ndFxProp!L129*Backend!$D6*Inputs!$B$49*Backend!P$10","v":0}]
["Male","65-74","Pelvis",{"$f":"REF_2ndFxProp!D130*Backend!$D7*Inputs!$B$49*Backend!H$10","v":0},{"$f":"REF_2ndFxProp!E130*Backend!$D7*Inputs!$B$49*Backend!I$10","v":0},{"$f":"REF_2ndFxProp!F130*Backend!$D7*Inputs!$B$49*Backend!J$10","v":0},{"$f":"REF_2ndFxProp!G130*Backend!$D7*Inputs!$B$49*Backend!K$10","v":0},{"$f":"REF_2ndFxProp!H130*Backend!$D7*Inputs!$B$49*Backend!L$10","v":0},{"$f":"REF_2ndFxProp!I130*Backend!$D7*Inputs!$B$49*Backend!M$10","v":0},{"$f":"REF_2ndFxProp!J130*Backend!$D7*Inputs!$B$49*Backend!N$10","v":0},{"$f":"REF_2ndFxProp!K130*Backend!$D7*Inputs!$B$49*Backend!O$10","v":0},{"$f":"REF_2ndFxProp!L130*Backend!$D7*Inputs!$B$49*Backend!P$10","v":0}]
["Male","65-74","Radius/Ulna",{"$f":"REF_2ndFxProp!D131*Backend!$D8*Inputs!$B$49*Backend!H$10","v":0},{"$f":"REF_2ndFxProp!E131*Backend!$D8*Inputs!$B$49*Backend!I$10","v":0},{"$f":"REF_2ndFxProp!F131*Backend!$D8*Inputs!$B$49*Backend!J$10","v":0},{"$f":"REF_2ndFxProp!G131*Backend!$D8*Inputs!$B$49*Backend!K$10","v":0},{"$f":"REF_2ndFxProp!H131*Backend!$D8*Inputs!$B$49*Backend!L$10","v":0},{"$f":"REF_2ndFxProp!I131*Backend!$D8*Inputs!$B$49*Backend!M$10","v":0},{"$f":"REF_2ndFxProp!J131*Backend!$D8*Inputs!$B$49*Backend!N$10","v":0},{"$f":"REF_2ndFxProp!K131*Backend!$D8*Inputs!$B$49*Backend!O$10","v":0},{"$f":"REF_2ndFxProp!L131*Backend!$D8*Inputs!$B$49*Backend!P$10","v":0}]
["Male","65-74","Spine",{"$f":"REF_2ndFxProp!D132*Backend!$D9*Inputs!$B$49*Backend!H$10","v":0},{"$f":"REF_2ndFxProp!E132*Backend!$D9*Inputs!$B$49*Backend!I$10","v":0},{"$f":"REF_2ndFxProp!F132*Backend!$D9*Inputs!$B$49*Backend!J$10","v":0},{"$f":"REF_2ndFxProp!G132*Backend!$D9*Inputs!$B$49*Backend!K$10","v":0},{"$f":"REF_2ndFxProp!H132*Backend!$D9*Inputs!$B$49*Backend!L$10","v":0},{"$f":"REF_2ndFxProp!I132*Backend!$D9*Inputs!$B$49*Backend!M$10","v":0},{"$f":"REF_2ndFxProp!J132*Backend!$D9*Inputs!$B$49*Backend!N$10","v":0},{"$f":"REF_2ndFxProp!K132*Backend!$D9*Inputs!$B$49*Backend!O$10","v":0},{"$f":"REF_2ndFxProp!L132*Backend!$D9*Inputs!$B$49*Backend!P$10","v":0}]
["Male","65-74","Tibia/Fibula",{"$f":"REF_2ndFxProp!D133*Backend!$D10*Inputs!$B$49*Backend!H$10","v":0},{"$f":"REF_2ndFxProp!E133*Backend!$D10*Inputs!$B$49*Backend!I$10","v":0},{"$f":"REF_2ndFxProp!F133*Backend!$D10*Inputs!$B$49*Backend!J$10","v":0},{"$f":"REF_2ndFxProp!G133*Backend!$D10*Inputs!$B$49*Backend!K$10","v":0},{"$f":"REF_2ndFxProp!H133*Backend!$D10*Inputs!$B$49*Backend!L$10","v":0},{"$f":"REF_2ndFxProp!I133*Backend!$D10*Inputs!$B$49*Backend!M$10","v":0},{"$f":"REF_2ndFxProp!J133*Backend!$D10*Inputs!$B$49*Backend!N$10","v":0},{"$f":"REF_2ndFxProp!K133*Backend!$D10*Inputs!$B$49*Backend!O$10","v":0},{"$f":"REF_2ndFxProp!L133*Backend!$D10*Inputs!$B$49*Backend!P$10","v":0}]
["Male","75-84","Ankle",{"$f":"REF_2ndFxProp!D134*Backend!$D11*Inputs!$B$49*Backend!H$10","v":0},{"$f":"REF_2ndFxProp!E134*Backend!$D11*Inputs!$B$49*Backend!I$10","v":0},{"$f":"REF_2ndFxProp!F134*Backend!$D11*Inputs!$B$49*Backend!J$10","v":0},{"$f":"REF_2ndFxProp!G134*Backend!$D11*Inputs!$B$49*Backend!K$10","v":0},{"$f":"REF_2ndFxProp!H134*Backend!$D11*Inputs!$B$49*Backend!L$10","v":0},{"$f":"REF_2ndFxProp!I134*Backend!$D11*Inputs!$B$49*Backend!M$10","v":0},{"$f":"REF_2ndFxProp!J134*Backend!$D11*Inputs!$B$49*Backend!N$10","v":0},{"$f":"REF_2ndFxProp!K134*Backend!$D11*Inputs!$B$49*Backend!O$10","v":0},{"$f":"REF_2ndFxProp!L134*Backend!$D11*Inputs!$B$49*Backend!P$10","v":0}]
["Male","75-84","Clavicle",{"$f":"REF_2ndFxProp!D135*Backend!$D12*Inputs!$B$49*Backend!H$10","v":0},{"$f":"REF_2ndFxProp!E135*Backend!$D12*Inputs!$B$49*Backend!I$10","v":0},{"$f":"REF_2ndFxProp!F135*Backend!$D12*Inputs!$B$49*Backend!J$10","v":0},{"$f":"REF_2ndFxProp!G135*Backend!$D12*Inputs!$B$49*Backend!K$10","v":0},{"$f":"REF_2ndFxProp!H135*Backend!$D12*Inputs!$B$49*Backend!L$10","v":0},{"$f":"REF_2ndFxProp!I135*Backend!$D12*Inputs!$B$49*Backend!M$10","v":0},{"$f":"REF_2ndFxProp!J135*Backend!$D12*Inputs!$B$49*Backend!N$10","v":0},{"$f":"REF_2ndFxProp!K135*Backend!$D12*Inputs!$B$49*Backend!O$10","v":0},{"$f":"REF_2ndFxProp!L135*Backend!$D12*Inputs!$B$49*Backend!P$10","v":0}]
["Male","75-84","Femur",{"$f":"REF_2ndFxProp!D136*Backend!$D13*Inputs!$B$49*Backend!H$10","v":0},{"$f":"REF_2ndFxProp!E136*Backend!$D13*Inputs!$B$49*Backend!I$10","v":0},{"$f":"REF_2ndFxProp!F136*Backend!$D13*Inputs!$B$49*Backend!J$10","v":0},{"$f":"REF_2ndFxProp!G136*Backend!$D13*Inputs!$B$49*Backend!K$10","v":0},{"$f":"REF_2ndFxProp!H136*Backend!$D13*Inputs!$B$49*Backend!L$10","v":0},{"$f":"REF_2ndFxProp!I136*Backend!$D13*Inputs!$B$49*Backend!M$10","v":0},{"$f":"REF_2ndFxProp!J136*Backend!$D13*Inputs!$B$49*Backend!N$10","v":0},{"$f":"REF_2ndFxProp!K136*Backend!$D13*Inputs!$B$49*Backend!O$10","v":0},{"$f":"REF_2ndFxProp!L136*Backend!$D13*Inputs!$B$49*Backend!P$10","v":0}]
["Male","75-84","Hip",{"$f":"REF_2ndFxProp!D137*Backend!$D14*Inputs!$B$49*Backend!H$10","v":0},{"$f":"REF_2ndFxProp!E137*Backend!$D14*Inputs!$B$49*Backend!I$10","v":0},{"$f":"REF_2ndFxProp!F137*Backend!$D14*Inputs!$B$49*Backend!J$10","v":0},{"$f":"REF_2ndFxProp!G137*Backend!$D14*Inputs!$B$49*Backend!K$10","v":0},{"$f":"REF_2ndFxProp!H137*Backend!$D14*Inputs!$B$49*Backend!L$10","v":0},{"$f":"REF_2ndFxProp!I137*Backend!$D14*Inputs!$B$49*Backend!M$10","v":0},{"$f":"REF_2ndFxProp!J137*Backend!$D14*Inputs!$B$49*Backend!N$10","v":0},{"$f":"REF_2ndFxProp!K137*Backend!$D14*Inputs!$B$49*Backend!O$10","v":0},{"$f":"REF_2ndFxProp!L137*Backend!$D14*Inputs!$B$49*Backend!P$10","v":0}]
["Male","75-84","Humerus",{"$f":"REF_2ndFxProp!D138*Backend!$D15*Inputs!$B$49*Backend!H$10","v":0},{"$f":"REF_2ndFxProp!E138*Backend!$D15*Inputs!$B$49*Backend!I$10","v":0},{"$f":"REF_2ndFxProp!F138*Backend!$D15*Inputs!$B$49*Backend!J$10","v":0},{"$f":"REF_2ndFxProp!G138*Backend!$D15*Inputs!$B$49*Backend!K$10","v":0},{"$f":"REF_2ndFxProp!H138*Backend!$D15*Inputs!$B$49*Backend!L$10","v":0},{"$f":"REF_2ndFxProp!I138*Backend!$D15*Inputs!$B$49*Backend!M$10","v":0},{"$f":"REF_2ndFxProp!J138*Backend!$D15*Inputs!$B$49*Backend!N$10","v":0},{"$f":"REF_2ndFxProp!K138*Backend!$D15*Inputs!$B$49*Backend!O$10","v":0},{"$f":"REF_2ndFxProp!L138*Backend!$D15*Inputs!$B$49*Backend!P$10","v":0}]
["Male","75-84","Pelvis",{"$f":"REF_2ndFxProp!D139*Backend!$D16*Inputs!$B$49*Backend!H$10","v":0},{"$f":"REF_2ndFxProp!E139*Backend!$D16*Inputs!$B$49*Backend!I$10","v":0},{"$f":"REF_2ndFxProp!F139*Backend!$D16*Inputs!$B$49*Backend!J$10","v":0},{"$f":"REF_2ndFxProp!G139*Backend!$D16*Inputs!$B$49*Backend!K$10","v":0},{"$f":"REF_2ndFxProp!H139*Backend!$D16*Inputs!$B$49*Backend!L$10","v":0},{"$f":"REF_2ndFxProp!I139*Backend!$D16*Inputs!$B$49*Backend!M$10","v":0},{"$f":"REF_2ndFxProp!J139*Backend!$D16*Inputs!$B$49*Backend!N$10","v":0},{"$f":"REF_2ndFxProp!K139*Backend!$D16*Inputs!$B$49*Backend!O$10","v":0},{"$f":"REF_2ndFxProp!L139*Backend!$D16*Inputs!$B$49*Backend!P$10","v":0}]
["Male","75-84","Radius/Ulna",{"$f":"REF_2ndFxProp!D140*Backend!$D17*Inputs!$B$49*Backend!H$10","v":0},{"$f":"REF_2ndFxProp!E140*Backend!$D17*Inputs!$B$49*Backend!I$10","v":0},{"$f":"REF_2ndFxProp!F140*Backend!$D17*Inputs!$B$49*Backend!J$10","v":0},{"$f":"REF_2ndFxProp!G140*Backend!$D17*Inputs!$B$49*Backend!K$10","v":0},{"$f":"REF_2ndFxProp!H140*Backend!$D17*Inputs!$B$49*Backend!L$10","v":0},{"$f":"REF_2ndFxProp!I140*Backend!$D17*Inputs!$B$49*Backend!M$10","v":0},{"$f":"REF_2ndFxProp!J140*Backend!$D17*Inputs!$B$49*Backend!N$10","v":0},{"$f":"REF_2ndFxProp!K140*Backend!$D17*Inputs!$B$49*Backend!O$10","v":0},{"$f":"REF_2ndFxProp!L140*Backend!$D17*Inputs!$B$49*Backend!P$10","v":0}]
["Male","75-84","Spine",{"$f":"REF_2ndFxProp!D141*Backend!$D18*Inputs!$B$49*Backend!H$10","v":0},{"$f":"REF_2ndFxProp!E141*Backend!$D18*Inputs!$B$49*Backend!I$10","v":0},{"$f":"REF_2ndFxProp!F141*Backend!$D18*Inputs!$B$49*Backend!J$10","v":0},{"$f":"REF_2ndFxProp!G141*Backend!$D18*Inputs!$B$49*Backend!K$10","v":0},{"$f":"REF_2ndFxProp!H141*Backend!$D18*Inputs!$B$49*Backend!L$10","v":0},{"$f":"REF_2ndFxProp!I141*Backend!$D18*Inputs!$B$49*Backend!M$10","v":0},{"$f":"REF_2ndFxProp!J141*Backend!$D18*Inputs!$B$49*Backend!N$10","v":0},{"$f":"REF_2ndFxProp!K141*Backend!$D18*Inputs!$B$49*Backend!O$10","v":0},{"$f":"REF_2ndFxProp!L141*Backend!$D18*Inputs!$B$49*Backend!P$10","v":0}]
["Male","75-84","Tibia/Fibula",{"$f":"REF_2ndFxProp!D142*Backend!$D19*Inputs!$B$49*Backend!H$10","v":0},{"$f":"REF_2ndFxProp!E142*Backend!$D19*Inputs!$B$49*Backend!I$10","v":0},{"$f":"REF_2ndFxProp!F142*Backend!$D19*Inputs!$B$49*Backend!J$10","v":0},{"$f":"REF_2ndFxProp!G142*Backend!$D19*Inputs!$B$49*Backend!K$10","v":0},{"$f":"REF_2ndFxProp!H142*Backend!$D19*Inputs!$B$49*Backend!L$10","v":0},{"$f":"REF_2ndFxProp!I142*Backend!$D19*Inputs!$B$49*Backend!M$10","v":0},{"$f":"REF_2ndFxProp!J142*Backend!$D19*Inputs!$B$49*Backend!N$10","v":0},{"$f":"REF_2ndFxProp!K142*Backend!$D19*Inputs!$B$49*Backend!O$10","v":0},{"$f":"REF_2ndFxProp!L142*Backend!$D19*Inputs!$B$49*Backend!P$10","v":0}]
["Male","85+","Ankle",{"$f":"REF_2ndFxProp!D143*Backend!$D20*Inputs!$B$49*Backend!H$10","v":0},{"$f":"REF_2ndFxProp!E143*Backend!$D20*Inputs!$B$49*Backend!I$10","v":0},{"$f":"REF_2ndFxProp!F143*Backend!$D20*Inputs!$B$49*Backend!J$10","v":0},{"$f":"REF_2ndFxProp!G143*Backend!$D20*Inputs!$B$49*Backend!K$10","v":0},{"$f":"REF_2ndFxProp!H143*Backend!$D20*Inputs!$B$49*Backend!L$10","v":0},{"$f":"REF_2ndFxProp!I143*Backend!$D20*Inputs!$B$49*Backend!M$10","v":0},{"$f":"REF_2ndFxProp!J143*Backend!$D20*Inputs!$B$49*Backend!N$10","v":0},{"$f":"REF_2ndFxProp!K143*Backend!$D20*Inputs!$B$49*Backend!O$10","v":0},{"$f":"REF_2ndFxProp!L143*Backend!$D20*Inputs!$B$49*Backend!P$10","v":0}]
["Male","85+","Clavicle",{"$f":"REF_2ndFxProp!D144*Backend!$D21*Inputs!$B$49*Backend!H$10","v":0},{"$f":"REF_2ndFxProp!E144*Backend!$D21*Inputs!$B$49*Backend!I$10","v":0},{"$f":"REF_2ndFxProp!F144*Backend!$D21*Inputs!$B$49*Backend!J$10","v":0},{"$f":"REF_2ndFxProp!G144*Backend!$D21*Inputs!$B$49*Backend!K$10","v":0},{"$f":"REF_2ndFxProp!H144*Backend!$D21*Inputs!$B$49*Backend!L$10","v":0},{"$f":"REF_2ndFxProp!I144*Backend!$D21*Inputs!$B$49*Backend!M$10","v":0},{"$f":"REF_2ndFxProp!J144*Backend!$D21*Inputs!$B$49*Backend!N$10","v":0},{"$f":"REF_2ndFxProp!K144*Backend!$D21*Inputs!$B$49*Backend!O$10","v":0},{"$f":"REF_2ndFxProp!L144*Backend!$D21*Inputs!$B$49*Backend!P$10","v":0}]
["Male","85+","Femur",{"$f":"REF_2ndFxProp!D145*Backend!$D22*Inputs!$B$49*Backend!H$10","v":0},{"$f":"REF_2ndFxProp!E145*Backend!$D22*Inputs!$B$49*Backend!I$10","v":0},{"$f":"REF_2ndFxProp!F145*Backend!$D22*Inputs!$B$49*Backend!J$10","v":0},{"$f":"REF_2ndFxProp!G145*Backend!$D22*Inputs!$B$49*Backend!K$10","v":0},{"$f":"REF_2ndFxProp!H145*Backend!$D22*Inputs!$B$49*Backend!L$10","v":0},{"$f":"REF_2ndFxProp!I145*Backend!$D22*Inputs!$B$49*Backend!M$10","v":0},{"$f":"REF_2ndFxProp!J145*Backend!$D22*Inputs!$B$49*Backend!N$10","v":0},{"$f":"REF_2ndFxProp!K145*Backend!$D22*Inputs!$B$49*Backend!O$10","v":0},{"$f":"REF_2ndFxProp!L145*Backend!$D22*Inputs!$B$49*Backend!P$10","v":0}]
["Male","85+","Hip",{"$f":"REF_2ndFxProp!D146*Backend!$D23*Inputs!$B$49*Backend!H$10","v":0},{"$f":"REF_2ndFxProp!E146*Backend!$D23*Inputs!$B$49*Backend!I$10","v":0},{"$f":"REF_2ndFxProp!F146*Backend!$D23*Inputs!$B$49*Backend!J$10","v":0},{"$f":"REF_2ndFxProp!G146*Backend!$D23*Inputs!$B$49*Backend!K$10","v":0},{"$f":"REF_2ndFxProp!H146*Backend!$D23*Inputs!$B$49*Backend!L$10","v":0},{"$f":"REF_2ndFxProp!I146*Backend!$D23*Inputs!$B$49*Backend!M$10","v":0},{"$f":"REF_2ndFxProp!J146*Backend!$D23*Inputs!$B$49*Backend!N$10","v":0},{"$f":"REF_2ndFxProp!K146*Backend!$D23*Inputs!$B$49*Backend!O$10","v":0},{"$f":"REF_2ndFxProp!L146*Backend!$D23*Inputs!$B$49*Backend!P$10","v":0}]
["Male","85+","Humerus",{"$f":"REF_2ndFxProp!D147*Backend!$D24*Inputs!$B$49*Backend!H$10","v":0},{"$f":"REF_2ndFxProp!E147*Backend!$D24*Inputs!$B$49*Backend!I$10","v":0},{"$f":"REF_2ndFxProp!F147*Backend!$D24*Inputs!$B$49*Backend!J$10","v":0},{"$f":"REF_2ndFxProp!G147*Backend!$D24*Inputs!$B$49*Backend!K$10","v":0},{"$f":"REF_2ndFxProp!H147*Backend!$D24*Inputs!$B$49*Backend!L$10","v":0},{"$f":"REF_2ndFxProp!I147*Backend!$D24*Inputs!$B$49*Backend!M$10","v":0},{"$f":"REF_2ndFxProp!J147*Backend!$D24*Inputs!$B$49*Backend!N$10","v":0},{"$f":"REF_2ndFxProp!K147*Backend!$D24*Inputs!$B$49*Backend!O$10","v":0},{"$f":"REF_2ndFxProp!L147*Backend!$D24*Inputs!$B$49*Backend!P$10","v":0}]
["Male","85+","Pelvis",{"$f":"REF_2ndFxProp!D148*Backend!$D25*Inputs!$B$49*Backend!H$10","v":0},{"$f":"REF_2ndFxProp!E148*Backend!$D25*Inputs!$B$49*Backend!I$10","v":0},{"$f":"REF_2ndFxProp!F148*Backend!$D25*Inputs!$B$49*Backend!J$10","v":0},{"$f":"REF_2ndFxProp!G148*Backend!$D25*Inputs!$B$49*Backend!K$10","v":0},{"$f":"REF_2ndFxProp!H148*Backend!$D25*Inputs!$B$49*Backend!L$10","v":0},{"$f":"REF_2ndFxProp!I148*Backend!$D25*Inputs!$B$49*Backend!M$10","v":0},{"$f":"REF_2ndFxProp!J148*Backend!$D25*Inputs!$B$49*Backend!N$10","v":0},{"$f":"REF_2ndFxProp!K148*Backend!$D25*Inputs!$B$49*Backend!O$10","v":0},{"$f":"REF_2ndFxProp!L148*Backend!$D25*Inputs!$B$49*Backend!P$10","v":0}]
["Male","85+","Radius/Ulna",{"$f":"REF_2ndFxProp!D149*Backend!$D26*Inputs!$B$49*Backend!H$10","v":0},{"$f":"REF_2ndFxProp!E149*Backend!$D26*Inputs!$B$49*Backend!I$10","v":0},{"$f":"REF_2ndFxProp!F149*Backend!$D26*Inputs!$B$49*Backend!J$10","v":0},{"$f":"REF_2ndFxProp!G149*Backend!$D26*Inputs!$B$49*Backend!K$10","v":0},{"$f":"REF_2ndFxProp!H149*Backend!$D26*Inputs!$B$49*Backend!L$10","v":0},{"$f":"REF_2ndFxProp!I149*Backend!$D26*Inputs!$B$49*Backend!M$10","v":0},{"$f":"REF_2ndFxProp!J149*Backend!$D26*Inputs!$B$49*Backend!N$10","v":0},{"$f":"REF_2ndFxProp!K149*Backend!$D26*Inputs!$B$49*Backend!O$10","v":0},{"$f":"REF_2ndFxProp!L149*Backend!$D26*Inputs!$B$49*Backend!P$10","v":0}]
["Male","85+","Spine",{"$f":"REF_2ndFxProp!D150*Backend!$D27*Inputs!$B$49*Backend!H$10","v":0},{"$f":"REF_2ndFxProp!E150*Backend!$D27*Inputs!$B$49*Backend!I$10","v":0},{"$f":"REF_2ndFxProp!F150*Backend!$D27*Inputs!$B$49*Backend!J$10","v":0},{"$f":"REF_2ndFxProp!G150*Backend!$D27*Inputs!$B$49*Backend!K$10","v":0},{"$f":"REF_2ndFxProp!H150*Backend!$D27*Inputs!$B$49*Backend!L$10","v":0},{"$f":"REF_2ndFxProp!I150*Backend!$D27*Inputs!$B$49*Backend!M$10","v":0},{"$f":"REF_2ndFxProp!J150*Backend!$D27*Inputs!$B$49*Backend!N$10","v":0},{"$f":"REF_2ndFxProp!K150*Backend!$D27*Inputs!$B$49*Backend!O$10","v":0},{"$f":"REF_2ndFxProp!L150*Backend!$D27*Inputs!$B$49*Backend!P$10","v":0}]
["Male","85+","Tibia/Fibula",{"$f":"REF_2ndFxProp!D151*Backend!$D28*Inputs!$B$49*Backend!H$10","v":0},{"$f":"REF_2ndFxProp!E151*Backend!$D28*Inputs!$B$49*Backend!I$10","v":0},{"$f":"REF_2ndFxProp!F151*Backend!$D28*Inputs!$B$49*Backend!J$10","v":0},{"$f":"REF_2ndFxProp!G151*Backend!$D28*Inputs!$B$49*Backend!K$10","v":0},{"$f":"REF_2ndFxProp!H151*Backend!$D28*Inputs!$B$49*Backend!L$10","v":0},{"$f":"REF_2ndFxProp!I151*Backend!$D28*Inputs!$B$49*Backend!M$10","v":0},{"$f":"REF_2ndFxProp!J151*Backend!$D28*Inputs!$B$49*Backend!N$10","v":0},{"$f":"REF_2ndFxProp!K151*Backend!$D28*Inputs!$B$49*Backend!O$10","v":0},{"$f":"REF_2ndFxProp!L151*Backend!$D28*Inputs!$B$49*Backend!P$10","v":0}]
["Female","65-74","Ankle",{"$f":"REF_2ndFxProp!D152*Backend!$D29*Inputs!$B$49*Backend!H$10","v":0},{"$f":"REF_2ndFxProp!E152*Backend!$D29*Inputs!$B$49*Backend!I$10","v":0},{"$f":"REF_2ndFxProp!F152*Backend!$D29*Inputs!$B$49*Backend!J$10","v":0},{"$f":"REF_2ndFxProp!G152*Backend!$D29*Inputs!$B$49*Backend!K$10","v":0},{"$f":"REF_2ndFxProp!H152*Backend!$D29*Inputs!$B$49*Backend!L$10","v":0},{"$f":"REF_2ndFxProp!I152*Backend!$D29*Inputs!$B$49*Backend!M$10","v":0},{"$f":"REF_2ndFxProp!J152*Backend!$D29*Inputs!$B$49*Backend!N$10","v":0},{"$f":"REF_2ndFxProp!K152*Backend!$D29*Inputs!$B$49*Backend!O$10","v":0},{"$f":"REF_2ndFxProp!L152*Backend!$D29*Inputs!$B$49*Backend!P$10","v":0}]
["Female","65-74","Clavicle",{"$f":"REF_2ndFxProp!D153*Backend!$D30*Inputs!$B$49*Backend!H$10","v":0},{"$f":"REF_2ndFxProp!E153*Backend!$D30*Inputs!$B$49*Backend!I$10","v":0},{"$f":"REF_2ndFxProp!F153*Backend!$D30*Inputs!$B$49*Backend!J$10","v":0},{"$f":"REF_2ndFxProp!G153*Backend!$D30*Inputs!$B$49*Backend!K$10","v":0},{"$f":"REF_2ndFxProp!H153*Backend!$D30*Inputs!$B$49*Backend!L$10","v":0},{"$f":"REF_2ndFxProp!I153*Backend!$D30*Inputs!$B$49*Backend!M$10","v":0},{"$f":"REF_2ndFxProp!J153*Backend!$D30*Inputs!$B$49*Backend!N$10","v":0},{"$f":"REF_2ndFxProp!K153*Backend!$D30*Inputs!$B$49*Backend!O$10","v":0},{"$f":"REF_2ndFxProp!L153*Backend!$D30*Inputs!$B$49*Backend!P$10","v":0}]
["Female","65-74","Femur",{"$f":"REF_2ndFxProp!D154*Backend!$D31*Inputs!$B$49*Backend!H$10","v":0},{"$f":"REF_2ndFxProp!E154*Backend!$D31*Inputs!$B$49*Backend!I$10","v":0},{"$f":"REF_2ndFxProp!F154*Backend!$D31*Inputs!$B$49*Backend!J$10","v":0},{"$f":"REF_2ndFxProp!G154*Backend!$D31*Inputs!$B$49*Backend!K$10","v":0},{"$f":"REF_2ndFxProp!H154*Backend!$D31*Inputs!$B$49*Backend!L$10","v":0},{"$f":"REF_2ndFxProp!I154*Backend!$D31*Inputs!$B$49*Backend!M$10","v":0},{"$f":"REF_2ndFxProp!J154*Backend!$D31*Inputs!$B$49*Backend!N$10","v":0},{"$f":"REF_2ndFxProp!K154*Backend!$D31*Inputs!$B$49*Backend!O$10","v":0},{"$f":"REF_2ndFxProp!L154*Backend!$D31*Inputs!$B$49*Backend!P$10","v":0}]
["Female","65-74","Hip",{"$f":"REF_2ndFxProp!D155*Backend!$D32*Inputs!$B$49*Backend!H$10","v":0},{"$f":"REF_2ndFxProp!E155*Backend!$D32*Inputs!$B$49*Backend!I$10","v":0},{"$f":"REF_2ndFxProp!F155*Backend!$D32*Inputs!$B$49*Backend!J$10","v":0},{"$f":"REF_2ndFxProp!G155*Backend!$D32*Inputs!$B$49*Backend!K$10","v":0},{"$f":"REF_2ndFxProp!H155*Backend!$D32*Inputs!$B$49*Backend!L$10","v":0},{"$f":"REF_2ndFxProp!I155*Backend!$D32*Inputs!$B$49*Backend!M$10","v":0},{"$f":"REF_2ndFxProp!J155*Backend!$D32*Inputs!$B$49*Backend!N$10","v":0},{"$f":"REF_2ndFxProp!K155*Backend!$D32*Inputs!$B$49*Backend!O$10","v":0},{"$f":"REF_2ndFxProp!L155*Backend!$D32*Inputs!$B$49*Backend!P$10","v":0}]
["Female","65-74","Humerus",{"$f":"REF_2ndFxProp!D156*Backend!$D33*Inputs!$B$49*Backend!H$10","v":0},{"$f":"REF_2ndFxProp!E156*Backend!$D33*Inputs!$B$49*Backend!I$10","v":0},{"$f":"REF_2ndFxProp!F156*Backend!$D33*Inputs!$B$49*Backend!J$10","v":0},{"$f":"REF_2ndFxProp!G156*Backend!$D33*Inputs!$B$49*Backend!K$10","v":0},{"$f":"REF_2ndFxProp!H156*Backend!$D33*Inputs!$B$49*Backend!L$10","v":0},{"$f":"REF_2ndFxProp!I156*Backend!$D33*Inputs!$B$49*Backend!M$10","v":0},{"$f":"REF_2ndFxProp!J156*Backend!$D33*Inputs!$B$49*Backend!N$10","v":0},{"$f":"REF_2ndFxProp!K156*Backend!$D33*Inputs!$B$49*Backend!O$10","v":0},{"$f":"REF_2ndFxProp!L156*Backend!$D33*Inputs!$B$49*Backend!P$10","v":0}]
["Female","65-74","Pelvis",{"$f":"REF_2ndFxProp!D157*Backend!$D34*Inputs!$B$49*Backend!H$10","v":0},{"$f":"REF_2ndFxProp!E157*Backend!$D34*Inputs!$B$49*Backend!I$10","v":0},{"$f":"REF_2ndFxProp!F157*Backend!$D34*Inputs!$B$49*Backend!J$10","v":0},{"$f":"REF_2ndFxProp!G157*Backend!$D34*Inputs!$B$49*Backend!K$10","v":0},{"$f":"REF_2ndFxProp!H157*Backend!$D34*Inputs!$B$49*Backend!L$10","v":0},{"$f":"REF_2ndFxProp!I157*Backend!$D34*Inputs!$B$49*Backend!M$10","v":0},{"$f":"REF_2ndFxProp!J157*Backend!$D34*Inputs!$B$49*Backend!N$10","v":0},{"$f":"REF_2ndFxProp!K157*Backend!$D34*Inputs!$B$49*Backend!O$10","v":0},{"$f":"REF_2ndFxProp!L157*Backend!$D34*Inputs!$B$49*Backend!P$10","v":0}]
["Female","65-74","Radius/Ulna",{"$f":"REF_2ndFxProp!D158*Backend!$D35*Inputs!$B$49*Backend!H$10","v":0},{"$f":"REF_2ndFxProp!E158*Backend!$D35*Inputs!$B$49*Backend!I$10","v":0},{"$f":"REF_2ndFxProp!F158*Backend!$D35*Inputs!$B$49*Backend!J$10","v":0},{"$f":"REF_2ndFxProp!G158*Backend!$D35*Inputs!$B$49*Backend!K$10","v":0},{"$f":"REF_2ndFxProp!H158*Backend!$D35*Inputs!$B$49*Backend!L$10","v":0},{"$f":"REF_2ndFxProp!I158*Backend!$D35*Inputs!$B$49*Backend!M$10","v":0},{"$f":"REF_2ndFxProp!J158*Backend!$D35*Inputs!$B$49*Backend!N$10","v":0},{"$f":"REF_2ndFxProp!K158*Backend!$D35*Inputs!$B$49*Backend!O$10","v":0},{"$f":"REF_2ndFxProp!L158*Backend!$D35*Inputs!$B$49*Backend!P$10","v":0}]
["Female","65-74","Spine",{"$f":"REF_2ndFxProp!D159*Backend!$D36*Inputs!$B$49*Backend!H$10","v":0},{"$f":"REF_2ndFxProp!E159*Backend!$D36*Inputs!$B$49*Backend!I$10","v":0},{"$f":"REF_2ndFxProp!F159*Backend!$D36*Inputs!$B$49*Backend!J$10","v":0},{"$f":"REF_2ndFxProp!G159*Backend!$D36*Inputs!$B$49*Backend!K$10","v":0},{"$f":"REF_2ndFxProp!H159*Backend!$D36*Inputs!$B$49*Backend!L$10","v":0},{"$f":"REF_2ndFxProp!I159*Backend!$D36*Inputs!$B$49*Backend!M$10","v":0},{"$f":"REF_2ndFxProp!J159*Backend!$D36*Inputs!$B$49*Backend!N$10","v":0},{"$f":"REF_2ndFxProp!K159*Backend!$D36*Inputs!$B$49*Backend!O$10","v":0},{"$f":"REF_2ndFxProp!L159*Backend!$D36*Inputs!$B$49*Backend!P$10","v":0}]
["Female","65-74","Tibia/Fibula",{"$f":"REF_2ndFxProp!D160*Backend!$D37*Inputs!$B$49*Backend!H$10","v":0},{"$f":"REF_2ndFxProp!E160*Backend!$D37*Inputs!$B$49*Backend!I$10","v":0},{"$f":"REF_2ndFxProp!F160*Backend!$D37*Inputs!$B$49*Backend!J$10","v":0},{"$f":"REF_2ndFxProp!G160*Backend!$D37*Inputs!$B$49*Backend!K$10","v":0},{"$f":"REF_2ndFxProp!H160*Backend!$D37*Inputs!$B$49*Backend!L$10","v":0},{"$f":"REF_2ndFxProp!I160*Backend!$D37*Inputs!$B$49*Backend!M$10","v":0},{"$f":"REF_2ndFxProp!J160*Backend!$D37*Inputs!$B$49*Backend!N$10","v":0},{"$f":"REF_2ndFxProp!K160*Backend!$D37*Inputs!$B$49*Backend!O$10","v":0},{"$f":"REF_2ndFxProp!L160*Backend!$D37*Inputs!$B$49*Backend!P$10","v":0}]
["Female","75-84","Ankle",{"$f":"REF_2ndFxProp!D161*Backend!$D38*Inputs!$B$49*Backend!H$10","v":0},{"$f":"REF_2ndFxProp!E161*Backend!$D38*Inputs!$B$49*Backend!I$10","v":0},{"$f":"REF_2ndFxProp!F161*Backend!$D38*Inputs!$B$49*Backend!J$10","v":0},{"$f":"REF_2ndFxProp!G161*Backend!$D38*Inputs!$B$49*Backend!K$10","v":0},{"$f":"REF_2ndFxProp!H161*Backend!$D38*Inputs!$B$49*Backend!L$10","v":0},{"$f":"REF_2ndFxProp!I161*Backend!$D38*Inputs!$B$49*Backend!M$10","v":0},{"$f":"REF_2ndFxProp!J161*Backend!$D38*Inputs!$B$49*Backend!N$10","v":0},{"$f":"REF_2ndFxProp!K161*Backend!$D38*Inputs!$B$49*Backend!O$10","v":0},{"$f":"REF_2ndFxProp!L161*Backend!$D38*Inputs!$B$49*Backend!P$10","v":0}]
["Female","75-84","Clavicle",{"$f":"REF_2ndFxProp!D162*Backend!$D39*Inputs!$B$49*Backend!H$10","v":0},{"$f":"REF_2ndFxProp!E162*Backend!$D39*Inputs!$B$49*Backend!I$10","v":0},{"$f":"REF_2ndFxProp!F162*Backend!$D39*Inputs!$B$49*Backend!J$10","v":0},{"$f":"REF_2ndFxProp!G162*Backend!$D39*Inputs!$B$49*Backend!K$10","v":0},{"$f":"REF_2ndFxProp!H162*Backend!$D39*Inputs!$B$49*Backend!L$10","v":0},{"$f":"REF_2ndFxProp!I162*Backend!$D39*Inputs!$B$49*Backend!M$10","v":0},{"$f":"REF_2ndFxProp!J162*Backend!$D39*Inputs!$B$49*Backend!N$10","v":0},{"$f":"REF_2ndFxProp!K162*Backend!$D39*Inputs!$B$49*Backend!O$10","v":0},{"$f":"REF_2ndFxProp!L162*Backend!$D39*Inputs!$B$49*Backend!P$10","v":0}]
["Female","75-84","Femur",{"$f":"REF_2ndFxProp!D163*Backend!$D40*Inputs!$B$49*Backend!H$10","v":0},{"$f":"REF_2ndFxProp!E163*Backend!$D40*Inputs!$B$49*Backend!I$10","v":0},{"$f":"REF_2ndFxProp!F163*Backend!$D40*Inputs!$B$49*Backend!J$10","v":0},{"$f":"REF_2ndFxProp!G163*Backend!$D40*Inputs!$B$49*Backend!K$10","v":0},{"$f":"REF_2ndFxProp!H163*Backend!$D40*Inputs!$B$49*Backend!L$10","v":0},{"$f":"REF_2ndFxProp!I163*Backend!$D40*Inputs!$B$49*Backend!M$10","v":0},{"$f":"REF_2ndFxProp!J163*Backend!$D40*Inputs!$B$49*Backend!N$10","v":0},{"$f":"REF_2ndFxProp!K163*Backend!$D40*Inputs!$B$49*Backend!O$10","v":0},{"$f":"REF_2ndFxProp!L163*Backend!$D40*Inputs!$B$49*Backend!P$10","v":0}]
["Female","75-84","Hip",{"$f":"REF_2ndFxProp!D164*Backend!$D41*Inputs!$B$49*Backend!H$10","v":0},{"$f":"REF_2ndFxProp!E164*Backend!$D41*Inputs!$B$49*Backend!I$10","v":0},{"$f":"REF_2ndFxProp!F164*Backend!$D41*Inputs!$B$49*Backend!J$10","v":0},{"$f":"REF_2ndFxProp!G164*Backend!$D41*Inputs!$B$49*Backend!K$10","v":0},{"$f":"REF_2ndFxProp!H164*Backend!$D41*Inputs!$B$49*Backend!L$10","v":0},{"$f":"REF_2ndFxProp!I164*Backend!$D41*Inputs!$B$49*Backend!M$10","v":0},{"$f":"REF_2ndFxProp!J164*Backend!$D41*Inputs!$B$49*Backend!N$10","v":0},{"$f":"REF_2ndFxProp!K164*Backend!$D41*Inputs!$B$49*Backend!O$10","v":0},{"$f":"REF_2ndFxProp!L164*Backend!$D41*Inputs!$B$49*Backend!P$10","v":0}]
["Female","75-84","Humerus",{"$f":"REF_2ndFxProp!D165*Backend!$D42*Inputs!$B$49*Backend!H$10","v":0},{"$f":"REF_2ndFxProp!E165*Backend!$D42*Inputs!$B$49*Backend!I$10","v":0},{"$f":"REF_2ndFxProp!F165*Backend!$D42*Inputs!$B$49*Backend!J$10","v":0},{"$f":"REF_2ndFxProp!G165*Backend!$D42*Inputs!$B$49*Backend!K$10","v":0},{"$f":"REF_2ndFxProp!H165*Backend!$D42*Inputs!$B$49*Backend!L$10","v":0},{"$f":"REF_2ndFxProp!I165*Backend!$D42*Inputs!$B$49*Backend!M$10","v":0},{"$f":"REF_2ndFxProp!J165*Backend!$D42*Inputs!$B$49*Backend!N$10","v":0},{"$f":"REF_2ndFxProp!K165*Backend!$D42*Inputs!$B$49*Backend!O$10","v":0},{"$f":"REF_2ndFxProp!L165*Backend!$D42*Inputs!$B$49*Backend!P$10","v":0}]
["Female","75-84","Pelvis",{"$f":"REF_2ndFxProp!D166*Backend!$D43*Inputs!$B$49*Backend!H$10","v":0},{"$f":"REF_2ndFxProp!E166*Backend!$D43*Inputs!$B$49*Backend!I$10","v":0},{"$f":"REF_2ndFxProp!F166*Backend!$D43*Inputs!$B$49*Backend!J$10","v":0},{"$f":"REF_2ndFxProp!G166*Backend!$D43*Inputs!$B$49*Backend!K$10","v":0},{"$f":"REF_2ndFxProp!H166*Backend!$D43*Inputs!$B$49*Backend!L$10","v":0},{"$f":"REF_2ndFxProp!I166*Backend!$D43*Inputs!$B$49*Backend!M$10","v":0},{"$f":"REF_2ndFxProp!J166*Backend!$D43*Inputs!$B$49*Backend!N$10","v":0},{"$f":"REF_2ndFxProp!K166*Backend!$D43*Inputs!$B$49*Backend!O$10","v":0},{"$f":"REF_2ndFxProp!L166*Backend!$D43*Inputs!$B$49*Backend!P$10","v":0}]
["Female","75-84","Radius/Ulna",{"$f":"REF_2ndFxProp!D167*Backend!$D44*Inputs!$B$49*Backend!H$10","v":0},{"$f":"REF_2ndFxProp!E167*Backend!$D44*Inputs!$B$49*Backend!I$10","v":0},{"$f":"REF_2ndFxProp!F167*Backend!$D44*Inputs!$B$49*Backend!J$10","v":0},{"$f":"REF_2ndFxProp!G167*Backend!$D44*Inputs!$B$49*Backend!K$10","v":0},{"$f":"REF_2ndFxProp!H167*Backend!$D44*Inputs!$B$49*Backend!L$10","v":0},{"$f":"REF_2ndFxProp!I167*Backend!$D44*Inputs!$B$49*Backend!M$10","v":0},{"$f":"REF_2ndFxProp!J167*Backend!$D44*Inputs!$B$49*Backend!N$10","v":0},{"$f":"REF_2ndFxProp!K167*Backend!$D44*Inputs!$B$49*Backend!O$10","v":0},{"$f":"REF_2ndFxProp!L167*Backend!$D44*Inputs!$B$49*Backend!P$10","v":0}]
["Female","75-84","Spine",{"$f":"REF_2ndFxProp!D168*Backend!$D45*Inputs!$B$49*Backend!H$10","v":0},{"$f":"REF_2ndFxProp!E168*Backend!$D45*Inputs!$B$49*Backend!I$10","v":0},{"$f":"REF_2ndFxProp!F168*Backend!$D45*Inputs!$B$49*Backend!J$10","v":0},{"$f":"REF_2ndFxProp!G168*Backend!$D45*Inputs!$B$49*Backend!K$10","v":0},{"$f":"REF_2ndFxProp!H168*Backend!$D45*Inputs!$B$49*Backend!L$10","v":0},{"$f":"REF_2ndFxProp!I168*Backend!$D45*Inputs!$B$49*Backend!M$10","v":0},{"$f":"REF_2ndFxProp!J168*Backend!$D45*Inputs!$B$49*Backend!N$10","v":0},{"$f":"REF_2ndFxProp!K168*Backend!$D45*Inputs!$B$49*Backend!O$10","v":0},{"$f":"REF_2ndFxProp!L168*Backend!$D45*Inputs!$B$49*Backend!P$10","v":0}]
["Female","75-84","Tibia/Fibula",{"$f":"REF_2ndFxProp!D169*Backend!$D46*Inputs!$B$49*Backend!H$10","v":0},{"$f":"REF_2ndFxProp!E169*Backend!$D46*Inputs!$B$49*Backend!I$10","v":0},{"$f":"REF_2ndFxProp!F169*Backend!$D46*Inputs!$B$49*Backend!J$10","v":0},{"$f":"REF_2ndFxProp!G169*Backend!$D46*Inputs!$B$49*Backend!K$10","v":0},{"$f":"REF_2ndFxProp!H169*Backend!$D46*Inputs!$B$49*Backend!L$10","v":0},{"$f":"REF_2ndFxProp!I169*Backend!$D46*Inputs!$B$49*Backend!M$10","v":0},{"$f":"REF_2ndFxProp!J169*Backend!$D46*Inputs!$B$49*Backend!N$10","v":0},{"$f":"REF_2ndFxProp!K169*Backend!$D46*Inputs!$B$49*Backend!O$10","v":0},{"$f":"REF_2ndFxProp!L169*Backend!$D46*Inputs!$B$49*Backend!P$10","v":0}]
["Female","85+","Ankle",{"$f":"REF_2ndFxProp!D170*Backend!$D47*Inputs!$B$49*Backend!H$10","v":0},{"$f":"REF_2ndFxProp!E170*Backend!$D47*Inputs!$B$49*Backend!I$10","v":0},{"$f":"REF_2ndFxProp!F170*Backend!$D47*Inputs!$B$49*Backend!J$10","v":0},{"$f":"REF_2ndFxProp!G170*Backend!$D47*Inputs!$B$49*Backend!K$10","v":0},{"$f":"REF_2ndFxProp!H170*Backend!$D47*Inputs!$B$49*Backend!L$10","v":0},{"$f":"REF_2ndFxProp!I170*Backend!$D47*Inputs!$B$49*Backend!M$10","v":0},{"$f":"REF_2ndFxProp!J170*Backend!$D47*Inputs!$B$49*Backend!N$10","v":0},{"$f":"REF_2ndFxProp!K170*Backend!$D47*Inputs!$B$49*Backend!O$10","v":0},{"$f":"REF_2ndFxProp!L170*Backend!$D47*Inputs!$B$49*Backend!P$10","v":0}]
["Female","85+","Clavicle",{"$f":"REF_2ndFxProp!D171*Backend!$D48*Inputs!$B$49*Backend!H$10","v":0},{"$f":"REF_2ndFxProp!E171*Backend!$D48*Inputs!$B$49*Backend!I$10","v":0},{"$f":"REF_2ndFxProp!F171*Backend!$D48*Inputs!$B$49*Backend!J$10","v":0},{"$f":"REF_2ndFxProp!G171*Backend!$D48*Inputs!$B$49*Backend!K$10","v":0},{"$f":"REF_2ndFxProp!H171*Backend!$D48*Inputs!$B$49*Backend!L$10","v":0},{"$f":"REF_2ndFxProp!I171*Backend!$D48*Inputs!$B$49*Backend!M$10","v":0},{"$f":"REF_2ndFxProp!J171*Backend!$D48*Inputs!$B$49*Backend!N$10","v":0},{"$f":"REF_2ndFxProp!K171*Backend!$D48*Inputs!$B$49*Backend!O$10","v":0},{"$f":"REF_2ndFxProp!L171*Backend!$D48*Inputs!$B$49*Backend!P$10","v":0}]
["Female","85+","Femur",{"$f":"REF_2ndFxProp!D172*Backend!$D49*Inputs!$B$49*Backend!H$10","v":0},{"$f":"REF_2ndFxProp!E172*Backend!$D49*Inputs!$B$49*Backend!I$10","v":0},{"$f":"REF_2ndFxProp!F172*Backend!$D49*Inputs!$B$49*Backend!J$10","v":0},{"$f":"REF_2ndFxProp!G172*Backend!$D49*Inputs!$B$49*Backend!K$10","v":0},{"$f":"REF_2ndFxProp!H172*Backend!$D49*Inputs!$B$49*Backend!L$10","v":0},{"$f":"REF_2ndFxProp!I172*Backend!$D49*Inputs!$B$49*Backend!M$10","v":0},{"$f":"REF_2ndFxProp!J172*Backend!$D49*Inputs!$B$49*Backend!N$10","v":0},{"$f":"REF_2ndFxProp!K172*Backend!$D49*Inputs!$B$49*Backend!O$10","v":0},{"$f":"REF_2ndFxProp!L172*Backend!$D49*Inputs!$B$49*Backend!P$10","v":0}]
["Female","85+","Hip",{"$f":"REF_2ndFxProp!D173*Backend!$D50*Inputs!$B$49*Backend!H$10","v":0},{"$f":"REF_2ndFxProp!E173*Backend!$D50*Inputs!$B$49*Backend!I$10","v":0},{"$f":"REF_2ndFxProp!F173*Backend!$D50*Inputs!$B$49*Backend!J$10","v":0},{"$f":"REF_2ndFxProp!G173*Backend!$D50*Inputs!$B$49*Backend!K$10","v":0},{"$f":"REF_2ndFxProp!H173*Backend!$D50*Inputs!$B$49*Backend!L$10","v":0},{"$f":"REF_2ndFxProp!I173*Backend!$D50*Inputs!$B$49*Backend!M$10","v":0},{"$f":"REF_2ndFxProp!J173*Backend!$D50*Inputs!$B$49*Backend!N$10","v":0},{"$f":"REF_2ndFxProp!K173*Backend!$D50*Inputs!$B$49*Backend!O$10","v":0},{"$f":"REF_2ndFxProp!L173*Backend!$D50*Inputs!$B$49*Backend!P$10","v":0}]
["Female","85+","Humerus",{"$f":"REF_2ndFxProp!D174*Backend!$D51*Inputs!$B$49*Backend!H$10","v":0},{"$f":"REF_2ndFxProp!E174*Backend!$D51*Inputs!$B$49*Backend!I$10","v":0},{"$f":"REF_2ndFxProp!F174*Backend!$D51*Inputs!$B$49*Backend!J$10","v":0},{"$f":"REF_2ndFxProp!G174*Backend!$D51*Inputs!$B$49*Backend!K$10","v":0},{"$f":"REF_2ndFxProp!H174*Backend!$D51*Inputs!$B$49*Backend!L$10","v":0},{"$f":"REF_2ndFxProp!I174*Backend!$D51*Inputs!$B$49*Backend!M$10","v":0},{"$f":"REF_2ndFxProp!J174*Backend!$D51*Inputs!$B$49*Backend!N$10","v":0},{"$f":"REF_2ndFxProp!K174*Backend!$D51*Inputs!$B$49*Backend!O$10","v":0},{"$f":"REF_2ndFxProp!L174*Backend!$D51*Inputs!$B$49*Backend!P$10","v":0}]
["Female","85+","Pelvis",{"$f":"REF_2ndFxProp!D175*Backend!$D52*Inputs!$B$49*Backend!H$10","v":0},{"$f":"REF_2ndFxProp!E175*Backend!$D52*Inputs!$B$49*Backend!I$10","v":0},{"$f":"REF_2ndFxProp!F175*Backend!$D52*Inputs!$B$49*Backend!J$10","v":0},{"$f":"REF_2ndFxProp!G175*Backend!$D52*Inputs!$B$49*Backend!K$10","v":0},{"$f":"REF_2ndFxProp!H175*Backend!$D52*Inputs!$B$49*Backend!L$10","v":0},{"$f":"REF_2ndFxProp!I175*Backend!$D52*Inputs!$B$49*Backend!M$10","v":0},{"$f":"REF_2ndFxProp!J175*Backend!$D52*Inputs!$B$49*Backend!N$10","v":0},{"$f":"REF_2ndFxProp!K175*Backend!$D52*Inputs!$B$49*Backend!O$10","v":0},{"$f":"REF_2ndFxProp!L175*Backend!$D52*Inputs!$B$49*Backend!P$10","v":0}]
["Female","85+","Radius/Ulna",{"$f":"REF_2ndFxProp!D176*Backend!$D53*Inputs!$B$49*Backend!H$10","v":0},{"$f":"REF_2ndFxProp!E176*Backend!$D53*Inputs!$B$49*Backend!I$10","v":0},{"$f":"REF_2ndFxProp!F176*Backend!$D53*Inputs!$B$49*Backend!J$10","v":0},{"$f":"REF_2ndFxProp!G176*Backend!$D53*Inputs!$B$49*Backend!K$10","v":0},{"$f":"REF_2ndFxProp!H176*Backend!$D53*Inputs!$B$49*Backend!L$10","v":0},{"$f":"REF_2ndFxProp!I176*Backend!$D53*Inputs!$B$49*Backend!M$10","v":0},{"$f":"REF_2ndFxProp!J176*Backend!$D53*Inputs!$B$49*Backend!N$10","v":0},{"$f":"REF_2ndFxProp!K176*Backend!$D53*Inputs!$B$49*Backend!O$10","v":0},{"$f":"REF_2ndFxProp!L176*Backend!$D53*Inputs!$B$49*Backend!P$10","v":0}]
["Female","85+","Spine",{"$f":"REF_2ndFxProp!D177*Backend!$D54*Inputs!$B$49*Backend!H$10","v":0},{"$f":"REF_2ndFxProp!E177*Backend!$D54*Inputs!$B$49*Backend!I$10","v":0},{"$f":"REF_2ndFxProp!F177*Backend!$D54*Inputs!$B$49*Backend!J$10","v":0},{"$f":"REF_2ndFxProp!G177*Backend!$D54*Inputs!$B$49*Backend!K$10","v":0},{"$f":"REF_2ndFxProp!H177*Backend!$D54*Inputs!$B$49*Backend!L$10","v":0},{"$f":"REF_2ndFxProp!I177*Backend!$D54*Inputs!$B$49*Backend!M$10","v":0},{"$f":"REF_2ndFxProp!J177*Backend!$D54*Inputs!$B$49*Backend!N$10","v":0},{"$f":"REF_2ndFxProp!K177*Backend!$D54*Inputs!$B$49*Backend!O$10","v":0},{"$f":"REF_2ndFxProp!L177*Backend!$D54*Inputs!$B$49*Backend!P$10","v":0}]
["Female","85+","Tibia/Fibula",{"$f":"REF_2ndFxProp!D178*Backend!$D55*Inputs!$B$49*Backend!H$10","v":0},{"$f":"REF_2ndFxProp!E178*Backend!$D55*Inputs!$B$49*Backend!I$10","v":0},{"$f":"REF_2ndFxProp!F178*Backend!$D55*Inputs!$B$49*Backend!J$10","v":0},{"$f":"REF_2ndFxProp!G178*Backend!$D55*Inputs!$B$49*Backend!K$10","v":0},{"$f":"REF_2ndFxProp!H178*Backend!$D55*Inputs!$B$49*Backend!L$10","v":0},{"$f":"REF_2ndFxProp!I178*Backend!$D55*Inputs!$B$49*Backend!M$10","v":0},{"$f":"REF_2ndFxProp!J178*Backend!$D55*Inputs!$B$49*Backend!N$10","v":0},{"$f":"REF_2ndFxProp!K178*Backend!$D55*Inputs!$B$49*Backend!O$10","v":0},{"$f":"REF_2ndFxProp!L178*Backend!$D55*Inputs!$B$49*Backend!P$10","v":0}]

{"sheet":"Expected2ndFxCost","index":6,"n_rows":178,"n_cols":12,"rows_kept":178,"cut":false,"hidden":true,"merged":[[122,0,123,0],[122,1,123,1],[122,2,123,2],[122,3,122,11],[3,0,3,11],[4,0,5,0],[4,1,5,1],[4,2,5,2],[4,3,4,11],[62,0,62,11],[63,0,64,0],[63,1,64,1],[63,2,64,2],[63,3,63,11],[121,0,121,11]]}
["Fracture Cost Avoided: "]
["The table below describes fracture costs avoided over various time periods by age, sex, and initial fracture site"]
[]
["Two Year Model"]
["Sex","Age","Initial Fracture Site","Second Fracture Status"]
[null,null,null,"Ankle","Clavicle","Femur","Hip","Humerus","Pelvis","Radius/Ulna","Spine","Tibia/Fibula"]
["Male","65-74","Ankle",{"$f":"Expected2ndFx!D7*REF_IncCost2ndFx!D7","v":0},{"$f":"Expected2ndFx!E7*REF_IncCost2ndFx!E7","v":0},{"$f":"Expected2ndFx!F7*REF_IncCost2ndFx!F7","v":0},{"$f":"Expected2ndFx!G7*REF_IncCost2ndFx!G7","v":0},{"$f":"Expected2ndFx!H7*REF_IncCost2ndFx!H7","v":0},{"$f":"Expected2ndFx!I7*REF_IncCost2ndFx!I7","v":0},{"$f":"Expected2ndFx!J7*REF_IncCost2ndFx!J7","v":0},{"$f":"Expected2ndFx!K7*REF_IncCost2ndFx!K7","v":0},{"$f":"Expected2ndFx!L7*REF_IncCost2ndFx!L7","v":0}]
["Male","65-74","Clavicle",{"$f":"Expected2ndFx!D8*REF_IncCost2ndFx!D8","v":0},{"$f":"Expected2ndFx!E8*REF_IncCost2ndFx!E8","v":0},{"$f":"Expected2ndFx!F8*REF_IncCost2ndFx!F8","v":0},{"$f":"Expected2ndFx!G8*REF_IncCost2ndFx!G8","v":0},{"$f":"Expected2ndFx!H8*REF_IncCost2ndFx!H8","v":0},{"$f":"Expected2ndFx!I8*REF_IncCost2ndFx!I8","v":0},{"$f":"Expected2ndFx!J8*REF_IncCost2ndFx!J8","v":0},{"$f":"Expected2ndFx!K8*REF_IncCost2ndFx!K8","v":0},{"$f":"Expected2ndFx!L8*REF_IncCost2ndFx!L8","v":0}]
["Male","65-74","Femur",{"$f":"Expected2ndFx!D9*REF_IncCost2ndFx!D9","v":0},{"$f":"Expected2ndFx!E9*REF_IncCost2ndFx!E9","v":0},{"$f":"Expected2ndFx!F9*REF_IncCost2ndFx!F9","v":0},{"$f":"Expected2ndFx!G9*REF_IncCost2ndFx!G9","v":0},{"$f":"Expected2ndFx!H9*REF_IncCost2ndFx!H9","v":0},{"$f":"Expected2ndFx!I9*REF_IncCost2ndFx!I9","v":0},{"$f":"Expected2ndFx!J9*REF_IncCost2ndFx!J9","v":0},{"$f":"Expected2ndFx!K9*REF_IncCost2ndFx!K9","v":0},{"$f":"Expected2ndFx!L9*REF_IncCost2ndFx!L9","v":0}]
["Male","65-74","Hip",{"$f":"Expected2ndFx!D10*REF_IncCost2ndFx!D10","v":0},{"$f":"Expected2ndFx!E10*REF_IncCost2ndFx!E10","v":0},{"$f":"Expected2ndFx!F10*REF_IncCost2ndFx!F10","v":0},{"$f":"Expected2ndFx!G10*REF_IncCost2ndFx!G10","v":0},{"$f":"Expected2ndFx!H10*REF_IncCost2ndFx!H10","v":0},{"$f":"Expected2ndFx!I10*REF_IncCost2ndFx!I10","v":0},{"$f":"Expected2ndFx!J10*REF_IncCost2ndFx!J10","v":0},{"$f":"Expected2ndFx!K10*REF_IncCost2ndFx!K10","v":0},{"$f":"Expected2ndFx!L10*REF_IncCost2ndFx!L10","v":0}]
["Male","65-74","Humerus",{"$f":"Expected2ndFx!D11*REF_IncCost2ndFx!D11","v":0},{"$f":"Expected2ndFx!E11*REF_IncCost2ndFx!E11","v":0},{"$f":"Expected2ndFx!F11*REF_IncCost2ndFx!F11","v":0},{"$f":"Expected2ndFx!G11*REF_IncCost2ndFx!G11","v":0},{"$f":"Expected2ndFx!H11*REF_IncCost2ndFx!H11","v":0},{"$f":"Expected2ndFx!I11*REF_IncCost2ndFx!I11","v":0},{"$f":"Expected2ndFx!J11*REF_IncCost2ndFx!J11","v":0},{"$f":"Expected2ndFx!K11*REF_IncCost2ndFx!K11","v":0},{"$f":"Expected2ndFx!L11*REF_IncCost2ndFx!L11","v":0}]
["Male","65-74","Pelvis",{"$f":"Expected2ndFx!D12*REF_IncCost2ndFx!D12","v":0},{"$f":"Expected2ndFx!E12*REF_IncCost2ndFx!E12","v":0},{"$f":"Expected2ndFx!F12*REF_IncCost2ndFx!F12","v":0},{"$f":"Expected2ndFx!G12*REF_IncCost2ndFx!G12","v":0},{"$f":"Expected2ndFx!H12*REF_IncCost2ndFx!H12","v":0},{"$f":"Expected2ndFx!I12*REF_IncCost2ndFx!I12","v":0},{"$f":"Expected2ndFx!J12*REF_IncCost2ndFx!J12","v":0},{"$f":"Expected2ndFx!K12*REF_IncCost2ndFx!K12","v":0},{"$f":"Expected2ndFx!L12*REF_IncCost2ndFx!L12","v":0}]
["Male","65-74","Radius/Ulna",{"$f":"Expected2ndFx!D13*REF_IncCost2ndFx!D13","v":0},{"$f":"Expected2ndFx!E13*REF_IncCost2ndFx!E13","v":0},{"$f":"Expected2ndFx!F13*REF_IncCost2ndFx!F13","v":0},{"$f":"Expected2ndFx!G13*REF_IncCost2ndFx!G13","v":0},{"$f":"Expected2ndFx!H13*REF_IncCost2ndFx!H13","v":0},{"$f":"Expected2ndFx!I13*REF_IncCost2ndFx!I13","v":0},{"$f":"Expected2ndFx!J13*REF_IncCost2ndFx!J13","v":0},{"$f":"Expected2ndFx!K13*REF_IncCost2ndFx!K13","v":0},{"$f":"Expected2ndFx!L13*REF_IncCost2ndFx!L13","v":0}]
["Male","65-74","Spine",{"$f":"Expected2ndFx!D14*REF_IncCost2ndFx!D14","v":0},{"$f":"Expected2ndFx!E14*REF_IncCost2ndFx!E14","v":0},{"$f":"Expected2ndFx!F14*REF_IncCost2ndFx!F14","v":0},{"$f":"Expected2ndFx!G14*REF_IncCost2ndFx!G14","v":0},{"$f":"Expected2ndFx!H14*REF_IncCost2ndFx!H14","v":0},{"$f":"Expected2ndFx!I14*REF_IncCost2ndFx!I14","v":0},{"$f":"Expected2ndFx!J14*REF_IncCost2ndFx!J14","v":0},{"$f":"Expected2ndFx!K14*REF_IncCost2ndFx!K14","v":0},{"$f":"Expected2ndFx!L14*REF_IncCost2ndFx!L14","v":0}]
["Male","65-74","Tibia/Fibula",{"$f":"Expected2ndFx!D15*REF_IncCost2ndFx!D15","v":0},{"$f":"Expected2ndFx!E15*REF_IncCost2ndFx!E15","v":0},{"$f":"Expected2ndFx!F15*REF_IncCost2ndFx!F15","v":0},{"$f":"Expected2ndFx!G15*REF_IncCost2ndFx!G15","v":0},{"$f":"Expected2ndFx!H15*REF_IncCost2ndFx!H15","v":0},{"$f":"Expected2ndFx!I15*REF_IncCost2ndFx!I15","v":0},{"$f":"Expected2ndFx!J15*REF_IncCost2ndFx!J15","v":0},{"$f":"Expected2ndFx!K15*REF_IncCost2ndFx!K15","v":0},{"$f":"Expected2ndFx!L15*REF_IncCost2ndFx!L15","v":0}]
["Male","75-84","Ankle",{"$f":"Expected2ndFx!D16*REF_IncCost2ndFx!D16","v":0},{"$f":"Expected2ndFx!E16*REF_IncCost2ndFx!E16","v":0},{"$f":"Expected2ndFx!F16*REF_IncCost2ndFx!F16","v":0},{"$f":"Expected2ndFx!G16*REF_IncCost2ndFx!G16","v":0},{"$f":"Expected2ndFx!H16*REF_IncCost2ndFx!H16","v":0},{"$f":"Expected2ndFx!I16*REF_IncCost2ndFx!I16","v":0},{"$f":"Expected2ndFx!J16*REF_IncCost2ndFx!J16","v":0},{"$f":"Expected2ndFx!K16*REF_IncCost2ndFx!K16","v":0},{"$f":"Expected2ndFx!L16*REF_IncCost2ndFx!L16","v":0}]
["Male","75-84","Clavicle",{"$f":"Expected2ndFx!D17*REF_IncCost2ndFx!D17","v":0},{"$f":"Expected2ndFx!E17*REF_IncCost2ndFx!E17","v":0},{"$f":"Expected2ndFx!F17*REF_IncCost2ndFx!F17","v":0},{"$f":"Expected2ndFx!G17*REF_IncCost2ndFx!G17","v":0},{"$f":"Expected2ndFx!H17*REF_IncCost2ndFx!H17","v":0},{"$f":"Expected2ndFx!I17*REF_IncCost2ndFx!I17","v":0},{"$f":"Expected2ndFx!J17*REF_IncCost2ndFx!J17","v":0},{"$f":"Expected2ndFx!K17*REF_IncCost2ndFx!K17","v":0},{"$f":"Expected2ndFx!L17*REF_IncCost2ndFx!L17","v":0}]
["Male","75-84","Femur",{"$f":"Expected2ndFx!D18*REF_IncCost2ndFx!D18","v":0},{"$f":"Expected2ndFx!E18*REF_IncCost2ndFx!E18","v":0},{"$f":"Expected2ndFx!F18*REF_IncCost2ndFx!F18","v":0},{"$f":"Expected2ndFx!G18*REF_IncCost2ndFx!G18","v":0},{"$f":"Expected2ndFx!H18*REF_IncCost2ndFx!H18","v":0},{"$f":"Expected2ndFx!I18*REF_IncCost2ndFx!I18","v":0},{"$f":"Expected2ndFx!J18*REF_IncCost2ndFx!J18","v":0},{"$f":"Expected2ndFx!K18*REF_IncCost2ndFx!K18","v":0},{"$f":"Expected2ndFx!L18*REF_IncCost2ndFx!L18","v":0}]
["Male","75-84","Hip",{"$f":"Expected2ndFx!D19*REF_IncCost2ndFx!D19","v":0},{"$f":"Expected2ndFx!E19*REF_IncCost2ndFx!E19","v":0},{"$f":"Expected2ndFx!F19*REF_IncCost2ndFx!F19","v":0},{"$f":"Expected2ndFx!G19*REF_IncCost2ndFx!G19","v":0},{"$f":"Expected2ndFx!H19*REF_IncCost2ndFx!H19","v":0},{"$f":"Expected2ndFx!I19*REF_IncCost2ndFx!I19","v":0},{"$f":"Expected2ndFx!J19*REF_IncCost2ndFx!J19","v":0},{"$f":"Expected2ndFx!K19*REF_IncCost2ndFx!K19","v":0},{"$f":"Expected2ndFx!L19*REF_IncCost2ndFx!L19","v":0}]
["Male","75-84","Humerus",{"$f":"Expected2ndFx!D20*REF_IncCost2ndFx!D20","v":0},{"$f":"Expected2ndFx!E20*REF_IncCost2ndFx!E20","v":0},{"$f":"Expected2ndFx!F20*REF_IncCost2ndFx!F20","v":0},{"$f":"Expected2ndFx!G20*REF_IncCost2ndFx!G20","v":0},{"$f":"Expected2ndFx!H20*REF_IncCost2ndFx!H20","v":0},{"$f":"Expected2ndFx!I20*REF_IncCost2ndFx!I20","v":0},{"$f":"Expected2ndFx!J20*REF_IncCost2ndFx!J20","v":0},{"$f":"Expected2ndFx!K20*REF_IncCost2ndFx!K20","v":0},{"$f":"Expected2ndFx!L20*REF_IncCost2ndFx!L20","v":0}]
["Male","75-84","Pelvis",{"$f":"Expected2ndFx!D21*REF_IncCost2ndFx!D21","v":0},{"$f":"Expected2ndFx!E21*REF_IncCost2ndFx!E21","v":0},{"$f":"Expected2ndFx!F21*REF_IncCost2ndFx!F21","v":0},{"$f":"Expected2ndFx!G21*REF_IncCost2ndFx!G21","v":0},{"$f":"Expected2ndFx!H21*REF_IncCost2ndFx!H21","v":0},{"$f":"Expected2ndFx!I21*REF_IncCost2ndFx!I21","v":0},{"$f":"Expected2ndFx!J21*REF_IncCost2ndFx!J21","v":0},{"$f":"Expected2ndFx!K21*REF_IncCost2ndFx!K21","v":0},{"$f":"Expected2ndFx!L21*REF_IncCost2ndFx!L21","v":0}]
["Male","75-84","Radius/Ulna",{"$f":"Expected2ndFx!D22*REF_IncCost2ndFx!D22","v":0},{"$f":"Expected2ndFx!E22*REF_IncCost2ndFx!E22","v":0},{"$f":"Expected2ndFx!F22*REF_IncCost2ndFx!F22","v":0},{"$f":"Expected2ndFx!G22*REF_IncCost2ndFx!G22","v":0},{"$f":"Expected2ndFx!H22*REF_IncCost2ndFx!H22","v":0},{"$f":"Expected2ndFx!I22*REF_IncCost2ndFx!I22","v":0},{"$f":"Expected2ndFx!J22*REF_IncCost2ndFx!J22","v":0},{"$f":"Expected2ndFx!K22*REF_IncCost2ndFx!K22","v":0},{"$f":"Expected2ndFx!L22*REF_IncCost2ndFx!L22","v":0}]
["Male","75-84","Spine",{"$f":"Expected2ndFx!D23*REF_IncCost2ndFx!D23","v":0},{"$f":"Expected2ndFx!E23*REF_IncCost2ndFx!E23","v":0},{"$f":"Expected2ndFx!F23*REF_IncCost2ndFx!F23","v":0},{"$f":"Expected2ndFx!G23*REF_IncCost2ndFx!G23","v":0},{"$f":"Expected2ndFx!H23*REF_IncCost2ndFx!H23","v":0},{"$f":"Expected2ndFx!I23*REF_IncCost2ndFx!I23","v":0},{"$f":"Expected2ndFx!J23*REF_IncCost2ndFx!J23","v":0},{"$f":"Expected2ndFx!K23*REF_IncCost2ndFx!K23","v":0},{"$f":"Expected2ndFx!L23*REF_IncCost2ndFx!L23","v":0}]
["Male","75-84","Tibia/Fibula",{"$f":"Expected2ndFx!D24*REF_IncCost2ndFx!D24","v":0},{"$f":"Expected2ndFx!E24*REF_IncCost2ndFx!E24","v":0},{"$f":"Expected2ndFx!F24*REF_IncCost2ndFx!F24","v":0},{"$f":"Expected2ndFx!G24*REF_IncCost2ndFx!G24","v":0},{"$f":"Expected2ndFx!H24*REF_IncCost2ndFx!H24","v":0},{"$f":"Expected2ndFx!I24*REF_IncCost2ndFx!I24","v":0},{"$f":"Expected2ndFx!J24*REF_IncCost2ndFx!J24","v":0},{"$f":"Expected2ndFx!K24*REF_IncCost2ndFx!K24","v":0},{"$f":"Expected2ndFx!L24*REF_IncCost2ndFx!L24","v":0}]
["Male","85+","Ankle",{"$f":"Expected2ndFx!D25*REF_IncCost2ndFx!D25","v":0},{"$f":"Expected2ndFx!E25*REF_IncCost2ndFx!E25","v":0},{"$f":"Expected2ndFx!F25*REF_IncCost2ndFx!F25","v":0},{"$f":"Expected2ndFx!G25*REF_IncCost2ndFx!G25","v":0},{"$f":"Expected2ndFx!H25*REF_IncCost2ndFx!H25","v":0},{"$f":"Expected2ndFx!I25*REF_IncCost2ndFx!I25","v":0},{"$f":"Expected2ndFx!J25*REF_IncCost2ndFx!J25","v":0},{"$f":"Expected2ndFx!K25*REF_IncCost2ndFx!K25","v":0},{"$f":"Expected2ndFx!L25*REF_IncCost2ndFx!L25","v":0}]
["Male","85+","Clavicle",{"$f":"Expected2ndFx!D26*REF_IncCost2ndFx!D26","v":0},{"$f":"Expected2ndFx!E26*REF_IncCost2ndFx!E26","v":0},{"$f":"Expected2ndFx!F26*REF_IncCost2ndFx!F26","v":0},{"$f":"Expected2ndFx!G26*REF_IncCost2ndFx!G26","v":0},{"$f":"Expected2ndFx!H26*REF_IncCost2ndFx!H26","v":0},{"$f":"Expected2ndFx!I26*REF_IncCost2ndFx!I26","v":0},{"$f":"Expected2ndFx!J26*REF_IncCost2ndFx!J26","v":0},{"$f":"Expected2ndFx!K26*REF_IncCost2ndFx!K26","v":0},{"$f":"Expected2ndFx!L26*REF_IncCost2ndFx!L26","v":0}]
["Male","85+","Femur",{"$f":"Expected2ndFx!D27*REF_IncCost2ndFx!D27","v":0},{"$f":"Expected2ndFx!E27*REF_IncCost2ndFx!E27","v":0},{"$f":"Expected2ndFx!F27*REF_IncCost2ndFx!F27","v":0},{"$f":"Expected2ndFx!G27*REF_IncCost2ndFx!G27","v":0},{"$f":"Expected2ndFx!H27*REF_IncCost2ndFx!H27","v":0},{"$f":"Expected2ndFx!I27*REF_IncCost2ndFx!I27","v":0},{"$f":"Expected2ndFx!J27*REF_IncCost2ndFx!J27","v":0},{"$f":"Expected2ndFx!K27*REF_IncCost2ndFx!K27","v":0},{"$f":"Expected2ndFx!L27*REF_IncCost2ndFx!L27","v":0}]
["Male","85+","Hip",{"$f":"Expected2ndFx!D28*REF_IncCost2ndFx!D28","v":0},{"$f":"Expected2ndFx!E28*REF_IncCost2ndFx!E28","v":0},{"$f":"Expected2ndFx!F28*REF_IncCost2ndFx!F28","v":0},{"$f":"Expected2ndFx!G28*REF_IncCost2ndFx!G28","v":0},{"$f":"Expected2ndFx!H28*REF_IncCost2ndFx!H28","v":0},{"$f":"Expected2ndFx!I28*REF_IncCost2ndFx!I28","v":0},{"$f":"Expected2ndFx!J28*REF_IncCost2ndFx!J28","v":0},{"$f":"Expected2ndFx!K28*REF_IncCost2ndFx!K28","v":0},{"$f":"Expected2ndFx!L28*REF_IncCost2ndFx!L28","v":0}]
["Male","85+","Humerus",{"$f":"Expected2ndFx!D29*REF_IncCost2ndFx!D29","v":0},{"$f":"Expected2ndFx!E29*REF_IncCost2ndFx!E29","v":0},{"$f":"Expected2ndFx!F29*REF_IncCost2ndFx!F29","v":0},{"$f":"Expected2ndFx!G29*REF_IncCost2ndFx!G29","v":0},{"$f":"Expected2ndFx!H29*REF_IncCost2ndFx!H29","v":0},{"$f":"Expected2ndFx!I29*REF_IncCost2ndFx!I29","v":0},{"$f":"Expected2ndFx!J29*REF_IncCost2ndFx!J29","v":0},{"$f":"Expected2ndFx!K29*REF_IncCost2ndFx!K29","v":0},{"$f":"Expected2ndFx!L29*REF_IncCost2ndFx!L29","v":0}]
["Male","85+","Pelvis",{"$f":"Expected2ndFx!D30*REF_IncCost2ndFx!D30","v":0},{"$f":"Expected2ndFx!E30*REF_IncCost2ndFx!E30","v":0},{"$f":"Expected2ndFx!F30*REF_IncCost2ndFx!F30","v":0},{"$f":"Expected2ndFx!G30*REF_IncCost2ndFx!G30","v":0},{"$f":"Expected2ndFx!H30*REF_IncCost2ndFx!H30","v":0},{"$f":"Expected2ndFx!I30*REF_IncCost2ndFx!I30","v":0},{"$f":"Expected2ndFx!J30*REF_IncCost2ndFx!J30","v":0},{"$f":"Expected2ndFx!K30*REF_IncCost2ndFx!K30","v":0},{"$f":"Expected2ndFx!L30*REF_IncCost2ndFx!L30","v":0}]
["Male","85+","Radius/Ulna",{"$f":"Expected2ndFx!D31*REF_IncCost2ndFx!D31","v":0},{"$f":"Expected2ndFx!E31*REF_IncCost2ndFx!E31","v":0},{"$f":"Expected2ndFx!F31*REF_IncCost2ndFx!F31","v":0},{"$f":"Expected2ndFx!G31*REF_IncCost2ndFx!G31","v":0},{"$f":"Expected2ndFx!H31*REF_IncCost2ndFx!H31","v":0},{"$f":"Expected2ndFx!I31*REF_IncCost2ndFx!I31","v":0},{"$f":"Expected2ndFx!J31*REF_IncCost2ndFx!J31","v":0},{"$f":"Expected2ndFx!K31*REF_IncCost2ndFx!K31","v":0},{"$f":"Expected2ndFx!L31*REF_IncCost2ndFx!L31","v":0}]
["Male","85+","Spine",{"$f":"Expected2ndFx!D32*REF_IncCost2ndFx!D32","v":0},{"$f":"Expected2ndFx!E32*REF_IncCost2ndFx!E32","v":0},{"$f":"Expected2ndFx!F32*REF_IncCost2ndFx!F32","v":0},{"$f":"Expected2ndFx!G32*REF_IncCost2ndFx!G32","v":0},{"$f":"Expected2ndFx!H32*REF_IncCost2ndFx!H32","v":0},{"$f":"Expected2ndFx!I32*REF_IncCost2ndFx!I32","v":0},{"$f":"Expected2ndFx!J32*REF_IncCost2ndFx!J32","v":0},{"$f":"Expected2ndFx!K32*REF_IncCost2ndFx!K32","v":0},{"$f":"Expected2ndFx!L32*REF_IncCost2ndFx!L32","v":0}]
["Male","85+","Tibia/Fibula",{"$f":"Expected2ndFx!D33*REF_IncCost2ndFx!D33","v":0},{"$f":"Expected2ndFx!E33*REF_IncCost2ndFx!E33","v":0},{"$f":"Expected2ndFx!F33*REF_IncCost2ndFx!F33","v":0},{"$f":"Expected2ndFx!G33*REF_IncCost2ndFx!G33","v":0},{"$f":"Expected2ndFx!H33*REF_IncCost2ndFx!H33","v":0},{"$f":"Expected2ndFx!I33*REF_IncCost2ndFx!I33","v":0},{"$f":"Expected2ndFx!J33*REF_IncCost2ndFx!J33","v":0},{"$f":"Expected2ndFx!K33*REF_IncCost2ndFx!K33","v":0},{"$f":"Expected2ndFx!L33*REF_IncCost2ndFx!L33","v":0}]
["Female","65-74","Ankle",{"$f":"Expected2ndFx!D34*REF_IncCost2ndFx!D34","v":0},{"$f":"Expected2ndFx!E34*REF_IncCost2ndFx!E34","v":0},{"$f":"Expected2ndFx!F34*REF_IncCost2ndFx!F34","v":0},{"$f":"Expected2ndFx!G34*REF_IncCost2ndFx!G34","v":0},{"$f":"Expected2ndFx!H34*REF_IncCost2ndFx!H34","v":0},{"$f":"Expected2ndFx!I34*REF_IncCost2ndFx!I34","v":0},{"$f":"Expected2ndFx!J34*REF_IncCost2ndFx!J34","v":0},{"$f":"Expected2ndFx!K34*REF_IncCost2ndFx!K34","v":0},{"$f":"Expected2ndFx!L34*REF_IncCost2ndFx!L34","v":0}]
["Female","65-74","Clavicle",{"$f":"Expected2ndFx!D35*REF_IncCost2ndFx!D35","v":0},{"$f":"Expected2ndFx!E35*REF_IncCost2ndFx!E35","v":0},{"$f":"Expected2ndFx!F35*REF_IncCost2ndFx!F35","v":0},{"$f":"Expected2ndFx!G35*REF_IncCost2ndFx!G35","v":0},{"$f":"Expected2ndFx!H35*REF_IncCost2ndFx!H35","v":0},{"$f":"Expected2ndFx!I35*REF_IncCost2ndFx!I35","v":0},{"$f":"Expected2ndFx!J35*REF_IncCost2ndFx!J35","v":0},{"$f":"Expected2ndFx!K35*REF_IncCost2ndFx!K35","v":0},{"$f":"Expected2ndFx!L35*REF_IncCost2ndFx!L35","v":0}]
["Female","65-74","Femur",{"$f":"Expected2ndFx!D36*REF_IncCost2ndFx!D36","v":0},{"$f":"Expected2ndFx!E36*REF_IncCost2ndFx!E36","v":0},{"$f":"Expected2ndFx!F36*REF_IncCost2ndFx!F36","v":0},{"$f":"Expected2ndFx!G36*REF_IncCost2ndFx!G36","v":0},{"$f":"Expected2ndFx!H36*REF_IncCost2ndFx!H36","v":0},{"$f":"Expected2ndFx!I36*REF_IncCost2ndFx!I36","v":0},{"$f":"Expected2ndFx!J36*REF_IncCost2ndFx!J36","v":0},{"$f":"Expected2ndFx!K36*REF_IncCost2ndFx!K36","v":0},{"$f":"Expected2ndFx!L36*REF_IncCost2ndFx!L36","v":0}]
["Female","65-74","Hip",{"$f":"Expected2ndFx!D37*REF_IncCost2ndFx!D37","v":0},{"$f":"Expected2ndFx!E37*REF_IncCost2ndFx!E37","v":0},{"$f":"Expected2ndFx!F37*REF_IncCost2ndFx!F37","v":0},{"$f":"Expected2ndFx!G37*REF_IncCost2ndFx!G37","v":0},{"$f":"Expected2ndFx!H37*REF_IncCost2ndFx!H37","v":0},{"$f":"Expected2ndFx!I37*REF_IncCost2ndFx!I37","v":0},{"$f":"Expected2ndFx!J37*REF_IncCost2ndFx!J37","v":0},{"$f":"Expected2ndFx!K37*REF_IncCost2ndFx!K37","v":0},{"$f":"Expected2ndFx!L37*REF_IncCost2ndFx!L37","v":0}]
["Female","65-74","Humerus",{"$f":"Expected2ndFx!D38*REF_IncCost2ndFx!D38","v":0},{"$f":"Expected2ndFx!E38*REF_IncCost2ndFx!E38","v":0},{"$f":"Expected2ndFx!F38*REF_IncCost2ndFx!F38","v":0},{"$f":"Expected2ndFx!G38*REF_IncCost2ndFx!G38","v":0},{"$f":"Expected2ndFx!H38*REF_IncCost2ndFx!H38","v":0},{"$f":"Expected2ndFx!I38*REF_IncCost2ndFx!I38","v":0},{"$f":"Expected2ndFx!J38*REF_IncCost2ndFx!J38","v":0},{"$f":"Expected2ndFx!K38*REF_IncCost2ndFx!K38","v":0},{"$f":"Expected2ndFx!L38*REF_IncCost2ndFx!L38","v":0}]
["Female","65-74","Pelvis",{"$f":"Expected2ndFx!D39*REF_IncCost2ndFx!D39","v":0},{"$f":"Expected2ndFx!E39*REF_IncCost2ndFx!E39","v":0},{"$f":"Expected2ndFx!F39*REF_IncCost2ndFx!F39","v":0},{"$f":"Expected2ndFx!G39*REF_IncCost2ndFx!G39","v":0},{"$f":"Expected2ndFx!H39*REF_IncCost2ndFx!H39","v":0},{"$f":"Expected2ndFx!I39*REF_IncCost2ndFx!I39","v":0},{"$f":"Expected2ndFx!J39*REF_IncCost2ndFx!J39","v":0},{"$f":"Expected2ndFx!K39*REF_IncCost2ndFx!K39","v":0},{"$f":"Expected2ndFx!L39*REF_IncCost2ndFx!L39","v":0}]
["Female","65-74","Radius/Ulna",{"$f":"Expected2ndFx!D40*REF_IncCost2ndFx!D40","v":0},{"$f":"Expected2ndFx!E40*REF_IncCost2ndFx!E40","v":0},{"$f":"Expected2ndFx!F40*REF_IncCost2ndFx!F40","v":0},{"$f":"Expected2ndFx!G40*REF_IncCost2ndFx!G40","v":0},{"$f":"Expected2ndFx!H40*REF_IncCost2ndFx!H40","v":0},{"$f":"Expected2ndFx!I40*REF_IncCost2ndFx!I40","v":0},{"$f":"Expected2ndFx!J40*REF_IncCost2ndFx!J40","v":0},{"$f":"Expected2ndFx!K40*REF_IncCost2ndFx!K40","v":0},{"$f":"Expected2ndFx!L40*REF_IncCost2ndFx!L40","v":0}]
["Female","65-74","Spine",{"$f":"Expected2ndFx!D41*REF_IncCost2ndFx!D41","v":0},{"$f":"Expected2ndFx!E41*REF_IncCost2ndFx!E41","v":0},{"$f":"Expected2ndFx!F41*REF_IncCost2ndFx!F41","v":0},{"$f":"Expected2ndFx!G41*REF_IncCost2ndFx!G41","v":0},{"$f":"Expected2ndFx!H41*REF_IncCost2ndFx!H41","v":0},{"$f":"Expected2ndFx!I41*REF_IncCost2ndFx!I41","v":0},{"$f":"Expected2ndFx!J41*REF_IncCost2ndFx!J41","v":0},{"$f":"Expected2ndFx!K41*REF_IncCost2ndFx!K41","v":0},{"$f":"Expected2ndFx!L41*REF_IncCost2ndFx!L41","v":0}]
["Female","65-74","Tibia/Fibula",{"$f":"Expected2ndFx!D42*REF_IncCost2ndFx!D42","v":0},{"$f":"Expected2ndFx!E42*REF_IncCost2ndFx!E42","v":0},{"$f":"Expected2ndFx!F42*REF_IncCost2ndFx!F42","v":0},{"$f":"Expected2ndFx!G42*REF_IncCost2ndFx!G42","v":0},{"$f":"Expected2ndFx!H42*REF_IncCost2ndFx!H42","v":0},{"$f":"Expected2ndFx!I42*REF_IncCost2ndFx!I42","v":0},{"$f":"Expected2ndFx!J42*REF_IncCost2ndFx!J42","v":0},{"$f":"Expected2ndFx!K42*REF_IncCost2ndFx!K42","v":0},{"$f":"Expected2ndFx!L42*REF_IncCost2ndFx!L42","v":0}]
["Female","75-84","Ankle",{"$f":"Expected2ndFx!D43*REF_IncCost2ndFx!D43","v":0},{"$f":"Expected2ndFx!E43*REF_IncCost2ndFx!E43","v":0},{"$f":"Expected2ndFx!F43*REF_IncCost2ndFx!F43","v":0},{"$f":"Expected2ndFx!G43*REF_IncCost2ndFx!G43","v":0},{"$f":"Expected2ndFx!H43*REF_IncCost2ndFx!H43","v":0},{"$f":"Expected2ndFx!I43*REF_IncCost2ndFx!I43","v":0},{"$f":"Expected2ndFx!J43*REF_IncCost2ndFx!J43","v":0},{"$f":"Expected2ndFx!K43*REF_IncCost2ndFx!K43","v":0},{"$f":"Expected2ndFx!L43*REF_IncCost2ndFx!L43","v":0}]
["Female","75-84","Clavicle",{"$f":"Expected2ndFx!D44*REF_IncCost2ndFx!D44","v":0},{"$f":"Expected2ndFx!E44*REF_IncCost2ndFx!E44","v":0},{"$f":"Expected2ndFx!F44*REF_IncCost2ndFx!F44","v":0},{"$f":"Expected2ndFx!G44*REF_IncCost2ndFx!G44","v":0},{"$f":"Expected2ndFx!H44*REF_IncCost2ndFx!H44","v":0},{"$f":"Expected2ndFx!I44*REF_IncCost2ndFx!I44","v":0},{"$f":"Expected2ndFx!J44*REF_IncCost2ndFx!J44","v":0},{"$f":"Expected2ndFx!K44*REF_IncCost2ndFx!K44","v":0},{"$f":"Expected2ndFx!L44*REF_IncCost2ndFx!L44","v":0}]
["Female","75-84","Femur",{"$f":"Expected2ndFx!D45*REF_IncCost2ndFx!D45","v":0},{"$f":"Expected2ndFx!E45*REF_IncCost2ndFx!E45","v":0},{"$f":"Expected2ndFx!F45*REF_IncCost2ndFx!F45","v":0},{"$f":"Expected2ndFx!G45*REF_IncCost2ndFx!G45","v":0},{"$f":"Expected2ndFx!H45*REF_IncCost2ndFx!H45","v":0},{"$f":"Expected2ndFx!I45*REF_IncCost2ndFx!I45","v":0},{"$f":"Expected2ndFx!J45*REF_IncCost2ndFx!J45","v":0},{"$f":"Expected2ndFx!K45*REF_IncCost2ndFx!K45","v":0},{"$f":"Expected2ndFx!L45*REF_IncCost2ndFx!L45","v":0}]
["Female","75-84","Hip",{"$f":"Expected2ndFx!D46*REF_IncCost2ndFx!D46","v":0},{"$f":"Expected2ndFx!E46*REF_IncCost2ndFx!E46","v":0},{"$f":"Expected2ndFx!F46*REF_IncCost2ndFx!F46","v":0},{"$f":"Expected2ndFx!G46*REF_IncCost2ndFx!G46","v":0},{"$f":"Expected2ndFx!H46*REF_IncCost2ndFx!H46","v":0},{"$f":"Expected2ndFx!I46*REF_IncCost2ndFx!I46","v":0},{"$f":"Expected2ndFx!J46*REF_IncCost2ndFx!J46","v":0},{"$f":"Expected2ndFx!K46*REF_IncCost2ndFx!K46","v":0},{"$f":"Expected2ndFx!L46*REF_IncCost2ndFx!L46","v":0}]
["Female","75-84","Humerus",{"$f":"Expected2ndFx!D47*REF_IncCost2ndFx!D47","v":0},{"$f":"Expected2ndFx!E47*REF_IncCost2ndFx!E47","v":0},{"$f":"Expected2ndFx!F47*REF_IncCost2ndFx!F47","v":0},{"$f":"Expected2ndFx!G47*REF_IncCost2ndFx!G47","v":0},{"$f":"Expected2ndFx!H47*REF_IncCost2ndFx!H47","v":0},{"$f":"Expected2ndFx!I47*REF_IncCost2ndFx!I47","v":0},{"$f":"Expected2ndFx!J47*REF_IncCost2ndFx!J47","v":0},{"$f":"Expected2ndFx!K47*REF_IncCost2ndFx!K47","v":0},{"$f":"Expected2ndFx!L47*REF_IncCost2ndFx!L47","v":0}]
["Female","75-84","Pelvis",{"$f":"Expected2ndFx!D48*REF_IncCost2ndFx!D48","v":0},{"$f":"Expected2ndFx!E48*REF_IncCost2ndFx!E48","v":0},{"$f":"Expected2ndFx!F48*REF_IncCost2ndFx!F48","v":0},{"$f":"Expected2ndFx!G48*REF_IncCost2ndFx!G48","v":0},{"$f":"Expected2ndFx!H48*REF_IncCost2ndFx!H48","v":0},{"$f":"Expected2ndFx!I48*REF_IncCost2ndFx!I48","v":0},{"$f":"Expected2ndFx!J48*REF_IncCost2ndFx!J48","v":0},{"$f":"Expected2ndFx!K48*REF_IncCost2ndFx!K48","v":0},{"$f":"Expected2ndFx!L48*REF_IncCost2ndFx!L48","v":0}]
["Female","75-84","Radius/Ulna",{"$f":"Expected2ndFx!D49*REF_IncCost2ndFx!D49","v":0},{"$f":"Expected2ndFx!E49*REF_IncCost2ndFx!E49","v":0},{"$f":"Expected2ndFx!F49*REF_IncCost2ndFx!F49","v":0},{"$f":"Expected2ndFx!G49*REF_IncCost2ndFx!G49","v":0},{"$f":"Expected2ndFx!H49*REF_IncCost2ndFx!H49","v":0},{"$f":"Expected2ndFx!I49*REF_IncCost2ndFx!I49","v":0},{"$f":"Expected2ndFx!J49*REF_IncCost2ndFx!J49","v":0},{"$f":"Expected2ndFx!K49*REF_IncCost2ndFx!K49","v":0},{"$f":"Expected2ndFx!L49*REF_IncCost2ndFx!L49","v":0}]
["Female","75-84","Spine",{"$f":"Expected2ndFx!D50*REF_IncCost2ndFx!D50","v":0},{"$f":"Expected2ndFx!E50*REF_IncCost2ndFx!E50","v":0},{"$f":"Expected2ndFx!F50*REF_IncCost2ndFx!F50","v":0},{"$f":"Expected2ndFx!G50*REF_IncCost2ndFx!G50","v":0},{"$f":"Expected2ndFx!H50*REF_IncCost2ndFx!H50","v":0},{"$f":"Expected2ndFx!I50*REF_IncCost2ndFx!I50","v":0},{"$f":"Expected2ndFx!J50*REF_IncCost2ndFx!J50","v":0},{"$f":"Expected2ndFx!K50*REF_IncCost2ndFx!K50","v":0},{"$f":"Expected2ndFx!L50*REF_IncCost2ndFx!L50","v":0}]
["Female","75-84","Tibia/Fibula",{"$f":"Expected2ndFx!D51*REF_IncCost2ndFx!D51","v":0},{"$f":"Expected2ndFx!E51*REF_IncCost2ndFx!E51","v":0},{"$f":"Expected2ndFx!F51*REF_IncCost2ndFx!F51","v":0},{"$f":"Expected2ndFx!G51*REF_IncCost2ndFx!G51","v":0},{"$f":"Expected2ndFx!H51*REF_IncCost2ndFx!H51","v":0},{"$f":"Expected2ndFx!I51*REF_IncCost2ndFx!I51","v":0},{"$f":"Expected2ndFx!J51*REF_IncCost2ndFx!J51","v":0},{"$f":"Expected2ndFx!K51*REF_IncCost2ndFx!K51","v":0},{"$f":"Expected2ndFx!L51*REF_IncCost2ndFx!L51","v":0}]
["Female","85+","Ankle",{"$f":"Expected2ndFx!D52*REF_IncCost2ndFx!D52","v":0},{"$f":"Expected2ndFx!E52*REF_IncCost2ndFx!E52","v":0},{"$f":"Expected2ndFx!F52*REF_IncCost2ndFx!F52","v":0},{"$f":"Expected2ndFx!G52*REF_IncCost2ndFx!G52","v":0},{"$f":"Expected2ndFx!H52*REF_IncCost2ndFx!H52","v":0},{"$f":"Expected2ndFx!I52*REF_IncCost2ndFx!I52","v":0},{"$f":"Expected2ndFx!J52*REF_IncCost2ndFx!J52","v":0},{"$f":"Expected2ndFx!K52*REF_IncCost2ndFx!K52","v":0},{"$f":"Expected2ndFx!L52*REF_IncCost2ndFx!L52","v":0}]
["Female","85+","Clavicle",{"$f":"Expected2ndFx!D53*REF_IncCost2ndFx!D53","v":0},{"$f":"Expected2ndFx!E53*REF_IncCost2ndFx!E53","v":0},{"$f":"Expected2ndFx!F53*REF_IncCost2ndFx!F53","v":0},{"$f":"Expected2ndFx!G53*REF_IncCost2ndFx!G53","v":0},{"$f":"Expected2ndFx!H53*REF_IncCost2ndFx!H53","v":0},{"$f":"Expected2ndFx!I53*REF_IncCost2ndFx!I53","v":0},{"$f":"Expected2ndFx!J53*REF_IncCost2ndFx!J53","v":0},{"$f":"Expected2ndFx!K53*REF_IncCost2ndFx!K53","v":0},{"$f":"Expected2ndFx!L53*REF_IncCost2ndFx!L53","v":0}]
["Female","85+","Femur",{"$f":"Expected2ndFx!D54*REF_IncCost2ndFx!D54","v":0},{"$f":"Expected2ndFx!E54*REF_IncCost2ndFx!E54","v":0},{"$f":"Expected2ndFx!F54*REF_IncCost2ndFx!F54","v":0},{"$f":"Expected2ndFx!G54*REF_IncCost2ndFx!G54","v":0},{"$f":"Expected2ndFx!H54*REF_IncCost2ndFx!H54","v":0},{"$f":"Expected2ndFx!I54*REF_IncCost2ndFx!I54","v":0},{"$f":"Expected2ndFx!J54*REF_IncCost2ndFx!J54","v":0},{"$f":"Expected2ndFx!K54*REF_IncCost2ndFx!K54","v":0},{"$f":"Expected2ndFx!L54*REF_IncCost2ndFx!L54","v":0}]
["Female","85+","Hip",{"$f":"Expected2ndFx!D55*REF_IncCost2ndFx!D55","v":0},{"$f":"Expected2ndFx!E55*REF_IncCost2ndFx!E55","v":0},{"$f":"Expected2ndFx!F55*REF_IncCost2ndFx!F55","v":0},{"$f":"Expected2ndFx!G55*REF_IncCost2ndFx!G55","v":0},{"$f":"Expected2ndFx!H55*REF_IncCost2ndFx!H55","v":0},{"$f":"Expected2ndFx!I55*REF_IncCost2ndFx!I55","v":0},{"$f":"Expected2ndFx!J55*REF_IncCost2ndFx!J55","v":0},{"$f":"Expected2ndFx!K55*REF_IncCost2ndFx!K55","v":0},{"$f":"Expected2ndFx!L55*REF_IncCost2ndFx!L55","v":0}]
["Female","85+","Humerus",{"$f":"Expected2ndFx!D56*REF_IncCost2ndFx!D56","v":0},{"$f":"Expected2ndFx!E56*REF_IncCost2ndFx!E56","v":0},{"$f":"Expected2ndFx!F56*REF_IncCost2ndFx!F56","v":0},{"$f":"Expected2ndFx!G56*REF_IncCost2ndFx!G56","v":0},{"$f":"Expected2ndFx!H56*REF_IncCost2ndFx!H56","v":0},{"$f":"Expected2ndFx!I56*REF_IncCost2ndFx!I56","v":0},{"$f":"Expected2ndFx!J56*REF_IncCost2ndFx!J56","v":0},{"$f":"Expected2ndFx!K56*REF_IncCost2ndFx!K56","v":0},{"$f":"Expected2ndFx!L56*REF_IncCost2ndFx!L56","v":0}]
["Female","85+","Pelvis",{"$f":"Expected2ndFx!D57*REF_IncCost2ndFx!D57","v":0},{"$f":"Expected2ndFx!E57*REF_IncCost2ndFx!E57","v":0},{"$f":"Expected2ndFx!F57*REF_IncCost2ndFx!F57","v":0},{"$f":"Expected2ndFx!G57*REF_IncCost2ndFx!G57","v":0},{"$f":"Expected2ndFx!H57*REF_IncCost2ndFx!H57","v":0},{"$f":"Expected2ndFx!I57*REF_IncCost2ndFx!I57","v":0},{"$f":"Expected2ndFx!J57*REF_IncCost2ndFx!J57","v":0},{"$f":"Expected2ndFx!K57*REF_IncCost2ndFx!K57","v":0},{"$f":"Expected2ndFx!L57*REF_IncCost2ndFx!L57","v":0}]
["Female","85+","Radius/Ulna",{"$f":"Expected2ndFx!D58*REF_IncCost2ndFx!D58","v":0},{"$f":"Expected2ndFx!E58*REF_IncCost2ndFx!E58","v":0},{"$f":"Expected2ndFx!F58*REF_IncCost2ndFx!F58","v":0},{"$f":"Expected2ndFx!G58*REF_IncCost2ndFx!G58","v":0},{"$f":"Expected2ndFx!H58*REF_IncCost2ndFx!H58","v":0},{"$f":"Expected2ndFx!I58*REF_IncCost2ndFx!I58","v":0},{"$f":"Expected2ndFx!J58*REF_IncCost2ndFx!J58","v":0},{"$f":"Expected2ndFx!K58*REF_IncCost2ndFx!K58","v":0},{"$f":"Expected2ndFx!L58*REF_IncCost2ndFx!L58","v":0}]
["Female","85+","Spine",{"$f":"Expected2ndFx!D59*REF_IncCost2ndFx!D59","v":0},{"$f":"Expected2ndFx!E59*REF_IncCost2ndFx!E59","v":0},{"$f":"Expected2ndFx!F59*REF_IncCost2ndFx!F59","v":0},{"$f":"Expected2ndFx!G59*REF_IncCost2ndFx!G59","v":0},{"$f":"Expected2ndFx!H59*REF_IncCost2ndFx!H59","v":0},{"$f":"Expected2ndFx!I59*REF_IncCost2ndFx!I59","v":0},{"$f":"Expected2ndFx!J59*REF_IncCost2ndFx!J59","v":0},{"$f":"Expected2ndFx!K59*REF_IncCost2ndFx!K59","v":0},{"$f":"Expected2ndFx!L59*REF_IncCost2ndFx!L59","v":0}]
["Female","85+","Tibia/Fibula",{"$f":"Expected2ndFx!D60*REF_IncCost2ndFx!D60","v":0},{"$f":"Expected2ndFx!E60*REF_IncCost2ndFx!E60","v":0},{"$f":"Expected2ndFx!F60*REF_IncCost2ndFx!F60","v":0},{"$f":"Expected2ndFx!G60*REF_IncCost2ndFx!G60","v":0},{"$f":"Expected2ndFx!H60*REF_IncCost2ndFx!H60","v":0},{"$f":"Expected2ndFx!I60*REF_IncCost2ndFx!I60","v":0},{"$f":"Expected2ndFx!J60*REF_IncCost2ndFx!J60","v":0},{"$f":"Expected2ndFx!K60*REF_IncCost2ndFx!K60","v":0},{"$f":"Expected2ndFx!L60*REF_IncCost2ndFx!L60","v":0}]
[]
[]
["Three Year Model"]
["Sex","Age","Initial Fracture Site","Second Fracture Status"]
[null,null,null,"Ankle","Clavicle","Femur","Hip","Humerus","Pelvis","Radius/Ulna","Spine","Tibia/Fibula"]
["Male","65-74","Ankle",{"$f":"Expected2ndFx!D66*REF_IncCost2ndFx!D66","v":0},{"$f":"Expected2ndFx!E66*REF_IncCost2ndFx!E66","v":0},{"$f":"Expected2ndFx!F66*REF_IncCost2ndFx!F66","v":0},{"$f":"Expected2ndFx!G66*REF_IncCost2ndFx!G66","v":0},{"$f":"Expected2ndFx!H66*REF_IncCost2ndFx!H66","v":0},{"$f":"Expected2ndFx!I66*REF_IncCost2ndFx!I66","v":0},{"$f":"Expected2ndFx!J66*REF_IncCost2ndFx!J66","v":0},{"$f":"Expected2ndFx!K66*REF_IncCost2ndFx!K66","v":0},{"$f":"Expected2ndFx!L66*REF_IncCost2ndFx!L66","v":0}]
["Male","65-74","Clavicle",{"$f":"Expected2ndFx!D67*REF_IncCost2ndFx!D67","v":0},{"$f":"Expected2ndFx!E67*REF_IncCost2ndFx!E67","v":0},{"$f":"Expected2ndFx!F67*REF_IncCost2ndFx!F67","v":0},{"$f":"Expected2ndFx!G67*REF_IncCost2ndFx!G67","v":0},{"$f":"Expected2ndFx!H67*REF_IncCost2ndFx!H67","v":0},{"$f":"Expected2ndFx!I67*REF_IncCost2ndFx!I67","v":0},{"$f":"Expected2ndFx!J67*REF_IncCost2ndFx!J67","v":0},{"$f":"Expected2ndFx!K67*REF_IncCost2ndFx!K67","v":0},{"$f":"Expected2ndFx!L67*REF_IncCost2ndFx!L67","v":0}]
["Male","65-74","Femur",{"$f":"Expected2ndFx!D68*REF_IncCost2ndFx!D68","v":0},{"$f":"Expected2ndFx!E68*REF_IncCost2ndFx!E68","v":0},{"$f":"Expected2ndFx!F68*REF_IncCost2ndFx!F68","v":0},{"$f":"Expected2ndFx!G68*REF_IncCost2ndFx!G68","v":0},{"$f":"Expected2ndFx!H68*REF_IncCost2ndFx!H68","v":0},{"$f":"Expected2ndFx!I68*REF_IncCost2ndFx!I68","v":0},{"$f":"Expected2ndFx!J68*REF_IncCost2ndFx!J68","v":0},{"$f":"Expected2ndFx!K68*REF_IncCost2ndFx!K68","v":0},{"$f":"Expected2ndFx!L68*REF_IncCost2ndFx!L68","v":0}]
["Male","65-74","Hip",{"$f":"Expected2ndFx!D69*REF_IncCost2ndFx!D69","v":0},{"$f":"Expected2ndFx!E69*REF_IncCost2ndFx!E69","v":0},{"$f":"Expected2ndFx!F69*REF_IncCost2ndFx!F69","v":0},{"$f":"Expected2ndFx!G69*REF_IncCost2ndFx!G69","v":0},{"$f":"Expected2ndFx!H69*REF_IncCost2ndFx!H69","v":0},{"$f":"Expected2ndFx!I69*REF_IncCost2ndFx!I69","v":0},{"$f":"Expected2ndFx!J69*REF_IncCost2ndFx!J69","v":0},{"$f":"Expected2ndFx!K69*REF_IncCost2ndFx!K69","v":0},{"$f":"Expected2ndFx!L69*REF_IncCost2ndFx!L69","v":0}]
["Male","65-74","Humerus",{"$f":"Expected2ndFx!D70*REF_IncCost2ndFx!D70","v":0},{"$f":"Expected2ndFx!E70*REF_IncCost2ndFx!E70","v":0},{"$f":"Expected2ndFx!F70*REF_IncCost2ndFx!F70","v":0},{"$f":"Expected2ndFx!G70*REF_IncCost2ndFx!G70","v":0},{"$f":"Expected2ndFx!H70*REF_IncCost2ndFx!H70","v":0},{"$f":"Expected2ndFx!I70*REF_IncCost2ndFx!I70","v":0},{"$f":"Expected2ndFx!J70*REF_IncCost2ndFx!J70","v":0},{"$f":"Expected2ndFx!K70*REF_IncCost2ndFx!K70","v":0},{"$f":"Expected2ndFx!L70*REF_IncCost2ndFx!L70","v":0}]
["Male","65-74","Pelvis",{"$f":"Expected2ndFx!D71*REF_IncCost2ndFx!D71","v":0},{"$f":"Expected2ndFx!E71*REF_IncCost2ndFx!E71","v":0},{"$f":"Expected2ndFx!F71*REF_IncCost2ndFx!F71","v":0},{"$f":"Expected2ndFx!G71*REF_IncCost2ndFx!G71","v":0},{"$f":"Expected2ndFx!H71*REF_IncCost2ndFx!H71","v":0},{"$f":"Expected2ndFx!I71*REF_IncCost2ndFx!I71","v":0},{"$f":"Expected2ndFx!J71*REF_IncCost2ndFx!J71","v":0},{"$f":"Expected2ndFx!K71*REF_IncCost2ndFx!K71","v":0},{"$f":"Expected2ndFx!L71*REF_IncCost2ndFx!L71","v":0}]
["Male","65-74","Radius/Ulna",{"$f":"Expected2ndFx!D72*REF_IncCost2ndFx!D72","v":0},{"$f":"Expected2ndFx!E72*REF_IncCost2ndFx!E72","v":0},{"$f":"Expected2ndFx!F72*REF_IncCost2ndFx!F72","v":0},{"$f":"Expected2ndFx!G72*REF_IncCost2ndFx!G72","v":0},{"$f":"Expected2ndFx!H72*REF_IncCost2ndFx!H72","v":0},{"$f":"Expected2ndFx!I72*REF_IncCost2ndFx!I72","v":0},{"$f":"Expected2ndFx!J72*REF_IncCost2ndFx!J72","v":0},{"$f":"Expected2ndFx!K72*REF_IncCost2ndFx!K72","v":0},{"$f":"Expected2ndFx!L72*REF_IncCost2ndFx!L72","v":0}]
["Male","65-74","Spine",{"$f":"Expected2ndFx!D73*REF_IncCost2ndFx!D73","v":0},{"$f":"Expected2ndFx!E73*REF_IncCost2ndFx!E73","v":0},{"$f":"Expected2ndFx!F73*REF_IncCost2ndFx!F73","v":0},{"$f":"Expected2ndFx!G73*REF_IncCost2ndFx!G73","v":0},{"$f":"Expected2ndFx!H73*REF_IncCost2ndFx!H73","v":0},{"$f":"Expected2ndFx!I73*REF_IncCost2ndFx!I73","v":0},{"$f":"Expected2ndFx!J73*REF_IncCost2ndFx!J73","v":0},{"$f":"Expected2ndFx!K73*REF_IncCost2ndFx!K73","v":0},{"$f":"Expected2ndFx!L73*REF_IncCost2ndFx!L73","v":0}]
["Male","65-74","Tibia/Fibula",{"$f":"Expected2ndFx!D74*REF_IncCost2ndFx!D74","v":0},{"$f":"Expected2ndFx!E74*REF_IncCost2ndFx!E74","v":0},{"$f":"Expected2ndFx!F74*REF_IncCost2ndFx!F74","v":0},{"$f":"Expected2ndFx!G74*REF_IncCost2ndFx!G74","v":0},{"$f":"Expected2ndFx!H74*REF_IncCost2ndFx!H74","v":0},{"$f":"Expected2ndFx!I74*REF_IncCost2ndFx!I74","v":0},{"$f":"Expected2ndFx!J74*REF_IncCost2ndFx!J74","v":0},{"$f":"Expected2ndFx!K74*REF_IncCost2ndFx!K74","v":0},{"$f":"Expected2ndFx!L74*REF_IncCost2ndFx!L74","v":0}]
["Male","75-84","Ankle",{"$f":"Expected2ndFx!D75*REF_IncCost2ndFx!D75","v":0},{"$f":"Expected2ndFx!E75*REF_IncCost2ndFx!E75","v":0},{"$f":"Expected2ndFx!F75*REF_IncCost2ndFx!F75","v":0},{"$f":"Expected2ndFx!G75*REF_IncCost2ndFx!G75","v":0},{"$f":"Expected2ndFx!H75*REF_IncCost2ndFx!H75","v":0},{"$f":"Expected2ndFx!I75*REF_IncCost2ndFx!I75","v":0},{"$f":"Expected2ndFx!J75*REF_IncCost2ndFx!J75","v":0},{"$f":"Expected2ndFx!K75*REF_IncCost2ndFx!K75","v":0},{"$f":"Expected2ndFx!L75*REF_IncCost2ndFx!L75","v":0}]
["Male","75-84","Clavicle",{"$f":"Expected2ndFx!D76*REF_IncCost2ndFx!D76","v":0},{"$f":"Expected2ndFx!E76*REF_IncCost2ndFx!E76","v":0},{"$f":"Expected2ndFx!F76*REF_IncCost2ndFx!F76","v":0},{"$f":"Expected2ndFx!G76*REF_IncCost2ndFx!G76","v":0},{"$f":"Expected2ndFx!H76*REF_IncCost2ndFx!H76","v":0},{"$f":"Expected2ndFx!I76*REF_IncCost2ndFx!I76","v":0},{"$f":"Expected2ndFx!J76*REF_IncCost2ndFx!J76","v":0},{"$f":"Expected2ndFx!K76*REF_IncCost2ndFx!K76","v":0},{"$f":"Expected2ndFx!L76*REF_IncCost2ndFx!L76","v":0}]
["Male","75-84","Femur",{"$f":"Expected2ndFx!D77*REF_IncCost2ndFx!D77","v":0},{"$f":"Expected2ndFx!E77*REF_IncCost2ndFx!E77","v":0},{"$f":"Expected2ndFx!F77*REF_IncCost2ndFx!F77","v":0},{"$f":"Expected2ndFx!G77*REF_IncCost2ndFx!G77","v":0},{"$f":"Expected2ndFx!H77*REF_IncCost2ndFx!H77","v":0},{"$f":"Expected2ndFx!I77*REF_IncCost2ndFx!I77","v":0},{"$f":"Expected2ndFx!J77*REF_IncCost2ndFx!J77","v":0},{"$f":"Expected2ndFx!K77*REF_IncCost2ndFx!K77","v":0},{"$f":"Expected2ndFx!L77*REF_IncCost2ndFx!L77","v":0}]
["Male","75-84","Hip",{"$f":"Expected2ndFx!D78*REF_IncCost2ndFx!D78","v":0},{"$f":"Expected2ndFx!E78*REF_IncCost2ndFx!E78","v":0},{"$f":"Expected2ndFx!F78*REF_IncCost2ndFx!F78","v":0},{"$f":"Expected2ndFx!G78*REF_IncCost2ndFx!G78","v":0},{"$f":"Expected2ndFx!H78*REF_IncCost2ndFx!H78","v":0},{"$f":"Expected2ndFx!I78*REF_IncCost2ndFx!I78","v":0},{"$f":"Expected2ndFx!J78*REF_IncCost2ndFx!J78","v":0},{"$f":"Expected2ndFx!K78*REF_IncCost2ndFx!K78","v":0},{"$f":"Expected2ndFx!L78*REF_IncCost2ndFx!L78","v":0}]
["Male","75-84","Humerus",{"$f":"Expected2ndFx!D79*REF_IncCost2ndFx!D79","v":0},{"$f":"Expected2ndFx!E79*REF_IncCost2ndFx!E79","v":0},{"$f":"Expected2ndFx!F79*REF_IncCost2ndFx!F79","v":0},{"$f":"Expected2ndFx!G79*REF_IncCost2ndFx!G79","v":0},{"$f":"Expected2ndFx!H79*REF_IncCost2ndFx!H79","v":0},{"$f":"Expected2ndFx!I79*REF_IncCost2ndFx!I79","v":0},{"$f":"Expected2ndFx!J79*REF_IncCost2ndFx!J79","v":0},{"$f":"Expected2ndFx!K79*REF_IncCost2ndFx!K79","v":0},{"$f":"Expected2ndFx!L79*REF_IncCost2ndFx!L79","v":0}]
["Male","75-84","Pelvis",{"$f":"Expected2ndFx!D80*REF_IncCost2ndFx!D80","v":0},{"$f":"Expected2ndFx!E80*REF_IncCost2ndFx!E80","v":0},{"$f":"Expected2ndFx!F80*REF_IncCost2ndFx!F80","v":0},{"$f":"Expected2ndFx!G80*REF_IncCost2ndFx!G80","v":0},{"$f":"Expected2ndFx!H80*REF_IncCost2ndFx!H80","v":0},{"$f":"Expected2ndFx!I80*REF_IncCost2ndFx!I80","v":0},{"$f":"Expected2ndFx!J80*REF_IncCost2ndFx!J80","v":0},{"$f":"Expected2ndFx!K80*REF_IncCost2ndFx!K80","v":0},{"$f":"Expected2ndFx!L80*REF_IncCost2ndFx!L80","v":0}]
["Male","75-84","Radius/Ulna",{"$f":"Expected2ndFx!D81*REF_IncCost2ndFx!D81","v":0},{"$f":"Expected2ndFx!E81*REF_IncCost2ndFx!E81","v":0},{"$f":"Expected2ndFx!F81*REF_IncCost2ndFx!F81","v":0},{"$f":"Expected2ndFx!G81*REF_IncCost2ndFx!G81","v":0},{"$f":"Expected2ndFx!H81*REF_IncCost2ndFx!H81","v":0},{"$f":"Expected2ndFx!I81*REF_IncCost2ndFx!I81","v":0},{"$f":"Expected2ndFx!J81*REF_IncCost2ndFx!J81","v":0},{"$f":"Expected2ndFx!K81*REF_IncCost2ndFx!K81","v":0},{"$f":"Expected2ndFx!L81*REF_IncCost2ndFx!L81","v":0}]
["Male","75-84","Spine",{"$f":"Expected2ndFx!D82*REF_IncCost2ndFx!D82","v":0},{"$f":"Expected2ndFx!E82*REF_IncCost2ndFx!E82","v":0},{"$f":"Expected2ndFx!F82*REF_IncCost2ndFx!F82","v":0},{"$f":"Expected2ndFx!G82*REF_IncCost2ndFx!G82","v":0},{"$f":"Expected2ndFx!H82*REF_IncCost2ndFx!H82","v":0},{"$f":"Expected2ndFx!I82*REF_IncCost2ndFx!I82","v":0},{"$f":"Expected2ndFx!J82*REF_IncCost2ndFx!J82","v":0},{"$f":"Expected2ndFx!K82*REF_IncCost2ndFx!K82","v":0},{"$f":"Expected2ndFx!L82*REF_IncCost2ndFx!L82","v":0}]
["Male","75-84","Tibia/Fibula",{"$f":"Expected2ndFx!D83*REF_IncCost2ndFx!D83","v":0},{"$f":"Expected2ndFx!E83*REF_IncCost2ndFx!E83","v":0},{"$f":"Expected2ndFx!F83*REF_IncCost2ndFx!F83","v":0},{"$f":"Expected2ndFx!G83*REF_IncCost2ndFx!G83","v":0},{"$f":"Expected2ndFx!H83*REF_IncCost2ndFx!H83","v":0},{"$f":"Expected2ndFx!I83*REF_IncCost2ndFx!I83","v":0},{"$f":"Expected2ndFx!J83*REF_IncCost2ndFx!J83","v":0},{"$f":"Expected2ndFx!K83*REF_IncCost2ndFx!K83","v":0},{"$f":"Expected2ndFx!L83*REF_IncCost2ndFx!L83","v":0}]
["Male","85+","Ankle",{"$f":"Expected2ndFx!D84*REF_IncCost2ndFx!D84","v":0},{"$f":"Expected2ndFx!E84*REF_IncCost2ndFx!E84","v":0},{"$f":"Expected2ndFx!F84*REF_IncCost2ndFx!F84","v":0},{"$f":"Expected2ndFx!G84*REF_IncCost2ndFx!G84","v":0},{"$f":"Expected2ndFx!H84*REF_IncCost2ndFx!H84","v":0},{"$f":"Expected2ndFx!I84*REF_IncCost2ndFx!I84","v":0},{"$f":"Expected2ndFx!J84*REF_IncCost2ndFx!J84","v":0},{"$f":"Expected2ndFx!K84*REF_IncCost2ndFx!K84","v":0},{"$f":"Expected2ndFx!L84*REF_IncCost2ndFx!L84","v":0}]
["Male","85+","Clavicle",{"$f":"Expected2ndFx!D85*REF_IncCost2ndFx!D85","v":0},{"$f":"Expected2ndFx!E85*REF_IncCost2ndFx!E85","v":0},{"$f":"Expected2ndFx!F85*REF_IncCost2ndFx!F85","v":0},{"$f":"Expected2ndFx!G85*REF_IncCost2ndFx!G85","v":0},{"$f":"Expected2ndFx!H85*REF_IncCost2ndFx!H85","v":0},{"$f":"Expected2ndFx!I85*REF_IncCost2ndFx!I85","v":0},{"$f":"Expected2ndFx!J85*REF_IncCost2ndFx!J85","v":0},{"$f":"Expected2ndFx!K85*REF_IncCost2ndFx!K85","v":0},{"$f":"Expected2ndFx!L85*REF_IncCost2ndFx!L85","v":0}]
["Male","85+","Femur",{"$f":"Expected2ndFx!D86*REF_IncCost2ndFx!D86","v":0},{"$f":"Expected2ndFx!E86*REF_IncCost2ndFx!E86","v":0},{"$f":"Expected2ndFx!F86*REF_IncCost2ndFx!F86","v":0},{"$f":"Expected2ndFx!G86*REF_IncCost2ndFx!G86","v":0},{"$f":"Expected2ndFx!H86*REF_IncCost2ndFx!H86","v":0},{"$f":"Expected2ndFx!I86*REF_IncCost2ndFx!I86","v":0},{"$f":"Expected2ndFx!J86*REF_IncCost2ndFx!J86","v":0},{"$f":"Expected2ndFx!K86*REF_IncCost2ndFx!K86","v":0},{"$f":"Expected2ndFx!L86*REF_IncCost2ndFx!L86","v":0}]
["Male","85+","Hip",{"$f":"Expected2ndFx!D87*REF_IncCost2ndFx!D87","v":0},{"$f":"Expected2ndFx!E87*REF_IncCost2ndFx!E87","v":0},{"$f":"Expected2ndFx!F87*REF_IncCost2ndFx!F87","v":0},{"$f":"Expected2ndFx!G87*REF_IncCost2ndFx!G87","v":0},{"$f":"Expected2ndFx!H87*REF_IncCost2ndFx!H87","v":0},{"$f":"Expected2ndFx!I87*REF_IncCost2ndFx!I87","v":0},{"$f":"Expected2ndFx!J87*REF_IncCost2ndFx!J87","v":0},{"$f":"Expected2ndFx!K87*REF_IncCost2ndFx!K87","v":0},{"$f":"Expected2ndFx!L87*REF_IncCost2ndFx!L87","v":0}]
["Male","85+","Humerus",{"$f":"Expected2ndFx!D88*REF_IncCost2ndFx!D88","v":0},{"$f":"Expected2ndFx!E88*REF_IncCost2ndFx!E88","v":0},{"$f":"Expected2ndFx!F88*REF_IncCost2ndFx!F88","v":0},{"$f":"Expected2ndFx!G88*REF_IncCost2ndFx!G88","v":0},{"$f":"Expected2ndFx!H88*REF_IncCost2ndFx!H88","v":0},{"$f":"Expected2ndFx!I88*REF_IncCost2ndFx!I88","v":0},{"$f":"Expected2ndFx!J88*REF_IncCost2ndFx!J88","v":0},{"$f":"Expected2ndFx!K88*REF_IncCost2ndFx!K88","v":0},{"$f":"Expected2ndFx!L88*REF_IncCost2ndFx!L88","v":0}]
["Male","85+","Pelvis",{"$f":"Expected2ndFx!D89*REF_IncCost2ndFx!D89","v":0},{"$f":"Expected2ndFx!E89*REF_IncCost2ndFx!E89","v":0},{"$f":"Expected2ndFx!F89*REF_IncCost2ndFx!F89","v":0},{"$f":"Expected2ndFx!G89*REF_IncCost2ndFx!G89","v":0},{"$f":"Expected2ndFx!H89*REF_IncCost2ndFx!H89","v":0},{"$f":"Expected2ndFx!I89*REF_IncCost2ndFx!I89","v":0},{"$f":"Expected2ndFx!J89*REF_IncCost2ndFx!J89","v":0},{"$f":"Expected2ndFx!K89*REF_IncCost2ndFx!K89","v":0},{"$f":"Expected2ndFx!L89*REF_IncCost2ndFx!L89","v":0}]
["Male","85+","Radius/Ulna",{"$f":"Expected2ndFx!D90*REF_IncCost2ndFx!D90","v":0},{"$f":"Expected2ndFx!E90*REF_IncCost2ndFx!E90","v":0},{"$f":"Expected2ndFx!F90*REF_IncCost2ndFx!F90","v":0},{"$f":"Expected2ndFx!G90*REF_IncCost2ndFx!G90","v":0},{"$f":"Expected2ndFx!H90*REF_IncCost2ndFx!H90","v":0},{"$f":"Expected2ndFx!I90*REF_IncCost2ndFx!I90","v":0},{"$f":"Expected2ndFx!J90*REF_IncCost2ndFx!J90","v":0},{"$f":"Expected2ndFx!K90*REF_IncCost2ndFx!K90","v":0},{"$f":"Expected2ndFx!L90*REF_IncCost2ndFx!L90","v":0}]
["Male","85+","Spine",{"$f":"Expected2ndFx!D91*REF_IncCost2ndFx!D91","v":0},{"$f":"Expected2ndFx!E91*REF_IncCost2ndFx!E91","v":0},{"$f":"Expected2ndFx!F91*REF_IncCost2ndFx!F91","v":0},{"$f":"Expected2ndFx!G91*REF_IncCost2ndFx!G91","v":0},{"$f":"Expected2ndFx!H91*REF_IncCost2ndFx!H91","v":0},{"$f":"Expected2ndFx!I91*REF_IncCost2ndFx!I91","v":0},{"$f":"Expected2ndFx!J91*REF_IncCost2ndFx!J91","v":0},{"$f":"Expected2ndFx!K91*REF_IncCost2ndFx!K91","v":0},{"$f":"Expected2ndFx!L91*REF_IncCost2ndFx!L91","v":0}]
["Male","85+","Tibia/Fibula",{"$f":"Expected2ndFx!D92*REF_IncCost2ndFx!D92","v":0},{"$f":"Expected2ndFx!E92*REF_IncCost2ndFx!E92","v":0},{"$f":"Expected2ndFx!F92*REF_IncCost2ndFx!F92","v":0},{"$f":"Expected2ndFx!G92*REF_IncCost2ndFx!G92","v":0},{"$f":"Expected2ndFx!H92*REF_IncCost2ndFx!H92","v":0},{"$f":"Expected2ndFx!I92*REF_IncCost2ndFx!I92","v":0},{"$f":"Expected2ndFx!J92*REF_IncCost2ndFx!J92","v":0},{"$f":"Expected2ndFx!K92*REF_IncCost2ndFx!K92","v":0},{"$f":"Expected2ndFx!L92*REF_IncCost2ndFx!L92","v":0}]
["Female","65-74","Ankle",{"$f":"Expected2ndFx!D93*REF_IncCost2ndFx!D93","v":0},{"$f":"Expected2ndFx!E93*REF_IncCost2ndFx!E93","v":0},{"$f":"Expected2ndFx!F93*REF_IncCost2ndFx!F93","v":0},{"$f":"Expected2ndFx!G93*REF_IncCost2ndFx!G93","v":0},{"$f":"Expected2ndFx!H93*REF_IncCost2ndFx!H93","v":0},{"$f":"Expected2ndFx!I93*REF_IncCost2ndFx!I93","v":0},{"$f":"Expected2ndFx!J93*REF_IncCost2ndFx!J93","v":0},{"$f":"Expected2ndFx!K93*REF_IncCost2ndFx!K93","v":0},{"$f":"Expected2ndFx!L93*REF_IncCost2ndFx!L93","v":0}]
["Female","65-74","Clavicle",{"$f":"Expected2ndFx!D94*REF_IncCost2ndFx!D94","v":0},{"$f":"Expected2ndFx!E94*REF_IncCost2ndFx!E94","v":0},{"$f":"Expected2ndFx!F94*REF_IncCost2ndFx!F94","v":0},{"$f":"Expected2ndFx!G94*REF_IncCost2ndFx!G94","v":0},{"$f":"Expected2ndFx!H94*REF_IncCost2ndFx!H94","v":0},{"$f":"Expected2ndFx!I94*REF_IncCost2ndFx!I94","v":0},{"$f":"Expected2ndFx!J94*REF_IncCost2ndFx!J94","v":0},{"$f":"Expected2ndFx!K94*REF_IncCost2ndFx!K94","v":0},{"$f":"Expected2ndFx!L94*REF_IncCost2ndFx!L94","v":0}]
["Female","65-74","Femur",{"$f":"Expected2ndFx!D95*REF_IncCost2ndFx!D95","v":0},{"$f":"Expected2ndFx!E95*REF_IncCost2ndFx!E95","v":0},{"$f":"Expected2ndFx!F95*REF_IncCost2ndFx!F95","v":0},{"$f":"Expected2ndFx!G95*REF_IncCost2ndFx!G95","v":0},{"$f":"Expected2ndFx!H95*REF_IncCost2ndFx!H95","v":0},{"$f":"Expected2ndFx!I95*REF_IncCost2ndFx!I95","v":0},{"$f":"Expected2ndFx!J95*REF_IncCost2ndFx!J95","v":0},{"$f":"Expected2ndFx!K95*REF_IncCost2ndFx!K95","v":0},{"$f":"Expected2ndFx!L95*REF_IncCost2ndFx!L95","v":0}]
["Female","65-74","Hip",{"$f":"Expected2ndFx!D96*REF_IncCost2ndFx!D96","v":0},{"$f":"Expected2ndFx!E96*REF_IncCost2ndFx!E96","v":0},{"$f":"Expected2ndFx!F96*REF_IncCost2ndFx!F96","v":0},{"$f":"Expected2ndFx!G96*REF_IncCost2ndFx!G96","v":0},{"$f":"Expected2ndFx!H96*REF_IncCost2ndFx!H96","v":0},{"$f":"Expected2ndFx!I96*REF_IncCost2ndFx!I96","v":0},{"$f":"Expected2ndFx!J96*REF_IncCost2ndFx!J96","v":0},{"$f":"Expected2ndFx!K96*REF_IncCost2ndFx!K96","v":0},{"$f":"Expected2ndFx!L96*REF_IncCost2ndFx!L96","v":0}]
["Female","65-74","Humerus",{"$f":"Expected2ndFx!D97*REF_IncCost2ndFx!D97","v":0},{"$f":"Expected2ndFx!E97*REF_IncCost2ndFx!E97","v":0},{"$f":"Expected2ndFx!F97*REF_IncCost2ndFx!F97","v":0},{"$f":"Expected2ndFx!G97*REF_IncCost2ndFx!G97","v":0},{"$f":"Expected2ndFx!H97*REF_IncCost2ndFx!H97","v":0},{"$f":"Expected2ndFx!I97*REF_IncCost2ndFx!I97","v":0},{"$f":"Expected2ndFx!J97*REF_IncCost2ndFx!J97","v":0},{"$f":"Expected2ndFx!K97*REF_IncCost2ndFx!K97","v":0},{"$f":"Expected2ndFx!L97*REF_IncCost2ndFx!L97","v":0}]
["Female","65-74","Pelvis",{"$f":"Expected2ndFx!D98*REF_IncCost2ndFx!D98","v":0},{"$f":"Expected2ndFx!E98*REF_IncCost2ndFx!E98","v":0},{"$f":"Expected2ndFx!F98*REF_IncCost2ndFx!F98","v":0},{"$f":"Expected2ndFx!G98*REF_IncCost2ndFx!G98","v":0},{"$f":"Expected2ndFx!H98*REF_IncCost2ndFx!H98","v":0},{"$f":"Expected2ndFx!I98*REF_IncCost2ndFx!I98","v":0},{"$f":"Expected2ndFx!J98*REF_IncCost2ndFx!J98","v":0},{"$f":"Expected2ndFx!K98*REF_IncCost2ndFx!K98","v":0},{"$f":"Expected2ndFx!L98*REF_IncCost2ndFx!L98","v":0}]
["Female","65-74","Radius/Ulna",{"$f":"Expected2ndFx!D99*REF_IncCost2ndFx!D99","v":0},{"$f":"Expected2ndFx!E99*REF_IncCost2ndFx!E99","v":0},{"$f":"Expected2ndFx!F99*REF_IncCost2ndFx!F99","v":0},{"$f":"Expected2ndFx!G99*REF_IncCost2ndFx!G99","v":0},{"$f":"Expected2ndFx!H99*REF_IncCost2ndFx!H99","v":0},{"$f":"Expected2ndFx!I99*REF_IncCost2ndFx!I99","v":0},{"$f":"Expected2ndFx!J99*REF_IncCost2ndFx!J99","v":0},{"$f":"Expected2ndFx!K99*REF_IncCost2ndFx!K99","v":0},{"$f":"Expected2ndFx!L99*REF_IncCost2ndFx!L99","v":0}]
["Female","65-74","Spine",{"$f":"Expected2ndFx!D100*REF_IncCost2ndFx!D100","v":0},{"$f":"Expected2ndFx!E100*REF_IncCost2ndFx!E100","v":0},{"$f":"Expected2ndFx!F100*REF_IncCost2ndFx!F100","v":0},{"$f":"Expected2ndFx!G100*REF_IncCost2ndFx!G100","v":0},{"$f":"Expected2ndFx!H100*REF_IncCost2ndFx!H100","v":0},{"$f":"Expected2ndFx!I100*REF_IncCost2ndFx!I100","v":0},{"$f":"Expected2ndFx!J100*REF_IncCost2ndFx!J100","v":0},{"$f":"Expected2ndFx!K100*REF_IncCost2ndFx!K100","v":0},{"$f":"Expected2ndFx!L100*REF_IncCost2ndFx!L100","v":0}]
["Female","65-74","Tibia/Fibula",{"$f":"Expected2ndFx!D101*REF_IncCost2ndFx!D101","v":0},{"$f":"Expected2ndFx!E101*REF_IncCost2ndFx!E101","v":0},{"$f":"Expected2ndFx!F101*REF_IncCost2ndFx!F101","v":0},{"$f":"Expected2ndFx!G101*REF_IncCost2ndFx!G101","v":0},{"$f":"Expected2ndFx!H101*REF_IncCost2ndFx!H101","v":0},{"$f":"Expected2ndFx!I101*REF_IncCost2ndFx!I101","v":0},{"$f":"Expected2ndFx!J101*REF_IncCost2ndFx!J101","v":0},{"$f":"Expected2ndFx!K101*REF_IncCost2ndFx!K101","v":0},{"$f":"Expected2ndFx!L101*REF_IncCost2ndFx!L101","v":0}]
["Female","75-84","Ankle",{"$f":"Expected2ndFx!D102*REF_IncCost2ndFx!D102","v":0},{"$f":"Expected2ndFx!E102*REF_IncCost2ndFx!E102","v":0},{"$f":"Expected2ndFx!F102*REF_IncCost2ndFx!F102","v":0},{"$f":"Expected2ndFx!G102*REF_IncCost2ndFx!G102","v":0},{"$f":"Expected2ndFx!H102*REF_IncCost2ndFx!H102","v":0},{"$f":"Expected2ndFx!I102*REF_IncCost2ndFx!I102","v":0},{"$f":"Expected2ndFx!J102*REF_IncCost2ndFx!J102","v":0},{"$f":"Expected2ndFx!K102*REF_IncCost2ndFx!K102","v":0},{"$f":"Expected2ndFx!L102*REF_IncCost2ndFx!L102","v":0}]
["Female","75-84","Clavicle",{"$f":"Expected2ndFx!D103*REF_IncCost2ndFx!D103","v":0},{"$f":"Expected2ndFx!E103*REF_IncCost2ndFx!E103","v":0},{"$f":"Expected2ndFx!F103*REF_IncCost2ndFx!F103","v":0},{"$f":"Expected2ndFx!G103*REF_IncCost2ndFx!G103","v":0},{"$f":"Expected2ndFx!H103*REF_IncCost2ndFx!H103","v":0},{"$f":"Expected2ndFx!I103*REF_IncCost2ndFx!I103","v":0},{"$f":"Expected2ndFx!J103*REF_IncCost2ndFx!J103","v":0},{"$f":"Expected2ndFx!K103*REF_IncCost2ndFx!K103","v":0},{"$f":"Expected2ndFx!L103*REF_IncCost2ndFx!L103","v":0}]
["Female","75-84","Femur",{"$f":"Expected2ndFx!D104*REF_IncCost2ndFx!D104","v":0},{"$f":"Expected2ndFx!E104*REF_IncCost2ndFx!E104","v":0},{"$f":"Expected2ndFx!F104*REF_IncCost2ndFx!F104","v":0},{"$f":"Expected2ndFx!G104*REF_IncCost2ndFx!G104","v":0},{"$f":"Expected2ndFx!H104*REF_IncCost2ndFx!H104","v":0},{"$f":"Expected2ndFx!I104*REF_IncCost2ndFx!I104","v":0},{"$f":"Expected2ndFx!J104*REF_IncCost2ndFx!J104","v":0},{"$f":"Expected2ndFx!K104*REF_IncCost2ndFx!K104","v":0},{"$f":"Expected2ndFx!L104*REF_IncCost2ndFx!L104","v":0}]
["Female","75-84","Hip",{"$f":"Expected2ndFx!D105*REF_IncCost2ndFx!D105","v":0},{"$f":"Expected2ndFx!E105*REF_IncCost2ndFx!E105","v":0},{"$f":"Expected2ndFx!F105*REF_IncCost2ndFx!F105","v":0},{"$f":"Expected2ndFx!G105*REF_IncCost2ndFx!G105","v":0},{"$f":"Expected2ndFx!H105*REF_IncCost2ndFx!H105","v":0},{"$f":"Expected2ndFx!I105*REF_IncCost2ndFx!I105","v":0},{"$f":"Expected2ndFx!J105*REF_IncCost2ndFx!J105","v":0},{"$f":"Expected2ndFx!K105*REF_IncCost2ndFx!K105","v":0},{"$f":"Expected2ndFx!L105*REF_IncCost2ndFx!L105","v":0}]
["Female","75-84","Humerus",{"$f":"Expected2ndFx!D106*REF_IncCost2ndFx!D106","v":0},{"$f":"Expected2ndFx!E106*REF_IncCost2ndFx!E106","v":0},{"$f":"Expected2ndFx!F106*REF_IncCost2ndFx!F106","v":0},{"$f":"Expected2ndFx!G106*REF_IncCost2ndFx!G106","v":0},{"$f":"Expected2ndFx!H106*REF_IncCost2ndFx!H106","v":0},{"$f":"Expected2ndFx!I106*REF_IncCost2ndFx!I106","v":0},{"$f":"Expected2ndFx!J106*REF_IncCost2ndFx!J106","v":0},{"$f":"Expected2ndFx!K106*REF_IncCost2ndFx!K106","v":0},{"$f":"Expected2ndFx!L106*REF_IncCost2ndFx!L106","v":0}]
["Female","75-84","Pelvis",{"$f":"Expected2ndFx!D107*REF_IncCost2ndFx!D107","v":0},{"$f":"Expected2ndFx!E107*REF_IncCost2ndFx!E107","v":0},{"$f":"Expected2ndFx!F107*REF_IncCost2ndFx!F107","v":0},{"$f":"Expected2ndFx!G107*REF_IncCost2ndFx!G107","v":0},{"$f":"Expected2ndFx!H107*REF_IncCost2ndFx!H107","v":0},{"$f":"Expected2ndFx!I107*REF_IncCost2ndFx!I107","v":0},{"$f":"Expected2ndFx!J107*REF_IncCost2ndFx!J107","v":0},{"$f":"Expected2ndFx!K107*REF_IncCost2ndFx!K107","v":0},{"$f":"Expected2ndFx!L107*REF_IncCost2ndFx!L107","v":0}]
["Female","75-84","Radius/Ulna",{"$f":"Expected2ndFx!D108*REF_IncCost2ndFx!D108","v":0},{"$f":"Expected2ndFx!E108*REF_IncCost2ndFx!E108","v":0},{"$f":"Expected2ndFx!F108*REF_IncCost2ndFx!F108","v":0},{"$f":"Expected2ndFx!G108*REF_IncCost2ndFx!G108","v":0},{"$f":"Expected2ndFx!H108*REF_IncCost2ndFx!H108","v":0},{"$f":"Expected2ndFx!I108*REF_IncCost2ndFx!I108","v":0},{"$f":"Expected2ndFx!J108*REF_IncCost2ndFx!J108","v":0},{"$f":"Expected2ndFx!K108*REF_IncCost2ndFx!K108","v":0},{"$f":"Expected2ndFx!L108*REF_IncCost2ndFx!L108","v":0}]
["Female","75-84","Spine",{"$f":"Expected2ndFx!D109*REF_IncCost2ndFx!D109","v":0},{"$f":"Expected2ndFx!E109*REF_IncCost2ndFx!E109","v":0},{"$f":"Expected2ndFx!F109*REF_IncCost2ndFx!F109","v":0},{"$f":"Expected2ndFx!G109*REF_IncCost2ndFx!G109","v":0},{"$f":"Expected2ndFx!H109*REF_IncCost2ndFx!H109","v":0},{"$f":"Expected2ndFx!I109*REF_IncCost2ndFx!I109","v":0},{"$f":"Expected2ndFx!J109*REF_IncCost2ndFx!J109","v":0},{"$f":"Expected2ndFx!K109*REF_IncCost2ndFx!K109","v":0},{"$f":"Expected2ndFx!L109*REF_IncCost2ndFx!L109","v":0}]
["Female","75-84","Tibia/Fibula",{"$f":"Expected2ndFx!D110*REF_IncCost2ndFx!D110","v":0},{"$f":"Expected2ndFx!E110*REF_IncCost2ndFx!E110","v":0},{"$f":"Expected2ndFx!F110*REF_IncCost2ndFx!F110","v":0},{"$f":"Expected2ndFx!G110*REF_IncCost2ndFx!G110","v":0},{"$f":"Expected2ndFx!H110*REF_IncCost2ndFx!H110","v":0},{"$f":"Expected2ndFx!I110*REF_IncCost2ndFx!I110","v":0},{"$f":"Expected2ndFx!J110*REF_IncCost2ndFx!J110","v":0},{"$f":"Expected2ndFx!K110*REF_IncCost2ndFx!K110","v":0},{"$f":"Expected2ndFx!L110*REF_IncCost2ndFx!L110","v":0}]
["Female","85+","Ankle",{"$f":"Expected2ndFx!D111*REF_IncCost2ndFx!D111","v":0},{"$f":"Expected2ndFx!E111*REF_IncCost2ndFx!E111","v":0},{"$f":"Expected2ndFx!F111*REF_IncCost2ndFx!F111","v":0},{"$f":"Expected2ndFx!G111*REF_IncCost2ndFx!G111","v":0},{"$f":"Expected2ndFx!H111*REF_IncCost2ndFx!H111","v":0},{"$f":"Expected2ndFx!I111*REF_IncCost2ndFx!I111","v":0},{"$f":"Expected2ndFx!J111*REF_IncCost2ndFx!J111","v":0},{"$f":"Expected2ndFx!K111*REF_IncCost2ndFx!K111","v":0},{"$f":"Expected2ndFx!L111*REF_IncCost2ndFx!L111","v":0}]
["Female","85+","Clavicle",{"$f":"Expected2ndFx!D112*REF_IncCost2ndFx!D112","v":0},{"$f":"Expected2ndFx!E112*REF_IncCost2ndFx!E112","v":0},{"$f":"Expected2ndFx!F112*REF_IncCost2ndFx!F112","v":0},{"$f":"Expected2ndFx!G112*REF_IncCost2ndFx!G112","v":0},{"$f":"Expected2ndFx!H112*REF_IncCost2ndFx!H112","v":0},{"$f":"Expected2ndFx!I112*REF_IncCost2ndFx!I112","v":0},{"$f":"Expected2ndFx!J112*REF_IncCost2ndFx!J112","v":0},{"$f":"Expected2ndFx!K112*REF_IncCost2ndFx!K112","v":0},{"$f":"Expected2ndFx!L112*REF_IncCost2ndFx!L112","v":0}]
["Female","85+","Femur",{"$f":"Expected2ndFx!D113*REF_IncCost2ndFx!D113","v":0},{"$f":"Expected2ndFx!E113*REF_IncCost2ndFx!E113","v":0},{"$f":"Expected2ndFx!F113*REF_IncCost2ndFx!F113","v":0},{"$f":"Expected2ndFx!G113*REF_IncCost2ndFx!G113","v":0},{"$f":"Expected2ndFx!H113*REF_IncCost2ndFx!H113","v":0},{"$f":"Expected2ndFx!I113*REF_IncCost2ndFx!I113","v":0},{"$f":"Expected2ndFx!J113*REF_IncCost2ndFx!J113","v":0},{"$f":"Expected2ndFx!K113*REF_IncCost2ndFx!K113","v":0},{"$f":"Expected2ndFx!L113*REF_IncCost2ndFx!L113","v":0}]
["Female","85+","Hip",{"$f":"Expected2ndFx!D114*REF_IncCost2ndFx!D114","v":0},{"$f":"Expected2ndFx!E114*REF_IncCost2ndFx!E114","v":0},{"$f":"Expected2ndFx!F114*REF_IncCost2ndFx!F114","v":0},{"$f":"Expected2ndFx!G114*REF_IncCost2ndFx!G114","v":0},{"$f":"Expected2ndFx!H114*REF_IncCost2ndFx!H114","v":0},{"$f":"Expected2ndFx!I114*REF_IncCost2ndFx!I114","v":0},{"$f":"Expected2ndFx!J114*REF_IncCost2ndFx!J114","v":0},{"$f":"Expected2ndFx!K114*REF_IncCost2ndFx!K114","v":0},{"$f":"Expected2ndFx!L114*REF_IncCost2ndFx!L114","v":0}]
["Female","85+","Humerus",{"$f":"Expected2ndFx!D115*REF_IncCost2ndFx!D115","v":0},{"$f":"Expected2ndFx!E115*REF_IncCost2ndFx!E115","v":0},{"$f":"Expected2ndFx!F115*REF_IncCost2ndFx!F115","v":0},{"$f":"Expected2ndFx!G115*REF_IncCost2ndFx!G115","v":0},{"$f":"Expected2ndFx!H115*REF_IncCost2ndFx!H115","v":0},{"$f":"Expected2ndFx!I115*REF_IncCost2ndFx!I115","v":0},{"$f":"Expected2ndFx!J115*REF_IncCost2ndFx!J115","v":0},{"$f":"Expected2ndFx!K115*REF_IncCost2ndFx!K115","v":0},{"$f":"Expected2ndFx!L115*REF_IncCost2ndFx!L115","v":0}]
["Female","85+","Pelvis",{"$f":"Expected2ndFx!D116*REF_IncCost2ndFx!D116","v":0},{"$f":"Expected2ndFx!E116*REF_IncCost2ndFx!E116","v":0},{"$f":"Expected2ndFx!F116*REF_IncCost2ndFx!F116","v":0},{"$f":"Expected2ndFx!G116*REF_IncCost2ndFx!G116","v":0},{"$f":"Expected2ndFx!H116*REF_IncCost2ndFx!H116","v":0},{"$f":"Expected2ndFx!I116*REF_IncCost2ndFx!I116","v":0},{"$f":"Expected2ndFx!J116*REF_IncCost2ndFx!J116","v":0},{"$f":"Expected2ndFx!K116*REF_IncCost2ndFx!K116","v":0},{"$f":"Expected2ndFx!L116*REF_IncCost2ndFx!L116","v":0}]
["Female","85+","Radius/Ulna",{"$f":"Expected2ndFx!D117*REF_IncCost2ndFx!D117","v":0},{"$f":"Expected2ndFx!E117*REF_IncCost2ndFx!E117","v":0},{"$f":"Expected2ndFx!F117*REF_IncCost2ndFx!F117","v":0},{"$f":"Expected2ndFx!G117*REF_IncCost2ndFx!G117","v":0},{"$f":"Expected2ndFx!H117*REF_IncCost2ndFx!H117","v":0},{"$f":"Expected2ndFx!I117*REF_IncCost2ndFx!I117","v":0},{"$f":"Expected2ndFx!J117*REF_IncCost2ndFx!J117","v":0},{"$f":"Expected2ndFx!K117*REF_IncCost2ndFx!K117","v":0},{"$f":"Expected2ndFx!L117*REF_IncCost2ndFx!L117","v":0}]
["Female","85+","Spine",{"$f":"Expected2ndFx!D118*REF_IncCost2ndFx!D118","v":0},{"$f":"Expected2ndFx!E118*REF_IncCost2ndFx!E118","v":0},{"$f":"Expected2ndFx!F118*REF_IncCost2ndFx!F118","v":0},{"$f":"Expected2ndFx!G118*REF_IncCost2ndFx!G118","v":0},{"$f":"Expected2ndFx!H118*REF_IncCost2ndFx!H118","v":0},{"$f":"Expected2ndFx!I118*REF_IncCost2ndFx!I118","v":0},{"$f":"Expected2ndFx!J118*REF_IncCost2ndFx!J118","v":0},{"$f":"Expected2ndFx!K118*REF_IncCost2ndFx!K118","v":0},{"$f":"Expected2ndFx!L118*REF_IncCost2ndFx!L118","v":0}]
["Female","85+","Tibia/Fibula",{"$f":"Expected2ndFx!D119*REF_IncCost2ndFx!D119","v":0},{"$f":"Expected2ndFx!E119*REF_IncCost2ndFx!E119","v":0},{"$f":"Expected2ndFx!F119*REF_IncCost2ndFx!F119","v":0},{"$f":"Expected2ndFx!G119*REF_IncCost2ndFx!G119","v":0},{"$f":"Expected2ndFx!H119*REF_IncCost2ndFx!H119","v":0},{"$f":"Expected2ndFx!I119*REF_IncCost2ndFx!I119","v":0},{"$f":"Expected2ndFx!J119*REF_IncCost2ndFx!J119","v":0},{"$f":"Expected2ndFx!K119*REF_IncCost2ndFx!K119","v":0},{"$f":"Expected2ndFx!L119*REF_IncCost2ndFx!L119","v":0}]
[]
[]
["Four Year Model"]
["Sex","Age","Initial Fracture Site","Second Fracture Status"]
[null,null,null,"Ankle","Clavicle","Femur","Hip","Humerus","Pelvis","Radius/Ulna","Spine","Tibia/Fibula"]
["Male","65-74","Ankle",{"$f":"Expected2ndFx!D125*REF_IncCost2ndFx!D125","v":0},{"$f":"Expected2ndFx!E125*REF_IncCost2ndFx!E125","v":0},{"$f":"Expected2ndFx!F125*REF_IncCost2ndFx!F125","v":0},{"$f":"Expected2ndFx!G125*REF_IncCost2ndFx!G125","v":0},{"$f":"Expected2ndFx!H125*REF_IncCost2ndFx!H125","v":0},{"$f":"Expected2ndFx!I125*REF_IncCost2ndFx!I125","v":0},{"$f":"Expected2ndFx!J125*REF_IncCost2ndFx!J125","v":0},{"$f":"Expected2ndFx!K125*REF_IncCost2ndFx!K125","v":0},{"$f":"Expected2ndFx!L125*REF_IncCost2ndFx!L125","v":0}]
["Male","65-74","Clavicle",{"$f":"Expected2ndFx!D126*REF_IncCost2ndFx!D126","v":0},{"$f":"Expected2ndFx!E126*REF_IncCost2ndFx!E126","v":0},{"$f":"Expected2ndFx!F126*REF_IncCost2ndFx!F126","v":0},{"$f":"Expected2ndFx!G126*REF_IncCost2ndFx!G126","v":0},{"$f":"Expected2ndFx!H126*REF_IncCost2ndFx!H126","v":0},{"$f":"Expected2ndFx!I126*REF_IncCost2ndFx!I126","v":0},{"$f":"Expected2ndFx!J126*REF_IncCost2ndFx!J126","v":0},{"$f":"Expected2ndFx!K126*REF_IncCost2ndFx!K126","v":0},{"$f":"Expected2ndFx!L126*REF_IncCost2ndFx!L126","v":0}]
["Male","65-74","Femur",{"$f":"Expected2ndFx!D127*REF_IncCost2ndFx!D127","v":0},{"$f":"Expected2ndFx!E127*REF_IncCost2ndFx!E127","v":0},{"$f":"Expected2ndFx!F127*REF_IncCost2ndFx!F127","v":0},{"$f":"Expected2ndFx!G127*REF_IncCost2ndFx!G127","v":0},{"$f":"Expected2ndFx!H127*REF_IncCost2ndFx!H127","v":0},{"$f":"Expected2ndFx!I127*REF_IncCost2ndFx!I127","v":0},{"$f":"Expected2ndFx!J127*REF_IncCost2ndFx!J127","v":0},{"$f":"Expected2ndFx!K127*REF_IncCost2ndFx!K127","v":0},{"$f":"Expected2ndFx!L127*REF_IncCost2ndFx!L127","v":0}]
["Male","65-74","Hip",{"$f":"Expected2ndFx!D128*REF_IncCost2ndFx!D128","v":0},{"$f":"Expected2ndFx!E128*REF_IncCost2ndFx!E128","v":0},{"$f":"Expected2ndFx!F128*REF_IncCost2ndFx!F128","v":0},{"$f":"Expected2ndFx!G128*REF_IncCost2ndFx!G128","v":0},{"$f":"Expected2ndFx!H128*REF_IncCost2ndFx!H128","v":0},{"$f":"Expected2ndFx!I128*REF_IncCost2ndFx!I128","v":0},{"$f":"Expected2ndFx!J128*REF_IncCost2ndFx!J128","v":0},{"$f":"Expected2ndFx!K128*REF_IncCost2ndFx!K128","v":0},{"$f":"Expected2ndFx!L128*REF_IncCost2ndFx!L128","v":0}]
["Male","65-74","Humerus",{"$f":"Expected2ndFx!D129*REF_IncCost2ndFx!D129","v":0},{"$f":"Expected2ndFx!E129*REF_IncCost2ndFx!E129","v":0},{"$f":"Expected2ndFx!F129*REF_IncCost2ndFx!F129","v":0},{"$f":"Expected2ndFx!G129*REF_IncCost2ndFx!G129","v":0},{"$f":"Expected2ndFx!H129*REF_IncCost2ndFx!H129","v":0},{"$f":"Expected2ndFx!I129*REF_IncCost2ndFx!I129","v":0},{"$f":"Expected2ndFx!J129*REF_IncCost2ndFx!J129","v":0},{"$f":"Expected2ndFx!K129*REF_IncCost2ndFx!K129","v":0},{"$f":"Expected2ndFx!L129*REF_IncCost2ndFx!L129","v":0}]
["Male","65-74","Pelvis",{"$f":"Expected2ndFx!D130*REF_IncCost2ndFx!D130","v":0},{"$f":"Expected2ndFx!E130*REF_IncCost2ndFx!E130","v":0},{"$f":"Expected2ndFx!F130*REF_IncCost2ndFx!F130","v":0},{"$f":"Expected2ndFx!G130*REF_IncCost2ndFx!G130","v":0},{"$f":"Expected2ndFx!H130*REF_IncCost2ndFx!H130","v":0},{"$f":"Expected2ndFx!I130*REF_IncCost2ndFx!I130","v":0},{"$f":"Expected2ndFx!J130*REF_IncCost2ndFx!J130","v":0},{"$f":"Expected2ndFx!K130*REF_IncCost2ndFx!K130","v":0},{"$f":"Expected2ndFx!L130*REF_IncCost2ndFx!L130","v":0}]
["Male","65-74","Radius/Ulna",{"$f":"Expected2ndFx!D131*REF_IncCost2ndFx!D131","v":0},{"$f":"Expected2ndFx!E131*REF_IncCost2ndFx!E131","v":0},{"$f":"Expected2ndFx!F131*REF_IncCost2ndFx!F131","v":0},{"$f":"Expected2ndFx!G131*REF_IncCost2ndFx!G131","v":0},{"$f":"Expected2ndFx!H131*REF_IncCost2ndFx!H131","v":0},{"$f":"Expected2ndFx!I131*REF_IncCost2ndFx!I131","v":0},{"$f":"Expected2ndFx!J131*REF_IncCost2ndFx!J131","v":0},{"$f":"Expected2ndFx!K131*REF_IncCost2ndFx!K131","v":0},{"$f":"Expected2ndFx!L131*REF_IncCost2ndFx!L131","v":0}]
["Male","65-74","Spine",{"$f":"Expected2ndFx!D132*REF_IncCost2ndFx!D132","v":0},{"$f":"Expected2ndFx!E132*REF_IncCost2ndFx!E132","v":0},{"$f":"Expected2ndFx!F132*REF_IncCost2ndFx!F132","v":0},{"$f":"Expected2ndFx!G132*REF_IncCost2ndFx!G132","v":0},{"$f":"Expected2ndFx!H132*REF_IncCost2ndFx!H132","v":0},{"$f":"Expected2ndFx!I132*REF_IncCost2ndFx!I132","v":0},{"$f":"Expected2ndFx!J132*REF_IncCost2ndFx!J132","v":0},{"$f":"Expected2ndFx!K132*REF_IncCost2ndFx!K132","v":0},{"$f":"Expected2ndFx!L132*REF_IncCost2ndFx!L132","v":0}]
["Male","65-74","Tibia/Fibula",{"$f":"Expected2ndFx!D133*REF_IncCost2ndFx!D133","v":0},{"$f":"Expected2ndFx!E133*REF_IncCost2ndFx!E133","v":0},{"$f":"Expected2ndFx!F133*REF_IncCost2ndFx!F133","v":0},{"$f":"Expected2ndFx!G133*REF_IncCost2ndFx!G133","v":0},{"$f":"Expected2ndFx!H133*REF_IncCost2ndFx!H133","v":0},{"$f":"Expected2ndFx!I133*REF_IncCost2ndFx!I133","v":0},{"$f":"Expected2ndFx!J133*REF_IncCost2ndFx!J133","v":0},{"$f":"Expected2ndFx!K133*REF_IncCost2ndFx!K133","v":0},{"$f":"Expected2ndFx!L133*REF_IncCost2ndFx!L133","v":0}]
["Male","75-84","Ankle",{"$f":"Expected2ndFx!D134*REF_IncCost2ndFx!D134","v":0},{"$f":"Expected2ndFx!E134*REF_IncCost2ndFx!E134","v":0},{"$f":"Expected2ndFx!F134*REF_IncCost2ndFx!F134","v":0},{"$f":"Expected2ndFx!G134*REF_IncCost2ndFx!G134","v":0},{"$f":"Expected2ndFx!H134*REF_IncCost2ndFx!H134","v":0},{"$f":"Expected2ndFx!I134*REF_IncCost2ndFx!I134","v":0},{"$f":"Expected2ndFx!J134*REF_IncCost2ndFx!J134","v":0},{"$f":"Expected2ndFx!K134*REF_IncCost2ndFx!K134","v":0},{"$f":"Expected2ndFx!L134*REF_IncCost2ndFx!L134","v":0}]
["Male","75-84","Clavicle",{"$f":"Expected2ndFx!D135*REF_IncCost2ndFx!D135","v":0},{"$f":"Expected2ndFx!E135*REF_IncCost2ndFx!E135","v":0},{"$f":"Expected2ndFx!F135*REF_IncCost2ndFx!F135","v":0},{"$f":"Expected2ndFx!G135*REF_IncCost2ndFx!G135","v":0},{"$f":"Expected2ndFx!H135*REF_IncCost2ndFx!H135","v":0},{"$f":"Expected2ndFx!I135*REF_IncCost2ndFx!I135","v":0},{"$f":"Expected2ndFx!J135*REF_IncCost2ndFx!J135","v":0},{"$f":"Expected2ndFx!K135*REF_IncCost2ndFx!K135","v":0},{"$f":"Expected2ndFx!L135*REF_IncCost2ndFx!L135","v":0}]
["Male","75-84","Femur",{"$f":"Expected2ndFx!D136*REF_IncCost2ndFx!D136","v":0},{"$f":"Expected2ndFx!E136*REF_IncCost2ndFx!E136","v":0},{"$f":"Expected2ndFx!F136*REF_IncCost2ndFx!F136","v":0},{"$f":"Expected2ndFx!G136*REF_IncCost2ndFx!G136","v":0},{"$f":"Expected2ndFx!H136*REF_IncCost2ndFx!H136","v":0},{"$f":"Expected2ndFx!I136*REF_IncCost2ndFx!I136","v":0},{"$f":"Expected2ndFx!J136*REF_IncCost2ndFx!J136","v":0},{"$f":"Expected2ndFx!K136*REF_IncCost2ndFx!K136","v":0},{"$f":"Expected2ndFx!L136*REF_IncCost2ndFx!L136","v":0}]
["Male","75-84","Hip",{"$f":"Expected2ndFx!D137*REF_IncCost2ndFx!D137","v":0},{"$f":"Expected2ndFx!E137*REF_IncCost2ndFx!E137","v":0},{"$f":"Expected2ndFx!F137*REF_IncCost2ndFx!F137","v":0},{"$f":"Expected2ndFx!G137*REF_IncCost2ndFx!G137","v":0},{"$f":"Expected2ndFx!H137*REF_IncCost2ndFx!H137","v":0},{"$f":"Expected2ndFx!I137*REF_IncCost2ndFx!I137","v":0},{"$f":"Expected2ndFx!J137*REF_IncCost2ndFx!J137","v":0},{"$f":"Expected2ndFx!K137*REF_IncCost2ndFx!K137","v":0},{"$f":"Expected2ndFx!L137*REF_IncCost2ndFx!L137","v":0}]
["Male","75-84","Humerus",{"$f":"Expected2ndFx!D138*REF_IncCost2ndFx!D138","v":0},{"$f":"Expected2ndFx!E138*REF_IncCost2ndFx!E138","v":0},{"$f":"Expected2ndFx!F138*REF_IncCost2ndFx!F138","v":0},{"$f":"Expected2ndFx!G138*REF_IncCost2ndFx!G138","v":0},{"$f":"Expected2ndFx!H138*REF_IncCost2ndFx!H138","v":0},{"$f":"Expected2ndFx!I138*REF_IncCost2ndFx!I138","v":0},{"$f":"Expected2ndFx!J138*REF_IncCost2ndFx!J138","v":0},{"$f":"Expected2ndFx!K138*REF_IncCost2ndFx!K138","v":0},{"$f":"Expected2ndFx!L138*REF_IncCost2ndFx!L138","v":0}]
["Male","75-84","Pelvis",{"$f":"Expected2ndFx!D139*REF_IncCost2ndFx!D139","v":0},{"$f":"Expected2ndFx!E139*REF_IncCost2ndFx!E139","v":0},{"$f":"Expected2ndFx!F139*REF_IncCost2ndFx!F139","v":0},{"$f":"Expected2ndFx!G139*REF_IncCost2ndFx!G139","v":0},{"$f":"Expected2ndFx!H139*REF_IncCost2ndFx!H139","v":0},{"$f":"Expected2ndFx!I139*REF_IncCost2ndFx!I139","v":0},{"$f":"Expected2ndFx!J139*REF_IncCost2ndFx!J139","v":0},{"$f":"Expected2ndFx!K139*REF_IncCost2ndFx!K139","v":0},{"$f":"Expected2ndFx!L139*REF_IncCost2ndFx!L139","v":0}]
["Male","75-84","Radius/Ulna",{"$f":"Expected2ndFx!D140*REF_IncCost2ndFx!D140","v":0},{"$f":"Expected2ndFx!E140*REF_IncCost2ndFx!E140","v":0},{"$f":"Expected2ndFx!F140*REF_IncCost2ndFx!F140","v":0},{"$f":"Expected2ndFx!G140*REF_IncCost2ndFx!G140","v":0},{"$f":"Expected2ndFx!H140*REF_IncCost2ndFx!H140","v":0},{"$f":"Expected2ndFx!I140*REF_IncCost2ndFx!I140","v":0},{"$f":"Expected2ndFx!J140*REF_IncCost2ndFx!J140","v":0},{"$f":"Expected2ndFx!K140*REF_IncCost2ndFx!K140","v":0},{"$f":"Expected2ndFx!L140*REF_IncCost2ndFx!L140","v":0}]
["Male","75-84","Spine",{"$f":"Expected2ndFx!D141*REF_IncCost2ndFx!D141","v":0},{"$f":"Expected2ndFx!E141*REF_IncCost2ndFx!E141","v":0},{"$f":"Expected2ndFx!F141*REF_IncCost2ndFx!F141","v":0},{"$f":"Expected2ndFx!G141*REF_IncCost2ndFx!G141","v":0},{"$f":"Expected2ndFx!H141*REF_IncCost2ndFx!H141","v":0},{"$f":"Expected2ndFx!I141*REF_IncCost2ndFx!I141","v":0},{"$f":"Expected2ndFx!J141*REF_IncCost2ndFx!J141","v":0},{"$f":"Expected2ndFx!K141*REF_IncCost2ndFx!K141","v":0},{"$f":"Expected2ndFx!L141*REF_IncCost2ndFx!L141","v":0}]
["Male","75-84","Tibia/Fibula",{"$f":"Expected2ndFx!D142*REF_IncCost2ndFx!D142","v":0},{"$f":"Expected2ndFx!E142*REF_IncCost2ndFx!E142","v":0},{"$f":"Expected2ndFx!F142*REF_IncCost2ndFx!F142","v":0},{"$f":"Expected2ndFx!G142*REF_IncCost2ndFx!G142","v":0},{"$f":"Expected2ndFx!H142*REF_IncCost2ndFx!H142","v":0},{"$f":"Expected2ndFx!I142*REF_IncCost2ndFx!I142","v":0},{"$f":"Expected2ndFx!J142*REF_IncCost2ndFx!J142","v":0},{"$f":"Expected2ndFx!K142*REF_IncCost2ndFx!K142","v":0},{"$f":"Expected2ndFx!L142*REF_IncCost2ndFx!L142","v":0}]
["Male","85+","Ankle",{"$f":"Expected2ndFx!D143*REF_IncCost2ndFx!D143","v":0},{"$f":"Expected2ndFx!E143*REF_IncCost2ndFx!E143","v":0},{"$f":"Expected2ndFx!F143*REF_IncCost2ndFx!F143","v":0},{"$f":"Expected2ndFx!G143*REF_IncCost2ndFx!G143","v":0},{"$f":"Expected2ndFx!H143*REF_IncCost2ndFx!H143","v":0},{"$f":"Expected2ndFx!I143*REF_IncCost2ndFx!I143","v":0},{"$f":"Expected2ndFx!J143*REF_IncCost2ndFx!J143","v":0},{"$f":"Expected2ndFx!K143*REF_IncCost2ndFx!K143","v":0},{"$f":"Expected2ndFx!L143*REF_IncCost2ndFx!L143","v":0}]
["Male","85+","Clavicle",{"$f":"Expected2ndFx!D144*REF_IncCost2ndFx!D144","v":0},{"$f":"Expected2ndFx!E144*REF_IncCost2ndFx!E144","v":0},{"$f":"Expected2ndFx!F144*REF_IncCost2ndFx!F144","v":0},{"$f":"Expected2ndFx!G144*REF_IncCost2ndFx!G144","v":0},{"$f":"Expected2ndFx!H144*REF_IncCost2ndFx!H144","v":0},{"$f":"Expected2ndFx!I144*REF_IncCost2ndFx!I144","v":0},{"$f":"Expected2ndFx!J144*REF_IncCost2ndFx!J144","v":0},{"$f":"Expected2ndFx!K144*REF_IncCost2ndFx!K144","v":0},{"$f":"Expected2ndFx!L144*REF_IncCost2ndFx!L144","v":0}]
["Male","85+","Femur",{"$f":"Expected2ndFx!D145*REF_IncCost2ndFx!D145","v":0},{"$f":"Expected2ndFx!E145*REF_IncCost2ndFx!E145","v":0},{"$f":"Expected2ndFx!F145*REF_IncCost2ndFx!F145","v":0},{"$f":"Expected2ndFx!G145*REF_IncCost2ndFx!G145","v":0},{"$f":"Expected2ndFx!H145*REF_IncCost2ndFx!H145","v":0},{"$f":"Expected2ndFx!I145*REF_IncCost2ndFx!I145","v":0},{"$f":"Expected2ndFx!J145*REF_IncCost2ndFx!J145","v":0},{"$f":"Expected2ndFx!K145*REF_IncCost2ndFx!K145","v":0},{"$f":"Expected2ndFx!L145*REF_IncCost2ndFx!L145","v":0}]
["Male","85+","Hip",{"$f":"Expected2ndFx!D146*REF_IncCost2ndFx!D146","v":0},{"$f":"Expected2ndFx!E146*REF_IncCost2ndFx!E146","v":0},{"$f":"Expected2ndFx!F146*REF_IncCost2ndFx!F146","v":0},{"$f":"Expected2ndFx!G146*REF_IncCost2ndFx!G146","v":0},{"$f":"Expected2ndFx!H146*REF_IncCost2ndFx!H146","v":0},{"$f":"Expected2ndFx!I146*REF_IncCost2ndFx!I146","v":0},{"$f":"Expected2ndFx!J146*REF_IncCost2ndFx!J146","v":0},{"$f":"Expected2ndFx!K146*REF_IncCost2ndFx!K146","v":0},{"$f":"Expected2ndFx!L146*REF_IncCost2ndFx!L146","v":0}]
["Male","85+","Humerus",{"$f":"Expected2ndFx!D147*REF_IncCost2ndFx!D147","v":0},{"$f":"Expected2ndFx!E147*REF_IncCost2ndFx!E147","v":0},{"$f":"Expected2ndFx!F147*REF_IncCost2ndFx!F147","v":0},{"$f":"Expected2ndFx!G147*REF_IncCost2ndFx!G147","v":0},{"$f":"Expected2ndFx!H147*REF_IncCost2ndFx!H147","v":0},{"$f":"Expected2ndFx!I147*REF_IncCost2ndFx!I147","v":0},{"$f":"Expected2ndFx!J147*REF_IncCost2ndFx!J147","v":0},{"$f":"Expected2ndFx!K147*REF_IncCost2ndFx!K147","v":0},{"$f":"Expected2ndFx!L147*REF_IncCost2ndFx!L147","v":0}]
["Male","85+","Pelvis",{"$f":"Expected2ndFx!D148*REF_IncCost2ndFx!D148","v":0},{"$f":"Expected2ndFx!E148*REF_IncCost2ndFx!E148","v":0},{"$f":"Expected2ndFx!F148*REF_IncCost2ndFx!F148","v":0},{"$f":"Expected2ndFx!G148*REF_IncCost2ndFx!G148","v":0},{"$f":"Expected2ndFx!H148*REF_IncCost2ndFx!H148","v":0},{"$f":"Expected2ndFx!I148*REF_IncCost2ndFx!I148","v":0},{"$f":"Expected2ndFx!J148*REF_IncCost2ndFx!J148","v":0},{"$f":"Expected2ndFx!K148*REF_IncCost2ndFx!K148","v":0},{"$f":"Expected2ndFx!L148*REF_IncCost2ndFx!L148","v":0}]
["Male","85+","Radius/Ulna",{"$f":"Expected2ndFx!D149*REF_IncCost2ndFx!D149","v":0},{"$f":"Expected2ndFx!E149*REF_IncCost2ndFx!E149","v":0},{"$f":"Expected2ndFx!F149*REF_IncCost2ndFx!F149","v":0},{"$f":"Expected2ndFx!G149*REF_IncCost2ndFx!G149","v":0},{"$f":"Expected2ndFx!H149*REF_IncCost2ndFx!H149","v":0},{"$f":"Expected2ndFx!I149*REF_IncCost2ndFx!I149","v":0},{"$f":"Expected2ndFx!J149*REF_IncCost2ndFx!J149","v":0},{"$f":"Expected2ndFx!K149*REF_IncCost2ndFx!K149","v":0},{"$f":"Expected2ndFx!L149*REF_IncCost2ndFx!L149","v":0}]
["Male","85+","Spine",{"$f":"Expected2ndFx!D150*REF_IncCost2ndFx!D150","v":0},{"$f":"Expected2ndFx!E150*REF_IncCost2ndFx!E150","v":0},{"$f":"Expected2ndFx!F150*REF_IncCost2ndFx!F150","v":0},{"$f":"Expected2ndFx!G150*REF_IncCost2ndFx!G150","v":0},{"$f":"Expected2ndFx!H150*REF_IncCost2ndFx!H150","v":0},{"$f":"Expected2ndFx!I150*REF_IncCost2ndFx!I150","v":0},{"$f":"Expected2ndFx!J150*REF_IncCost2ndFx!J150","v":0},{"$f":"Expected2ndFx!K150*REF_IncCost2ndFx!K150","v":0},{"$f":"Expected2ndFx!L150*REF_IncCost2ndFx!L150","v":0}]
["Male","85+","Tibia/Fibula",{"$f":"Expected2ndFx!D151*REF_IncCost2ndFx!D151","v":0},{"$f":"Expected2ndFx!E151*REF_IncCost2ndFx!E151","v":0},{"$f":"Expected2ndFx!F151*REF_IncCost2ndFx!F151","v":0},{"$f":"Expected2ndFx!G151*REF_IncCost2ndFx!G151","v":0},{"$f":"Expected2ndFx!H151*REF_IncCost2ndFx!H151","v":0},{"$f":"Expected2ndFx!I151*REF_IncCost2ndFx!I151","v":0},{"$f":"Expected2ndFx!J151*REF_IncCost2ndFx!J151","v":0},{"$f":"Expected2ndFx!K151*REF_IncCost2ndFx!K151","v":0},{"$f":"Expected2ndFx!L151*REF_IncCost2ndFx!L151","v":0}]
["Female","65-74","Ankle",{"$f":"Expected2ndFx!D152*REF_IncCost2ndFx!D152","v":0},{"$f":"Expected2ndFx!E152*REF_IncCost2ndFx!E152","v":0},{"$f":"Expected2ndFx!F152*REF_IncCost2ndFx!F152","v":0},{"$f":"Expected2ndFx!G152*REF_IncCost2ndFx!G152","v":0},{"$f":"Expected2ndFx!H152*REF_IncCost2ndFx!H152","v":0},{"$f":"Expected2ndFx!I152*REF_IncCost2ndFx!I152","v":0},{"$f":"Expected2ndFx!J152*REF_IncCost2ndFx!J152","v":0},{"$f":"Expected2ndFx!K152*REF_IncCost2ndFx!K152","v":0},{"$f":"Expected2ndFx!L152*REF_IncCost2ndFx!L152","v":0}]
["Female","65-74","Clavicle",{"$f":"Expected2ndFx!D153*REF_IncCost2ndFx!D153","v":0},{"$f":"Expected2ndFx!E153*REF_IncCost2ndFx!E153","v":0},{"$f":"Expected2ndFx!F153*REF_IncCost2ndFx!F153","v":0},{"$f":"Expected2ndFx!G153*REF_IncCost2ndFx!G153","v":0},{"$f":"Expected2ndFx!H153*REF_IncCost2ndFx!H153","v":0},{"$f":"Expected2ndFx!I153*REF_IncCost2ndFx!I153","v":0},{"$f":"Expected2ndFx!J153*REF_IncCost2ndFx!J153","v":0},{"$f":"Expected2ndFx!K153*REF_IncCost2ndFx!K153","v":0},{"$f":"Expected2ndFx!L153*REF_IncCost2ndFx!L153","v":0}]
["Female","65-74","Femur",{"$f":"Expected2ndFx!D154*REF_IncCost2ndFx!D154","v":0},{"$f":"Expected2ndFx!E154*REF_IncCost2ndFx!E154","v":0},{"$f":"Expected2ndFx!F154*REF_IncCost2ndFx!F154","v":0},{"$f":"Expected2ndFx!G154*REF_IncCost2ndFx!G154","v":0},{"$f":"Expected2ndFx!H154*REF_IncCost2ndFx!H154","v":0},{"$f":"Expected2ndFx!I154*REF_IncCost2ndFx!I154","v":0},{"$f":"Expected2ndFx!J154*REF_IncCost2ndFx!J154","v":0},{"$f":"Expected2ndFx!K154*REF_IncCost2ndFx!K154","v":0},{"$f":"Expected2ndFx!L154*REF_IncCost2ndFx!L154","v":0}]
["Female","65-74","Hip",{"$f":"Expected2ndFx!D155*REF_IncCost2ndFx!D155","v":0},{"$f":"Expected2ndFx!E155*REF_IncCost2ndFx!E155","v":0},{"$f":"Expected2ndFx!F155*REF_IncCost2ndFx!F155","v":0},{"$f":"Expected2ndFx!G155*REF_IncCost2ndFx!G155","v":0},{"$f":"Expected2ndFx!H155*REF_IncCost2ndFx!H155","v":0},{"$f":"Expected2ndFx!I155*REF_IncCost2ndFx!I155","v":0},{"$f":"Expected2ndFx!J155*REF_IncCost2ndFx!J155","v":0},{"$f":"Expected2ndFx!K155*REF_IncCost2ndFx!K155","v":0},{"$f":"Expected2ndFx!L155*REF_IncCost2ndFx!L155","v":0}]
["Female","65-74","Humerus",{"$f":"Expected2ndFx!D156*REF_IncCost2ndFx!D156","v":0},{"$f":"Expected2ndFx!E156*REF_IncCost2ndFx!E156","v":0},{"$f":"Expected2ndFx!F156*REF_IncCost2ndFx!F156","v":0},{"$f":"Expected2ndFx!G156*REF_IncCost2ndFx!G156","v":0},{"$f":"Expected2ndFx!H156*REF_IncCost2ndFx!H156","v":0},{"$f":"Expected2ndFx!I156*REF_IncCost2ndFx!I156","v":0},{"$f":"Expected2ndFx!J156*REF_IncCost2ndFx!J156","v":0},{"$f":"Expected2ndFx!K156*REF_IncCost2ndFx!K156","v":0},{"$f":"Expected2ndFx!L156*REF_IncCost2ndFx!L156","v":0}]
["Female","65-74","Pelvis",{"$f":"Expected2ndFx!D157*REF_IncCost2ndFx!D157","v":0},{"$f":"Expected2ndFx!E157*REF_IncCost2ndFx!E157","v":0},{"$f":"Expected2ndFx!F157*REF_IncCost2ndFx!F157","v":0},{"$f":"Expected2ndFx!G157*REF_IncCost2ndFx!G157","v":0},{"$f":"Expected2ndFx!H157*REF_IncCost2ndFx!H157","v":0},{"$f":"Expected2ndFx!I157*REF_IncCost2ndFx!I157","v":0},{"$f":"Expected2ndFx!J157*REF_IncCost2ndFx!J157","v":0},{"$f":"Expected2ndFx!K157*REF_IncCost2ndFx!K157","v":0},{"$f":"Expected2ndFx!L157*REF_IncCost2ndFx!L157","v":0}]
["Female","65-74","Radius/Ulna",{"$f":"Expected2ndFx!D158*REF_IncCost2ndFx!D158","v":0},{"$f":"Expected2ndFx!E158*REF_IncCost2ndFx!E158","v":0},{"$f":"Expected2ndFx!F158*REF_IncCost2ndFx!F158","v":0},{"$f":"Expected2ndFx!G158*REF_IncCost2ndFx!G158","v":0},{"$f":"Expected2ndFx!H158*REF_IncCost2ndFx!H158","v":0},{"$f":"Expected2ndFx!I158*REF_IncCost2ndFx!I158","v":0},{"$f":"Expected2ndFx!J158*REF_IncCost2ndFx!J158","v":0},{"$f":"Expected2ndFx!K158*REF_IncCost2ndFx!K158","v":0},{"$f":"Expected2ndFx!L158*REF_IncCost2ndFx!L158","v":0}]
["Female","65-74","Spine",{"$f":"Expected2ndFx!D159*REF_IncCost2ndFx!D159","v":0},{"$f":"Expected2ndFx!E159*REF_IncCost2ndFx!E159","v":0},{"$f":"Expected2ndFx!F159*REF_IncCost2ndFx!F159","v":0},{"$f":"Expected2ndFx!G159*REF_IncCost2ndFx!G159","v":0},{"$f":"Expected2ndFx!H159*REF_IncCost2ndFx!H159","v":0},{"$f":"Expected2ndFx!I159*REF_IncCost2ndFx!I159","v":0},{"$f":"Expected2ndFx!J159*REF_IncCost2ndFx!J159","v":0},{"$f":"Expected2ndFx!K159*REF_IncCost2ndFx!K159","v":0},{"$f":"Expected2ndFx!L159*REF_IncCost2ndFx!L159","v":0}]
["Female","65-74","Tibia/Fibula",{"$f":"Expected2ndFx!D160*REF_IncCost2ndFx!D160","v":0},{"$f":"Expected2ndFx!E160*REF_IncCost2ndFx!E160","v":0},{"$f":"Expected2ndFx!F160*REF_IncCost2ndFx!F160","v":0},{"$f":"Expected2ndFx!G160*REF_IncCost2ndFx!G160","v":0},{"$f":"Expected2ndFx!H160*REF_IncCost2ndFx!H160","v":0},{"$f":"Expected2ndFx!I160*REF_IncCost2ndFx!I160","v":0},{"$f":"Expected2ndFx!J160*REF_IncCost2ndFx!J160","v":0},{"$f":"Expected2ndFx!K160*REF_IncCost2ndFx!K160","v":0},{"$f":"Expected2ndFx!L160*REF_IncCost2ndFx!L160","v":0}]
["Female","75-84","Ankle",{"$f":"Expected2ndFx!D161*REF_IncCost2ndFx!D161","v":0},{"$f":"Expected2ndFx!E161*REF_IncCost2ndFx!E161","v":0},{"$f":"Expected2ndFx!F161*REF_IncCost2ndFx!F161","v":0},{"$f":"Expected2ndFx!G161*REF_IncCost2ndFx!G161","v":0},{"$f":"Expected2ndFx!H161*REF_IncCost2ndFx!H161","v":0},{"$f":"Expected2ndFx!I161*REF_IncCost2ndFx!I161","v":0},{"$f":"Expected2ndFx!J161*REF_IncCost2ndFx!J161","v":0},{"$f":"Expected2ndFx!K161*REF_IncCost2ndFx!K161","v":0},{"$f":"Expected2ndFx!L161*REF_IncCost2ndFx!L161","v":0}]
["Female","75-84","Clavicle",{"$f":"Expected2ndFx!D162*REF_IncCost2ndFx!D162","v":0},{"$f":"Expected2ndFx!E162*REF_IncCost2ndFx!E162","v":0},{"$f":"Expected2ndFx!F162*REF_IncCost2ndFx!F162","v":0},{"$f":"Expected2ndFx!G162*REF_IncCost2ndFx!G162","v":0},{"$f":"Expected2ndFx!H162*REF_IncCost2ndFx!H162","v":0},{"$f":"Expected2ndFx!I162*REF_IncCost2ndFx!I162","v":0},{"$f":"Expected2ndFx!J162*REF_IncCost2ndFx!J162","v":0},{"$f":"Expected2ndFx!K162*REF_IncCost2ndFx!K162","v":0},{"$f":"Expected2ndFx!L162*REF_IncCost2ndFx!L162","v":0}]
["Female","75-84","Femur",{"$f":"Expected2ndFx!D163*REF_IncCost2ndFx!D163","v":0},{"$f":"Expected2ndFx!E163*REF_IncCost2ndFx!E163","v":0},{"$f":"Expected2ndFx!F163*REF_IncCost2ndFx!F163","v":0},{"$f":"Expected2ndFx!G163*REF_IncCost2ndFx!G163","v":0},{"$f":"Expected2ndFx!H163*REF_IncCost2ndFx!H163","v":0},{"$f":"Expected2ndFx!I163*REF_IncCost2ndFx!I163","v":0},{"$f":"Expected2ndFx!J163*REF_IncCost2ndFx!J163","v":0},{"$f":"Expected2ndFx!K163*REF_IncCost2ndFx!K163","v":0},{"$f":"Expected2ndFx!L163*REF_IncCost2ndFx!L163","v":0}]
["Female","75-84","Hip",{"$f":"Expected2ndFx!D164*REF_IncCost2ndFx!D164","v":0},{"$f":"Expected2ndFx!E164*REF_IncCost2ndFx!E164","v":0},{"$f":"Expected2ndFx!F164*REF_IncCost2ndFx!F164","v":0},{"$f":"Expected2ndFx!G164*REF_IncCost2ndFx!G164","v":0},{"$f":"Expected2ndFx!H164*REF_IncCost2ndFx!H164","v":0},{"$f":"Expected2ndFx!I164*REF_IncCost2ndFx!I164","v":0},{"$f":"Expected2ndFx!J164*REF_IncCost2ndFx!J164","v":0},{"$f":"Expected2ndFx!K164*REF_IncCost2ndFx!K164","v":0},{"$f":"Expected2ndFx!L164*REF_IncCost2ndFx!L164","v":0}]
["Female","75-84","Humerus",{"$f":"Expected2ndFx!D165*REF_IncCost2ndFx!D165","v":0},{"$f":"Expected2ndFx!E165*REF_IncCost2ndFx!E165","v":0},{"$f":"Expected2ndFx!F165*REF_IncCost2ndFx!F165","v":0},{"$f":"Expected2ndFx!G165*REF_IncCost2ndFx!G165","v":0},{"$f":"Expected2ndFx!H165*REF_IncCost2ndFx!H165","v":0},{"$f":"Expected2ndFx!I165*REF_IncCost2ndFx!I165","v":0},{"$f":"Expected2ndFx!J165*REF_IncCost2ndFx!J165","v":0},{"$f":"Expected2ndFx!K165*REF_IncCost2ndFx!K165","v":0},{"$f":"Expected2ndFx!L165*REF_IncCost2ndFx!L165","v":0}]
["Female","75-84","Pelvis",{"$f":"Expected2ndFx!D166*REF_IncCost2ndFx!D166","v":0},{"$f":"Expected2ndFx!E166*REF_IncCost2ndFx!E166","v":0},{"$f":"Expected2ndFx!F166*REF_IncCost2ndFx!F166","v":0},{"$f":"Expected2ndFx!G166*REF_IncCost2ndFx!G166","v":0},{"$f":"Expected2ndFx!H166*REF_IncCost2ndFx!H166","v":0},{"$f":"Expected2ndFx!I166*REF_IncCost2ndFx!I166","v":0},{"$f":"Expected2ndFx!J166*REF_IncCost2ndFx!J166","v":0},{"$f":"Expected2ndFx!K166*REF_IncCost2ndFx!K166","v":0},{"$f":"Expected2ndFx!L166*REF_IncCost2ndFx!L166","v":0}]
["Female","75-84","Radius/Ulna",{"$f":"Expected2ndFx!D167*REF_IncCost2ndFx!D167","v":0},{"$f":"Expected2ndFx!E167*REF_IncCost2ndFx!E167","v":0},{"$f":"Expected2ndFx!F167*REF_IncCost2ndFx!F167","v":0},{"$f":"Expected2ndFx!G167*REF_IncCost2ndFx!G167","v":0},{"$f":"Expected2ndFx!H167*REF_IncCost2ndFx!H167","v":0},{"$f":"Expected2ndFx!I167*REF_IncCost2ndFx!I167","v":0},{"$f":"Expected2ndFx!J167*REF_IncCost2ndFx!J167","v":0},{"$f":"Expected2ndFx!K167*REF_IncCost2ndFx!K167","v":0},{"$f":"Expected2ndFx!L167*REF_IncCost2ndFx!L167","v":0}]
["Female","75-84","Spine",{"$f":"Expected2ndFx!D168*REF_IncCost2ndFx!D168","v":0},{"$f":"Expected2ndFx!E168*REF_IncCost2ndFx!E168","v":0},{"$f":"Expected2ndFx!F168*REF_IncCost2ndFx!F168","v":0},{"$f":"Expected2ndFx!G168*REF_IncCost2ndFx!G168","v":0},{"$f":"Expected2ndFx!H168*REF_IncCost2ndFx!H168","v":0},{"$f":"Expected2ndFx!I168*REF_IncCost2ndFx!I168","v":0},{"$f":"Expected2ndFx!J168*REF_IncCost2ndFx!J168","v":0},{"$f":"Expected2ndFx!K168*REF_IncCost2ndFx!K168","v":0},{"$f":"Expected2ndFx!L168*REF_IncCost2ndFx!L168","v":0}]
["Female","75-84","Tibia/Fibula",{"$f":"Expected2ndFx!D169*REF_IncCost2ndFx!D169","v":0},{"$f":"Expected2ndFx!E169*REF_IncCost2ndFx!E169","v":0},{"$f":"Expected2ndFx!F169*REF_IncCost2ndFx!F169","v":0},{"$f":"Expected2ndFx!G169*REF_IncCost2ndFx!G169","v":0},{"$f":"Expected2ndFx!H169*REF_IncCost2ndFx!H169","v":0},{"$f":"Expected2ndFx!I169*REF_IncCost2ndFx!I169","v":0},{"$f":"Expected2ndFx!J169*REF_IncCost2ndFx!J169","v":0},{"$f":"Expected2ndFx!K169*REF_IncCost2ndFx!K169","v":0},{"$f":"Expected2ndFx!L169*REF_IncCost2ndFx!L169","v":0}]
["Female","85+","Ankle",{"$f":"Expected2ndFx!D170*REF_IncCost2ndFx!D170","v":0},{"$f":"Expected2ndFx!E170*REF_IncCost2ndFx!E170","v":0},{"$f":"Expected2ndFx!F170*REF_IncCost2ndFx!F170","v":0},{"$f":"Expected2ndFx!G170*REF_IncCost2ndFx!G170","v":0},{"$f":"Expected2ndFx!H170*REF_IncCost2ndFx!H170","v":0},{"$f":"Expected2ndFx!I170*REF_IncCost2ndFx!I170","v":0},{"$f":"Expected2ndFx!J170*REF_IncCost2ndFx!J170","v":0},{"$f":"Expected2ndFx!K170*REF_IncCost2ndFx!K170","v":0},{"$f":"Expected2ndFx!L170*REF_IncCost2ndFx!L170","v":0}]
["Female","85+","Clavicle",{"$f":"Expected2ndFx!D171*REF_IncCost2ndFx!D171","v":0},{"$f":"Expected2ndFx!E171*REF_IncCost2ndFx!E171","v":0},{"$f":"Expected2ndFx!F171*REF_IncCost2ndFx!F171","v":0},{"$f":"Expected2ndFx!G171*REF_IncCost2ndFx!G171","v":0},{"$f":"Expected2ndFx!H171*REF_IncCost2ndFx!H171","v":0},{"$f":"Expected2ndFx!I171*REF_IncCost2ndFx!I171","v":0},{"$f":"Expected2ndFx!J171*REF_IncCost2ndFx!J171","v":0},{"$f":"Expected2ndFx!K171*REF_IncCost2ndFx!K171","v":0},{"$f":"Expected2ndFx!L171*REF_IncCost2ndFx!L171","v":0}]
["Female","85+","Femur",{"$f":"Expected2ndFx!D172*REF_IncCost2ndFx!D172","v":0},{"$f":"Expected2ndFx!E172*REF_IncCost2ndFx!E172","v":0},{"$f":"Expected2ndFx!F172*REF_IncCost2ndFx!F172","v":0},{"$f":"Expected2ndFx!G172*REF_IncCost2ndFx!G172","v":0},{"$f":"Expected2ndFx!H172*REF_IncCost2ndFx!H172","v":0},{"$f":"Expected2ndFx!I172*REF_IncCost2ndFx!I172","v":0},{"$f":"Expected2ndFx!J172*REF_IncCost2ndFx!J172","v":0},{"$f":"Expected2ndFx!K172*REF_IncCost2ndFx!K172","v":0},{"$f":"Expected2ndFx!L172*REF_IncCost2ndFx!L172","v":0}]
["Female","85+","Hip",{"$f":"Expected2ndFx!D173*REF_IncCost2ndFx!D173","v":0},{"$f":"Expected2ndFx!E173*REF_IncCost2ndFx!E173","v":0},{"$f":"Expected2ndFx!F173*REF_IncCost2ndFx!F173","v":0},{"$f":"Expected2ndFx!G173*REF_IncCost2ndFx!G173","v":0},{"$f":"Expected2ndFx!H173*REF_IncCost2ndFx!H173","v":0},{"$f":"Expected2ndFx!I173*REF_IncCost2ndFx!I173","v":0},{"$f":"Expected2ndFx!J173*REF_IncCost2ndFx!J173","v":0},{"$f":"Expected2ndFx!K173*REF_IncCost2ndFx!K173","v":0},{"$f":"Expected2ndFx!L173*REF_IncCost2ndFx!L173","v":0}]
["Female","85+","Humerus",{"$f":"Expected2ndFx!D174*REF_IncCost2ndFx!D174","v":0},{"$f":"Expected2ndFx!E174*REF_IncCost2ndFx!E174","v":0},{"$f":"Expected2ndFx!F174*REF_IncCost2ndFx!F174","v":0},{"$f":"Expected2ndFx!G174*REF_IncCost2ndFx!G174","v":0},{"$f":"Expected2ndFx!H174*REF_IncCost2ndFx!H174","v":0},{"$f":"Expected2ndFx!I174*REF_IncCost2ndFx!I174","v":0},{"$f":"Expected2ndFx!J174*REF_IncCost2ndFx!J174","v":0},{"$f":"Expected2ndFx!K174*REF_IncCost2ndFx!K174","v":0},{"$f":"Expected2ndFx!L174*REF_IncCost2ndFx!L174","v":0}]
["Female","85+","Pelvis",{"$f":"Expected2ndFx!D175*REF_IncCost2ndFx!D175","v":0},{"$f":"Expected2ndFx!E175*REF_IncCost2ndFx!E175","v":0},{"$f":"Expected2ndFx!F175*REF_IncCost2ndFx!F175","v":0},{"$f":"Expected2ndFx!G175*REF_IncCost2ndFx!G175","v":0},{"$f":"Expected2ndFx!H175*REF_IncCost2ndFx!H175","v":0},{"$f":"Expected2ndFx!I175*REF_IncCost2ndFx!I175","v":0},{"$f":"Expected2ndFx!J175*REF_IncCost2ndFx!J175","v":0},{"$f":"Expected2ndFx!K175*REF_IncCost2ndFx!K175","v":0},{"$f":"Expected2ndFx!L175*REF_IncCost2ndFx!L175","v":0}]
["Female","85+","Radius/Ulna",{"$f":"Expected2ndFx!D176*REF_IncCost2ndFx!D176","v":0},{"$f":"Expected2ndFx!E176*REF_IncCost2ndFx!E176","v":0},{"$f":"Expected2ndFx!F176*REF_IncCost2ndFx!F176","v":0},{"$f":"Expected2ndFx!G176*REF_IncCost2ndFx!G176","v":0},{"$f":"Expected2ndFx!H176*REF_IncCost2ndFx!H176","v":0},{"$f":"Expected2ndFx!I176*REF_IncCost2ndFx!I176","v":0},{"$f":"Expected2ndFx!J176*REF_IncCost2ndFx!J176","v":0},{"$f":"Expected2ndFx!K176*REF_IncCost2ndFx!K176","v":0},{"$f":"Expected2ndFx!L176*REF_IncCost2ndFx!L176","v":0}]
["Female","85+","Spine",{"$f":"Expected2ndFx!D177*REF_IncCost2ndFx!D177","v":0},{"$f":"Expected2ndFx!E177*REF_IncCost2ndFx!E177","v":0},{"$f":"Expected2ndFx!F177*REF_IncCost2ndFx!F177","v":0},{"$f":"Expected2ndFx!G177*REF_IncCost2ndFx!G177","v":0},{"$f":"Expected2ndFx!H177*REF_IncCost2ndFx!H177","v":0},{"$f":"Expected2ndFx!I177*REF_IncCost2ndFx!I177","v":0},{"$f":"Expected2ndFx!J177*REF_IncCost2ndFx!J177","v":0},{"$f":"Expected2ndFx!K177*REF_IncCost2ndFx!K177","v":0},{"$f":"Expected2ndFx!L177*REF_IncCost2ndFx!L177","v":0}]
["Female","85+","Tibia/Fibula",{"$f":"Expected2ndFx!D178*REF_IncCost2ndFx!D178","v":0},{"$f":"Expected2ndFx!E178*REF_IncCost2ndFx!E178","v":0},{"$f":"Expected2ndFx!F178*REF_IncCost2ndFx!F178","v":0},{"$f":"Expected2ndFx!G178*REF_IncCost2ndFx!G178","v":0},{"$f":"Expected2ndFx!H178*REF_IncCost2ndFx!H178","v":0},{"$f":"Expected2ndFx!I178*REF_IncCost2ndFx!I178","v":0},{"$f":"Expected2ndFx!J178*REF_IncCost2ndFx!J178","v":0},{"$f":"Expected2ndFx!K178*REF_IncCost2ndFx!K178","v":0},{"$f":"Expected2ndFx!L178*REF_IncCost2ndFx!L178","v":0}]

{"sheet":"2ndFxCounts","index":7,"n_rows":26,"n_cols":11,"rows_kept":26,"cut":false,"hidden":true,"merged":[[19,0,19,10],[3,0,4,0],[3,1,4,1],[3,2,3,10],[5,0,5,10],[12,0,12,10]]}
["Second Fracture Frequencies: "]
["Based on inputs, the following numbers of second fractures are expected over the stated time periods."]
[]
["Sex","Age","Fracture Site"]
[null,null,"Ankle","Clavicle","Femur","Hip","Humerus","Pelvis","Radius/Ulna","Spine","Tibia/Fibula"]
["Two years"]
["Male","65-74",{"$f":"SUM((Expected2ndFx!$A$7:$A$60='2ndFxCounts'!$A7)*(Expected2ndFx!$B$7:$B$60='2ndFxCounts'!$B7)*(Expected2ndFx!D$7:D$60))","v":0},{"$f":"SUM((Expected2ndFx!$A$7:$A$60='2ndFxCounts'!$A7)*(Expected2ndFx!$B$7:$B$60='2ndFxCounts'!$B7)*(Expected2ndFx!E$7:E$60))","v":0},{"$f":"SUM((Expected2ndFx!$A$7:$A$60='2ndFxCounts'!$A7)*(Expected2ndFx!$B$7:$B$60='2ndFxCounts'!$B7)*(Expected2ndFx!F$7:F$60))","v":0},{"$f":"SUM((Expected2ndFx!$A$7:$A$60='2ndFxCounts'!$A7)*(Expected2ndFx!$B$7:$B$60='2ndFxCounts'!$B7)*(Expected2ndFx!G$7:G$60))","v":0},{"$f":"SUM((Expected2ndFx!$A$7:$A$60='2ndFxCounts'!$A7)*(Expected2ndFx!$B$7:$B$60='2ndFxCounts'!$B7)*(Expected2ndFx!H$7:H$60))","v":0},{"$f":"SUM((Expected2ndFx!$A$7:$A$60='2ndFxCounts'!$A7)*(Expected2ndFx!$B$7:$B$60='2ndFxCounts'!$B7)*(Expected2ndFx!I$7:I$60))","v":0},{"$f":"SUM((Expected2ndFx!$A$7:$A$60='2ndFxCounts'!$A7)*(Expected2ndFx!$B$7:$B$60='2ndFxCounts'!$B7)*(Expected2ndFx!J$7:J$60))","v":0},{"$f":"SUM((Expected2ndFx!$A$7:$A$60='2ndFxCounts'!$A7)*(Expected2ndFx!$B$7:$B$60='2ndFxCounts'!$B7)*(Expected2ndFx!K$7:K$60))","v":0},{"$f":"SUM((Expected2ndFx!$A$7:$A$60='2ndFxCounts'!$A7)*(Expected2ndFx!$B$7:$B$60='2ndFxCounts'!$B7)*(Expected2ndFx!L$7:L$60))","v":0}]
["Male","75-84",{"$f":"SUM((Expected2ndFx!$A$7:$A$60='2ndFxCounts'!$A8)*(Expected2ndFx!$B$7:$B$60='2ndFxCounts'!$B8)*(Expected2ndFx!D$7:D$60))","v":0},{"$f":"SUM((Expected2ndFx!$A$7:$A$60='2ndFxCounts'!$A8)*(Expected2ndFx!$B$7:$B$60='2ndFxCounts'!$B8)*(Expected2ndFx!E$7:E$60))","v":0},{"$f":"SUM((Expected2ndFx!$A$7:$A$60='2ndFxCounts'!$A8)*(Expected2ndFx!$B$7:$B$60='2ndFxCounts'!$B8)*(Expected2ndFx!F$7:F$60))","v":0},{"$f":"SUM((Expected2ndFx!$A$7:$A$60='2ndFxCounts'!$A8)*(Expected2ndFx!$B$7:$B$60='2ndFxCounts'!$B8)*(Expected2ndFx!G$7:G$60))","v":0},{"$f":"SUM((Expected2ndFx!$A$7:$A$60='2ndFxCounts'!$A8)*(Expected2ndFx!$B$7:$B$60='2ndFxCounts'!$B8)*(Expected2ndFx!H$7:H$60))","v":0},{"$f":"SUM((Expected2ndFx!$A$7:$A$60='2ndFxCounts'!$A8)*(Expected2ndFx!$B$7:$B$60='2ndFxCounts'!$B8)*(Expected2ndFx!I$7:I$60))","v":0},{"$f":"SUM((Expected2ndFx!$A$7:$A$60='2ndFxCounts'!$A8)*(Expected2ndFx!$B$7:$B$60='2ndFxCounts'!$B8)*(Expected2ndFx!J$7:J$60))","v":0},{"$f":"SUM((Expected2ndFx!$A$7:$A$60='2ndFxCounts'!$A8)*(Expected2ndFx!$B$7:$B$60='2ndFxCounts'!$B8)*(Expected2ndFx!K$7:K$60))","v":0},{"$f":"SUM((Expected2ndFx!$A$7:$A$60='2ndFxCounts'!$A8)*(Expected2ndFx!$B$7:$B$60='2ndFxCounts'!$B8)*(Expected2ndFx!L$7:L$60))","v":0}]
["Male","85+",{"$f":"SUM((Expected2ndFx!$A$7:$A$60='2ndFxCounts'!$A9)*(Expected2ndFx!$B$7:$B$60='2ndFxCounts'!$B9)*(Expected2ndFx!D$7:D$60))","v":0},{"$f":"SUM((Expected2ndFx!$A$7:$A$60='2ndFxCounts'!$A9)*(Expected2ndFx!$B$7:$B$60='2ndFxCounts'!$B9)*(Expected2ndFx!E$7:E$60))","v":0},{"$f":"SUM((Expected2ndFx!$A$7:$A$60='2ndFxCounts'!$A9)*(Expected2ndFx!$B$7:$B$60='2ndFxCounts'!$B9)*(Expected2ndFx!F$7:F$60))","v":0},{"$f":"SUM((Expected2ndFx!$A$7:$A$60='2ndFxCounts'!$A9)*(Expected2ndFx!$B$7:$B$60='2ndFxCounts'!$B9)*(Expected2ndFx!G$7:G$60))","v":0},{"$f":"SUM((Expected2ndFx!$A$7:$A$60='2ndFxCounts'!$A9)*(Expected2ndFx!$B$7:$B$60='2ndFxCounts'!$B9)*(Expected2ndFx!H$7:H$60))","v":0},{"$f":"SUM((Expected2ndFx!$A$7:$A$60='2ndFxCounts'!$A9)*(Expected2ndFx!$B$7:$B$60='2ndFxCounts'!$B9)*(Expected2ndFx!I$7:I$60))","v":0},{"$f":"SUM((Expected2ndFx!$A$7:$A$60='2ndFxCounts'!$A9)*(Expected2ndFx!$B$7:$B$60='2ndFxCounts'!$B9)*(Expected2ndFx!J$7:J$60))","v":0},{"$f":"SUM((Expected2ndFx!$A$7:$A$60='2ndFxCounts'!$A9)*(Expected2ndFx!$B$7:$B$60='2ndFxCounts'!$B9)*(Expected2ndFx!K$7:K$60))","v":0},{"$f":"SUM((Expected2ndFx!$A$7:$A$60='2ndFxCounts'!$A9)*(Expected2ndFx!$B$7:$B$60='2ndFxCounts'!$B9)*(Expected2ndFx!L$7:L$60))","v":0}]
["Female","65-74",{"$f":"SUM((Expected2ndFx!$A$7:$A$60='2ndFxCounts'!$A10)*(Expected2ndFx!$B$7:$B$60='2ndFxCounts'!$B10)*(Expected2ndFx!D$7:D$60))","v":0},{"$f":"SUM((Expected2ndFx!$A$7:$A$60='2ndFxCounts'!$A10)*(Expected2ndFx!$B$7:$B$60='2ndFxCounts'!$B10)*(Expected2ndFx!E$7:E$60))","v":0},{"$f":"SUM((Expected2ndFx!$A$7:$A$60='2ndFxCounts'!$A10)*(Expected2ndFx!$B$7:$B$60='2ndFxCounts'!$B10)*(Expected2ndFx!F$7:F$60))","v":0},{"$f":"SUM((Expected2ndFx!$A$7:$A$60='2ndFxCounts'!$A10)*(Expected2ndFx!$B$7:$B$60='2ndFxCounts'!$B10)*(Expected2ndFx!G$7:G$60))","v":0},{"$f":"SUM((Expected2ndFx!$A$7:$A$60='2ndFxCounts'!$A10)*(Expected2ndFx!$B$7:$B$60='2ndFxCounts'!$B10)*(Expected2ndFx!H$7:H$60))","v":0},{"$f":"SUM((Expected2ndFx!$A$7:$A$60='2ndFxCounts'!$A10)*(Expected2ndFx!$B$7:$B$60='2ndFxCounts'!$B10)*(Expected2ndFx!I$7:I$60))","v":0},{"$f":"SUM((Expected2ndFx!$A$7:$A$60='2ndFxCounts'!$A10)*(Expected2ndFx!$B$7:$B$60='2ndFxCounts'!$B10)*(Expected2ndFx!J$7:J$60))","v":0},{"$f":"SUM((Expected2ndFx!$A$7:$A$60='2ndFxCounts'!$A10)*(Expected2ndFx!$B$7:$B$60='2ndFxCounts'!$B10)*(Expected2ndFx!K$7:K$60))","v":0},{"$f":"SUM((Expected2ndFx!$A$7:$A$60='2ndFxCounts'!$A10)*(Expected2ndFx!$B$7:$B$60='2ndFxCounts'!$B10)*(Expected2ndFx!L$7:L$60))","v":0}]
["Female","75-84",{"$f":"SUM((Expected2ndFx!$A$7:$A$60='2ndFxCounts'!$A11)*(Expected2ndFx!$B$7:$B$60='2ndFxCounts'!$B11)*(Expected2ndFx!D$7:D$60))","v":0},{"$f":"SUM((Expected2ndFx!$A$7:$A$60='2ndFxCounts'!$A11)*(Expected2ndFx!$B$7:$B$60='2ndFxCounts'!$B11)*(Expected2ndFx!E$7:E$60))","v":0},{"$f":"SUM((Expected2ndFx!$A$7:$A$60='2ndFxCounts'!$A11)*(Expected2ndFx!$B$7:$B$60='2ndFxCounts'!$B11)*(Expected2ndFx!F$7:F$60))","v":0},{"$f":"SUM((Expected2ndFx!$A$7:$A$60='2ndFxCounts'!$A11)*(Expected2ndFx!$B$7:$B$60='2ndFxCounts'!$B11)*(Expected2ndFx!G$7:G$60))","v":0},{"$f":"SUM((Expected2ndFx!$A$7:$A$60='2ndFxCounts'!$A11)*(Expected2ndFx!$B$7:$B$60='2ndFxCounts'!$B11)*(Expected2ndFx!H$7:H$60))","v":0},{"$f":"SUM((Expected2ndFx!$A$7:$A$60='2ndFxCounts'!$A11)*(Expected2ndFx!$B$7:$B$60='2ndFxCounts'!$B11)*(Expected2ndFx!I$7:I$60))","v":0},{"$f":"SUM((Expected2ndFx!$A$7:$A$60='2ndFxCounts'!$A11)*(Expected2ndFx!$B$7:$B$60='2ndFxCounts'!$B11)*(Expected2ndFx!J$7:J$60))","v":0},{"$f":"SUM((Expected2ndFx!$A$7:$A$60='2ndFxCounts'!$A11)*(Expected2ndFx!$B$7:$B$60='2ndFxCounts'!$B11)*(Expected2ndFx!K$7:K$60))","v":0},{"$f":"SUM((Expected2ndFx!$A$7:$A$60='2ndFxCounts'!$A11)*(Expected2ndFx!$B$7:$B$60='2ndFxCounts'!$B11)*(Expected2ndFx!L$7:L$60))","v":0}]
["Female","85+",{"$f":"SUM((Expected2ndFx!$A$7:$A$60='2ndFxCounts'!$A12)*(Expected2ndFx!$B$7:$B$60='2ndFxCounts'!$B12)*(Expected2ndFx!D$7:D$60))","v":0},{"$f":"SUM((Expected2ndFx!$A$7:$A$60='2ndFxCounts'!$A12)*(Expected2ndFx!$B$7:$B$60='2ndFxCounts'!$B12)*(Expected2ndFx!E$7:E$60))","v":0},{"$f":"SUM((Expected2ndFx!$A$7:$A$60='2ndFxCounts'!$A12)*(Expected2ndFx!$B$7:$B$60='2ndFxCounts'!$B12)*(Expected2ndFx!F$7:F$60))","v":0},{"$f":"SUM((Expected2ndFx!$A$7:$A$60='2ndFxCounts'!$A12)*(Expected2ndFx!$B$7:$B$60='2ndFxCounts'!$B12)*(Expected2ndFx!G$7:G$60))","v":0},{"$f":"SUM((Expected2ndFx!$A$7:$A$60='2ndFxCounts'!$A12)*(Expected2ndFx!$B$7:$B$60='2ndFxCounts'!$B12)*(Expected2ndFx!H$7:H$60))","v":0},{"$f":"SUM((Expected2ndFx!$A$7:$A$60='2ndFxCounts'!$A12)*(Expected2ndFx!$B$7:$B$60='2ndFxCounts'!$B12)*(Expected2ndFx!I$7:I$60))","v":0},{"$f":"SUM((Expected2ndFx!$A$7:$A$60='2ndFxCounts'!$A12)*(Expected2ndFx!$B$7:$B$60='2ndFxCounts'!$B12)*(Expected2ndFx!J$7:J$60))","v":0},{"$f":"SUM((Expected2ndFx!$A$7:$A$60='2ndFxCounts'!$A12)*(Expected2ndFx!$B$7:$B$60='2ndFxCounts'!$B12)*(Expected2ndFx!K$7:K$60))","v":0},{"$f":"SUM((Expected2ndFx!$A$7:$A$60='2ndFxCounts'!$A12)*(Expected2ndFx!$B$7:$B$60='2ndFxCounts'!$B12)*(Expected2ndFx!L$7:L$60))","v":0}]
["Three years"]
["Male","65-74",{"$f":"SUM((Expected2ndFx!$A$66:$A$119='2ndFxCounts'!$A14)*(Expected2ndFx!$B$66:$B$119='2ndFxCounts'!$B14)*(Expected2ndFx!D$66:D$119))","v":0},{"$f":"SUM((Expected2ndFx!$A$66:$A$119='2ndFxCounts'!$A14)*(Expected2ndFx!$B$66:$B$119='2ndFxCounts'!$B14)*(Expected2ndFx!E$66:E$119))","v":0},{"$f":"SUM((Expected2ndFx!$A$66:$A$119='2ndFxCounts'!$A14)*(Expected2ndFx!$B$66:$B$119='2ndFxCounts'!$B14)*(Expected2ndFx!F$66:F$119))","v":0},{"$f":"SUM((Expected2ndFx!$A$66:$A$119='2ndFxCounts'!$A14)*(Expected2ndFx!$B$66:$B$119='2ndFxCounts'!$B14)*(Expected2ndFx!G$66:G$119))","v":0},{"$f":"SUM((Expected2ndFx!$A$66:$A$119='2ndFxCounts'!$A14)*(Expected2ndFx!$B$66:$B$119='2ndFxCounts'!$B14)*(Expected2ndFx!H$66:H$119))","v":0},{"$f":"SUM((Expected2ndFx!$A$66:$A$119='2ndFxCounts'!$A14)*(Expected2ndFx!$B$66:$B$119='2ndFxCounts'!$B14)*(Expected2ndFx!I$66:I$119))","v":0},{"$f":"SUM((Expected2ndFx!$A$66:$A$119='2ndFxCounts'!$A14)*(Expected2ndFx!$B$66:$B$119='2ndFxCounts'!$B14)*(Expected2ndFx!J$66:J$119))","v":0},{"$f":"SUM((Expected2ndFx!$A$66:$A$119='2ndFxCounts'!$A14)*(Expected2ndFx!$B$66:$B$119='2ndFxCounts'!$B14)*(Expected2ndFx!K$66:K$119))","v":0},{"$f":"SUM((Expected2ndFx!$A$66:$A$119='2ndFxCounts'!$A14)*(Expected2ndFx!$B$66:$B$119='2ndFxCounts'!$B14)*(Expected2ndFx!L$66:L$119))","v":0}]
["Male","75-84",{"$f":"SUM((Expected2ndFx!$A$66:$A$119='2ndFxCounts'!$A15)*(Expected2ndFx!$B$66:$B$119='2ndFxCounts'!$B15)*(Expected2ndFx!D$66:D$119))","v":0},{"$f":"SUM((Expected2ndFx!$A$66:$A$119='2ndFxCounts'!$A15)*(Expected2ndFx!$B$66:$B$119='2ndFxCounts'!$B15)*(Expected2ndFx!E$66:E$119))","v":0},{"$f":"SUM((Expected2ndFx!$A$66:$A$119='2ndFxCounts'!$A15)*(Expected2ndFx!$B$66:$B$119='2ndFxCounts'!$B15)*(Expected2ndFx!F$66:F$119))","v":0},{"$f":"SUM((Expected2ndFx!$A$66:$A$119='2ndFxCounts'!$A15)*(Expected2ndFx!$B$66:$B$119='2ndFxCounts'!$B15)*(Expected2ndFx!G$66:G$119))","v":0},{"$f":"SUM((Expected2ndFx!$A$66:$A$119='2ndFxCounts'!$A15)*(Expected2ndFx!$B$66:$B$119='2ndFxCounts'!$B15)*(Expected2ndFx!H$66:H$119))","v":0},{"$f":"SUM((Expected2ndFx!$A$66:$A$119='2ndFxCounts'!$A15)*(Expected2ndFx!$B$66:$B$119='2ndFxCounts'!$B15)*(Expected2ndFx!I$66:I$119))","v":0},{"$f":"SUM((Expected2ndFx!$A$66:$A$119='2ndFxCounts'!$A15)*(Expected2ndFx!$B$66:$B$119='2ndFxCounts'!$B15)*(Expected2ndFx!J$66:J$119))","v":0},{"$f":"SUM((Expected2ndFx!$A$66:$A$119='2ndFxCounts'!$A15)*(Expected2ndFx!$B$66:$B$119='2ndFxCounts'!$B15)*(Expected2ndFx!K$66:K$119))","v":0},{"$f":"SUM((Expected2ndFx!$A$66:$A$119='2ndFxCounts'!$A15)*(Expected2ndFx!$B$66:$B$119='2ndFxCounts'!$B15)*(Expected2ndFx!L$66:L$119))","v":0}]
["Male","85+",{"$f":"SUM((Expected2ndFx!$A$66:$A$119='2ndFxCounts'!$A16)*(Expected2ndFx!$B$66:$B$119='2ndFxCounts'!$B16)*(Expected2ndFx!D$66:D$119))","v":0},{"$f":"SUM((Expected2ndFx!$A$66:$A$119='2ndFxCounts'!$A16)*(Expected2ndFx!$B$66:$B$119='2ndFxCounts'!$B16)*(Expected2ndFx!E$66:E$119))","v":0},{"$f":"SUM((Expected2ndFx!$A$66:$A$119='2ndFxCounts'!$A16)*(Expected2ndFx!$B$66:$B$119='2ndFxCounts'!$B16)*(Expected2ndFx!F$66:F$119))","v":0},{"$f":"SUM((Expected2ndFx!$A$66:$A$119='2ndFxCounts'!$A16)*(Expected2ndFx!$B$66:$B$119='2ndFxCounts'!$B16)*(Expected2ndFx!G$66:G$119))","v":0},{"$f":"SUM((Expected2ndFx!$A$66:$A$119='2ndFxCounts'!$A16)*(Expected2ndFx!$B$66:$B$119='2ndFxCounts'!$B16)*(Expected2ndFx!H$66:H$119))","v":0},{"$f":"SUM((Expected2ndFx!$A$66:$A$119='2ndFxCounts'!$A16)*(Expected2ndFx!$B$66:$B$119='2ndFxCounts'!$B16)*(Expected2ndFx!I$66:I$119))","v":0},{"$f":"SUM((Expected2ndFx!$A$66:$A$119='2ndFxCounts'!$A16)*(Expected2ndFx!$B$66:$B$119='2ndFxCounts'!$B16)*(Expected2ndFx!J$66:J$119))","v":0},{"$f":"SUM((Expected2ndFx!$A$66:$A$119='2ndFxCounts'!$A16)*(Expected2ndFx!$B$66:$B$119='2ndFxCounts'!$B16)*(Expected2ndFx!K$66:K$119))","v":0},{"$f":"SUM((Expected2ndFx!$A$66:$A$119='2ndFxCounts'!$A16)*(Expected2ndFx!$B$66:$B$119='2ndFxCounts'!$B16)*(Expected2ndFx!L$66:L$119))","v":0}]
["Female","65-74",{"$f":"SUM((Expected2ndFx!$A$66:$A$119='2ndFxCounts'!$A17)*(Expected2ndFx!$B$66:$B$119='2ndFxCounts'!$B17)*(Expected2ndFx!D$66:D$119))","v":0},{"$f":"SUM((Expected2ndFx!$A$66:$A$119='2ndFxCounts'!$A17)*(Expected2ndFx!$B$66:$B$119='2ndFxCounts'!$B17)*(Expected2ndFx!E$66:E$119))","v":0},{"$f":"SUM((Expected2ndFx!$A$66:$A$119='2ndFxCounts'!$A17)*(Expected2ndFx!$B$66:$B$119='2ndFxCounts'!$B17)*(Expected2ndFx!F$66:F$119))","v":0},{"$f":"SUM((Expected2ndFx!$A$66:$A$119='2ndFxCounts'!$A17)*(Expected2ndFx!$B$66:$B$119='2ndFxCounts'!$B17)*(Expected2ndFx!G$66:G$119))","v":0},{"$f":"SUM((Expected2ndFx!$A$66:$A$119='2ndFxCounts'!$A17)*(Expected2ndFx!$B$66:$B$119='2ndFxCounts'!$B17)*(Expected2ndFx!H$66:H$119))","v":0},{"$f":"SUM((Expected2ndFx!$A$66:$A$119='2ndFxCounts'!$A17)*(Expected2ndFx!$B$66:$B$119='2ndFxCounts'!$B17)*(Expected2ndFx!I$66:I$119))","v":0},{"$f":"SUM((Expected2ndFx!$A$66:$A$119='2ndFxCounts'!$A17)*(Expected2ndFx!$B$66:$B$119='2ndFxCounts'!$B17)*(Expected2ndFx!J$66:J$119))","v":0},{"$f":"SUM((Expected2ndFx!$A$66:$A$119='2ndFxCounts'!$A17)*(Expected2ndFx!$B$66:$B$119='2ndFxCounts'!$B17)*(Expected2ndFx!K$66:K$119))","v":0},{"$f":"SUM((Expected2ndFx!$A$66:$A$119='2ndFxCounts'!$A17)*(Expected2ndFx!$B$66:$B$119='2ndFxCounts'!$B17)*(Expected2ndFx!L$66:L$119))","v":0}]
["Female","75-84",{"$f":"SUM((Expected2ndFx!$A$66:$A$119='2ndFxCounts'!$A18)*(Expected2ndFx!$B$66:$B$119='2ndFxCounts'!$B18)*(Expected2ndFx!D$66:D$119))","v":0},{"$f":"SUM((Expected2ndFx!$A$66:$A$119='2ndFxCounts'!$A18)*(Expected2ndFx!$B$66:$B$119='2ndFxCounts'!$B18)*(Expected2ndFx!E$66:E$119))","v":0},{"$f":"SUM((Expected2ndFx!$A$66:$A$119='2ndFxCounts'!$A18)*(Expected2ndFx!$B$66:$B$119='2ndFxCounts'!$B18)*(Expected2ndFx!F$66:F$119))","v":0},{"$f":"SUM((Expected2ndFx!$A$66:$A$119='2ndFxCounts'!$A18)*(Expected2ndFx!$B$66:$B$119='2ndFxCounts'!$B18)*(Expected2ndFx!G$66:G$119))","v":0},{"$f":"SUM((Expected2ndFx!$A$66:$A$119='2ndFxCounts'!$A18)*(Expected2ndFx!$B$66:$B$119='2ndFxCounts'!$B18)*(Expected2ndFx!H$66:H$119))","v":0},{"$f":"SUM((Expected2ndFx!$A$66:$A$119='2ndFxCounts'!$A18)*(Expected2ndFx!$B$66:$B$119='2ndFxCounts'!$B18)*(Expected2ndFx!I$66:I$119))","v":0},{"$f":"SUM((Expected2ndFx!$A$66:$A$119='2ndFxCounts'!$A18)*(Expected2ndFx!$B$66:$B$119='2ndFxCounts'!$B18)*(Expected2ndFx!J$66:J$119))","v":0},{"$f":"SUM((Expected2ndFx!$A$66:$A$119='2ndFxCounts'!$A18)*(Expected2ndFx!$B$66:$B$119='2ndFxCounts'!$B18)*(Expected2ndFx!K$66:K$119))","v":0},{"$f":"SUM((Expected2ndFx!$A$66:$A$119='2ndFxCounts'!$A18)*(Expected2ndFx!$B$66:$B$119='2ndFxCounts'!$B18)*(Expected2ndFx!L$66:L$119))","v":0}]
["Female","85+",{"$f":"SUM((Expected2ndFx!$A$66:$A$119='2ndFxCounts'!$A19)*(Expected2ndFx!$B$66:$B$119='2ndFxCounts'!$B19)*(Expected2ndFx!D$66:D$119))","v":0},{"$f":"SUM((Expected2ndFx!$A$66:$A$119='2ndFxCounts'!$A19)*(Expected2ndFx!$B$66:$B$119='2ndFxCounts'!$B19)*(Expected2ndFx!E$66:E$119))","v":0},{"$f":"SUM((Expected2ndFx!$A$66:$A$119='2ndFxCounts'!$A19)*(Expected2ndFx!$B$66:$B$119='2ndFxCounts'!$B19)*(Expected2ndFx!F$66:F$119))","v":0},{"$f":"SUM((Expected2ndFx!$A$66:$A$119='2ndFxCounts'!$A19)*(Expected2ndFx!$B$66:$B$119='2ndFxCounts'!$B19)*(Expected2ndFx!G$66:G$119))","v":0},{"$f":"SUM((Expected2ndFx!$A$66:$A$119='2ndFxCounts'!$A19)*(Expected2ndFx!$B$66:$B$119='2ndFxCounts'!$B19)*(Expected2ndFx!H$66:H$119))","v":0},{"$f":"SUM((Expected2ndFx!$A$66:$A$119='2ndFxCounts'!$A19)*(Expected2ndFx!$B$66:$B$119='2ndFxCounts'!$B19)*(Expected2ndFx!I$66:I$119))","v":0},{"$f":"SUM((Expected2ndFx!$A$66:$A$119='2ndFxCounts'!$A19)*(Expected2ndFx!$B$66:$B$119='2ndFxCounts'!$B19)*(Expected2ndFx!J$66:J$119))","v":0},{"$f":"SUM((Expected2ndFx!$A$66:$A$119='2ndFxCounts'!$A19)*(Expected2ndFx!$B$66:$B$119='2ndFxCounts'!$B19)*(Expected2ndFx!K$66:K$119))","v":0},{"$f":"SUM((Expected2ndFx!$A$66:$A$119='2ndFxCounts'!$A19)*(Expected2ndFx!$B$66:$B$119='2ndFxCounts'!$B19)*(Expected2ndFx!L$66:L$119))","v":0}]
["Four years"]
["Male","65-74",{"$f":"SUM((Expected2ndFx!$A$125:$A$178='2ndFxCounts'!$A21)*(Expected2ndFx!$B$125:$B$178='2ndFxCounts'!$B21)*(Expected2ndFx!D$125:D$178))","v":0},{"$f":"SUM((Expected2ndFx!$A$125:$A$178='2ndFxCounts'!$A21)*(Expected2ndFx!$B$125:$B$178='2ndFxCounts'!$B21)*(Expected2ndFx!E$125:E$178))","v":0},{"$f":"SUM((Expected2ndFx!$A$125:$A$178='2ndFxCounts'!$A21)*(Expected2ndFx!$B$125:$B$178='2ndFxCounts'!$B21)*(Expected2ndFx!F$125:F$178))","v":0},{"$f":"SUM((Expected2ndFx!$A$125:$A$178='2ndFxCounts'!$A21)*(Expected2ndFx!$B$125:$B$178='2ndFxCounts'!$B21)*(Expected2ndFx!G$125:G$178))","v":0},{"$f":"SUM((Expected2ndFx!$A$125:$A$178='2ndFxCounts'!$A21)*(Expected2ndFx!$B$125:$B$178='2ndFxCounts'!$B21)*(Expected2ndFx!H$125:H$178))","v":0},{"$f":"SUM((Expected2ndFx!$A$125:$A$178='2ndFxCounts'!$A21)*(Expected2ndFx!$B$125:$B$178='2ndFxCounts'!$B21)*(Expected2ndFx!I$125:I$178))","v":0},{"$f":"SUM((Expected2ndFx!$A$125:$A$178='2ndFxCounts'!$A21)*(Expected2ndFx!$B$125:$B$178='2ndFxCounts'!$B21)*(Expected2ndFx!J$125:J$178))","v":0},{"$f":"SUM((Expected2ndFx!$A$125:$A$178='2ndFxCounts'!$A21)*(Expected2ndFx!$B$125:$B$178='2ndFxCounts'!$B21)*(Expected2ndFx!K$125:K$178))","v":0},{"$f":"SUM((Expected2ndFx!$A$125:$A$178='2ndFxCounts'!$A21)*(Expected2ndFx!$B$125:$B$178='2ndFxCounts'!$B21)*(Expected2ndFx!L$125:L$178))","v":0}]
["Male","75-84",{"$f":"SUM((Expected2ndFx!$A$125:$A$178='2ndFxCounts'!$A22)*(Expected2ndFx!$B$125:$B$178='2ndFxCounts'!$B22)*(Expected2ndFx!D$125:D$178))","v":0},{"$f":"SUM((Expected2ndFx!$A$125:$A$178='2ndFxCounts'!$A22)*(Expected2ndFx!$B$125:$B$178='2ndFxCounts'!$B22)*(Expected2ndFx!E$125:E$178))","v":0},{"$f":"SUM((Expected2ndFx!$A$125:$A$178='2ndFxCounts'!$A22)*(Expected2ndFx!$B$125:$B$178='2ndFxCounts'!$B22)*(Expected2ndFx!F$125:F$178))","v":0},{"$f":"SUM((Expected2ndFx!$A$125:$A$178='2ndFxCounts'!$A22)*(Expected2ndFx!$B$125:$B$178='2ndFxCounts'!$B22)*(Expected2ndFx!G$125:G$178))","v":0},{"$f":"SUM((Expected2ndFx!$A$125:$A$178='2ndFxCounts'!$A22)*(Expected2ndFx!$B$125:$B$178='2ndFxCounts'!$B22)*(Expected2ndFx!H$125:H$178))","v":0},{"$f":"SUM((Expected2ndFx!$A$125:$A$178='2ndFxCounts'!$A22)*(Expected2ndFx!$B$125:$B$178='2ndFxCounts'!$B22)*(Expected2ndFx!I$125:I$178))","v":0},{"$f":"SUM((Expected2ndFx!$A$125:$A$178='2ndFxCounts'!$A22)*(Expected2ndFx!$B$125:$B$178='2ndFxCounts'!$B22)*(Expected2ndFx!J$125:J$178))","v":0},{"$f":"SUM((Expected2ndFx!$A$125:$A$178='2ndFxCounts'!$A22)*(Expected2ndFx!$B$125:$B$178='2ndFxCounts'!$B22)*(Expected2ndFx!K$125:K$178))","v":0},{"$f":"SUM((Expected2ndFx!$A$125:$A$178='2ndFxCounts'!$A22)*(Expected2ndFx!$B$125:$B$178='2ndFxCounts'!$B22)*(Expected2ndFx!L$125:L$178))","v":0}]
["Male","85+",{"$f":"SUM((Expected2ndFx!$A$125:$A$178='2ndFxCounts'!$A23)*(Expected2ndFx!$B$125:$B$178='2ndFxCounts'!$B23)*(Expected2ndFx!D$125:D$178))","v":0},{"$f":"SUM((Expected2ndFx!$A$125:$A$178='2ndFxCounts'!$A23)*(Expected2ndFx!$B$125:$B$178='2ndFxCounts'!$B23)*(Expected2ndFx!E$125:E$178))","v":0},{"$f":"SUM((Expected2ndFx!$A$125:$A$178='2ndFxCounts'!$A23)*(Expected2ndFx!$B$125:$B$178='2ndFxCounts'!$B23)*(Expected2ndFx!F$125:F$178))","v":0},{"$f":"SUM((Expected2ndFx!$A$125:$A$178='2ndFxCounts'!$A23)*(Expected2ndFx!$B$125:$B$178='2ndFxCounts'!$B23)*(Expected2ndFx!G$125:G$178))","v":0},{"$f":"SUM((Expected2ndFx!$A$125:$A$178='2ndFxCounts'!$A23)*(Expected2ndFx!$B$125:$B$178='2ndFxCounts'!$B23)*(Expected2ndFx!H$125:H$178))","v":0},{"$f":"SUM((Expected2ndFx!$A$125:$A$178='2ndFxCounts'!$A23)*(Expected2ndFx!$B$125:$B$178='2ndFxCounts'!$B23)*(Expected2ndFx!I$125:I$178))","v":0},{"$f":"SUM((Expected2ndFx!$A$125:$A$178='2ndFxCounts'!$A23)*(Expected2ndFx!$B$125:$B$178='2ndFxCounts'!$B23)*(Expected2ndFx!J$125:J$178))","v":0},{"$f":"SUM((Expected2ndFx!$A$125:$A$178='2ndFxCounts'!$A23)*(Expected2ndFx!$B$125:$B$178='2ndFxCounts'!$B23)*(Expected2ndFx!K$125:K$178))","v":0},{"$f":"SUM((Expected2ndFx!$A$125:$A$178='2ndFxCounts'!$A23)*(Expected2ndFx!$B$125:$B$178='2ndFxCounts'!$B23)*(Expected2ndFx!L$125:L$178))","v":0}]
["Female","65-74",{"$f":"SUM((Expected2ndFx!$A$125:$A$178='2ndFxCounts'!$A24)*(Expected2ndFx!$B$125:$B$178='2ndFxCounts'!$B24)*(Expected2ndFx!D$125:D$178))","v":0},{"$f":"SUM((Expected2ndFx!$A$125:$A$178='2ndFxCounts'!$A24)*(Expected2ndFx!$B$125:$B$178='2ndFxCounts'!$B24)*(Expected2ndFx!E$125:E$178))","v":0},{"$f":"SUM((Expected2ndFx!$A$125:$A$178='2ndFxCounts'!$A24)*(Expected2ndFx!$B$125:$B$178='2ndFxCounts'!$B24)*(Expected2ndFx!F$125:F$178))","v":0},{"$f":"SUM((Expected2ndFx!$A$125:$A$178='2ndFxCounts'!$A24)*(Expected2ndFx!$B$125:$B$178='2ndFxCounts'!$B24)*(Expected2ndFx!G$125:G$178))","v":0},{"$f":"SUM((Expected2ndFx!$A$125:$A$178='2ndFxCounts'!$A24)*(Expected2ndFx!$B$125:$B$178='2ndFxCounts'!$B24)*(Expected2ndFx!H$125:H$178))","v":0},{"$f":"SUM((Expected2ndFx!$A$125:$A$178='2ndFxCounts'!$A24)*(Expected2ndFx!$B$125:$B$178='2ndFxCounts'!$B24)*(Expected2ndFx!I$125:I$178))","v":0},{"$f":"SUM((Expected2ndFx!$A$125:$A$178='2ndFxCounts'!$A24)*(Expected2ndFx!$B$125:$B$178='2ndFxCounts'!$B24)*(Expected2ndFx!J$125:J$178))","v":0},{"$f":"SUM((Expected2ndFx!$A$125:$A$178='2ndFxCounts'!$A24)*(Expected2ndFx!$B$125:$B$178='2ndFxCounts'!$B24)*(Expected2ndFx!K$125:K$178))","v":0},{"$f":"SUM((Expected2ndFx!$A$125:$A$178='2ndFxCounts'!$A24)*(Expected2ndFx!$B$125:$B$178='2ndFxCounts'!$B24)*(Expected2ndFx!L$125:L$178))","v":0}]
["Female","75-84",{"$f":"SUM((Expected2ndFx!$A$125:$A$178='2ndFxCounts'!$A25)*(Expected2ndFx!$B$125:$B$178='2ndFxCounts'!$B25)*(Expected2ndFx!D$125:D$178))","v":0},{"$f":"SUM((Expected2ndFx!$A$125:$A$178='2ndFxCounts'!$A25)*(Expected2ndFx!$B$125:$B$178='2ndFxCounts'!$B25)*(Expected2ndFx!E$125:E$178))","v":0},{"$f":"SUM((Expected2ndFx!$A$125:$A$178='2ndFxCounts'!$A25)*(Expected2ndFx!$B$125:$B$178='2ndFxCounts'!$B25)*(Expected2ndFx!F$125:F$178))","v":0},{"$f":"SUM((Expected2ndFx!$A$125:$A$178='2ndFxCounts'!$A25)*(Expected2ndFx!$B$125:$B$178='2ndFxCounts'!$B25)*(Expected2ndFx!G$125:G$178))","v":0},{"$f":"SUM((Expected2ndFx!$A$125:$A$178='2ndFxCounts'!$A25)*(Expected2ndFx!$B$125:$B$178='2ndFxCounts'!$B25)*(Expected2ndFx!H$125:H$178))","v":0},{"$f":"SUM((Expected2ndFx!$A$125:$A$178='2ndFxCounts'!$A25)*(Expected2ndFx!$B$125:$B$178='2ndFxCounts'!$B25)*(Expected2ndFx!I$125:I$178))","v":0},{"$f":"SUM((Expected2ndFx!$A$125:$A$178='2ndFxCounts'!$A25)*(Expected2ndFx!$B$125:$B$178='2ndFxCounts'!$B25)*(Expected2ndFx!J$125:J$178))","v":0},{"$f":"SUM((Expected2ndFx!$A$125:$A$178='2ndFxCounts'!$A25)*(Expected2ndFx!$B$125:$B$178='2ndFxCounts'!$B25)*(Expected2ndFx!K$125:K$178))","v":0},{"$f":"SUM((Expected2ndFx!$A$125:$A$178='2ndFxCounts'!$A25)*(Expected2ndFx!$B$125:$B$178='2ndFxCounts'!$B25)*(Expected2ndFx!L$125:L$178))","v":0}]
["Female","85+",{"$f":"SUM((Expected2ndFx!$A$125:$A$178='2ndFxCounts'!$A26)*(Expected2ndFx!$B$125:$B$178='2ndFxCounts'!$B26)*(Expected2ndFx!D$125:D$178))","v":0},{"$f":"SUM((Expected2ndFx!$A$125:$A$178='2ndFxCounts'!$A26)*(Expected2ndFx!$B$125:$B$178='2ndFxCounts'!$B26)*(Expected2ndFx!E$125:E$178))","v":0},{"$f":"SUM((Expected2ndFx!$A$125:$A$178='2ndFxCounts'!$A26)*(Expected2ndFx!$B$125:$B$178='2ndFxCounts'!$B26)*(Expected2ndFx!F$125:F$178))","v":0},{"$f":"SUM((Expected2ndFx!$A$125:$A$178='2ndFxCounts'!$A26)*(Expected2ndFx!$B$125:$B$178='2ndFxCounts'!$B26)*(Expected2ndFx!G$125:G$178))","v":0},{"$f":"SUM((Expected2ndFx!$A$125:$A$178='2ndFxCounts'!$A26)*(Expected2ndFx!$B$125:$B$178='2ndFxCounts'!$B26)*(Expected2ndFx!H$125:H$178))","v":0},{"$f":"SUM((Expected2ndFx!$A$125:$A$178='2ndFxCounts'!$A26)*(Expected2ndFx!$B$125:$B$178='2ndFxCounts'!$B26)*(Expected2ndFx!I$125:I$178))","v":0},{"$f":"SUM((Expected2ndFx!$A$125:$A$178='2ndFxCounts'!$A26)*(Expected2ndFx!$B$125:$B$178='2ndFxCounts'!$B26)*(Expected2ndFx!J$125:J$178))","v":0},{"$f":"SUM((Expected2ndFx!$A$125:$A$178='2ndFxCounts'!$A26)*(Expected2ndFx!$B$125:$B$178='2ndFxCounts'!$B26)*(Expected2ndFx!K$125:K$178))","v":0},{"$f":"SUM((Expected2ndFx!$A$125:$A$178='2ndFxCounts'!$A26)*(Expected2ndFx!$B$125:$B$178='2ndFxCounts'!$B26)*(Expected2ndFx!L$125:L$178))","v":0}]

{"sheet":"Expected2ndFx","index":8,"n_rows":178,"n_cols":13,"rows_kept":178,"cut":false,"hidden":true,"merged":[[122,0,123,0],[122,1,123,1],[122,2,123,2],[122,3,122,12],[3,0,3,12],[4,0,5,0],[4,1,5,1],[4,2,5,2],[4,3,4,12],[62,0,62,12],[63,0,64,0],[63,1,64,1],[63,2,64,2],[63,3,63,12],[121,0,121,12]]}
["Refracture Frequency Table: "]
["The table below lists expected frequencies of second fractures at various sites over various time periods by age, sex, and initial fracture site"]
[]
["Two Year Model"]
["Sex","Age","Initial Fracture Site","Second Fracture Status"]
[null,null,null,"Ankle","Clavicle","Femur","Hip","Humerus","Pelvis","Radius/Ulna","Spine","Tibia/Fibula","None"]
["Male","65-74","Ankle",{"$f":"Backend!$D2*REF_2ndFxProp!D7","v":0},{"$f":"Backend!$D2*REF_2ndFxProp!E7","v":0},{"$f":"Backend!$D2*REF_2ndFxProp!F7","v":0},{"$f":"Backend!$D2*REF_2ndFxProp!G7","v":0},{"$f":"Backend!$D2*REF_2ndFxProp!H7","v":0},{"$f":"Backend!$D2*REF_2ndFxProp!I7","v":0},{"$f":"Backend!$D2*REF_2ndFxProp!J7","v":0},{"$f":"Backend!$D2*REF_2ndFxProp!K7","v":0},{"$f":"Backend!$D2*REF_2ndFxProp!L7","v":0},{"$f":"Backend!$D2*REF_2ndFxProp!M7","v":0}]
["Male","65-74","Clavicle",{"$f":"Backend!$D3*REF_2ndFxProp!D8","v":0},{"$f":"Backend!$D3*REF_2ndFxProp!E8","v":0},{"$f":"Backend!$D3*REF_2ndFxProp!F8","v":0},{"$f":"Backend!$D3*REF_2ndFxProp!G8","v":0},{"$f":"Backend!$D3*REF_2ndFxProp!H8","v":0},{"$f":"Backend!$D3*REF_2ndFxProp!I8","v":0},{"$f":"Backend!$D3*REF_2ndFxProp!J8","v":0},{"$f":"Backend!$D3*REF_2ndFxProp!K8","v":0},{"$f":"Backend!$D3*REF_2ndFxProp!L8","v":0},{"$f":"Backend!$D3*REF_2ndFxProp!M8","v":0}]
["Male","65-74","Femur",{"$f":"Backend!$D4*REF_2ndFxProp!D9","v":0},{"$f":"Backend!$D4*REF_2ndFxProp!E9","v":0},{"$f":"Backend!$D4*REF_2ndFxProp!F9","v":0},{"$f":"Backend!$D4*REF_2ndFxProp!G9","v":0},{"$f":"Backend!$D4*REF_2ndFxProp!H9","v":0},{"$f":"Backend!$D4*REF_2ndFxProp!I9","v":0},{"$f":"Backend!$D4*REF_2ndFxProp!J9","v":0},{"$f":"Backend!$D4*REF_2ndFxProp!K9","v":0},{"$f":"Backend!$D4*REF_2ndFxProp!L9","v":0},{"$f":"Backend!$D4*REF_2ndFxProp!M9","v":0}]
["Male","65-74","Hip",{"$f":"Backend!$D5*REF_2ndFxProp!D10","v":0},{"$f":"Backend!$D5*REF_2ndFxProp!E10","v":0},{"$f":"Backend!$D5*REF_2ndFxProp!F10","v":0},{"$f":"Backend!$D5*REF_2ndFxProp!G10","v":0},{"$f":"Backend!$D5*REF_2ndFxProp!H10","v":0},{"$f":"Backend!$D5*REF_2ndFxProp!I10","v":0},{"$f":"Backend!$D5*REF_2ndFxProp!J10","v":0},{"$f":"Backend!$D5*REF_2ndFxProp!K10","v":0},{"$f":"Backend!$D5*REF_2ndFxProp!L10","v":0},{"$f":"Backend!$D5*REF_2ndFxProp!M10","v":0}]
["Male","65-74","Humerus",{"$f":"Backend!$D6*REF_2ndFxProp!D11","v":0},{"$f":"Backend!$D6*REF_2ndFxProp!E11","v":0},{"$f":"Backend!$D6*REF_2ndFxProp!F11","v":0},{"$f":"Backend!$D6*REF_2ndFxProp!G11","v":0},{"$f":"Backend!$D6*REF_2ndFxProp!H11","v":0},{"$f":"Backend!$D6*REF_2ndFxProp!I11","v":0},{"$f":"Backend!$D6*REF_2ndFxProp!J11","v":0},{"$f":"Backend!$D6*REF_2ndFxProp!K11","v":0},{"$f":"Backend!$D6*REF_2ndFxProp!L11","v":0},{"$f":"Backend!$D6*REF_2ndFxProp!M11","v":0}]
["Male","65-74","Pelvis",{"$f":"Backend!$D7*REF_2ndFxProp!D12","v":0},{"$f":"Backend!$D7*REF_2ndFxProp!E12","v":0},{"$f":"Backend!$D7*REF_2ndFxProp!F12","v":0},{"$f":"Backend!$D7*REF_2ndFxProp!G12","v":0},{"$f":"Backend!$D7*REF_2ndFxProp!H12","v":0},{"$f":"Backend!$D7*REF_2ndFxProp!I12","v":0},{"$f":"Backend!$D7*REF_2ndFxProp!J12","v":0},{"$f":"Backend!$D7*REF_2ndFxProp!K12","v":0},{"$f":"Backend!$D7*REF_2ndFxProp!L12","v":0},{"$f":"Backend!$D7*REF_2ndFxProp!M12","v":0}]
["Male","65-74","Radius/Ulna",{"$f":"Backend!$D8*REF_2ndFxProp!D13","v":0},{"$f":"Backend!$D8*REF_2ndFxProp!E13","v":0},{"$f":"Backend!$D8*REF_2ndFxProp!F13","v":0},{"$f":"Backend!$D8*REF_2ndFxProp!G13","v":0},{"$f":"Backend!$D8*REF_2ndFxProp!H13","v":0},{"$f":"Backend!$D8*REF_2ndFxProp!I13","v":0},{"$f":"Backend!$D8*REF_2ndFxProp!J13","v":0},{"$f":"Backend!$D8*REF_2ndFxProp!K13","v":0},{"$f":"Backend!$D8*REF_2ndFxProp!L13","v":0},{"$f":"Backend!$D8*REF_2ndFxProp!M13","v":0}]
["Male","65-74","Spine",{"$f":"Backend!$D9*REF_2ndFxProp!D14","v":0},{"$f":"Backend!$D9*REF_2ndFxProp!E14","v":0},{"$f":"Backend!$D9*REF_2ndFxProp!F14","v":0},{"$f":"Backend!$D9*REF_2ndFxProp!G14","v":0},{"$f":"Backend!$D9*REF_2ndFxProp!H14","v":0},{"$f":"Backend!$D9*REF_2ndFxProp!I14","v":0},{"$f":"Backend!$D9*REF_2ndFxProp!J14","v":0},{"$f":"Backend!$D9*REF_2ndFxProp!K14","v":0},{"$f":"Backend!$D9*REF_2ndFxProp!L14","v":0},{"$f":"Backend!$D9*REF_2ndFxProp!M14","v":0}]
["Male","65-74","Tibia/Fibula",{"$f":"Backend!$D10*REF_2ndFxProp!D15","v":0},{"$f":"Backend!$D10*REF_2ndFxProp!E15","v":0},{"$f":"Backend!$D10*REF_2ndFxProp!F15","v":0},{"$f":"Backend!$D10*REF_2ndFxProp!G15","v":0},{"$f":"Backend!$D10*REF_2ndFxProp!H15","v":0},{"$f":"Backend!$D10*REF_2ndFxProp!I15","v":0},{"$f":"Backend!$D10*REF_2ndFxProp!J15","v":0},{"$f":"Backend!$D10*REF_2ndFxProp!K15","v":0},{"$f":"Backend!$D10*REF_2ndFxProp!L15","v":0},{"$f":"Backend!$D10*REF_2ndFxProp!M15","v":0}]
["Male","75-84","Ankle",{"$f":"Backend!$D11*REF_2ndFxProp!D16","v":0},{"$f":"Backend!$D11*REF_2ndFxProp!E16","v":0},{"$f":"Backend!$D11*REF_2ndFxProp!F16","v":0},{"$f":"Backend!$D11*REF_2ndFxProp!G16","v":0},{"$f":"Backend!$D11*REF_2ndFxProp!H16","v":0},{"$f":"Backend!$D11*REF_2ndFxProp!I16","v":0},{"$f":"Backend!$D11*REF_2ndFxProp!J16","v":0},{"$f":"Backend!$D11*REF_2ndFxProp!K16","v":0},{"$f":"Backend!$D11*REF_2ndFxProp!L16","v":0},{"$f":"Backend!$D11*REF_2ndFxProp!M16","v":0}]
["Male","75-84","Clavicle",{"$f":"Backend!$D12*REF_2ndFxProp!D17","v":0},{"$f":"Backend!$D12*REF_2ndFxProp!E17","v":0},{"$f":"Backend!$D12*REF_2ndFxProp!F17","v":0},{"$f":"Backend!$D12*REF_2ndFxProp!G17","v":0},{"$f":"Backend!$D12*REF_2ndFxProp!H17","v":0},{"$f":"Backend!$D12*REF_2ndFxProp!I17","v":0},{"$f":"Backend!$D12*REF_2ndFxProp!J17","v":0},{"$f":"Backend!$D12*REF_2ndFxProp!K17","v":0},{"$f":"Backend!$D12*REF_2ndFxProp!L17","v":0},{"$f":"Backend!$D12*REF_2ndFxProp!M17","v":0}]
["Male","75-84","Femur",{"$f":"Backend!$D13*REF_2ndFxProp!D18","v":0},{"$f":"Backend!$D13*REF_2ndFxProp!E18","v":0},{"$f":"Backend!$D13*REF_2ndFxProp!F18","v":0},{"$f":"Backend!$D13*REF_2ndFxProp!G18","v":0},{"$f":"Backend!$D13*REF_2ndFxProp!H18","v":0},{"$f":"Backend!$D13*REF_2ndFxProp!I18","v":0},{"$f":"Backend!$D13*REF_2ndFxProp!J18","v":0},{"$f":"Backend!$D13*REF_2ndFxProp!K18","v":0},{"$f":"Backend!$D13*REF_2ndFxProp!L18","v":0},{"$f":"Backend!$D13*REF_2ndFxProp!M18","v":0}]
["Male","75-84","Hip",{"$f":"Backend!$D14*REF_2ndFxProp!D19","v":0},{"$f":"Backend!$D14*REF_2ndFxProp!E19","v":0},{"$f":"Backend!$D14*REF_2ndFxProp!F19","v":0},{"$f":"Backend!$D14*REF_2ndFxProp!G19","v":0},{"$f":"Backend!$D14*REF_2ndFxProp!H19","v":0},{"$f":"Backend!$D14*REF_2ndFxProp!I19","v":0},{"$f":"Backend!$D14*REF_2ndFxProp!J19","v":0},{"$f":"Backend!$D14*REF_2ndFxProp!K19","v":0},{"$f":"Backend!$D14*REF_2ndFxProp!L19","v":0},{"$f":"Backend!$D14*REF_2ndFxProp!M19","v":0}]
["Male","75-84","Humerus",{"$f":"Backend!$D15*REF_2ndFxProp!D20","v":0},{"$f":"Backend!$D15*REF_2ndFxProp!E20","v":0},{"$f":"Backend!$D15*REF_2ndFxProp!F20","v":0},{"$f":"Backend!$D15*REF_2ndFxProp!G20","v":0},{"$f":"Backend!$D15*REF_2ndFxProp!H20","v":0},{"$f":"Backend!$D15*REF_2ndFxProp!I20","v":0},{"$f":"Backend!$D15*REF_2ndFxProp!J20","v":0},{"$f":"Backend!$D15*REF_2ndFxProp!K20","v":0},{"$f":"Backend!$D15*REF_2ndFxProp!L20","v":0},{"$f":"Backend!$D15*REF_2ndFxProp!M20","v":0}]
["Male","75-84","Pelvis",{"$f":"Backend!$D16*REF_2ndFxProp!D21","v":0},{"$f":"Backend!$D16*REF_2ndFxProp!E21","v":0},{"$f":"Backend!$D16*REF_2ndFxProp!F21","v":0},{"$f":"Backend!$D16*REF_2ndFxProp!G21","v":0},{"$f":"Backend!$D16*REF_2ndFxProp!H21","v":0},{"$f":"Backend!$D16*REF_2ndFxProp!I21","v":0},{"$f":"Backend!$D16*REF_2ndFxProp!J21","v":0},{"$f":"Backend!$D16*REF_2ndFxProp!K21","v":0},{"$f":"Backend!$D16*REF_2ndFxProp!L21","v":0},{"$f":"Backend!$D16*REF_2ndFxProp!M21","v":0}]
["Male","75-84","Radius/Ulna",{"$f":"Backend!$D17*REF_2ndFxProp!D22","v":0},{"$f":"Backend!$D17*REF_2ndFxProp!E22","v":0},{"$f":"Backend!$D17*REF_2ndFxProp!F22","v":0},{"$f":"Backend!$D17*REF_2ndFxProp!G22","v":0},{"$f":"Backend!$D17*REF_2ndFxProp!H22","v":0},{"$f":"Backend!$D17*REF_2ndFxProp!I22","v":0},{"$f":"Backend!$D17*REF_2ndFxProp!J22","v":0},{"$f":"Backend!$D17*REF_2ndFxProp!K22","v":0},{"$f":"Backend!$D17*REF_2ndFxProp!L22","v":0},{"$f":"Backend!$D17*REF_2ndFxProp!M22","v":0}]
["Male","75-84","Spine",{"$f":"Backend!$D18*REF_2ndFxProp!D23","v":0},{"$f":"Backend!$D18*REF_2ndFxProp!E23","v":0},{"$f":"Backend!$D18*REF_2ndFxProp!F23","v":0},{"$f":"Backend!$D18*REF_2ndFxProp!G23","v":0},{"$f":"Backend!$D18*REF_2ndFxProp!H23","v":0},{"$f":"Backend!$D18*REF_2ndFxProp!I23","v":0},{"$f":"Backend!$D18*REF_2ndFxProp!J23","v":0},{"$f":"Backend!$D18*REF_2ndFxProp!K23","v":0},{"$f":"Backend!$D18*REF_2ndFxProp!L23","v":0},{"$f":"Backend!$D18*REF_2ndFxProp!M23","v":0}]
["Male","75-84","Tibia/Fibula",{"$f":"Backend!$D19*REF_2ndFxProp!D24","v":0},{"$f":"Backend!$D19*REF_2ndFxProp!E24","v":0},{"$f":"Backend!$D19*REF_2ndFxProp!F24","v":0},{"$f":"Backend!$D19*REF_2ndFxProp!G24","v":0},{"$f":"Backend!$D19*REF_2ndFxProp!H24","v":0},{"$f":"Backend!$D19*REF_2ndFxProp!I24","v":0},{"$f":"Backend!$D19*REF_2ndFxProp!J24","v":0},{"$f":"Backend!$D19*REF_2ndFxProp!K24","v":0},{"$f":"Backend!$D19*REF_2ndFxProp!L24","v":0},{"$f":"Backend!$D19*REF_2ndFxProp!M24","v":0}]
["Male","85+","Ankle",{"$f":"Backend!$D20*REF_2ndFxProp!D25","v":0},{"$f":"Backend!$D20*REF_2ndFxProp!E25","v":0},{"$f":"Backend!$D20*REF_2ndFxProp!F25","v":0},{"$f":"Backend!$D20*REF_2ndFxProp!G25","v":0},{"$f":"Backend!$D20*REF_2ndFxProp!H25","v":0},{"$f":"Backend!$D20*REF_2ndFxProp!I25","v":0},{"$f":"Backend!$D20*REF_2ndFxProp!J25","v":0},{"$f":"Backend!$D20*REF_2ndFxProp!K25","v":0},{"$f":"Backend!$D20*REF_2ndFxProp!L25","v":0},{"$f":"Backend!$D20*REF_2ndFxProp!M25","v":0}]
["Male","85+","Clavicle",{"$f":"Backend!$D21*REF_2ndFxProp!D26","v":0},{"$f":"Backend!$D21*REF_2ndFxProp!E26","v":0},{"$f":"Backend!$D21*REF_2ndFxProp!F26","v":0},{"$f":"Backend!$D21*REF_2ndFxProp!G26","v":0},{"$f":"Backend!$D21*REF_2ndFxProp!H26","v":0},{"$f":"Backend!$D21*REF_2ndFxProp!I26","v":0},{"$f":"Backend!$D21*REF_2ndFxProp!J26","v":0},{"$f":"Backend!$D21*REF_2ndFxProp!K26","v":0},{"$f":"Backend!$D21*REF_2ndFxProp!L26","v":0},{"$f":"Backend!$D21*REF_2ndFxProp!M26","v":0}]
["Male","85+","Femur",{"$f":"Backend!$D22*REF_2ndFxProp!D27","v":0},{"$f":"Backend!$D22*REF_2ndFxProp!E27","v":0},{"$f":"Backend!$D22*REF_2ndFxProp!F27","v":0},{"$f":"Backend!$D22*REF_2ndFxProp!G27","v":0},{"$f":"Backend!$D22*REF_2ndFxProp!H27","v":0},{"$f":"Backend!$D22*REF_2ndFxProp!I27","v":0},{"$f":"Backend!$D22*REF_2ndFxProp!J27","v":0},{"$f":"Backend!$D22*REF_2ndFxProp!K27","v":0},{"$f":"Backend!$D22*REF_2ndFxProp!L27","v":0},{"$f":"Backend!$D22*REF_2ndFxProp!M27","v":0}]
["Male","85+","Hip",{"$f":"Backend!$D23*REF_2ndFxProp!D28","v":0},{"$f":"Backend!$D23*REF_2ndFxProp!E28","v":0},{"$f":"Backend!$D23*REF_2ndFxProp!F28","v":0},{"$f":"Backend!$D23*REF_2ndFxProp!G28","v":0},{"$f":"Backend!$D23*REF_2ndFxProp!H28","v":0},{"$f":"Backend!$D23*REF_2ndFxProp!I28","v":0},{"$f":"Backend!$D23*REF_2ndFxProp!J28","v":0},{"$f":"Backend!$D23*REF_2ndFxProp!K28","v":0},{"$f":"Backend!$D23*REF_2ndFxProp!L28","v":0},{"$f":"Backend!$D23*REF_2ndFxProp!M28","v":0}]
["Male","85+","Humerus",{"$f":"Backend!$D24*REF_2ndFxProp!D29","v":0},{"$f":"Backend!$D24*REF_2ndFxProp!E29","v":0},{"$f":"Backend!$D24*REF_2ndFxProp!F29","v":0},{"$f":"Backend!$D24*REF_2ndFxProp!G29","v":0},{"$f":"Backend!$D24*REF_2ndFxProp!H29","v":0},{"$f":"Backend!$D24*REF_2ndFxProp!I29","v":0},{"$f":"Backend!$D24*REF_2ndFxProp!J29","v":0},{"$f":"Backend!$D24*REF_2ndFxProp!K29","v":0},{"$f":"Backend!$D24*REF_2ndFxProp!L29","v":0},{"$f":"Backend!$D24*REF_2ndFxProp!M29","v":0}]
["Male","85+","Pelvis",{"$f":"Backend!$D25*REF_2ndFxProp!D30","v":0},{"$f":"Backend!$D25*REF_2ndFxProp!E30","v":0},{"$f":"Backend!$D25*REF_2ndFxProp!F30","v":0},{"$f":"Backend!$D25*REF_2ndFxProp!G30","v":0},{"$f":"Backend!$D25*REF_2ndFxProp!H30","v":0},{"$f":"Backend!$D25*REF_2ndFxProp!I30","v":0},{"$f":"Backend!$D25*REF_2ndFxProp!J30","v":0},{"$f":"Backend!$D25*REF_2ndFxProp!K30","v":0},{"$f":"Backend!$D25*REF_2ndFxProp!L30","v":0},{"$f":"Backend!$D25*REF_2ndFxProp!M30","v":0}]
["Male","85+","Radius/Ulna",{"$f":"Backend!$D26*REF_2ndFxProp!D31","v":0},{"$f":"Backend!$D26*REF_2ndFxProp!E31","v":0},{"$f":"Backend!$D26*REF_2ndFxProp!F31","v":0},{"$f":"Backend!$D26*REF_2ndFxProp!G31","v":0},{"$f":"Backend!$D26*REF_2ndFxProp!H31","v":0},{"$f":"Backend!$D26*REF_2ndFxProp!I31","v":0},{"$f":"Backend!$D26*REF_2ndFxProp!J31","v":0},{"$f":"Backend!$D26*REF_2ndFxProp!K31","v":0},{"$f":"Backend!$D26*REF_2ndFxProp!L31","v":0},{"$f":"Backend!$D26*REF_2ndFxProp!M31","v":0}]
["Male","85+","Spine",{"$f":"Backend!$D27*REF_2ndFxProp!D32","v":0},{"$f":"Backend!$D27*REF_2ndFxProp!E32","v":0},{"$f":"Backend!$D27*REF_2ndFxProp!F32","v":0},{"$f":"Backend!$D27*REF_2ndFxProp!G32","v":0},{"$f":"Backend!$D27*REF_2ndFxProp!H32","v":0},{"$f":"Backend!$D27*REF_2ndFxProp!I32","v":0},{"$f":"Backend!$D27*REF_2ndFxProp!J32","v":0},{"$f":"Backend!$D27*REF_2ndFxProp!K32","v":0},{"$f":"Backend!$D27*REF_2ndFxProp!L32","v":0},{"$f":"Backend!$D27*REF_2ndFxProp!M32","v":0}]
["Male","85+","Tibia/Fibula",{"$f":"Backend!$D28*REF_2ndFxProp!D33","v":0},{"$f":"Backend!$D28*REF_2ndFxProp!E33","v":0},{"$f":"Backend!$D28*REF_2ndFxProp!F33","v":0},{"$f":"Backend!$D28*REF_2ndFxProp!G33","v":0},{"$f":"Backend!$D28*REF_2ndFxProp!H33","v":0},{"$f":"Backend!$D28*REF_2ndFxProp!I33","v":0},{"$f":"Backend!$D28*REF_2ndFxProp!J33","v":0},{"$f":"Backend!$D28*REF_2ndFxProp!K33","v":0},{"$f":"Backend!$D28*REF_2ndFxProp!L33","v":0},{"$f":"Backend!$D28*REF_2ndFxProp!M33","v":0}]
["Female","65-74","Ankle",{"$f":"Backend!$D29*REF_2ndFxProp!D34","v":0},{"$f":"Backend!$D29*REF_2ndFxProp!E34","v":0},{"$f":"Backend!$D29*REF_2ndFxProp!F34","v":0},{"$f":"Backend!$D29*REF_2ndFxProp!G34","v":0},{"$f":"Backend!$D29*REF_2ndFxProp!H34","v":0},{"$f":"Backend!$D29*REF_2ndFxProp!I34","v":0},{"$f":"Backend!$D29*REF_2ndFxProp!J34","v":0},{"$f":"Backend!$D29*REF_2ndFxProp!K34","v":0},{"$f":"Backend!$D29*REF_2ndFxProp!L34","v":0},{"$f":"Backend!$D29*REF_2ndFxProp!M34","v":0}]
["Female","65-74","Clavicle",{"$f":"Backend!$D30*REF_2ndFxProp!D35","v":0},{"$f":"Backend!$D30*REF_2ndFxProp!E35","v":0},{"$f":"Backend!$D30*REF_2ndFxProp!F35","v":0},{"$f":"Backend!$D30*REF_2ndFxProp!G35","v":0},{"$f":"Backend!$D30*REF_2ndFxProp!H35","v":0},{"$f":"Backend!$D30*REF_2ndFxProp!I35","v":0},{"$f":"Backend!$D30*REF_2ndFxProp!J35","v":0},{"$f":"Backend!$D30*REF_2ndFxProp!K35","v":0},{"$f":"Backend!$D30*REF_2ndFxProp!L35","v":0},{"$f":"Backend!$D30*REF_2ndFxProp!M35","v":0}]
["Female","65-74","Femur",{"$f":"Backend!$D31*REF_2ndFxProp!D36","v":0},{"$f":"Backend!$D31*REF_2ndFxProp!E36","v":0},{"$f":"Backend!$D31*REF_2ndFxProp!F36","v":0},{"$f":"Backend!$D31*REF_2ndFxProp!G36","v":0},{"$f":"Backend!$D31*REF_2ndFxProp!H36","v":0},{"$f":"Backend!$D31*REF_2ndFxProp!I36","v":0},{"$f":"Backend!$D31*REF_2ndFxProp!J36","v":0},{"$f":"Backend!$D31*REF_2ndFxProp!K36","v":0},{"$f":"Backend!$D31*REF_2ndFxProp!L36","v":0},{"$f":"Backend!$D31*REF_2ndFxProp!M36","v":0}]
["Female","65-74","Hip",{"$f":"Backend!$D32*REF_2ndFxProp!D37","v":0},{"$f":"Backend!$D32*REF_2ndFxProp!E37","v":0},{"$f":"Backend!$D32*REF_2ndFxProp!F37","v":0},{"$f":"Backend!$D32*REF_2ndFxProp!G37","v":0},{"$f":"Backend!$D32*REF_2ndFxProp!H37","v":0},{"$f":"Backend!$D32*REF_2ndFxProp!I37","v":0},{"$f":"Backend!$D32*REF_2ndFxProp!J37","v":0},{"$f":"Backend!$D32*REF_2ndFxProp!K37","v":0},{"$f":"Backend!$D32*REF_2ndFxProp!L37","v":0},{"$f":"Backend!$D32*REF_2ndFxProp!M37","v":0}]
["Female","65-74","Humerus",{"$f":"Backend!$D33*REF_2ndFxProp!D38","v":0},{"$f":"Backend!$D33*REF_2ndFxProp!E38","v":0},{"$f":"Backend!$D33*REF_2ndFxProp!F38","v":0},{"$f":"Backend!$D33*REF_2ndFxProp!G38","v":0},{"$f":"Backend!$D33*REF_2ndFxProp!H38","v":0},{"$f":"Backend!$D33*REF_2ndFxProp!I38","v":0},{"$f":"Backend!$D33*REF_2ndFxProp!J38","v":0},{"$f":"Backend!$D33*REF_2ndFxProp!K38","v":0},{"$f":"Backend!$D33*REF_2ndFxProp!L38","v":0},{"$f":"Backend!$D33*REF_2ndFxProp!M38","v":0}]
["Female","65-74","Pelvis",{"$f":"Backend!$D34*REF_2ndFxProp!D39","v":0},{"$f":"Backend!$D34*REF_2ndFxProp!E39","v":0},{"$f":"Backend!$D34*REF_2ndFxProp!F39","v":0},{"$f":"Backend!$D34*REF_2ndFxProp!G39","v":0},{"$f":"Backend!$D34*REF_2ndFxProp!H39","v":0},{"$f":"Backend!$D34*REF_2ndFxProp!I39","v":0},{"$f":"Backend!$D34*REF_2ndFxProp!J39","v":0},{"$f":"Backend!$D34*REF_2ndFxProp!K39","v":0},{"$f":"Backend!$D34*REF_2ndFxProp!L39","v":0},{"$f":"Backend!$D34*REF_2ndFxProp!M39","v":0}]
["Female","65-74","Radius/Ulna",{"$f":"Backend!$D35*REF_2ndFxProp!D40","v":0},{"$f":"Backend!$D35*REF_2ndFxProp!E40","v":0},{"$f":"Backend!$D35*REF_2ndFxProp!F40","v":0},{"$f":"Backend!$D35*REF_2ndFxProp!G40","v":0},{"$f":"Backend!$D35*REF_2ndFxProp!H40","v":0},{"$f":"Backend!$D35*REF_2ndFxProp!I40","v":0},{"$f":"Backend!$D35*REF_2ndFxProp!J40","v":0},{"$f":"Backend!$D35*REF_2ndFxProp!K40","v":0},{"$f":"Backend!$D35*REF_2ndFxProp!L40","v":0},{"$f":"Backend!$D35*REF_2ndFxProp!M40","v":0}]
["Female","65-74","Spine",{"$f":"Backend!$D36*REF_2ndFxProp!D41","v":0},{"$f":"Backend!$D36*REF_2ndFxProp!E41","v":0},{"$f":"Backend!$D36*REF_2ndFxProp!F41","v":0},{"$f":"Backend!$D36*REF_2ndFxProp!G41","v":0},{"$f":"Backend!$D36*REF_2ndFxProp!H41","v":0},{"$f":"Backend!$D36*REF_2ndFxProp!I41","v":0},{"$f":"Backend!$D36*REF_2ndFxProp!J41","v":0},{"$f":"Backend!$D36*REF_2ndFxProp!K41","v":0},{"$f":"Backend!$D36*REF_2ndFxProp!L41","v":0},{"$f":"Backend!$D36*REF_2ndFxProp!M41","v":0}]
["Female","65-74","Tibia/Fibula",{"$f":"Backend!$D37*REF_2ndFxProp!D42","v":0},{"$f":"Backend!$D37*REF_2ndFxProp!E42","v":0},{"$f":"Backend!$D37*REF_2ndFxProp!F42","v":0},{"$f":"Backend!$D37*REF_2ndFxProp!G42","v":0},{"$f":"Backend!$D37*REF_2ndFxProp!H42","v":0},{"$f":"Backend!$D37*REF_2ndFxProp!I42","v":0},{"$f":"Backend!$D37*REF_2ndFxProp!J42","v":0},{"$f":"Backend!$D37*REF_2ndFxProp!K42","v":0},{"$f":"Backend!$D37*REF_2ndFxProp!L42","v":0},{"$f":"Backend!$D37*REF_2ndFxProp!M42","v":0}]
["Female","75-84","Ankle",{"$f":"Backend!$D38*REF_2ndFxProp!D43","v":0},{"$f":"Backend!$D38*REF_2ndFxProp!E43","v":0},{"$f":"Backend!$D38*REF_2ndFxProp!F43","v":0},{"$f":"Backend!$D38*REF_2ndFxProp!G43","v":0},{"$f":"Backend!$D38*REF_2ndFxProp!H43","v":0},{"$f":"Backend!$D38*REF_2ndFxProp!I43","v":0},{"$f":"Backend!$D38*REF_2ndFxProp!J43","v":0},{"$f":"Backend!$D38*REF_2ndFxProp!K43","v":0},{"$f":"Backend!$D38*REF_2ndFxProp!L43","v":0},{"$f":"Backend!$D38*REF_2ndFxProp!M43","v":0}]
["Female","75-84","Clavicle",{"$f":"Backend!$D39*REF_2ndFxProp!D44","v":0},{"$f":"Backend!$D39*REF_2ndFxProp!E44","v":0},{"$f":"Backend!$D39*REF_2ndFxProp!F44","v":0},{"$f":"Backend!$D39*REF_2ndFxProp!G44","v":0},{"$f":"Backend!$D39*REF_2ndFxProp!H44","v":0},{"$f":"Backend!$D39*REF_2ndFxProp!I44","v":0},{"$f":"Backend!$D39*REF_2ndFxProp!J44","v":0},{"$f":"Backend!$D39*REF_2ndFxProp!K44","v":0},{"$f":"Backend!$D39*REF_2ndFxProp!L44","v":0},{"$f":"Backend!$D39*REF_2ndFxProp!M44","v":0}]
["Female","75-84","Femur",{"$f":"Backend!$D40*REF_2ndFxProp!D45","v":0},{"$f":"Backend!$D40*REF_2ndFxProp!E45","v":0},{"$f":"Backend!$D40*REF_2ndFxProp!F45","v":0},{"$f":"Backend!$D40*REF_2ndFxProp!G45","v":0},{"$f":"Backend!$D40*REF_2ndFxProp!H45","v":0},{"$f":"Backend!$D40*REF_2ndFxProp!I45","v":0},{"$f":"Backend!$D40*REF_2ndFxProp!J45","v":0},{"$f":"Backend!$D40*REF_2ndFxProp!K45","v":0},{"$f":"Backend!$D40*REF_2ndFxProp!L45","v":0},{"$f":"Backend!$D40*REF_2ndFxProp!M45","v":0}]
["Female","75-84","Hip",{"$f":"Backend!$D41*REF_2ndFxProp!D46","v":0},{"$f":"Backend!$D41*REF_2ndFxProp!E46","v":0},{"$f":"Backend!$D41*REF_2ndFxProp!F46","v":0},{"$f":"Backend!$D41*REF_2ndFxProp!G46","v":0},{"$f":"Backend!$D41*REF_2ndFxProp!H46","v":0},{"$f":"Backend!$D41*REF_2ndFxProp!I46","v":0},{"$f":"Backend!$D41*REF_2ndFxProp!J46","v":0},{"$f":"Backend!$D41*REF_2ndFxProp!K46","v":0},{"$f":"Backend!$D41*REF_2ndFxProp!L46","v":0},{"$f":"Backend!$D41*REF_2ndFxProp!M46","v":0}]
["Female","75-84","Humerus",{"$f":"Backend!$D42*REF_2ndFxProp!D47","v":0},{"$f":"Backend!$D42*REF_2ndFxProp!E47","v":0},{"$f":"Backend!$D42*REF_2ndFxProp!F47","v":0},{"$f":"Backend!$D42*REF_2ndFxProp!G47","v":0},{"$f":"Backend!$D42*REF_2ndFxProp!H47","v":0},{"$f":"Backend!$D42*REF_2ndFxProp!I47","v":0},{"$f":"Backend!$D42*REF_2ndFxProp!J47","v":0},{"$f":"Backend!$D42*REF_2ndFxProp!K47","v":0},{"$f":"Backend!$D42*REF_2ndFxProp!L47","v":0},{"$f":"Backend!$D42*REF_2ndFxProp!M47","v":0}]
["Female","75-84","Pelvis",{"$f":"Backend!$D43*REF_2ndFxProp!D48","v":0},{"$f":"Backend!$D43*REF_2ndFxProp!E48","v":0},{"$f":"Backend!$D43*REF_2ndFxProp!F48","v":0},{"$f":"Backend!$D43*REF_2ndFxProp!G48","v":0},{"$f":"Backend!$D43*REF_2ndFxProp!H48","v":0},{"$f":"Backend!$D43*REF_2ndFxProp!I48","v":0},{"$f":"Backend!$D43*REF_2ndFxProp!J48","v":0},{"$f":"Backend!$D43*REF_2ndFxProp!K48","v":0},{"$f":"Backend!$D43*REF_2ndFxProp!L48","v":0},{"$f":"Backend!$D43*REF_2ndFxProp!M48","v":0}]
["Female","75-84","Radius/Ulna",{"$f":"Backend!$D44*REF_2ndFxProp!D49","v":0},{"$f":"Backend!$D44*REF_2ndFxProp!E49","v":0},{"$f":"Backend!$D44*REF_2ndFxProp!F49","v":0},{"$f":"Backend!$D44*REF_2ndFxProp!G49","v":0},{"$f":"Backend!$D44*REF_2ndFxProp!H49","v":0},{"$f":"Backend!$D44*REF_2ndFxProp!I49","v":0},{"$f":"Backend!$D44*REF_2ndFxProp!J49","v":0},{"$f":"Backend!$D44*REF_2ndFxProp!K49","v":0},{"$f":"Backend!$D44*REF_2ndFxProp!L49","v":0},{"$f":"Backend!$D44*REF_2ndFxProp!M49","v":0}]
["Female","75-84","Spine",{"$f":"Backend!$D45*REF_2ndFxProp!D50","v":0},{"$f":"Backend!$D45*REF_2ndFxProp!E50","v":0},{"$f":"Backend!$D45*REF_2ndFxProp!F50","v":0},{"$f":"Backend!$D45*REF_2ndFxProp!G50","v":0},{"$f":"Backend!$D45*REF_2ndFxProp!H50","v":0},{"$f":"Backend!$D45*REF_2ndFxProp!I50","v":0},{"$f":"Backend!$D45*REF_2ndFxProp!J50","v":0},{"$f":"Backend!$D45*REF_2ndFxProp!K50","v":0},{"$f":"Backend!$D45*REF_2ndFxProp!L50","v":0},{"$f":"Backend!$D45*REF_2ndFxProp!M50","v":0}]
["Female","75-84","Tibia/Fibula",{"$f":"Backend!$D46*REF_2ndFxProp!D51","v":0},{"$f":"Backend!$D46*REF_2ndFxProp!E51","v":0},{"$f":"Backend!$D46*REF_2ndFxProp!F51","v":0},{"$f":"Backend!$D46*REF_2ndFxProp!G51","v":0},{"$f":"Backend!$D46*REF_2ndFxProp!H51","v":0},{"$f":"Backend!$D46*REF_2ndFxProp!I51","v":0},{"$f":"Backend!$D46*REF_2ndFxProp!J51","v":0},{"$f":"Backend!$D46*REF_2ndFxProp!K51","v":0},{"$f":"Backend!$D46*REF_2ndFxProp!L51","v":0},{"$f":"Backend!$D46*REF_2ndFxProp!M51","v":0}]
["Female","85+","Ankle",{"$f":"Backend!$D47*REF_2ndFxProp!D52","v":0},{"$f":"Backend!$D47*REF_2ndFxProp!E52","v":0},{"$f":"Backend!$D47*REF_2ndFxProp!F52","v":0},{"$f":"Backend!$D47*REF_2ndFxProp!G52","v":0},{"$f":"Backend!$D47*REF_2ndFxProp!H52","v":0},{"$f":"Backend!$D47*REF_2ndFxProp!I52","v":0},{"$f":"Backend!$D47*REF_2ndFxProp!J52","v":0},{"$f":"Backend!$D47*REF_2ndFxProp!K52","v":0},{"$f":"Backend!$D47*REF_2ndFxProp!L52","v":0},{"$f":"Backend!$D47*REF_2ndFxProp!M52","v":0}]
["Female","85+","Clavicle",{"$f":"Backend!$D48*REF_2ndFxProp!D53","v":0},{"$f":"Backend!$D48*REF_2ndFxProp!E53","v":0},{"$f":"Backend!$D48*REF_2ndFxProp!F53","v":0},{"$f":"Backend!$D48*REF_2ndFxProp!G53","v":0},{"$f":"Backend!$D48*REF_2ndFxProp!H53","v":0},{"$f":"Backend!$D48*REF_2ndFxProp!I53","v":0},{"$f":"Backend!$D48*REF_2ndFxProp!J53","v":0},{"$f":"Backend!$D48*REF_2ndFxProp!K53","v":0},{"$f":"Backend!$D48*REF_2ndFxProp!L53","v":0},{"$f":"Backend!$D48*REF_2ndFxProp!M53","v":0}]
["Female","85+","Femur",{"$f":"Backend!$D49*REF_2ndFxProp!D54","v":0},{"$f":"Backend!$D49*REF_2ndFxProp!E54","v":0},{"$f":"Backend!$D49*REF_2ndFxProp!F54","v":0},{"$f":"Backend!$D49*REF_2ndFxProp!G54","v":0},{"$f":"Backend!$D49*REF_2ndFxProp!H54","v":0},{"$f":"Backend!$D49*REF_2ndFxProp!I54","v":0},{"$f":"Backend!$D49*REF_2ndFxProp!J54","v":0},{"$f":"Backend!$D49*REF_2ndFxProp!K54","v":0},{"$f":"Backend!$D49*REF_2ndFxProp!L54","v":0},{"$f":"Backend!$D49*REF_2ndFxProp!M54","v":0}]
["Female","85+","Hip",{"$f":"Backend!$D50*REF_2ndFxProp!D55","v":0},{"$f":"Backend!$D50*REF_2ndFxProp!E55","v":0},{"$f":"Backend!$D50*REF_2ndFxProp!F55","v":0},{"$f":"Backend!$D50*REF_2ndFxProp!G55","v":0},{"$f":"Backend!$D50*REF_2ndFxProp!H55","v":0},{"$f":"Backend!$D50*REF_2ndFxProp!I55","v":0},{"$f":"Backend!$D50*REF_2ndFxProp!J55","v":0},{"$f":"Backend!$D50*REF_2ndFxProp!K55","v":0},{"$f":"Backend!$D50*REF_2ndFxProp!L55","v":0},{"$f":"Backend!$D50*REF_2ndFxProp!M55","v":0}]
["Female","85+","Humerus",{"$f":"Backend!$D51*REF_2ndFxProp!D56","v":0},{"$f":"Backend!$D51*REF_2ndFxProp!E56","v":0},{"$f":"Backend!$D51*REF_2ndFxProp!F56","v":0},{"$f":"Backend!$D51*REF_2ndFxProp!G56","v":0},{"$f":"Backend!$D51*REF_2ndFxProp!H56","v":0},{"$f":"Backend!$D51*REF_2ndFxProp!I56","v":0},{"$f":"Backend!$D51*REF_2ndFxProp!J56","v":0},{"$f":"Backend!$D51*REF_2ndFxProp!K56","v":0},{"$f":"Backend!$D51*REF_2ndFxProp!L56","v":0},{"$f":"Backend!$D51*REF_2ndFxProp!M56","v":0}]
["Female","85+","Pelvis",{"$f":"Backend!$D52*REF_2ndFxProp!D57","v":0},{"$f":"Backend!$D52*REF_2ndFxProp!E57","v":0},{"$f":"Backend!$D52*REF_2ndFxProp!F57","v":0},{"$f":"Backend!$D52*REF_2ndFxProp!G57","v":0},{"$f":"Backend!$D52*REF_2ndFxProp!H57","v":0},{"$f":"Backend!$D52*REF_2ndFxProp!I57","v":0},{"$f":"Backend!$D52*REF_2ndFxProp!J57","v":0},{"$f":"Backend!$D52*REF_2ndFxProp!K57","v":0},{"$f":"Backend!$D52*REF_2ndFxProp!L57","v":0},{"$f":"Backend!$D52*REF_2ndFxProp!M57","v":0}]
["Female","85+","Radius/Ulna",{"$f":"Backend!$D53*REF_2ndFxProp!D58","v":0},{"$f":"Backend!$D53*REF_2ndFxProp!E58","v":0},{"$f":"Backend!$D53*REF_2ndFxProp!F58","v":0},{"$f":"Backend!$D53*REF_2ndFxProp!G58","v":0},{"$f":"Backend!$D53*REF_2ndFxProp!H58","v":0},{"$f":"Backend!$D53*REF_2ndFxProp!I58","v":0},{"$f":"Backend!$D53*REF_2ndFxProp!J58","v":0},{"$f":"Backend!$D53*REF_2ndFxProp!K58","v":0},{"$f":"Backend!$D53*REF_2ndFxProp!L58","v":0},{"$f":"Backend!$D53*REF_2ndFxProp!M58","v":0}]
["Female","85+","Spine",{"$f":"Backend!$D54*REF_2ndFxProp!D59","v":0},{"$f":"Backend!$D54*REF_2ndFxProp!E59","v":0},{"$f":"Backend!$D54*REF_2ndFxProp!F59","v":0},{"$f":"Backend!$D54*REF_2ndFxProp!G59","v":0},{"$f":"Backend!$D54*REF_2ndFxProp!H59","v":0},{"$f":"Backend!$D54*REF_2ndFxProp!I59","v":0},{"$f":"Backend!$D54*REF_2ndFxProp!J59","v":0},{"$f":"Backend!$D54*REF_2ndFxProp!K59","v":0},{"$f":"Backend!$D54*REF_2ndFxProp!L59","v":0},{"$f":"Backend!$D54*REF_2ndFxProp!M59","v":0}]
["Female","85+","Tibia/Fibula",{"$f":"Backend!$D55*REF_2ndFxProp!D60","v":0},{"$f":"Backend!$D55*REF_2ndFxProp!E60","v":0},{"$f":"Backend!$D55*REF_2ndFxProp!F60","v":0},{"$f":"Backend!$D55*REF_2ndFxProp!G60","v":0},{"$f":"Backend!$D55*REF_2ndFxProp!H60","v":0},{"$f":"Backend!$D55*REF_2ndFxProp!I60","v":0},{"$f":"Backend!$D55*REF_2ndFxProp!J60","v":0},{"$f":"Backend!$D55*REF_2ndFxProp!K60","v":0},{"$f":"Backend!$D55*REF_2ndFxProp!L60","v":0},{"$f":"Backend!$D55*REF_2ndFxProp!M60","v":0}]
[]
[]
["Three Year Model"]
["Sex","Age","Initial Fracture Site","Second Fracture Status"]
[null,null,null,"Ankle","Clavicle","Femur","Hip","Humerus","Pelvis","Radius/Ulna","Spine","Tibia/Fibula","None"]
["Male","65-74","Ankle",{"$f":"Backend!$D2*REF_2ndFxProp!D66","v":0},{"$f":"Backend!$D2*REF_2ndFxProp!E66","v":0},{"$f":"Backend!$D2*REF_2ndFxProp!F66","v":0},{"$f":"Backend!$D2*REF_2ndFxProp!G66","v":0},{"$f":"Backend!$D2*REF_2ndFxProp!H66","v":0},{"$f":"Backend!$D2*REF_2ndFxProp!I66","v":0},{"$f":"Backend!$D2*REF_2ndFxProp!J66","v":0},{"$f":"Backend!$D2*REF_2ndFxProp!K66","v":0},{"$f":"Backend!$D2*REF_2ndFxProp!L66","v":0},{"$f":"Backend!$D2*REF_2ndFxProp!M66","v":0}]
["Male","65-74","Clavicle",{"$f":"Backend!$D3*REF_2ndFxProp!D67","v":0},{"$f":"Backend!$D3*REF_2ndFxProp!E67","v":0},{"$f":"Backend!$D3*REF_2ndFxProp!F67","v":0},{"$f":"Backend!$D3*REF_2ndFxProp!G67","v":0},{"$f":"Backend!$D3*REF_2ndFxProp!H67","v":0},{"$f":"Backend!$D3*REF_2ndFxProp!I67","v":0},{"$f":"Backend!$D3*REF_2ndFxProp!J67","v":0},{"$f":"Backend!$D3*REF_2ndFxProp!K67","v":0},{"$f":"Backend!$D3*REF_2ndFxProp!L67","v":0},{"$f":"Backend!$D3*REF_2ndFxProp!M67","v":0}]
["Male","65-74","Femur",{"$f":"Backend!$D4*REF_2ndFxProp!D68","v":0},{"$f":"Backend!$D4*REF_2ndFxProp!E68","v":0},{"$f":"Backend!$D4*REF_2ndFxProp!F68","v":0},{"$f":"Backend!$D4*REF_2ndFxProp!G68","v":0},{"$f":"Backend!$D4*REF_2ndFxProp!H68","v":0},{"$f":"Backend!$D4*REF_2ndFxProp!I68","v":0},{"$f":"Backend!$D4*REF_2ndFxProp!J68","v":0},{"$f":"Backend!$D4*REF_2ndFxProp!K68","v":0},{"$f":"Backend!$D4*REF_2ndFxProp!L68","v":0},{"$f":"Backend!$D4*REF_2ndFxProp!M68","v":0}]
["Male","65-74","Hip",{"$f":"Backend!$D5*REF_2ndFxProp!D69","v":0},{"$f":"Backend!$D5*REF_2ndFxProp!E69","v":0},{"$f":"Backend!$D5*REF_2ndFxProp!F69","v":0},{"$f":"Backend!$D5*REF_2ndFxProp!G69","v":0},{"$f":"Backend!$D5*REF_2ndFxProp!H69","v":0},{"$f":"Backend!$D5*REF_2ndFxProp!I69","v":0},{"$f":"Backend!$D5*REF_2ndFxProp!J69","v":0},{"$f":"Backend!$D5*REF_2ndFxProp!K69","v":0},{"$f":"Backend!$D5*REF_2ndFxProp!L69","v":0},{"$f":"Backend!$D5*REF_2ndFxProp!M69","v":0}]
["Male","65-74","Humerus",{"$f":"Backend!$D6*REF_2ndFxProp!D70","v":0},{"$f":"Backend!$D6*REF_2ndFxProp!E70","v":0},{"$f":"Backend!$D6*REF_2ndFxProp!F70","v":0},{"$f":"Backend!$D6*REF_2ndFxProp!G70","v":0},{"$f":"Backend!$D6*REF_2ndFxProp!H70","v":0},{"$f":"Backend!$D6*REF_2ndFxProp!I70","v":0},{"$f":"Backend!$D6*REF_2ndFxProp!J70","v":0},{"$f":"Backend!$D6*REF_2ndFxProp!K70","v":0},{"$f":"Backend!$D6*REF_2ndFxProp!L70","v":0},{"$f":"Backend!$D6*REF_2ndFxProp!M70","v":0}]
["Male","65-74","Pelvis",{"$f":"Backend!$D7*REF_2ndFxProp!D71","v":0},{"$f":"Backend!$D7*REF_2ndFxProp!E71","v":0},{"$f":"Backend!$D7*REF_2ndFxProp!F71","v":0},{"$f":"Backend!$D7*REF_2ndFxProp!G71","v":0},{"$f":"Backend!$D7*REF_2ndFxProp!H71","v":0},{"$f":"Backend!$D7*REF_2ndFxProp!I71","v":0},{"$f":"Backend!$D7*REF_2ndFxProp!J71","v":0},{"$f":"Backend!$D7*REF_2ndFxProp!K71","v":0},{"$f":"Backend!$D7*REF_2ndFxProp!L71","v":0},{"$f":"Backend!$D7*REF_2ndFxProp!M71","v":0}]
["Male","65-74","Radius/Ulna",{"$f":"Backend!$D8*REF_2ndFxProp!D72","v":0},{"$f":"Backend!$D8*REF_2ndFxProp!E72","v":0},{"$f":"Backend!$D8*REF_2ndFxProp!F72","v":0},{"$f":"Backend!$D8*REF_2ndFxProp!G72","v":0},{"$f":"Backend!$D8*REF_2ndFxProp!H72","v":0},{"$f":"Backend!$D8*REF_2ndFxProp!I72","v":0},{"$f":"Backend!$D8*REF_2ndFxProp!J72","v":0},{"$f":"Backend!$D8*REF_2ndFxProp!K72","v":0},{"$f":"Backend!$D8*REF_2ndFxProp!L72","v":0},{"$f":"Backend!$D8*REF_2ndFxProp!M72","v":0}]
["Male","65-74","Spine",{"$f":"Backend!$D9*REF_2ndFxProp!D73","v":0},{"$f":"Backend!$D9*REF_2ndFxProp!E73","v":0},{"$f":"Backend!$D9*REF_2ndFxProp!F73","v":0},{"$f":"Backend!$D9*REF_2ndFxProp!G73","v":0},{"$f":"Backend!$D9*REF_2ndFxProp!H73","v":0},{"$f":"Backend!$D9*REF_2ndFxProp!I73","v":0},{"$f":"Backend!$D9*REF_2ndFxProp!J73","v":0},{"$f":"Backend!$D9*REF_2ndFxProp!K73","v":0},{"$f":"Backend!$D9*REF_2ndFxProp!L73","v":0},{"$f":"Backend!$D9*REF_2ndFxProp!M73","v":0}]
["Male","65-74","Tibia/Fibula",{"$f":"Backend!$D10*REF_2ndFxProp!D74","v":0},{"$f":"Backend!$D10*REF_2ndFxProp!E74","v":0},{"$f":"Backend!$D10*REF_2ndFxProp!F74","v":0},{"$f":"Backend!$D10*REF_2ndFxProp!G74","v":0},{"$f":"Backend!$D10*REF_2ndFxProp!H74","v":0},{"$f":"Backend!$D10*REF_2ndFxProp!I74","v":0},{"$f":"Backend!$D10*REF_2ndFxProp!J74","v":0},{"$f":"Backend!$D10*REF_2ndFxProp!K74","v":0},{"$f":"Backend!$D10*REF_2ndFxProp!L74","v":0},{"$f":"Backend!$D10*REF_2ndFxProp!M74","v":0}]
["Male","75-84","Ankle",{"$f":"Backend!$D11*REF_2ndFxProp!D75","v":0},{"$f":"Backend!$D11*REF_2ndFxProp!E75","v":0},{"$f":"Backend!$D11*REF_2ndFxProp!F75","v":0},{"$f":"Backend!$D11*REF_2ndFxProp!G75","v":0},{"$f":"Backend!$D11*REF_2ndFxProp!H75","v":0},{"$f":"Backend!$D11*REF_2ndFxProp!I75","v":0},{"$f":"Backend!$D11*REF_2ndFxProp!J75","v":0},{"$f":"Backend!$D11*REF_2ndFxProp!K75","v":0},{"$f":"Backend!$D11*REF_2ndFxProp!L75","v":0},{"$f":"Backend!$D11*REF_2ndFxProp!M75","v":0}]
["Male","75-84","Clavicle",{"$f":"Backend!$D12*REF_2ndFxProp!D76","v":0},{"$f":"Backend!$D12*REF_2ndFxProp!E76","v":0},{"$f":"Backend!$D12*REF_2ndFxProp!F76","v":0},{"$f":"Backend!$D12*REF_2ndFxProp!G76","v":0},{"$f":"Backend!$D12*REF_2ndFxProp!H76","v":0},{"$f":"Backend!$D12*REF_2ndFxProp!I76","v":0},{"$f":"Backend!$D12*REF_2ndFxProp!J76","v":0},{"$f":"Backend!$D12*REF_2ndFxProp!K76","v":0},{"$f":"Backend!$D12*REF_2ndFxProp!L76","v":0},{"$f":"Backend!$D12*REF_2ndFxProp!M76","v":0}]
["Male","75-84","Femur",{"$f":"Backend!$D13*REF_2ndFxProp!D77","v":0},{"$f":"Backend!$D13*REF_2ndFxProp!E77","v":0},{"$f":"Backend!$D13*REF_2ndFxProp!F77","v":0},{"$f":"Backend!$D13*REF_2ndFxProp!G77","v":0},{"$f":"Backend!$D13*REF_2ndFxProp!H77","v":0},{"$f":"Backend!$D13*REF_2ndFxProp!I77","v":0},{"$f":"Backend!$D13*REF_2ndFxProp!J77","v":0},{"$f":"Backend!$D13*REF_2ndFxProp!K77","v":0},{"$f":"Backend!$D13*REF_2ndFxProp!L77","v":0},{"$f":"Backend!$D13*REF_2ndFxProp!M77","v":0}]
["Male","75-84","Hip",{"$f":"Backend!$D14*REF_2ndFxProp!D78","v":0},{"$f":"Backend!$D14*REF_2ndFxProp!E78","v":0},{"$f":"Backend!$D14*REF_2ndFxProp!F78","v":0},{"$f":"Backend!$D14*REF_2ndFxProp!G78","v":0},{"$f":"Backend!$D14*REF_2ndFxProp!H78","v":0},{"$f":"Backend!$D14*REF_2ndFxProp!I78","v":0},{"$f":"Backend!$D14*REF_2ndFxProp!J78","v":0},{"$f":"Backend!$D14*REF_2ndFxProp!K78","v":0},{"$f":"Backend!$D14*REF_2ndFxProp!L78","v":0},{"$f":"Backend!$D14*REF_2ndFxProp!M78","v":0}]
["Male","75-84","Humerus",{"$f":"Backend!$D15*REF_2ndFxProp!D79","v":0},{"$f":"Backend!$D15*REF_2ndFxProp!E79","v":0},{"$f":"Backend!$D15*REF_2ndFxProp!F79","v":0},{"$f":"Backend!$D15*REF_2ndFxProp!G79","v":0},{"$f":"Backend!$D15*REF_2ndFxProp!H79","v":0},{"$f":"Backend!$D15*REF_2ndFxProp!I79","v":0},{"$f":"Backend!$D15*REF_2ndFxProp!J79","v":0},{"$f":"Backend!$D15*REF_2ndFxProp!K79","v":0},{"$f":"Backend!$D15*REF_2ndFxProp!L79","v":0},{"$f":"Backend!$D15*REF_2ndFxProp!M79","v":0}]
["Male","75-84","Pelvis",{"$f":"Backend!$D16*REF_2ndFxProp!D80","v":0},{"$f":"Backend!$D16*REF_2ndFxProp!E80","v":0},{"$f":"Backend!$D16*REF_2ndFxProp!F80","v":0},{"$f":"Backend!$D16*REF_2ndFxProp!G80","v":0},{"$f":"Backend!$D16*REF_2ndFxProp!H80","v":0},{"$f":"Backend!$D16*REF_2ndFxProp!I80","v":0},{"$f":"Backend!$D16*REF_2ndFxProp!J80","v":0},{"$f":"Backend!$D16*REF_2ndFxProp!K80","v":0},{"$f":"Backend!$D16*REF_2ndFxProp!L80","v":0},{"$f":"Backend!$D16*REF_2ndFxProp!M80","v":0}]
["Male","75-84","Radius/Ulna",{"$f":"Backend!$D17*REF_2ndFxProp!D81","v":0},{"$f":"Backend!$D17*REF_2ndFxProp!E81","v":0},{"$f":"Backend!$D17*REF_2ndFxProp!F81","v":0},{"$f":"Backend!$D17*REF_2ndFxProp!G81","v":0},{"$f":"Backend!$D17*REF_2ndFxProp!H81","v":0},{"$f":"Backend!$D17*REF_2ndFxProp!I81","v":0},{"$f":"Backend!$D17*REF_2ndFxProp!J81","v":0},{"$f":"Backend!$D17*REF_2ndFxProp!K81","v":0},{"$f":"Backend!$D17*REF_2ndFxProp!L81","v":0},{"$f":"Backend!$D17*REF_2ndFxProp!M81","v":0}]
["Male","75-84","Spine",{"$f":"Backend!$D18*REF_2ndFxProp!D82","v":0},{"$f":"Backend!$D18*REF_2ndFxProp!E82","v":0},{"$f":"Backend!$D18*REF_2ndFxProp!F82","v":0},{"$f":"Backend!$D18*REF_2ndFxProp!G82","v":0},{"$f":"Backend!$D18*REF_2ndFxProp!H82","v":0},{"$f":"Backend!$D18*REF_2ndFxProp!I82","v":0},{"$f":"Backend!$D18*REF_2ndFxProp!J82","v":0},{"$f":"Backend!$D18*REF_2ndFxProp!K82","v":0},{"$f":"Backend!$D18*REF_2ndFxProp!L82","v":0},{"$f":"Backend!$D18*REF_2ndFxProp!M82","v":0}]
["Male","75-84","Tibia/Fibula",{"$f":"Backend!$D19*REF_2ndFxProp!D83","v":0},{"$f":"Backend!$D19*REF_2ndFxProp!E83","v":0},{"$f":"Backend!$D19*REF_2ndFxProp!F83","v":0},{"$f":"Backend!$D19*REF_2ndFxProp!G83","v":0},{"$f":"Backend!$D19*REF_2ndFxProp!H83","v":0},{"$f":"Backend!$D19*REF_2ndFxProp!I83","v":0},{"$f":"Backend!$D19*REF_2ndFxProp!J83","v":0},{"$f":"Backend!$D19*REF_2ndFxProp!K83","v":0},{"$f":"Backend!$D19*REF_2ndFxProp!L83","v":0},{"$f":"Backend!$D19*REF_2ndFxProp!M83","v":0}]
["Male","85+","Ankle",{"$f":"Backend!$D20*REF_2ndFxProp!D84","v":0},{"$f":"Backend!$D20*REF_2ndFxProp!E84","v":0},{"$f":"Backend!$D20*REF_2ndFxProp!F84","v":0},{"$f":"Backend!$D20*REF_2ndFxProp!G84","v":0},{"$f":"Backend!$D20*REF_2ndFxProp!H84","v":0},{"$f":"Backend!$D20*REF_2ndFxProp!I84","v":0},{"$f":"Backend!$D20*REF_2ndFxProp!J84","v":0},{"$f":"Backend!$D20*REF_2ndFxProp!K84","v":0},{"$f":"Backend!$D20*REF_2ndFxProp!L84","v":0},{"$f":"Backend!$D20*REF_2ndFxProp!M84","v":0}]
["Male","85+","Clavicle",{"$f":"Backend!$D21*REF_2ndFxProp!D85","v":0},{"$f":"Backend!$D21*REF_2ndFxProp!E85","v":0},{"$f":"Backend!$D21*REF_2ndFxProp!F85","v":0},{"$f":"Backend!$D21*REF_2ndFxProp!G85","v":0},{"$f":"Backend!$D21*REF_2ndFxProp!H85","v":0},{"$f":"Backend!$D21*REF_2ndFxProp!I85","v":0},{"$f":"Backend!$D21*REF_2ndFxProp!J85","v":0},{"$f":"Backend!$D21*REF_2ndFxProp!K85","v":0},{"$f":"Backend!$D21*REF_2ndFxProp!L85","v":0},{"$f":"Backend!$D21*REF_2ndFxProp!M85","v":0}]
["Male","85+","Femur",{"$f":"Backend!$D22*REF_2ndFxProp!D86","v":0},{"$f":"Backend!$D22*REF_2ndFxProp!E86","v":0},{"$f":"Backend!$D22*REF_2ndFxProp!F86","v":0},{"$f":"Backend!$D22*REF_2ndFxProp!G86","v":0},{"$f":"Backend!$D22*REF_2ndFxProp!H86","v":0},{"$f":"Backend!$D22*REF_2ndFxProp!I86","v":0},{"$f":"Backend!$D22*REF_2ndFxProp!J86","v":0},{"$f":"Backend!$D22*REF_2ndFxProp!K86","v":0},{"$f":"Backend!$D22*REF_2ndFxProp!L86","v":0},{"$f":"Backend!$D22*REF_2ndFxProp!M86","v":0}]
["Male","85+","Hip",{"$f":"Backend!$D23*REF_2ndFxProp!D87","v":0},{"$f":"Backend!$D23*REF_2ndFxProp!E87","v":0},{"$f":"Backend!$D23*REF_2ndFxProp!F87","v":0},{"$f":"Backend!$D23*REF_2ndFxProp!G87","v":0},{"$f":"Backend!$D23*REF_2ndFxProp!H87","v":0},{"$f":"Backend!$D23*REF_2ndFxProp!I87","v":0},{"$f":"Backend!$D23*REF_2ndFxProp!J87","v":0},{"$f":"Backend!$D23*REF_2ndFxProp!K87","v":0},{"$f":"Backend!$D23*REF_2ndFxProp!L87","v":0},{"$f":"Backend!$D23*REF_2ndFxProp!M87","v":0}]
["Male","85+","Humerus",{"$f":"Backend!$D24*REF_2ndFxProp!D88","v":0},{"$f":"Backend!$D24*REF_2ndFxProp!E88","v":0},{"$f":"Backend!$D24*REF_2ndFxProp!F88","v":0},{"$f":"Backend!$D24*REF_2ndFxProp!G88","v":0},{"$f":"Backend!$D24*REF_2ndFxProp!H88","v":0},{"$f":"Backend!$D24*REF_2ndFxProp!I88","v":0},{"$f":"Backend!$D24*REF_2ndFxProp!J88","v":0},{"$f":"Backend!$D24*REF_2ndFxProp!K88","v":0},{"$f":"Backend!$D24*REF_2ndFxProp!L88","v":0},{"$f":"Backend!$D24*REF_2ndFxProp!M88","v":0}]
["Male","85+","Pelvis",{"$f":"Backend!$D25*REF_2ndFxProp!D89","v":0},{"$f":"Backend!$D25*REF_2ndFxProp!E89","v":0},{"$f":"Backend!$D25*REF_2ndFxProp!F89","v":0},{"$f":"Backend!$D25*REF_2ndFxProp!G89","v":0},{"$f":"Backend!$D25*REF_2ndFxProp!H89","v":0},{"$f":"Backend!$D25*REF_2ndFxProp!I89","v":0},{"$f":"Backend!$D25*REF_2ndFxProp!J89","v":0},{"$f":"Backend!$D25*REF_2ndFxProp!K89","v":0},{"$f":"Backend!$D25*REF_2ndFxProp!L89","v":0},{"$f":"Backend!$D25*REF_2ndFxProp!M89","v":0}]
["Male","85+","Radius/Ulna",{"$f":"Backend!$D26*REF_2ndFxProp!D90","v":0},{"$f":"Backend!$D26*REF_2ndFxProp!E90","v":0},{"$f":"Backend!$D26*REF_2ndFxProp!F90","v":0},{"$f":"Backend!$D26*REF_2ndFxProp!G90","v":0},{"$f":"Backend!$D26*REF_2ndFxProp!H90","v":0},{"$f":"Backend!$D26*REF_2ndFxProp!I90","v":0},{"$f":"Backend!$D26*REF_2ndFxProp!J90","v":0},{"$f":"Backend!$D26*REF_2ndFxProp!K90","v":0},{"$f":"Backend!$D26*REF_2ndFxProp!L90","v":0},{"$f":"Backend!$D26*REF_2ndFxProp!M90","v":0}]
["Male","85+","Spine",{"$f":"Backend!$D27*REF_2ndFxProp!D91","v":0},{"$f":"Backend!$D27*REF_2ndFxProp!E91","v":0},{"$f":"Backend!$D27*REF_2ndFxProp!F91","v":0},{"$f":"Backend!$D27*REF_2ndFxProp!G91","v":0},{"$f":"Backend!$D27*REF_2ndFxProp!H91","v":0},{"$f":"Backend!$D27*REF_2ndFxProp!I91","v":0},{"$f":"Backend!$D27*REF_2ndFxProp!J91","v":0},{"$f":"Backend!$D27*REF_2ndFxProp!K91","v":0},{"$f":"Backend!$D27*REF_2ndFxProp!L91","v":0},{"$f":"Backend!$D27*REF_2ndFxProp!M91","v":0}]
["Male","85+","Tibia/Fibula",{"$f":"Backend!$D28*REF_2ndFxProp!D92","v":0},{"$f":"Backend!$D28*REF_2ndFxProp!E92","v":0},{"$f":"Backend!$D28*REF_2ndFxProp!F92","v":0},{"$f":"Backend!$D28*REF_2ndFxProp!G92","v":0},{"$f":"Backend!$D28*REF_2ndFxProp!H92","v":0},{"$f":"Backend!$D28*REF_2ndFxProp!I92","v":0},{"$f":"Backend!$D28*REF_2ndFxProp!J92","v":0},{"$f":"Backend!$D28*REF_2ndFxProp!K92","v":0},{"$f":"Backend!$D28*REF_2ndFxProp!L92","v":0},{"$f":"Backend!$D28*REF_2ndFxProp!M92","v":0}]
["Female","65-74","Ankle",{"$f":"Backend!$D29*REF_2ndFxProp!D93","v":0},{"$f":"Backend!$D29*REF_2ndFxProp!E93","v":0},{"$f":"Backend!$D29*REF_2ndFxProp!F93","v":0},{"$f":"Backend!$D29*REF_2ndFxProp!G93","v":0},{"$f":"Backend!$D29*REF_2ndFxProp!H93","v":0},{"$f":"Backend!$D29*REF_2ndFxProp!I93","v":0},{"$f":"Backend!$D29*REF_2ndFxProp!J93","v":0},{"$f":"Backend!$D29*REF_2ndFxProp!K93","v":0},{"$f":"Backend!$D29*REF_2ndFxProp!L93","v":0},{"$f":"Backend!$D29*REF_2ndFxProp!M93","v":0}]
["Female","65-74","Clavicle",{"$f":"Backend!$D30*REF_2ndFxProp!D94","v":0},{"$f":"Backend!$D30*REF_2ndFxProp!E94","v":0},{"$f":"Backend!$D30*REF_2ndFxProp!F94","v":0},{"$f":"Backend!$D30*REF_2ndFxProp!G94","v":0},{"$f":"Backend!$D30*REF_2ndFxProp!H94","v":0},{"$f":"Backend!$D30*REF_2ndFxProp!I94","v":0},{"$f":"Backend!$D30*REF_2ndFxProp!J94","v":0},{"$f":"Backend!$D30*REF_2ndFxProp!K94","v":0},{"$f":"Backend!$D30*REF_2ndFxProp!L94","v":0},{"$f":"Backend!$D30*REF_2ndFxProp!M94","v":0}]
["Female","65-74","Femur",{"$f":"Backend!$D31*REF_2ndFxProp!D95","v":0},{"$f":"Backend!$D31*REF_2ndFxProp!E95","v":0},{"$f":"Backend!$D31*REF_2ndFxProp!F95","v":0},{"$f":"Backend!$D31*REF_2ndFxProp!G95","v":0},{"$f":"Backend!$D31*REF_2ndFxProp!H95","v":0},{"$f":"Backend!$D31*REF_2ndFxProp!I95","v":0},{"$f":"Backend!$D31*REF_2ndFxProp!J95","v":0},{"$f":"Backend!$D31*REF_2ndFxProp!K95","v":0},{"$f":"Backend!$D31*REF_2ndFxProp!L95","v":0},{"$f":"Backend!$D31*REF_2ndFxProp!M95","v":0}]
["Female","65-74","Hip",{"$f":"Backend!$D32*REF_2ndFxProp!D96","v":0},{"$f":"Backend!$D32*REF_2ndFxProp!E96","v":0},{"$f":"Backend!$D32*REF_2ndFxProp!F96","v":0},{"$f":"Backend!$D32*REF_2ndFxProp!G96","v":0},{"$f":"Backend!$D32*REF_2ndFxProp!H96","v":0},{"$f":"Backend!$D32*REF_2ndFxProp!I96","v":0},{"$f":"Backend!$D32*REF_2ndFxProp!J96","v":0},{"$f":"Backend!$D32*REF_2ndFxProp!K96","v":0},{"$f":"Backend!$D32*REF_2ndFxProp!L96","v":0},{"$f":"Backend!$D32*REF_2ndFxProp!M96","v":0}]
["Female","65-74","Humerus",{"$f":"Backend!$D33*REF_2ndFxProp!D97","v":0},{"$f":"Backend!$D33*REF_2ndFxProp!E97","v":0},{"$f":"Backend!$D33*REF_2ndFxProp!F97","v":0},{"$f":"Backend!$D33*REF_2ndFxProp!G97","v":0},{"$f":"Backend!$D33*REF_2ndFxProp!H97","v":0},{"$f":"Backend!$D33*REF_2ndFxProp!I97","v":0},{"$f":"Backend!$D33*REF_2ndFxProp!J97","v":0},{"$f":"Backend!$D33*REF_2ndFxProp!K97","v":0},{"$f":"Backend!$D33*REF_2ndFxProp!L97","v":0},{"$f":"Backend!$D33*REF_2ndFxProp!M97","v":0}]
["Female","65-74","Pelvis",{"$f":"Backend!$D34*REF_2ndFxProp!D98","v":0},{"$f":"Backend!$D34*REF_2ndFxProp!E98","v":0},{"$f":"Backend!$D34*REF_2ndFxProp!F98","v":0},{"$f":"Backend!$D34*REF_2ndFxProp!G98","v":0},{"$f":"Backend!$D34*REF_2ndFxProp!H98","v":0},{"$f":"Backend!$D34*REF_2ndFxProp!I98","v":0},{"$f":"Backend!$D34*REF_2ndFxProp!J98","v":0},{"$f":"Backend!$D34*REF_2ndFxProp!K98","v":0},{"$f":"Backend!$D34*REF_2ndFxProp!L98","v":0},{"$f":"Backend!$D34*REF_2ndFxProp!M98","v":0}]
["Female","65-74","Radius/Ulna",{"$f":"Backend!$D35*REF_2ndFxProp!D99","v":0},{"$f":"Backend!$D35*REF_2ndFxProp!E99","v":0},{"$f":"Backend!$D35*REF_2ndFxProp!F99","v":0},{"$f":"Backend!$D35*REF_2ndFxProp!G99","v":0},{"$f":"Backend!$D35*REF_2ndFxProp!H99","v":0},{"$f":"Backend!$D35*REF_2ndFxProp!I99","v":0},{"$f":"Backend!$D35*REF_2ndFxProp!J99","v":0},{"$f":"Backend!$D35*REF_2ndFxProp!K99","v":0},{"$f":"Backend!$D35*REF_2ndFxProp!L99","v":0},{"$f":"Backend!$D35*REF_2ndFxProp!M99","v":0}]
["Female","65-74","Spine",{"$f":"Backend!$D36*REF_2ndFxProp!D100","v":0},{"$f":"Backend!$D36*REF_2ndFxProp!E100","v":0},{"$f":"Backend!$D36*REF_2ndFxProp!F100","v":0},{"$f":"Backend!$D36*REF_2ndFxProp!G100","v":0},{"$f":"Backend!$D36*REF_2ndFxProp!H100","v":0},{"$f":"Backend!$D36*REF_2ndFxProp!I100","v":0},{"$f":"Backend!$D36*REF_2ndFxProp!J100","v":0},{"$f":"Backend!$D36*REF_2ndFxProp!K100","v":0},{"$f":"Backend!$D36*REF_2ndFxProp!L100","v":0},{"$f":"Backend!$D36*REF_2ndFxProp!M100","v":0}]
["Female","65-74","Tibia/Fibula",{"$f":"Backend!$D37*REF_2ndFxProp!D101","v":0},{"$f":"Backend!$D37*REF_2ndFxProp!E101","v":0},{"$f":"Backend!$D37*REF_2ndFxProp!F101","v":0},{"$f":"Backend!$D37*REF_2ndFxProp!G101","v":0},{"$f":"Backend!$D37*REF_2ndFxProp!H101","v":0},{"$f":"Backend!$D37*REF_2ndFxProp!I101","v":0},{"$f":"Backend!$D37*REF_2ndFxProp!J101","v":0},{"$f":"Backend!$D37*REF_2ndFxProp!K101","v":0},{"$f":"Backend!$D37*REF_2ndFxProp!L101","v":0},{"$f":"Backend!$D37*REF_2ndFxProp!M101","v":0}]
["Female","75-84","Ankle",{"$f":"Backend!$D38*REF_2ndFxProp!D102","v":0},{"$f":"Backend!$D38*REF_2ndFxProp!E102","v":0},{"$f":"Backend!$D38*REF_2ndFxProp!F102","v":0},{"$f":"Backend!$D38*REF_2ndFxProp!G102","v":0},{"$f":"Backend!$D38*REF_2ndFxProp!H102","v":0},{"$f":"Backend!$D38*REF_2ndFxProp!I102","v":0},{"$f":"Backend!$D38*REF_2ndFxProp!J102","v":0},{"$f":"Backend!$D38*REF_2ndFxProp!K102","v":0},{"$f":"Backend!$D38*REF_2ndFxProp!L102","v":0},{"$f":"Backend!$D38*REF_2ndFxProp!M102","v":0}]
["Female","75-84","Clavicle",{"$f":"Backend!$D39*REF_2ndFxProp!D103","v":0},{"$f":"Backend!$D39*REF_2ndFxProp!E103","v":0},{"$f":"Backend!$D39*REF_2ndFxProp!F103","v":0},{"$f":"Backend!$D39*REF_2ndFxProp!G103","v":0},{"$f":"Backend!$D39*REF_2ndFxProp!H103","v":0},{"$f":"Backend!$D39*REF_2ndFxProp!I103","v":0},{"$f":"Backend!$D39*REF_2ndFxProp!J103","v":0},{"$f":"Backend!$D39*REF_2ndFxProp!K103","v":0},{"$f":"Backend!$D39*REF_2ndFxProp!L103","v":0},{"$f":"Backend!$D39*REF_2ndFxProp!M103","v":0}]
["Female","75-84","Femur",{"$f":"Backend!$D40*REF_2ndFxProp!D104","v":0},{"$f":"Backend!$D40*REF_2ndFxProp!E104","v":0},{"$f":"Backend!$D40*REF_2ndFxProp!F104","v":0},{"$f":"Backend!$D40*REF_2ndFxProp!G104","v":0},{"$f":"Backend!$D40*REF_2ndFxProp!H104","v":0},{"$f":"Backend!$D40*REF_2ndFxProp!I104","v":0},{"$f":"Backend!$D40*REF_2ndFxProp!J104","v":0},{"$f":"Backend!$D40*REF_2ndFxProp!K104","v":0},{"$f":"Backend!$D40*REF_2ndFxProp!L104","v":0},{"$f":"Backend!$D40*REF_2ndFxProp!M104","v":0}]
["Female","75-84","Hip",{"$f":"Backend!$D41*REF_2ndFxProp!D105","v":0},{"$f":"Backend!$D41*REF_2ndFxProp!E105","v":0},{"$f":"Backend!$D41*REF_2ndFxProp!F105","v":0},{"$f":"Backend!$D41*REF_2ndFxProp!G105","v":0},{"$f":"Backend!$D41*REF_2ndFxProp!H105","v":0},{"$f":"Backend!$D41*REF_2ndFxProp!I105","v":0},{"$f":"Backend!$D41*REF_2ndFxProp!J105","v":0},{"$f":"Backend!$D41*REF_2ndFxProp!K105","v":0},{"$f":"Backend!$D41*REF_2ndFxProp!L105","v":0},{"$f":"Backend!$D41*REF_2ndFxProp!M105","v":0}]
["Female","75-84","Humerus",{"$f":"Backend!$D42*REF_2ndFxProp!D106","v":0},{"$f":"Backend!$D42*REF_2ndFxProp!E106","v":0},{"$f":"Backend!$D42*REF_2ndFxProp!F106","v":0},{"$f":"Backend!$D42*REF_2ndFxProp!G106","v":0},{"$f":"Backend!$D42*REF_2ndFxProp!H106","v":0},{"$f":"Backend!$D42*REF_2ndFxProp!I106","v":0},{"$f":"Backend!$D42*REF_2ndFxProp!J106","v":0},{"$f":"Backend!$D42*REF_2ndFxProp!K106","v":0},{"$f":"Backend!$D42*REF_2ndFxProp!L106","v":0},{"$f":"Backend!$D42*REF_2ndFxProp!M106","v":0}]
["Female","75-84","Pelvis",{"$f":"Backend!$D43*REF_2ndFxProp!D107","v":0},{"$f":"Backend!$D43*REF_2ndFxProp!E107","v":0},{"$f":"Backend!$D43*REF_2ndFxProp!F107","v":0},{"$f":"Backend!$D43*REF_2ndFxProp!G107","v":0},{"$f":"Backend!$D43*REF_2ndFxProp!H107","v":0},{"$f":"Backend!$D43*REF_2ndFxProp!I107","v":0},{"$f":"Backend!$D43*REF_2ndFxProp!J107","v":0},{"$f":"Backend!$D43*REF_2ndFxProp!K107","v":0},{"$f":"Backend!$D43*REF_2ndFxProp!L107","v":0},{"$f":"Backend!$D43*REF_2ndFxProp!M107","v":0}]
["Female","75-84","Radius/Ulna",{"$f":"Backend!$D44*REF_2ndFxProp!D108","v":0},{"$f":"Backend!$D44*REF_2ndFxProp!E108","v":0},{"$f":"Backend!$D44*REF_2ndFxProp!F108","v":0},{"$f":"Backend!$D44*REF_2ndFxProp!G108","v":0},{"$f":"Backend!$D44*REF_2ndFxProp!H108","v":0},{"$f":"Backend!$D44*REF_2ndFxProp!I108","v":0},{"$f":"Backend!$D44*REF_2ndFxProp!J108","v":0},{"$f":"Backend!$D44*REF_2ndFxProp!K108","v":0},{"$f":"Backend!$D44*REF_2ndFxProp!L108","v":0},{"$f":"Backend!$D44*REF_2ndFxProp!M108","v":0}]
["Female","75-84","Spine",{"$f":"Backend!$D45*REF_2ndFxProp!D109","v":0},{"$f":"Backend!$D45*REF_2ndFxProp!E109","v":0},{"$f":"Backend!$D45*REF_2ndFxProp!F109","v":0},{"$f":"Backend!$D45*REF_2ndFxProp!G109","v":0},{"$f":"Backend!$D45*REF_2ndFxProp!H109","v":0},{"$f":"Backend!$D45*REF_2ndFxProp!I109","v":0},{"$f":"Backend!$D45*REF_2ndFxProp!J109","v":0},{"$f":"Backend!$D45*REF_2ndFxProp!K109","v":0},{"$f":"Backend!$D45*REF_2ndFxProp!L109","v":0},{"$f":"Backend!$D45*REF_2ndFxProp!M109","v":0}]
["Female","75-84","Tibia/Fibula",{"$f":"Backend!$D46*REF_2ndFxProp!D110","v":0},{"$f":"Backend!$D46*REF_2ndFxProp!E110","v":0},{"$f":"Backend!$D46*REF_2ndFxProp!F110","v":0},{"$f":"Backend!$D46*REF_2ndFxProp!G110","v":0},{"$f":"Backend!$D46*REF_2ndFxProp!H110","v":0},{"$f":"Backend!$D46*REF_2ndFxProp!I110","v":0},{"$f":"Backend!$D46*REF_2ndFxProp!J110","v":0},{"$f":"Backend!$D46*REF_2ndFxProp!K110","v":0},{"$f":"Backend!$D46*REF_2ndFxProp!L110","v":0},{"$f":"Backend!$D46*REF_2ndFxProp!M110","v":0}]
["Female","85+","Ankle",{"$f":"Backend!$D47*REF_2ndFxProp!D111","v":0},{"$f":"Backend!$D47*REF_2ndFxProp!E111","v":0},{"$f":"Backend!$D47*REF_2ndFxProp!F111","v":0},{"$f":"Backend!$D47*REF_2ndFxProp!G111","v":0},{"$f":"Backend!$D47*REF_2ndFxProp!H111","v":0},{"$f":"Backend!$D47*REF_2ndFxProp!I111","v":0},{"$f":"Backend!$D47*REF_2ndFxProp!J111","v":0},{"$f":"Backend!$D47*REF_2ndFxProp!K111","v":0},{"$f":"Backend!$D47*REF_2ndFxProp!L111","v":0},{"$f":"Backend!$D47*REF_2ndFxProp!M111","v":0}]
["Female","85+","Clavicle",{"$f":"Backend!$D48*REF_2ndFxProp!D112","v":0},{"$f":"Backend!$D48*REF_2ndFxProp!E112","v":0},{"$f":"Backend!$D48*REF_2ndFxProp!F112","v":0},{"$f":"Backend!$D48*REF_2ndFxProp!G112","v":0},{"$f":"Backend!$D48*REF_2ndFxProp!H112","v":0},{"$f":"Backend!$D48*REF_2ndFxProp!I112","v":0},{"$f":"Backend!$D48*REF_2ndFxProp!J112","v":0},{"$f":"Backend!$D48*REF_2ndFxProp!K112","v":0},{"$f":"Backend!$D48*REF_2ndFxProp!L112","v":0},{"$f":"Backend!$D48*REF_2ndFxProp!M112","v":0}]
["Female","85+","Femur",{"$f":"Backend!$D49*REF_2ndFxProp!D113","v":0},{"$f":"Backend!$D49*REF_2ndFxProp!E113","v":0},{"$f":"Backend!$D49*REF_2ndFxProp!F113","v":0},{"$f":"Backend!$D49*REF_2ndFxProp!G113","v":0},{"$f":"Backend!$D49*REF_2ndFxProp!H113","v":0},{"$f":"Backend!$D49*REF_2ndFxProp!I113","v":0},{"$f":"Backend!$D49*REF_2ndFxProp!J113","v":0},{"$f":"Backend!$D49*REF_2ndFxProp!K113","v":0},{"$f":"Backend!$D49*REF_2ndFxProp!L113","v":0},{"$f":"Backend!$D49*REF_2ndFxProp!M113","v":0}]
["Female","85+","Hip",{"$f":"Backend!$D50*REF_2ndFxProp!D114","v":0},{"$f":"Backend!$D50*REF_2ndFxProp!E114","v":0},{"$f":"Backend!$D50*REF_2ndFxProp!F114","v":0},{"$f":"Backend!$D50*REF_2ndFxProp!G114","v":0},{"$f":"Backend!$D50*REF_2ndFxProp!H114","v":0},{"$f":"Backend!$D50*REF_2ndFxProp!I114","v":0},{"$f":"Backend!$D50*REF_2ndFxProp!J114","v":0},{"$f":"Backend!$D50*REF_2ndFxProp!K114","v":0},{"$f":"Backend!$D50*REF_2ndFxProp!L114","v":0},{"$f":"Backend!$D50*REF_2ndFxProp!M114","v":0}]
["Female","85+","Humerus",{"$f":"Backend!$D51*REF_2ndFxProp!D115","v":0},{"$f":"Backend!$D51*REF_2ndFxProp!E115","v":0},{"$f":"Backend!$D51*REF_2ndFxProp!F115","v":0},{"$f":"Backend!$D51*REF_2ndFxProp!G115","v":0},{"$f":"Backend!$D51*REF_2ndFxProp!H115","v":0},{"$f":"Backend!$D51*REF_2ndFxProp!I115","v":0},{"$f":"Backend!$D51*REF_2ndFxProp!J115","v":0},{"$f":"Backend!$D51*REF_2ndFxProp!K115","v":0},{"$f":"Backend!$D51*REF_2ndFxProp!L115","v":0},{"$f":"Backend!$D51*REF_2ndFxProp!M115","v":0}]
["Female","85+","Pelvis",{"$f":"Backend!$D52*REF_2ndFxProp!D116","v":0},{"$f":"Backend!$D52*REF_2ndFxProp!E116","v":0},{"$f":"Backend!$D52*REF_2ndFxProp!F116","v":0},{"$f":"Backend!$D52*REF_2ndFxProp!G116","v":0},{"$f":"Backend!$D52*REF_2ndFxProp!H116","v":0},{"$f":"Backend!$D52*REF_2ndFxProp!I116","v":0},{"$f":"Backend!$D52*REF_2ndFxProp!J116","v":0},{"$f":"Backend!$D52*REF_2ndFxProp!K116","v":0},{"$f":"Backend!$D52*REF_2ndFxProp!L116","v":0},{"$f":"Backend!$D52*REF_2ndFxProp!M116","v":0}]
["Female","85+","Radius/Ulna",{"$f":"Backend!$D53*REF_2ndFxProp!D117","v":0},{"$f":"Backend!$D53*REF_2ndFxProp!E117","v":0},{"$f":"Backend!$D53*REF_2ndFxProp!F117","v":0},{"$f":"Backend!$D53*REF_2ndFxProp!G117","v":0},{"$f":"Backend!$D53*REF_2ndFxProp!H117","v":0},{"$f":"Backend!$D53*REF_2ndFxProp!I117","v":0},{"$f":"Backend!$D53*REF_2ndFxProp!J117","v":0},{"$f":"Backend!$D53*REF_2ndFxProp!K117","v":0},{"$f":"Backend!$D53*REF_2ndFxProp!L117","v":0},{"$f":"Backend!$D53*REF_2ndFxProp!M117","v":0}]
["Female","85+","Spine",{"$f":"Backend!$D54*REF_2ndFxProp!D118","v":0},{"$f":"Backend!$D54*REF_2ndFxProp!E118","v":0},{"$f":"Backend!$D54*REF_2ndFxProp!F118","v":0},{"$f":"Backend!$D54*REF_2ndFxProp!G118","v":0},{"$f":"Backend!$D54*REF_2ndFxProp!H118","v":0},{"$f":"Backend!$D54*REF_2ndFxProp!I118","v":0},{"$f":"Backend!$D54*REF_2ndFxProp!J118","v":0},{"$f":"Backend!$D54*REF_2ndFxProp!K118","v":0},{"$f":"Backend!$D54*REF_2ndFxProp!L118","v":0},{"$f":"Backend!$D54*REF_2ndFxProp!M118","v":0}]
["Female","85+","Tibia/Fibula",{"$f":"Backend!$D55*REF_2ndFxProp!D119","v":0},{"$f":"Backend!$D55*REF_2ndFxProp!E119","v":0},{"$f":"Backend!$D55*REF_2ndFxProp!F119","v":0},{"$f":"Backend!$D55*REF_2ndFxProp!G119","v":0},{"$f":"Backend!$D55*REF_2ndFxProp!H119","v":0},{"$f":"Backend!$D55*REF_2ndFxProp!I119","v":0},{"$f":"Backend!$D55*REF_2ndFxProp!J119","v":0},{"$f":"Backend!$D55*REF_2ndFxProp!K119","v":0},{"$f":"Backend!$D55*REF_2ndFxProp!L119","v":0},{"$f":"Backend!$D55*REF_2ndFxProp!M119","v":0}]
[]
[]
["Four Year Model"]
["Sex","Age","Initial Fracture Site","Second Fracture Status"]
[null,null,null,"Ankle","Clavicle","Femur","Hip","Humerus","Pelvis","Radius/Ulna","Spine","Tibia/Fibula","None"]
["Male","65-74","Ankle",{"$f":"Backend!$D2*REF_2ndFxProp!D125","v":0},{"$f":"Backend!$D2*REF_2ndFxProp!E125","v":0},{"$f":"Backend!$D2*REF_2ndFxProp!F125","v":0},{"$f":"Backend!$D2*REF_2ndFxProp!G125","v":0},{"$f":"Backend!$D2*REF_2ndFxProp!H125","v":0},{"$f":"Backend!$D2*REF_2ndFxProp!I125","v":0},{"$f":"Backend!$D2*REF_2ndFxProp!J125","v":0},{"$f":"Backend!$D2*REF_2ndFxProp!K125","v":0},{"$f":"Backend!$D2*REF_2ndFxProp!L125","v":0},{"$f":"Backend!$D2*REF_2ndFxProp!M125","v":0}]
["Male","65-74","Clavicle",{"$f":"Backend!$D3*REF_2ndFxProp!D126","v":0},{"$f":"Backend!$D3*REF_2ndFxProp!E126","v":0},{"$f":"Backend!$D3*REF_2ndFxProp!F126","v":0},{"$f":"Backend!$D3*REF_2ndFxProp!G126","v":0},{"$f":"Backend!$D3*REF_2ndFxProp!H126","v":0},{"$f":"Backend!$D3*REF_2ndFxProp!I126","v":0},{"$f":"Backend!$D3*REF_2ndFxProp!J126","v":0},{"$f":"Backend!$D3*REF_2ndFxProp!K126","v":0},{"$f":"Backend!$D3*REF_2ndFxProp!L126","v":0},{"$f":"Backend!$D3*REF_2ndFxProp!M126","v":0}]
["Male","65-74","Femur",{"$f":"Backend!$D4*REF_2ndFxProp!D127","v":0},{"$f":"Backend!$D4*REF_2ndFxProp!E127","v":0},{"$f":"Backend!$D4*REF_2ndFxProp!F127","v":0},{"$f":"Backend!$D4*REF_2ndFxProp!G127","v":0},{"$f":"Backend!$D4*REF_2ndFxProp!H127","v":0},{"$f":"Backend!$D4*REF_2ndFxProp!I127","v":0},{"$f":"Backend!$D4*REF_2ndFxProp!J127","v":0},{"$f":"Backend!$D4*REF_2ndFxProp!K127","v":0},{"$f":"Backend!$D4*REF_2ndFxProp!L127","v":0},{"$f":"Backend!$D4*REF_2ndFxProp!M127","v":0}]
["Male","65-74","Hip",{"$f":"Backend!$D5*REF_2ndFxProp!D128","v":0},{"$f":"Backend!$D5*REF_2ndFxProp!E128","v":0},{"$f":"Backend!$D5*REF_2ndFxProp!F128","v":0},{"$f":"Backend!$D5*REF_2ndFxProp!G128","v":0},{"$f":"Backend!$D5*REF_2ndFxProp!H128","v":0},{"$f":"Backend!$D5*REF_2ndFxProp!I128","v":0},{"$f":"Backend!$D5*REF_2ndFxProp!J128","v":0},{"$f":"Backend!$D5*REF_2ndFxProp!K128","v":0},{"$f":"Backend!$D5*REF_2ndFxProp!L128","v":0},{"$f":"Backend!$D5*REF_2ndFxProp!M128","v":0}]
["Male","65-74","Humerus",{"$f":"Backend!$D6*REF_2ndFxProp!D129","v":0},{"$f":"Backend!$D6*REF_2ndFxProp!E129","v":0},{"$f":"Backend!$D6*REF_2ndFxProp!F129","v":0},{"$f":"Backend!$D6*REF_2ndFxProp!G129","v":0},{"$f":"Backend!$D6*REF_2ndFxProp!H129","v":0},{"$f":"Backend!$D6*REF_2ndFxProp!I129","v":0},{"$f":"Backend!$D6*REF_2ndFxProp!J129","v":0},{"$f":"Backend!$D6*REF_2ndFxProp!K129","v":0},{"$f":"Backend!$D6*REF_2ndFxProp!L129","v":0},{"$f":"Backend!$D6*REF_2ndFxProp!M129","v":0}]
["Male","65-74","Pelvis",{"$f":"Backend!$D7*REF_2ndFxProp!D130","v":0},{"$f":"Backend!$D7*REF_2ndFxProp!E130","v":0},{"$f":"Backend!$D7*REF_2ndFxProp!F130","v":0},{"$f":"Backend!$D7*REF_2ndFxProp!G130","v":0},{"$f":"Backend!$D7*REF_2ndFxProp!H130","v":0},{"$f":"Backend!$D7*REF_2ndFxProp!I130","v":0},{"$f":"Backend!$D7*REF_2ndFxProp!J130","v":0},{"$f":"Backend!$D7*REF_2ndFxProp!K130","v":0},{"$f":"Backend!$D7*REF_2ndFxProp!L130","v":0},{"$f":"Backend!$D7*REF_2ndFxProp!M130","v":0}]
["Male","65-74","Radius/Ulna",{"$f":"Backend!$D8*REF_2ndFxProp!D131","v":0},{"$f":"Backend!$D8*REF_2ndFxProp!E131","v":0},{"$f":"Backend!$D8*REF_2ndFxProp!F131","v":0},{"$f":"Backend!$D8*REF_2ndFxProp!G131","v":0},{"$f":"Backend!$D8*REF_2ndFxProp!H131","v":0},{"$f":"Backend!$D8*REF_2ndFxProp!I131","v":0},{"$f":"Backend!$D8*REF_2ndFxProp!J131","v":0},{"$f":"Backend!$D8*REF_2ndFxProp!K131","v":0},{"$f":"Backend!$D8*REF_2ndFxProp!L131","v":0},{"$f":"Backend!$D8*REF_2ndFxProp!M131","v":0}]
["Male","65-74","Spine",{"$f":"Backend!$D9*REF_2ndFxProp!D132","v":0},{"$f":"Backend!$D9*REF_2ndFxProp!E132","v":0},{"$f":"Backend!$D9*REF_2ndFxProp!F132","v":0},{"$f":"Backend!$D9*REF_2ndFxProp!G132","v":0},{"$f":"Backend!$D9*REF_2ndFxProp!H132","v":0},{"$f":"Backend!$D9*REF_2ndFxProp!I132","v":0},{"$f":"Backend!$D9*REF_2ndFxProp!J132","v":0},{"$f":"Backend!$D9*REF_2ndFxProp!K132","v":0},{"$f":"Backend!$D9*REF_2ndFxProp!L132","v":0},{"$f":"Backend!$D9*REF_2ndFxProp!M132","v":0}]
["Male","65-74","Tibia/Fibula",{"$f":"Backend!$D10*REF_2ndFxProp!D133","v":0},{"$f":"Backend!$D10*REF_2ndFxProp!E133","v":0},{"$f":"Backend!$D10*REF_2ndFxProp!F133","v":0},{"$f":"Backend!$D10*REF_2ndFxProp!G133","v":0},{"$f":"Backend!$D10*REF_2ndFxProp!H133","v":0},{"$f":"Backend!$D10*REF_2ndFxProp!I133","v":0},{"$f":"Backend!$D10*REF_2ndFxProp!J133","v":0},{"$f":"Backend!$D10*REF_2ndFxProp!K133","v":0},{"$f":"Backend!$D10*REF_2ndFxProp!L133","v":0},{"$f":"Backend!$D10*REF_2ndFxProp!M133","v":0}]
["Male","75-84","Ankle",{"$f":"Backend!$D11*REF_2ndFxProp!D134","v":0},{"$f":"Backend!$D11*REF_2ndFxProp!E134","v":0},{"$f":"Backend!$D11*REF_2ndFxProp!F134","v":0},{"$f":"Backend!$D11*REF_2ndFxProp!G134","v":0},{"$f":"Backend!$D11*REF_2ndFxProp!H134","v":0},{"$f":"Backend!$D11*REF_2ndFxProp!I134","v":0},{"$f":"Backend!$D11*REF_2ndFxProp!J134","v":0},{"$f":"Backend!$D11*REF_2ndFxProp!K134","v":0},{"$f":"Backend!$D11*REF_2ndFxProp!L134","v":0},{"$f":"Backend!$D11*REF_2ndFxProp!M134","v":0}]
["Male","75-84","Clavicle",{"$f":"Backend!$D12*REF_2ndFxProp!D135","v":0},{"$f":"Backend!$D12*REF_2ndFxProp!E135","v":0},{"$f":"Backend!$D12*REF_2ndFxProp!F135","v":0},{"$f":"Backend!$D12*REF_2ndFxProp!G135","v":0},{"$f":"Backend!$D12*REF_2ndFxProp!H135","v":0},{"$f":"Backend!$D12*REF_2ndFxProp!I135","v":0},{"$f":"Backend!$D12*REF_2ndFxProp!J135","v":0},{"$f":"Backend!$D12*REF_2ndFxProp!K135","v":0},{"$f":"Backend!$D12*REF_2ndFxProp!L135","v":0},{"$f":"Backend!$D12*REF_2ndFxProp!M135","v":0}]
["Male","75-84","Femur",{"$f":"Backend!$D13*REF_2ndFxProp!D136","v":0},{"$f":"Backend!$D13*REF_2ndFxProp!E136","v":0},{"$f":"Backend!$D13*REF_2ndFxProp!F136","v":0},{"$f":"Backend!$D13*REF_2ndFxProp!G136","v":0},{"$f":"Backend!$D13*REF_2ndFxProp!H136","v":0},{"$f":"Backend!$D13*REF_2ndFxProp!I136","v":0},{"$f":"Backend!$D13*REF_2ndFxProp!J136","v":0},{"$f":"Backend!$D13*REF_2ndFxProp!K136","v":0},{"$f":"Backend!$D13*REF_2ndFxProp!L136","v":0},{"$f":"Backend!$D13*REF_2ndFxProp!M136","v":0}]
["Male","75-84","Hip",{"$f":"Backend!$D14*REF_2ndFxProp!D137","v":0},{"$f":"Backend!$D14*REF_2ndFxProp!E137","v":0},{"$f":"Backend!$D14*REF_2ndFxProp!F137","v":0},{"$f":"Backend!$D14*REF_2ndFxProp!G137","v":0},{"$f":"Backend!$D14*REF_2ndFxProp!H137","v":0},{"$f":"Backend!$D14*REF_2ndFxProp!I137","v":0},{"$f":"Backend!$D14*REF_2ndFxProp!J137","v":0},{"$f":"Backend!$D14*REF_2ndFxProp!K137","v":0},{"$f":"Backend!$D14*REF_2ndFxProp!L137","v":0},{"$f":"Backend!$D14*REF_2ndFxProp!M137","v":0}]
["Male","75-84","Humerus",{"$f":"Backend!$D15*REF_2ndFxProp!D138","v":0},{"$f":"Backend!$D15*REF_2ndFxProp!E138","v":0},{"$f":"Backend!$D15*REF_2ndFxProp!F138","v":0},{"$f":"Backend!$D15*REF_2ndFxProp!G138","v":0},{"$f":"Backend!$D15*REF_2ndFxProp!H138","v":0},{"$f":"Backend!$D15*REF_2ndFxProp!I138","v":0},{"$f":"Backend!$D15*REF_2ndFxProp!J138","v":0},{"$f":"Backend!$D15*REF_2ndFxProp!K138","v":0},{"$f":"Backend!$D15*REF_2ndFxProp!L138","v":0},{"$f":"Backend!$D15*REF_2ndFxProp!M138","v":0}]
["Male","75-84","Pelvis",{"$f":"Backend!$D16*REF_2ndFxProp!D139","v":0},{"$f":"Backend!$D16*REF_2ndFxProp!E139","v":0},{"$f":"Backend!$D16*REF_2ndFxProp!F139","v":0},{"$f":"Backend!$D16*REF_2ndFxProp!G139","v":0},{"$f":"Backend!$D16*REF_2ndFxProp!H139","v":0},{"$f":"Backend!$D16*REF_2ndFxProp!I139","v":0},{"$f":"Backend!$D16*REF_2ndFxProp!J139","v":0},{"$f":"Backend!$D16*REF_2ndFxProp!K139","v":0},{"$f":"Backend!$D16*REF_2ndFxProp!L139","v":0},{"$f":"Backend!$D16*REF_2ndFxProp!M139","v":0}]
["Male","75-84","Radius/Ulna",{"$f":"Backend!$D17*REF_2ndFxProp!D140","v":0},{"$f":"Backend!$D17*REF_2ndFxProp!E140","v":0},{"$f":"Backend!$D17*REF_2ndFxProp!F140","v":0},{"$f":"Backend!$D17*REF_2ndFxProp!G140","v":0},{"$f":"Backend!$D17*REF_2ndFxProp!H140","v":0},{"$f":"Backend!$D17*REF_2ndFxProp!I140","v":0},{"$f":"Backend!$D17*REF_2ndFxProp!J140","v":0},{"$f":"Backend!$D17*REF_2ndFxProp!K140","v":0},{"$f":"Backend!$D17*REF_2ndFxProp!L140","v":0},{"$f":"Backend!$D17*REF_2ndFxProp!M140","v":0}]
["Male","75-84","Spine",{"$f":"Backend!$D18*REF_2ndFxProp!D141","v":0},{"$f":"Backend!$D18*REF_2ndFxProp!E141","v":0},{"$f":"Backend!$D18*REF_2ndFxProp!F141","v":0},{"$f":"Backend!$D18*REF_2ndFxProp!G141","v":0},{"$f":"Backend!$D18*REF_2ndFxProp!H141","v":0},{"$f":"Backend!$D18*REF_2ndFxProp!I141","v":0},{"$f":"Backend!$D18*REF_2ndFxProp!J141","v":0},{"$f":"Backend!$D18*REF_2ndFxProp!K141","v":0},{"$f":"Backend!$D18*REF_2ndFxProp!L141","v":0},{"$f":"Backend!$D18*REF_2ndFxProp!M141","v":0}]
["Male","75-84","Tibia/Fibula",{"$f":"Backend!$D19*REF_2ndFxProp!D142","v":0},{"$f":"Backend!$D19*REF_2ndFxProp!E142","v":0},{"$f":"Backend!$D19*REF_2ndFxProp!F142","v":0},{"$f":"Backend!$D19*REF_2ndFxProp!G142","v":0},{"$f":"Backend!$D19*REF_2ndFxProp!H142","v":0},{"$f":"Backend!$D19*REF_2ndFxProp!I142","v":0},{"$f":"Backend!$D19*REF_2ndFxProp!J142","v":0},{"$f":"Backend!$D19*REF_2ndFxProp!K142","v":0},{"$f":"Backend!$D19*REF_2ndFxProp!L142","v":0},{"$f":"Backend!$D19*REF_2ndFxProp!M142","v":0}]
["Male","85+","Ankle",{"$f":"Backend!$D20*REF_2ndFxProp!D143","v":0},{"$f":"Backend!$D20*REF_2ndFxProp!E143","v":0},{"$f":"Backend!$D20*REF_2ndFxProp!F143","v":0},{"$f":"Backend!$D20*REF_2ndFxProp!G143","v":0},{"$f":"Backend!$D20*REF_2ndFxProp!H143","v":0},{"$f":"Backend!$D20*REF_2ndFxProp!I143","v":0},{"$f":"Backend!$D20*REF_2ndFxProp!J143","v":0},{"$f":"Backend!$D20*REF_2ndFxProp!K143","v":0},{"$f":"Backend!$D20*REF_2ndFxProp!L143","v":0},{"$f":"Backend!$D20*REF_2ndFxProp!M143","v":0}]
["Male","85+","Clavicle",{"$f":"Backend!$D21*REF_2ndFxProp!D144","v":0},{"$f":"Backend!$D21*REF_2ndFxProp!E144","v":0},{"$f":"Backend!$D21*REF_2ndFxProp!F144","v":0},{"$f":"Backend!$D21*REF_2ndFxProp!G144","v":0},{"$f":"Backend!$D21*REF_2ndFxProp!H144","v":0},{"$f":"Backend!$D21*REF_2ndFxProp!I144","v":0},{"$f":"Backend!$D21*REF_2ndFxProp!J144","v":0},{"$f":"Backend!$D21*REF_2ndFxProp!K144","v":0},{"$f":"Backend!$D21*REF_2ndFxProp!L144","v":0},{"$f":"Backend!$D21*REF_2ndFxProp!M144","v":0}]
["Male","85+","Femur",{"$f":"Backend!$D22*REF_2ndFxProp!D145","v":0},{"$f":"Backend!$D22*REF_2ndFxProp!E145","v":0},{"$f":"Backend!$D22*REF_2ndFxProp!F145","v":0},{"$f":"Backend!$D22*REF_2ndFxProp!G145","v":0},{"$f":"Backend!$D22*REF_2ndFxProp!H145","v":0},{"$f":"Backend!$D22*REF_2ndFxProp!I145","v":0},{"$f":"Backend!$D22*REF_2ndFxProp!J145","v":0},{"$f":"Backend!$D22*REF_2ndFxProp!K145","v":0},{"$f":"Backend!$D22*REF_2ndFxProp!L145","v":0},{"$f":"Backend!$D22*REF_2ndFxProp!M145","v":0}]
["Male","85+","Hip",{"$f":"Backend!$D23*REF_2ndFxProp!D146","v":0},{"$f":"Backend!$D23*REF_2ndFxProp!E146","v":0},{"$f":"Backend!$D23*REF_2ndFxProp!F146","v":0},{"$f":"Backend!$D23*REF_2ndFxProp!G146","v":0},{"$f":"Backend!$D23*REF_2ndFxProp!H146","v":0},{"$f":"Backend!$D23*REF_2ndFxProp!I146","v":0},{"$f":"Backend!$D23*REF_2ndFxProp!J146","v":0},{"$f":"Backend!$D23*REF_2ndFxProp!K146","v":0},{"$f":"Backend!$D23*REF_2ndFxProp!L146","v":0},{"$f":"Backend!$D23*REF_2ndFxProp!M146","v":0}]
["Male","85+","Humerus",{"$f":"Backend!$D24*REF_2ndFxProp!D147","v":0},{"$f":"Backend!$D24*REF_2ndFxProp!E147","v":0},{"$f":"Backend!$D24*REF_2ndFxProp!F147","v":0},{"$f":"Backend!$D24*REF_2ndFxProp!G147","v":0},{"$f":"Backend!$D24*REF_2ndFxProp!H147","v":0},{"$f":"Backend!$D24*REF_2ndFxProp!I147","v":0},{"$f":"Backend!$D24*REF_2ndFxProp!J147","v":0},{"$f":"Backend!$D24*REF_2ndFxProp!K147","v":0},{"$f":"Backend!$D24*REF_2ndFxProp!L147","v":0},{"$f":"Backend!$D24*REF_2ndFxProp!M147","v":0}]
["Male","85+","Pelvis",{"$f":"Backend!$D25*REF_2ndFxProp!D148","v":0},{"$f":"Backend!$D25*REF_2ndFxProp!E148","v":0},{"$f":"Backend!$D25*REF_2ndFxProp!F148","v":0},{"$f":"Backend!$D25*REF_2ndFxProp!G148","v":0},{"$f":"Backend!$D25*REF_2ndFxProp!H148","v":0},{"$f":"Backend!$D25*REF_2ndFxProp!I148","v":0},{"$f":"Backend!$D25*REF_2ndFxProp!J148","v":0},{"$f":"Backend!$D25*REF_2ndFxProp!K148","v":0},{"$f":"Backend!$D25*REF_2ndFxProp!L148","v":0},{"$f":"Backend!$D25*REF_2ndFxProp!M148","v":0}]
["Male","85+","Radius/Ulna",{"$f":"Backend!$D26*REF_2ndFxProp!D149","v":0},{"$f":"Backend!$D26*REF_2ndFxProp!E149","v":0},{"$f":"Backend!$D26*REF_2ndFxProp!F149","v":0},{"$f":"Backend!$D26*REF_2ndFxProp!G149","v":0},{"$f":"Backend!$D26*REF_2ndFxProp!H149","v":0},{"$f":"Backend!$D26*REF_2ndFxProp!I149","v":0},{"$f":"Backend!$D26*REF_2ndFxProp!J149","v":0},{"$f":"Backend!$D26*REF_2ndFxProp!K149","v":0},{"$f":"Backend!$D26*REF_2ndFxProp!L149","v":0},{"$f":"Backend!$D26*REF_2ndFxProp!M149","v":0}]
["Male","85+","Spine",{"$f":"Backend!$D27*REF_2ndFxProp!D150","v":0},{"$f":"Backend!$D27*REF_2ndFxProp!E150","v":0},{"$f":"Backend!$D27*REF_2ndFxProp!F150","v":0},{"$f":"Backend!$D27*REF_2ndFxProp!G150","v":0},{"$f":"Backend!$D27*REF_2ndFxProp!H150","v":0},{"$f":"Backend!$D27*REF_2ndFxProp!I150","v":0},{"$f":"Backend!$D27*REF_2ndFxProp!J150","v":0},{"$f":"Backend!$D27*REF_2ndFxProp!K150","v":0},{"$f":"Backend!$D27*REF_2ndFxProp!L150","v":0},{"$f":"Backend!$D27*REF_2ndFxProp!M150","v":0}]
["Male","85+","Tibia/Fibula",{"$f":"Backend!$D28*REF_2ndFxProp!D151","v":0},{"$f":"Backend!$D28*REF_2ndFxProp!E151","v":0},{"$f":"Backend!$D28*REF_2ndFxProp!F151","v":0},{"$f":"Backend!$D28*REF_2ndFxProp!G151","v":0},{"$f":"Backend!$D28*REF_2ndFxProp!H151","v":0},{"$f":"Backend!$D28*REF_2ndFxProp!I151","v":0},{"$f":"Backend!$D28*REF_2ndFxProp!J151","v":0},{"$f":"Backend!$D28*REF_2ndFxProp!K151","v":0},{"$f":"Backend!$D28*REF_2ndFxProp!L151","v":0},{"$f":"Backend!$D28*REF_2ndFxProp!M151","v":0}]
["Female","65-74","Ankle",{"$f":"Backend!$D29*REF_2ndFxProp!D152","v":0},{"$f":"Backend!$D29*REF_2ndFxProp!E152","v":0},{"$f":"Backend!$D29*REF_2ndFxProp!F152","v":0},{"$f":"Backend!$D29*REF_2ndFxProp!G152","v":0},{"$f":"Backend!$D29*REF_2ndFxProp!H152","v":0},{"$f":"Backend!$D29*REF_2ndFxProp!I152","v":0},{"$f":"Backend!$D29*REF_2ndFxProp!J152","v":0},{"$f":"Backend!$D29*REF_2ndFxProp!K152","v":0},{"$f":"Backend!$D29*REF_2ndFxProp!L152","v":0},{"$f":"Backend!$D29*REF_2ndFxProp!M152","v":0}]
["Female","65-74","Clavicle",{"$f":"Backend!$D30*REF_2ndFxProp!D153","v":0},{"$f":"Backend!$D30*REF_2ndFxProp!E153","v":0},{"$f":"Backend!$D30*REF_2ndFxProp!F153","v":0},{"$f":"Backend!$D30*REF_2ndFxProp!G153","v":0},{"$f":"Backend!$D30*REF_2ndFxProp!H153","v":0},{"$f":"Backend!$D30*REF_2ndFxProp!I153","v":0},{"$f":"Backend!$D30*REF_2ndFxProp!J153","v":0},{"$f":"Backend!$D30*REF_2ndFxProp!K153","v":0},{"$f":"Backend!$D30*REF_2ndFxProp!L153","v":0},{"$f":"Backend!$D30*REF_2ndFxProp!M153","v":0}]
["Female","65-74","Femur",{"$f":"Backend!$D31*REF_2ndFxProp!D154","v":0},{"$f":"Backend!$D31*REF_2ndFxProp!E154","v":0},{"$f":"Backend!$D31*REF_2ndFxProp!F154","v":0},{"$f":"Backend!$D31*REF_2ndFxProp!G154","v":0},{"$f":"Backend!$D31*REF_2ndFxProp!H154","v":0},{"$f":"Backend!$D31*REF_2ndFxProp!I154","v":0},{"$f":"Backend!$D31*REF_2ndFxProp!J154","v":0},{"$f":"Backend!$D31*REF_2ndFxProp!K154","v":0},{"$f":"Backend!$D31*REF_2ndFxProp!L154","v":0},{"$f":"Backend!$D31*REF_2ndFxProp!M154","v":0}]
["Female","65-74","Hip",{"$f":"Backend!$D32*REF_2ndFxProp!D155","v":0},{"$f":"Backend!$D32*REF_2ndFxProp!E155","v":0},{"$f":"Backend!$D32*REF_2ndFxProp!F155","v":0},{"$f":"Backend!$D32*REF_2ndFxProp!G155","v":0},{"$f":"Backend!$D32*REF_2ndFxProp!H155","v":0},{"$f":"Backend!$D32*REF_2ndFxProp!I155","v":0},{"$f":"Backend!$D32*REF_2ndFxProp!J155","v":0},{"$f":"Backend!$D32*REF_2ndFxProp!K155","v":0},{"$f":"Backend!$D32*REF_2ndFxProp!L155","v":0},{"$f":"Backend!$D32*REF_2ndFxProp!M155","v":0}]
["Female","65-74","Humerus",{"$f":"Backend!$D33*REF_2ndFxProp!D156","v":0},{"$f":"Backend!$D33*REF_2ndFxProp!E156","v":0},{"$f":"Backend!$D33*REF_2ndFxProp!F156","v":0},{"$f":"Backend!$D33*REF_2ndFxProp!G156","v":0},{"$f":"Backend!$D33*REF_2ndFxProp!H156","v":0},{"$f":"Backend!$D33*REF_2ndFxProp!I156","v":0},{"$f":"Backend!$D33*REF_2ndFxProp!J156","v":0},{"$f":"Backend!$D33*REF_2ndFxProp!K156","v":0},{"$f":"Backend!$D33*REF_2ndFxProp!L156","v":0},{"$f":"Backend!$D33*REF_2ndFxProp!M156","v":0}]
["Female","65-74","Pelvis",{"$f":"Backend!$D34*REF_2ndFxProp!D157","v":0},{"$f":"Backend!$D34*REF_2ndFxProp!E157","v":0},{"$f":"Backend!$D34*REF_2ndFxProp!F157","v":0},{"$f":"Backend!$D34*REF_2ndFxProp!G157","v":0},{"$f":"Backend!$D34*REF_2ndFxProp!H157","v":0},{"$f":"Backend!$D34*REF_2ndFxProp!I157","v":0},{"$f":"Backend!$D34*REF_2ndFxProp!J157","v":0},{"$f":"Backend!$D34*REF_2ndFxProp!K157","v":0},{"$f":"Backend!$D34*REF_2ndFxProp!L157","v":0},{"$f":"Backend!$D34*REF_2ndFxProp!M157","v":0}]
["Female","65-74","Radius/Ulna",{"$f":"Backend!$D35*REF_2ndFxProp!D158","v":0},{"$f":"Backend!$D35*REF_2ndFxProp!E158","v":0},{"$f":"Backend!$D35*REF_2ndFxProp!F158","v":0},{"$f":"Backend!$D35*REF_2ndFxProp!G158","v":0},{"$f":"Backend!$D35*REF_2ndFxProp!H158","v":0},{"$f":"Backend!$D35*REF_2ndFxProp!I158","v":0},{"$f":"Backend!$D35*REF_2ndFxProp!J158","v":0},{"$f":"Backend!$D35*REF_2ndFxProp!K158","v":0},{"$f":"Backend!$D35*REF_2ndFxProp!L158","v":0},{"$f":"Backend!$D35*REF_2ndFxProp!M158","v":0}]
["Female","65-74","Spine",{"$f":"Backend!$D36*REF_2ndFxProp!D159","v":0},{"$f":"Backend!$D36*REF_2ndFxProp!E159","v":0},{"$f":"Backend!$D36*REF_2ndFxProp!F159","v":0},{"$f":"Backend!$D36*REF_2ndFxProp!G159","v":0},{"$f":"Backend!$D36*REF_2ndFxProp!H159","v":0},{"$f":"Backend!$D36*REF_2ndFxProp!I159","v":0},{"$f":"Backend!$D36*REF_2ndFxProp!J159","v":0},{"$f":"Backend!$D36*REF_2ndFxProp!K159","v":0},{"$f":"Backend!$D36*REF_2ndFxProp!L159","v":0},{"$f":"Backend!$D36*REF_2ndFxProp!M159","v":0}]
["Female","65-74","Tibia/Fibula",{"$f":"Backend!$D37*REF_2ndFxProp!D160","v":0},{"$f":"Backend!$D37*REF_2ndFxProp!E160","v":0},{"$f":"Backend!$D37*REF_2ndFxProp!F160","v":0},{"$f":"Backend!$D37*REF_2ndFxProp!G160","v":0},{"$f":"Backend!$D37*REF_2ndFxProp!H160","v":0},{"$f":"Backend!$D37*REF_2ndFxProp!I160","v":0},{"$f":"Backend!$D37*REF_2ndFxProp!J160","v":0},{"$f":"Backend!$D37*REF_2ndFxProp!K160","v":0},{"$f":"Backend!$D37*REF_2ndFxProp!L160","v":0},{"$f":"Backend!$D37*REF_2ndFxProp!M160","v":0}]
["Female","75-84","Ankle",{"$f":"Backend!$D38*REF_2ndFxProp!D161","v":0},{"$f":"Backend!$D38*REF_2ndFxProp!E161","v":0},{"$f":"Backend!$D38*REF_2ndFxProp!F161","v":0},{"$f":"Backend!$D38*REF_2ndFxProp!G161","v":0},{"$f":"Backend!$D38*REF_2ndFxProp!H161","v":0},{"$f":"Backend!$D38*REF_2ndFxProp!I161","v":0},{"$f":"Backend!$D38*REF_2ndFxProp!J161","v":0},{"$f":"Backend!$D38*REF_2ndFxProp!K161","v":0},{"$f":"Backend!$D38*REF_2ndFxProp!L161","v":0},{"$f":"Backend!$D38*REF_2ndFxProp!M161","v":0}]
["Female","75-84","Clavicle",{"$f":"Backend!$D39*REF_2ndFxProp!D162","v":0},{"$f":"Backend!$D39*REF_2ndFxProp!E162","v":0},{"$f":"Backend!$D39*REF_2ndFxProp!F162","v":0},{"$f":"Backend!$D39*REF_2ndFxProp!G162","v":0},{"$f":"Backend!$D39*REF_2ndFxProp!H162","v":0},{"$f":"Backend!$D39*REF_2ndFxProp!I162","v":0},{"$f":"Backend!$D39*REF_2ndFxProp!J162","v":0},{"$f":"Backend!$D39*REF_2ndFxProp!K162","v":0},{"$f":"Backend!$D39*REF_2ndFxProp!L162","v":0},{"$f":"Backend!$D39*REF_2ndFxProp!M162","v":0}]
["Female","75-84","Femur",{"$f":"Backend!$D40*REF_2ndFxProp!D163","v":0},{"$f":"Backend!$D40*REF_2ndFxProp!E163","v":0},{"$f":"Backend!$D40*REF_2ndFxProp!F163","v":0},{"$f":"Backend!$D40*REF_2ndFxProp!G163","v":0},{"$f":"Backend!$D40*REF_2ndFxProp!H163","v":0},{"$f":"Backend!$D40*REF_2ndFxProp!I163","v":0},{"$f":"Backend!$D40*REF_2ndFxProp!J163","v":0},{"$f":"Backend!$D40*REF_2ndFxProp!K163","v":0},{"$f":"Backend!$D40*REF_2ndFxProp!L163","v":0},{"$f":"Backend!$D40*REF_2ndFxProp!M163","v":0}]
["Female","75-84","Hip",{"$f":"Backend!$D41*REF_2ndFxProp!D164","v":0},{"$f":"Backend!$D41*REF_2ndFxProp!E164","v":0},{"$f":"Backend!$D41*REF_2ndFxProp!F164","v":0},{"$f":"Backend!$D41*REF_2ndFxProp!G164","v":0},{"$f":"Backend!$D41*REF_2ndFxProp!H164","v":0},{"$f":"Backend!$D41*REF_2ndFxProp!I164","v":0},{"$f":"Backend!$D41*REF_2ndFxProp!J164","v":0},{"$f":"Backend!$D41*REF_2ndFxProp!K164","v":0},{"$f":"Backend!$D41*REF_2ndFxProp!L164","v":0},{"$f":"Backend!$D41*REF_2ndFxProp!M164","v":0}]
["Female","75-84","Humerus",{"$f":"Backend!$D42*REF_2ndFxProp!D165","v":0},{"$f":"Backend!$D42*REF_2ndFxProp!E165","v":0},{"$f":"Backend!$D42*REF_2ndFxProp!F165","v":0},{"$f":"Backend!$D42*REF_2ndFxProp!G165","v":0},{"$f":"Backend!$D42*REF_2ndFxProp!H165","v":0},{"$f":"Backend!$D42*REF_2ndFxProp!I165","v":0},{"$f":"Backend!$D42*REF_2ndFxProp!J165","v":0},{"$f":"Backend!$D42*REF_2ndFxProp!K165","v":0},{"$f":"Backend!$D42*REF_2ndFxProp!L165","v":0},{"$f":"Backend!$D42*REF_2ndFxProp!M165","v":0}]
["Female","75-84","Pelvis",{"$f":"Backend!$D43*REF_2ndFxProp!D166","v":0},{"$f":"Backend!$D43*REF_2ndFxProp!E166","v":0},{"$f":"Backend!$D43*REF_2ndFxProp!F166","v":0},{"$f":"Backend!$D43*REF_2ndFxProp!G166","v":0},{"$f":"Backend!$D43*REF_2ndFxProp!H166","v":0},{"$f":"Backend!$D43*REF_2ndFxProp!I166","v":0},{"$f":"Backend!$D43*REF_2ndFxProp!J166","v":0},{"$f":"Backend!$D43*REF_2ndFxProp!K166","v":0},{"$f":"Backend!$D43*REF_2ndFxProp!L166","v":0},{"$f":"Backend!$D43*REF_2ndFxProp!M166","v":0}]
["Female","75-84","Radius/Ulna",{"$f":"Backend!$D44*REF_2ndFxProp!D167","v":0},{"$f":"Backend!$D44*REF_2ndFxProp!E167","v":0},{"$f":"Backend!$D44*REF_2ndFxProp!F167","v":0},{"$f":"Backend!$D44*REF_2ndFxProp!G167","v":0},{"$f":"Backend!$D44*REF_2ndFxProp!H167","v":0},{"$f":"Backend!$D44*REF_2ndFxProp!I167","v":0},{"$f":"Backend!$D44*REF_2ndFxProp!J167","v":0},{"$f":"Backend!$D44*REF_2ndFxProp!K167","v":0},{"$f":"Backend!$D44*REF_2ndFxProp!L167","v":0},{"$f":"Backend!$D44*REF_2ndFxProp!M167","v":0}]
["Female","75-84","Spine",{"$f":"Backend!$D45*REF_2ndFxProp!D168","v":0},{"$f":"Backend!$D45*REF_2ndFxProp!E168","v":0},{"$f":"Backend!$D45*REF_2ndFxProp!F168","v":0},{"$f":"Backend!$D45*REF_2ndFxProp!G168","v":0},{"$f":"Backend!$D45*REF_2ndFxProp!H168","v":0},{"$f":"Backend!$D45*REF_2ndFxProp!I168","v":0},{"$f":"Backend!$D45*REF_2ndFxProp!J168","v":0},{"$f":"Backend!$D45*REF_2ndFxProp!K168","v":0},{"$f":"Backend!$D45*REF_2ndFxProp!L168","v":0},{"$f":"Backend!$D45*REF_2ndFxProp!M168","v":0}]
["Female","75-84","Tibia/Fibula",{"$f":"Backend!$D46*REF_2ndFxProp!D169","v":0},{"$f":"Backend!$D46*REF_2ndFxProp!E169","v":0},{"$f":"Backend!$D46*REF_2ndFxProp!F169","v":0},{"$f":"Backend!$D46*REF_2ndFxProp!G169","v":0},{"$f":"Backend!$D46*REF_2ndFxProp!H169","v":0},{"$f":"Backend!$D46*REF_2ndFxProp!I169","v":0},{"$f":"Backend!$D46*REF_2ndFxProp!J169","v":0},{"$f":"Backend!$D46*REF_2ndFxProp!K169","v":0},{"$f":"Backend!$D46*REF_2ndFxProp!L169","v":0},{"$f":"Backend!$D46*REF_2ndFxProp!M169","v":0}]
["Female","85+","Ankle",{"$f":"Backend!$D47*REF_2ndFxProp!D170","v":0},{"$f":"Backend!$D47*REF_2ndFxProp!E170","v":0},{"$f":"Backend!$D47*REF_2ndFxProp!F170","v":0},{"$f":"Backend!$D47*REF_2ndFxProp!G170","v":0},{"$f":"Backend!$D47*REF_2ndFxProp!H170","v":0},{"$f":"Backend!$D47*REF_2ndFxProp!I170","v":0},{"$f":"Backend!$D47*REF_2ndFxProp!J170","v":0},{"$f":"Backend!$D47*REF_2ndFxProp!K170","v":0},{"$f":"Backend!$D47*REF_2ndFxProp!L170","v":0},{"$f":"Backend!$D47*REF_2ndFxProp!M170","v":0}]
["Female","85+","Clavicle",{"$f":"Backend!$D48*REF_2ndFxProp!D171","v":0},{"$f":"Backend!$D48*REF_2ndFxProp!E171","v":0},{"$f":"Backend!$D48*REF_2ndFxProp!F171","v":0},{"$f":"Backend!$D48*REF_2ndFxProp!G171","v":0},{"$f":"Backend!$D48*REF_2ndFxProp!H171","v":0},{"$f":"Backend!$D48*REF_2ndFxProp!I171","v":0},{"$f":"Backend!$D48*REF_2ndFxProp!J171","v":0},{"$f":"Backend!$D48*REF_2ndFxProp!K171","v":0},{"$f":"Backend!$D48*REF_2ndFxProp!L171","v":0},{"$f":"Backend!$D48*REF_2ndFxProp!M171","v":0}]
["Female","85+","Femur",{"$f":"Backend!$D49*REF_2ndFxProp!D172","v":0},{"$f":"Backend!$D49*REF_2ndFxProp!E172","v":0},{"$f":"Backend!$D49*REF_2ndFxProp!F172","v":0},{"$f":"Backend!$D49*REF_2ndFxProp!G172","v":0},{"$f":"Backend!$D49*REF_2ndFxProp!H172","v":0},{"$f":"Backend!$D49*REF_2ndFxProp!I172","v":0},{"$f":"Backend!$D49*REF_2ndFxProp!J172","v":0},{"$f":"Backend!$D49*REF_2ndFxProp!K172","v":0},{"$f":"Backend!$D49*REF_2ndFxProp!L172","v":0},{"$f":"Backend!$D49*REF_2ndFxProp!M172","v":0}]
["Female","85+","Hip",{"$f":"Backend!$D50*REF_2ndFxProp!D173","v":0},{"$f":"Backend!$D50*REF_2ndFxProp!E173","v":0},{"$f":"Backend!$D50*REF_2ndFxProp!F173","v":0},{"$f":"Backend!$D50*REF_2ndFxProp!G173","v":0},{"$f":"Backend!$D50*REF_2ndFxProp!H173","v":0},{"$f":"Backend!$D50*REF_2ndFxProp!I173","v":0},{"$f":"Backend!$D50*REF_2ndFxProp!J173","v":0},{"$f":"Backend!$D50*REF_2ndFxProp!K173","v":0},{"$f":"Backend!$D50*REF_2ndFxProp!L173","v":0},{"$f":"Backend!$D50*REF_2ndFxProp!M173","v":0}]
["Female","85+","Humerus",{"$f":"Backend!$D51*REF_2ndFxProp!D174","v":0},{"$f":"Backend!$D51*REF_2ndFxProp!E174","v":0},{"$f":"Backend!$D51*REF_2ndFxProp!F174","v":0},{"$f":"Backend!$D51*REF_2ndFxProp!G174","v":0},{"$f":"Backend!$D51*REF_2ndFxProp!H174","v":0},{"$f":"Backend!$D51*REF_2ndFxProp!I174","v":0},{"$f":"Backend!$D51*REF_2ndFxProp!J174","v":0},{"$f":"Backend!$D51*REF_2ndFxProp!K174","v":0},{"$f":"Backend!$D51*REF_2ndFxProp!L174","v":0},{"$f":"Backend!$D51*REF_2ndFxProp!M174","v":0}]
["Female","85+","Pelvis",{"$f":"Backend!$D52*REF_2ndFxProp!D175","v":0},{"$f":"Backend!$D52*REF_2ndFxProp!E175","v":0},{"$f":"Backend!$D52*REF_2ndFxProp!F175","v":0},{"$f":"Backend!$D52*REF_2ndFxProp!G175","v":0},{"$f":"Backend!$D52*REF_2ndFxProp!H175","v":0},{"$f":"Backend!$D52*REF_2ndFxProp!I175","v":0},{"$f":"Backend!$D52*REF_2ndFxProp!J175","v":0},{"$f":"Backend!$D52*REF_2ndFxProp!K175","v":0},{"$f":"Backend!$D52*REF_2ndFxProp!L175","v":0},{"$f":"Backend!$D52*REF_2ndFxProp!M175","v":0}]
["Female","85+","Radius/Ulna",{"$f":"Backend!$D53*REF_2ndFxProp!D176","v":0},{"$f":"Backend!$D53*REF_2ndFxProp!E176","v":0},{"$f":"Backend!$D53*REF_2ndFxProp!F176","v":0},{"$f":"Backend!$D53*REF_2ndFxProp!G176","v":0},{"$f":"Backend!$D53*REF_2ndFxProp!H176","v":0},{"$f":"Backend!$D53*REF_2ndFxProp!I176","v":0},{"$f":"Backend!$D53*REF_2ndFxProp!J176","v":0},{"$f":"Backend!$D53*REF_2ndFxProp!K176","v":0},{"$f":"Backend!$D53*REF_2ndFxProp!L176","v":0},{"$f":"Backend!$D53*REF_2ndFxProp!M176","v":0}]
["Female","85+","Spine",{"$f":"Backend!$D54*REF_2ndFxProp!D177","v":0},{"$f":"Backend!$D54*REF_2ndFxProp!E177","v":0},{"$f":"Backend!$D54*REF_2ndFxProp!F177","v":0},{"$f":"Backend!$D54*REF_2ndFxProp!G177","v":0},{"$f":"Backend!$D54*REF_2ndFxProp!H177","v":0},{"$f":"Backend!$D54*REF_2ndFxProp!I177","v":0},{"$f":"Backend!$D54*REF_2ndFxProp!J177","v":0},{"$f":"Backend!$D54*REF_2ndFxProp!K177","v":0},{"$f":"Backend!$D54*REF_2ndFxProp!L177","v":0},{"$f":"Backend!$D54*REF_2ndFxProp!M177","v":0}]
["Female","85+","Tibia/Fibula",{"$f":"Backend!$D55*REF_2ndFxProp!D178","v":0},{"$f":"Backend!$D55*REF_2ndFxProp!E178","v":0},{"$f":"Backend!$D55*REF_2ndFxProp!F178","v":0},{"$f":"Backend!$D55*REF_2ndFxProp!G178","v":0},{"$f":"Backend!$D55*REF_2ndFxProp!H178","v":0},{"$f":"Backend!$D55*REF_2ndFxProp!I178","v":0},{"$f":"Backend!$D55*REF_2ndFxProp!J178","v":0},{"$f":"Backend!$D55*REF_2ndFxProp!K178","v":0},{"$f":"Backend!$D55*REF_2ndFxProp!L178","v":0},{"$f":"Backend!$D55*REF_2ndFxProp!M178","v":0}]

{"sheet":"REF_IncCost2ndFx","index":9,"n_rows":178,"n_cols":12,"rows_kept":178,"cut":false,"hidden":true,"merged":[[3,0,3,11],[4,0,5,0],[4,1,5,1],[4,2,5,2],[4,3,4,11],[62,0,62,11],[63,0,64,0],[63,1,64,1],[63,2,64,2],[63,3,63,11],[121,0,121,11],[122,0,123,0],[122,1,123,1],[122,2,123,2],[122,3,122,11]]}
["Second Fracture Cost Reference Table: "]
["The table below lists incremental costs of second fractures over various time periods by age, sex, and initial fracture site"]
[]
["Two Year Model"]
["Sex","Age","Initial Fracture Site","Second Fracture Cost"]
[null,null,null,"Ankle","Clavicle","Femur","Hip","Humerus","Pelvis","Radius/Ulna","Spine","Tibia/Fibula"]
["Male","65-74","Ankle",20200.219654225999,19169.68137526467,69643.628730902885,51756.439053886977,42342.650180817524,73171.538313754994,15248.237156336392,42019.823208775721,77013.62686264237]
["Male","65-74","Clavicle",47020.760064642731,20094.329658351562,63211.97866698663,58548.408865342004,33714.386310833492,54186.528708071739,26440.462785505559,42558.870015542227,61323.534108580105]
["Male","65-74","Femur",42084.42577813509,40219.023051150012,67322.209726733432,65270.132750029225,54233.723812584663,100052.61090983417,27602.071647538047,45362.67538749559,117799.46428317305]
["Male","65-74","Hip",40380.635382454973,20936.626031125576,78926.666673438624,64437.314273858297,54000.990022104525,99179.993060723238,25862.078581670547,48268.829691463907,93505.224295738852]
["Male","65-74","Humerus",33957.78806621518,29364.573816463562,78052.134192677564,70813.605286314443,49087.662218724123,87831.997937436245,24404.19131098003,51772.421814164343,88518.567671338853]
["Male","65-74","Pelvis",42249.587930149995,37308.92276908207,89555.925263805708,78601.164324518162,70813.137822235425,115204.74255549828,25327.583030403868,50207.011238105813,133850.06233059155]
["Male","65-74","Radius/Ulna",41309.700874285991,29637.962782910967,74974.675245163759,64971.257124131138,44896.388646676103,73585.663950776026,20436.401563396976,45033.157138663562,76030.43273166212]
["Male","65-74","Spine",44720.764811320194,39276.59630327281,91561.005553801369,78552.216425627674,61294.341406666943,97770.172640111006,27774.113992914186,40593.26544624869,110151.16264163304]
["Male","65-74","Tibia/Fibula",36154.076962891195,11118.77479605042,55724.186346427639,64855.536541483307,51004.247235518793,78425.47900446174,10492.730407412673,47435.455242181342,80309.268507481596]
["Male","75-84","Ankle",25836.248138300471,20986.65048549229,69767.063852981082,51255.923683739798,43181.135259508948,57285.735801604467,15694.514957640356,37772.645593111643,74723.101965666079]
["Male","75-84","Clavicle",55947.500562820758,21266.287301151693,60714.877265073199,56428.324854872815,32579.390101840501,38307.910052596315,27282.517426869163,36941.114366578331,56365.483139388714]
["Male","75-84","Femur",42780.903050741123,34805.810702659888,49369.357286702114,48275.273555889638,41663.199005738425,55370.687796274986,22054.987928937073,27425.900648728144,87784.388271897245]
["Male","75-84","Hip",42807.117032947688,18399.817039674337,62699.351176462485,50560.49066342102,43977.222880809233,59219.362743644568,21747.973133070511,32234.224828798426,72003.459781220445]
["Male","75-84","Humerus",39602.163588155767,29959.205721016107,71774.458787488256,65243.28914492952,46013.529291579318,62895.934109474103,23683.59936166113,42833.501747644077,78883.337989312102]
["Male","75-84","Pelvis",40863.855328792881,31309.558502621614,66990.19969347764,58699.577404208947,54937.517490348415,67379.169572354396,19790.600140799041,32059.122330835336,99065.849846839395]
["Male","75-84","Radius/Ulna",48194.575629951141,31127.656769365407,71459.817366496514,61928.605217569624,43567.70363120707,54982.861727369673,20409.355977986568,38888.775655024583,69884.299070015535]
["Male","75-84","Spine",45046.915243880736,34934.259174865932,73093.152648790958,62568.66126092583,50107.800317397356,60127.220378020778,23346.604722629883,26935.603717295642,85594.766478785648]
["Male","75-84","Tibia/Fibula",40483.925727939582,10049.49221341747,46645.229805506198,55784.878563733859,45109.037936821362,50132.11543413355,8461.7705772956979,35720.00230710191,66618.214805247946]
["Male","85+","Ankle",20086.41481531554,20868.350792939105,58106.212212814891,45252.459682406232,39912.709412426208,50387.233844363625,18059.519395476585,38750.429367841934,61040.820172516105]
["Male","85+","Clavicle",41764.587534958911,18526.161294436009,43910.715984143179,43936.391091070291,26125.120009796352,28785.740713909538,26179.369912360831,33209.222612030972,39388.118381118933]
["Male","85+","Femur",27329.45642054209,28706.261889738234,30353.86598087709,33658.947512925777,31050.966150884225,38608.478622501731,21596.414231748262,24093.270021034652,57127.03132165267]
["Male","85+","Hip",29876.725220210152,16499.919059102933,43896.00301839711,38512.702413549676,35658.682200264404,45171.685297686665,22866.738657183261,30262.455276746143,49700.252538956614]
["Male","85+","Humerus",30347.854250296186,28218.717304072336,56041.156584546618,54838.715916014429,40181.537079331749,52236.890004342749,25240.415086769666,41724.362947780573,60498.558825575885]
["Male","85+","Pelvis",29876.197282215107,28532.472940571948,49605.683831808048,47051.177538258438,46472.61827197369,53911.231906085399,21050.793733234786,30582.940280575342,74104.439365472324]
["Male","85+","Radius/Ulna",42941.720501340176,32426.557112783725,63135.831961179363,58289.70788005372,42481.389557806928,51009.304975416591,23829.433758589024,41795.365847874833,60201.738898906646]
["Male","85+","Spine",33550.498169096871,31538.903605225292,54728.709771480353,50275.564191754951,42072.804928910831,47706.084025687713,23945.261256055062,25555.35779380711,63309.631160020406]
["Male","85+","Tibia/Fibula",27745.080639015134,8726.5912758547129,30879.528453170577,41832.329315804142,35541.465282819692,36834.091443666191,9783.58464217664,31876.02170439154,44887.222066234732]
["Female","65-74","Ankle",25233.566071123183,28987.403726604032,78316.873826689844,59870.655833796125,41504.219357125803,70698.084677958977,16293.122791739363,48028.635475713767,67715.517953989416]
["Female","65-74","Clavicle",49876.096556828583,27159.652519648262,64154.091377287819,60747.327661539028,29411.047785779643,46498.181215814002,25406.158533435206,43797.38102377981,47568.494072377063]
["Female","65-74","Femur",46562.337582195003,54092.28380095624,68421.959404618712,68296.771956828859,45382.289258191275,83216.04728063973,25995.640415156304,47318.702250548173,88240.049331249757]
["Female","65-74","Hip",44028.080119565275,32236.257544252294,78746.909508014651,66527.601166079752,45172.787276251838,82324.77805406769,24163.882361539261,49423.936048388103,68483.877879524283]
["Female","65-74","Humerus",32702.546058648346,33901.548468892397,69525.883082307089,64548.491668455688,37827.060297953962,66851.564855727134,20582.130995726075,46802.655472196719,60935.155672601941]
["Female","65-74","Pelvis",43730.372806856845,46598.793501164095,85412.717514151154,76983.297197209904,58273.794423000611,93250.534054424526,22782.061753774135,49107.751238763594,98919.400097119214]
["Female","65-74","Radius/Ulna",35903.493615595835,30350.487245917167,61859.227804258706,54786.40444905492,32516.038643524393,52406.548966075155,16046.566494119448,37705.279626897907,49318.746606322376]
["Female","65-74","Spine",42311.97863621392,43968.868699270279,80810.207768318272,71086.916008221597,46924.898655094214,73557.976271410618,23209.387752046336,37016.465399410277,75469.158857318369]
["Female","65-74","Tibia/Fibula",41131.970460881763,20757.410848971289,58993.942324791577,69891.748556833161,45660.839097622644,68901.291408150311,10400.214598345985,50728.989330185133,62957.047166316035]
["Female","75-84","Ankle",32252.994719191491,32398.366314789986,79410.00541944729,60189.533979540654,42455.221261160528,54843.589113421105,16926.419013159226,43997.805258930726,65325.027706749584]
["Female","75-84","Clavicle",59708.036648525333,29326.029766033404,62402.479121681623,59378.595663614862,28426.349876692941,32169.065258875824,26453.596659337709,38740.175003638622,43185.142044631939]
["Female","75-84","Femur",47263.738307123829,47831.817633798812,51200.322392763293,51719.103952584192,34655.235241129121,44586.619204333634,20968.660742009291,29886.365056338764,64635.733218102789]
["Female","75-84","Hip",46652.193222929054,29429.348495853905,63579.66520704882,53332.672910686291,36661.986843335675,47922.907490372381,20512.025411004317,34153.531293649881,51520.704229865485]
["Female","75-84","Humerus",38235.710451221297,35213.395067019548,64755.796285438861,60337.851912857019,35528.836903363539,47337.875086003507,20158.178310136151,39486.992573108961,53846.421845498844]
["Female","75-84","Pelvis",42359.0854469271,39859.919137956269,64790.948360818729,58454.828552729421,45321.807012240009,53836.744095617862,17968.477286439185,32256.049716118447,72764.085934618444]
["Female","75-84","Radius/Ulna",42132.395143833928,32344.030866784728,59645.178688160711,52902.744534960424,31680.566755767941,38863.632894467082,16171.954966019512,33123.013277885344,45112.002713530324]
["Female","75-84","Spine",42771.23097080586,39752.400485637409,65341.229053772913,57476.961123167872,38462.018111382233,44646.004699533703,19689.365477503918,25315.387891639853,58235.481157655318]
["Female","75-84","Tibia/Fibula",46120.332425674322,19942.753932522493,50250.433913145665,61160.793713552848,40389.704735005536,42987.3539092391,8477.6732625780423,39188.064978045426,51282.831643233032]
["Female","85+","Ankle",26841.910629568454,33585.753313291752,69407.090165780799,55796.680387469234,40878.064843958135,50074.008198148724,20342.951948918468,47080.367075065697,54730.439420557268]
["Female","85+","Clavicle",46891.010758728677,26637.269056674282,47399.610960449558,48507.04427458749,23705.441999175629,24947.261366839142,26520.543782178735,36326.434504599107,30646.292185746628]
["Female","85+","Femur",32391.056725385526,41119.938426361929,33497.390271236029,38162.525809494211,26755.586000349853,31903.175200779253,21440.914568693479,27238.044388613125,42388.164602466088]
["Female","85+","Hip",34837.146363491134,27414.547483334187,47020.918374066736,42904.093780257579,30845.659477778157,37653.674122828437,22522.440152387266,33337.667402234481,35468.330154933821]
["Female","85+","Humerus",31102.894063711996,34597.547289045047,53114.26620231157,53226.238461101544,32299.699781017029,40774.618923081725,22441.993127662587,40115.520284230573,42189.232813341936]
["Female","85+","Pelvis",32965.001258660057,37881.329022083526,50494.566724594937,49265.336563908328,39924.210945395513,44639.731253794766,19961.125297439772,32034.101934767437,55791.956042674843]
["Female","85+","Radius/Ulna",39519.668375543966,35169.834275455731,55260.955859679168,52194.958740502167,32196.443684073318,37452.365146208664,19725.909329786584,37144.450200314015,39907.249381710884]
["Female","85+","Spine",33730.18664695786,37447.768940074377,51396.452854612151,48491.411945336637,33633.102447481935,36705.944976497463,21095.024841831626,24993.802578822935,44096.966328275368]
["Female","85+","Tibia/Fibula",33656.609043420191,17901.783143095076,35215.226810658525,48248.479040677339,33093.752581970475,32552.607118084852,10219.210144072451,36427.6015607726,34764.572207728081]
[]
[]
["Three Year Model"]
["Sex","Age","Initial Fracture Site","Second Fracture Cost"]
[null,null,null,"Ankle","Clavicle","Femur","Hip","Humerus","Pelvis","Radius/Ulna","Spine","Tibia/Fibula"]
["Male","65-74","Ankle",31943.035715283877,50291.980682391302,78005.740068849234,60512.079914049544,42164.562224590649,83050.31088447175,21983.750796044049,50147.554065163284,79785.52266743459]
["Male","65-74","Clavicle",52118.68632868916,58606.744356577663,72990.422941967219,65468.719102586794,34640.958727426303,83460.804614703447,41218.024472829275,51632.981104069651,66486.076639781444]
["Male","65-74","Femur",54783.64019641254,108800.33538066331,73157.055731435074,74406.887529714731,54191.422613252333,123823.07756348819,44891.759716903674,56756.489298308559,122680.06126104147]
["Male","65-74","Hip",49864.056875289098,61649.871246839175,81491.989883916889,69215.518292762688,51000.187966381869,115541.49242020864,34932.67422316219,54013.846145787305,87676.874267252861]
["Male","65-74","Humerus",41969.447348679401,72930.797705165547,92039.570850341988,76404.243431479088,50236.301950562105,108517.41087413745,33740.825242508232,59713.118595640801,89003.824861261295]
["Male","65-74","Pelvis",55796.867462628303,78749.63032490194,99016.536636704681,81185.296834256689,68691.808664278375,135606.07234943542,34546.489462133104,54908.069000393545,128592.66539901313]
["Male","65-74","Radius/Ulna",52540.863489134368,64558.647078035647,81576.462762071344,73660.858864117545,46897.999155655256,92522.897336264316,28924.752376061297,53609.882865620282,80614.259913644928]
["Male","65-74","Spine",56860.946197086872,83003.461371555386,99344.526296678509,85190.386694608998,61343.964475085479,116024.29487788347,38032.43789260021,48132.552969923345,108844.72655870525]
["Male","65-74","Tibia/Fibula",43733.736059703209,50230.508119787773,65496.775861464965,72595.713622449606,49150.487830590864,98127.18914135173,19342.729524364229,56819.9320141231,79911.660544675746]
["Male","75-84","Ankle",37872.173595698696,57421.149547438006,72806.114189630985,56780.297526516442,38340.289581879406,59876.857165910042,21618.34413368594,44084.738054589863,74979.030354662129]
["Male","75-84","Clavicle",59573.684634316756,65260.490698981128,66057.402826015299,60322.165775576665,29813.050870749314,58630.002932165502,41388.761815736958,44410.775044491165,59977.041073013286]
["Male","75-84","Femur",52184.063672101649,99071.047520265769,49052.522549886751,52184.063672101387,36150.007806304144,65143.397831867245,35157.214985211496,35077.039795463235,89472.586656483181]
["Male","75-84","Hip",49517.154734348645,58898.107562663499,59639.77183314698,51288.361594105401,36191.535833812057,65013.584489040659,28250.201297926804,35803.84421259728,65275.739531145111]
["Male","75-84","Humerus",46200.109563461112,77350.605675166837,79530.561797995775,66759.068648141358,42231.678153700967,73498.531650264995,31439.352611427021,48500.932171550681,77087.669710830713]
["Male","75-84","Pelvis",51072.536310478594,69605.135073624828,69907.990862981867,57839.090349392107,48377.812214333229,75799.782073804832,26211.619792935511,34814.64010146301,93489.955306154778]
["Male","75-84","Radius/Ulna",58912.371166924924,70536.021942437743,73524.049113508052,67581.030658438307,41638.754565212708,65918.739119997801,28020.193393016998,45866.718755053582,72948.843847449258]
["Male","75-84","Spine",54447.693870808012,76958.450399228357,74642.911767148398,64910.160868501014,45464.662864734753,67695.728581922842,30939.326780883115,32023.691102019613,82866.464782944779]
["Male","75-84","Tibia/Fibula",46197.565063938877,51143.125739051349,50671.370114705176,58996.378043984005,38105.091015258979,58912.923582449032,15660.432129879686,42194.416886672479,63995.4701935052]
["Male","85+","Ankle",31160.243905836527,54127.96109740586,60444.644344544184,49515.935235952449,36534.990922978614,53562.811288505123,23784.789710737459,43867.839779046262,58165.751991423473]
["Male","85+","Clavicle",45079.913156838957,54600.411617382022,48310.267462109172,46797.728793894974,25160.895434455102,46478.720327377232,38534.610891693825,39165.66499780814,40224.421147240006]
["Male","85+","Femur",34896.193723481148,77518.415348641123,30357.068985257501,36217.73031863042,28502.956471208934,47448.531534302791,32154.89287521223,29620.233783851872,55255.430233818231]
["Male","85+","Hip",36116.604916220196,49755.727611212744,41979.014423059649,38894.944274310663,30963.046269153929,51617.507300390193,28354.089151047054,32625.035179881015,42133.572828848992]
["Male","85+","Humerus",36047.876176776277,68882.451818005648,62036.638890578295,54972.09972676482,37964.258224577468,62161.029135808712,32012.589211138009,45589.033967694588,55677.795825834473]
["Male","85+","Pelvis",38880.333270078336,60260.837540497581,52187.742069797008,45795.93168826637,42352.863750586548,62316.16692441795,26577.508540936804,32217.909635743723,66594.150193862763]
["Male","85+","Radius/Ulna",52803.44121019834,69710.615950715757,64257.783405517192,62368.792392602125,41532.500065997774,62052.995015008251,31365.132046056438,47629.582418703249,59545.647762070432]
["Male","85+","Spine",41528.434348145267,66040.837714563095,55832.476282848744,51432.078486746919,39396.855709079478,55012.360847241798,30398.995601358634,29337.532463422671,58150.560821306222]
["Male","85+","Tibia/Fibula",32376.494535134509,41321.489060478008,33855.532577955892,43624.209791385394,31220.712992806075,44771.820062130762,16039.310232806922,36458.988997244058,40156.409727492384]
["Female","65-74","Ankle",34429.390784789175,33673.930529360405,85046.880692935025,66379.222623469133,45303.381373619741,70725.530918125471,19908.637469133282,53118.299912902621,74448.513278323138]
["Female","65-74","Clavicle",48340.841530541249,35741.055272832353,70899.279964747271,63428.273244517448,33538.311339909851,63006.66695812931,33538.311339909997,48462.116331865051,54970.712134639572]
["Female","65-74","Femur",53861.151050585468,65903.820762608026,76339.873771637882,76560.187827687623,54449.861666572891,93069.385535166308,36459.377179283736,56499.085224523064,102571.38986965708]
["Female","65-74","Hip",50356.308262202292,34488.337222529008,85520.371405731377,72947.007177295323,52427.201092152172,89996.195340614606,29180.039663252683,54985.111136838954,75558.747054963183]
["Female","65-74","Humerus",36566.692236160256,40799.824308610718,81696.093288855685,67966.286061112274,43946.294781139593,75150.629090440081,24934.094107150369,51471.554008121129,67375.67206029591]
["Female","65-74","Pelvis",53561.699250858481,46894.489797845847,98161.70965539226,80858.019670939786,66083.332185498337,103477.94742352022,27999.425967436749,53511.340193254655,107479.1715459402]
["Female","65-74","Radius/Ulna",40599.389222965947,33737.561954351266,65617.423457096069,59050.766670571778,36993.150277075903,58739.524390888742,19566.32359075814,41840.94545585155,55764.975466186392]
["Female","65-74","Spine",49436.005583884682,46827.986217291029,89334.817328846606,76639.571093019302,53934.724651118733,80888.93876101909,28363.406270915606,42927.459581051306,83204.992277347046]
["Female","65-74","Tibia/Fibula",43760.813464765699,27586.761633181275,68646.289215708486,74583.352171694438,49617.195058119425,76004.916392629893,15787.600207512558,56468.060889696892,68494.120945216317]
["Female","75-84","Ankle",41991.964700595898,39858.693243799207,82910.8857080788,65173.050955007551,43237.601421135521,51459.230533390888,20142.574140080949,48995.378141712165,72219.355885179379]
["Female","75-84","Clavicle",56962.273684741922,41229.356235914667,67111.89696534659,61080.567553523819,30495.406487210486,44650.952590181165,34741.121804141272,43719.97881507557,51174.31684381044]
["Female","75-84","Femur",52702.919236462898,62198.69933700106,54898.409606506713,57100.009843400519,38885.909595745426,48494.703853164145,29373.263444497774,37679.963684049872,77184.290266602809]
["Female","75-84","Hip",51389.633905666778,34280.346835323799,66288.386210170618,57298.459290680898,39636.991366986695,50431.982064257929,24253.328371599069,39062.793186483032,58015.704283152896]
["Female","75-84","Humerus",41421.769967114968,44825.105606674224,73800.884547878144,62123.84279122411,38822.486137524924,51457.421562959695,23934.048367512085,43916.391317221736,60228.383870939935]
["Female","75-84","Pelvis",50457.039265040643,42979.576020040913,72730.202069164676,60530.404209198241,48841.535199026155,58390.982308900988,21852.028635615046,36107.85782918788,80658.959221352343]
["Female","75-84","Radius/Ulna",46937.689334082701,38162.586647198674,61693.09011250233,56475.41253423853,34358.393427042269,42448.945018540333,19535.529095154379,37467.784813629543,52092.480549731488]
["Female","75-84","Spine",48754.628545945307,44976.732468498216,70247.177436492188,61117.687178577486,41935.420747961893,47589.06932693423,23767.613617906245,30402.751520257734,65385.238096621746]
["Female","75-84","Tibia/Fibula",47519.086053184306,29238.001703095899,56363.020873879927,63772.20106075739,40727.739635035192,45460.839848536183,13050.507555713033,44421.821866333514,56581.088470834351]
["Female","85+","Ankle",36809.281489489309,39404.18771374975,73174.454553921358,60276.657629822745,43384.007740249799,48216.358776987196,23421.441405163758,51177.036601536136,58896.650745794366]
["Female","85+","Clavicle",45633.70343026123,36202.407079748824,52248.221747085554,50217.826951575611,27106.247974079102,37072.589966138767,34090.740562586434,40475.010951482836,36063.705725312204]
["Female","85+","Femur",37712.493804487487,51051.633882639784,37252.494498247863,42511.932007980286,32307.550095191895,36816.192461300161,28396.59834567472,33219.345748329593,50070.818813335194]
["Female","85+","Hip",40056.946812905357,30264.096631540815,50359.795602063328,46502.32815455235,35726.206031090696,41798.217321561271,25754.944240185912,37213.38340203854,39302.777332494108]
["Female","85+","Humerus",34399.436398571801,41896.463455914396,61252.70856663306,54244.219162663743,36749.576346936163,45603.198379216388,25722.491521059281,43321.963537003299,45720.148244113756]
["Female","85+","Pelvis",40867.661591132288,39015.323017788207,57999.357879430754,50972.073432786798,45023.37071145256,50285.014470190465,23422.73652017476,34982.651239138344,60398.954361613112]
["Female","85+","Radius/Ulna",44515.482723982102,39607.432621313856,57244.884926479514,55142.93460654252,36081.781797382704,41904.314652021363,23069.234211063238,40859.074289464217,44705.090249967485]
["Female","85+","Spine",39477.315400659092,40508.24581813204,55969.166256800963,51368.279162632971,38262.708553998862,40499.151379126299,24650.121463614996,29158.045078998344,48231.012724475935]
["Female","85+","Tibia/Fibula",35558.348079884629,24674.957271332882,40744.56260292785,50196.916416512584,35147.874329529208,36068.948063782518,14238.714987343425,40219.971900297212,37277.367911798763]
[]
[]
["Four Year Model"]
["Sex","Age","Initial Fracture Site","Second Fracture Cost"]
[null,null,null,"Ankle","Clavicle","Femur","Hip","Humerus","Pelvis","Radius/Ulna","Spine","Tibia/Fibula"]
["Male","65-74","Ankle",33972.631824073258,57310.532888654117,84984.892618554353,67416.528725379205,49912.826425135579,92717.155662417033,26300.384930854612,57590.07850839146,99036.356070736278]
["Male","65-74","Clavicle",53337.029014133659,70525.122837412986,79085.299084339727,72528.219864787592,49375.125289144271,100731.83254301347,50532.343803133073,61915.24713879115,80612.455083674024]
["Male","65-74","Femur",49576.376717521314,128578.00964507394,74517.369731927756,80410.123422361154,65248.320778148423,135754.40623180475,52178.915637811122,66730.782805246999,145728.98212643134]
["Male","65-74","Hip",50049.384955500165,72575.306336348091,82399.125459707982,74398.527769824344,59166.818471817911,125880.35360958893,41548.626021055796,59941.433988645207,106677.85215809444]
["Male","65-74","Humerus",42015.986171857192,83431.285918467518,99621.020158694606,83806.698372276252,58414.570396993993,120576.89808943104,40374.441143838922,67942.987218533366,108207.79307259891]
["Male","65-74","Pelvis",52492.269427806488,89697.434074848221,101967.62166835499,87572.259849142545,79989.268563332444,153002.06667681682,43131.331950328109,62015.561353408528,150383.81249221004]
["Male","65-74","Radius/Ulna",57142.028005774613,79163.983366185159,89860.283379881905,83971.448564099352,56226.216531516475,108186.91509237076,36072.897946256286,63616.236497964739,101296.4794597789]
["Male","65-74","Spine",56506.609157411454,96785.526590651876,102504.33081171471,91833.814871887371,70530.49252130439,127646.03091683485,46517.269680486032,55060.739914423946,131026.04619928419]
["Male","65-74","Tibia/Fibula",44534.08992207305,59529.129942514861,70332.907854589444,79680.594370259103,57566.346385929195,108716.64830107488,24614.893541475467,64759.310522844622,98997.09894481684]
["Male","75-84","Ankle",40700.552900723196,66016.586974362945,77161.657243016292,61746.91482534651,45520.427909894468,66252.151135059277,25715.293070582935,49928.255749243952,92493.283204793872]
["Male","75-84","Clavicle",61427.592803361571,79260.285929023405,69766.591812122846,65387.162707781426,43961.514475578522,71404.059564367752,50314.724436366647,52944.663378207486,72538.793070781627]
["Male","75-84","Femur",48292.383774611881,117816.17426149129,48171.889866523168,55164.720487995175,44778.024024991508,71682.16813084505,40700.296236991402,41748.642579301479,106115.51091239123]
["Male","75-84","Hip",50502.974841698495,70387.606761131217,58294.38597349303,53919.992269684924,42785.520570058274,70846.294497153765,33642.772163244721,39547.440177367956,79896.412480071202]
["Male","75-84","Humerus",46931.539342497141,89284.028487198841,83968.917050164426,71628.15169867684,49383.652049126584,81205.099620686145,37419.980981782297,54592.246415579808,93445.817938946391]
["Male","75-84","Pelvis",48901.700225013687,80272.532374131333,69995.632686325625,61080.686506664511,56770.557237453977,85722.896118654477,32866.241577444584,39168.749384305978,108829.89755331016]
["Male","75-84","Radius/Ulna",64594.748430862601,87394.804293269219,79247.291214101409,75698.061137841563,50205.370036415974,77115.156642574104,34863.453543851923,54045.952121286697,91567.763497519118]
["Male","75-84","Spine",54768.327954612731,90610.975302096223,74994.632304647472,68538.680018860236,52608.980163093889,74328.649160226021,37799.074503124924,36605.286035883066,99569.066445584962]
["Male","75-84","Tibia/Fibula",47846.399211363809,61671.578142048005,52826.07549906231,63269.399026788451,45126.228927185119,64990.666654836125,20307.990396825102,47657.94221604694,79523.867971554195]
["Male","85+","Ankle",32109.927210575253,60659.972225469064,63183.438945107504,53140.884110408217,42137.898125417785,58008.794775713577,26923.57052465203,48977.344578977711,71987.463908006845]
["Male","85+","Clavicle",44609.790727801104,64551.938461126025,50139.105523204278,49899.617342831894,35969.205666594899,55440.038192058877,44995.533945087715,45871.475761549627,48710.40405264646]
["Male","85+","Femur",30374.276154656342,90089.961362950431,29239.215876893824,37919.817416100472,34182.244658091469,51202.547228895404,35403.215268593791,34652.972640502907,66328.196870096275]
["Male","85+","Hip",35261.359777687219,58086.666984298121,40339.653868203051,40519.547388667081,35514.111452198995,55227.485313802492,32014.539682928313,35606.159103913174,52824.096132922801]
["Male","85+","Humerus",34939.834302069328,77556.831101795789,64604.150996914424,58178.733958769793,43093.253927316182,67236.791336867129,36419.636534133824,50573.770369547376,67772.318358298842]
["Male","85+","Pelvis",35465.648983934821,67952.760588278179,51511.575739156586,47856.695017522361,48430.649862851031,69301.399175050552,31611.029872312574,35810.922686489313,77764.794900590205]
["Male","85+","Radius/Ulna",55803.836004003744,84153.804998951004,68109.126930065715,68778.824400182348,48592.33869767117,70992.681808657188,37293.667393162563,55189.879360792118,74681.571165500442]
["Male","85+","Spine",40111.694894041779,76021.508435522264,55281.766137911385,53670.638233805294,44367.902935407648,59254.417726087107,35470.32107717148,33074.436514643952,70258.310713560204]
["Male","85+","Tibia/Fibula",32088.245004034616,48711.784318459526,34888.39799701942,46364.778221382221,35973.999590446285,48508.445042826381,19286.111622468146,40774.820188566839,50886.129383982799]
["Female","65-74","Ankle",37031.736613974128,31808.445679350996,88549.767409611028,68407.848447551281,46601.338899046772,70962.360301791021,20392.133264394834,54461.912360891605,76554.785482511768]
["Female","65-74","Clavicle",48645.272112926883,35990.917918165265,72821.025796301692,64357.354969793661,40514.006095597208,67862.522848566907,35616.788451083798,51270.996872778582,54099.363521022133]
["Female","65-74","Femur",52814.240732977822,68722.465074874068,78920.869232651181,79665.887333208186,58057.744358535288,95240.289854433926,37735.209935743347,60757.062634412272,103514.15583397726]
["Female","65-74","Hip",53393.145494740078,34639.358332756135,86710.893432330748,75114.496931888745,53874.43231866922,90976.879294437269,30608.827025617138,55858.427737303195,76889.132137958979]
["Female","65-74","Humerus",37423.755400065122,39468.316689123436,85163.578862219467,69474.227688571496,44682.829269870992,75624.884615105897,25972.800688259995,52629.70711474066,67998.639609282254]
["Female","65-74","Pelvis",52379.633014319203,45367.92064485779,99167.616783147765,82353.634974987683,68137.914968786266,107150.91612051643,30624.572125832128,54671.54140911439,105965.15993053938]
["Female","65-74","Radius/Ulna",42630.992600111436,34440.818926416687,67508.96652721439,60826.070981868048,37840.992478668661,60487.552124327733,20716.02685562057,43382.147493516488,56859.586497146724]
["Female","65-74","Spine",50417.100880151847,47203.711579750787,90356.953272653889,78101.494973288849,55077.515523976384,81741.805014964484,30685.404009655322,44477.247538828073,84599.934803367854]
["Female","65-74","Tibia/Fibula",45603.021501313793,26580.153963854274,71440.629176094328,75912.332924914241,50139.283197354162,75561.164307934305,16755.458211392906,57271.512304109943,68948.917398085046]
["Female","75-84","Ankle",46298.507671364459,39191.788899947154,86115.758687805472,67055.044458292396,45242.14568538755,52131.013858100232,20849.41421662896,50435.444425073838,74905.622090733232]
["Female","75-84","Clavicle",58771.659168605911,43108.638726325255,68951.613439293462,62031.612565072952,38416.008125212975,49582.613330025473,37315.199516968249,46787.908153275363,50845.490165665353]
["Female","75-84","Femur",53343.667452382724,67183.866488121144,56660.951132131231,59470.646843526847,42778.447572646983,50747.917337990613,30779.105961883179,41322.807832173523,78627.60109370992]
["Female","75-84","Hip",56059.214425617698,36304.506143112318,67032.317389519638,59066.616244540972,41778.940721714418,51927.742814996323,25873.528997833229,39998.91991678036,59839.284099910859]
["Female","75-84","Humerus",43625.356749167076,45030.071310786218,76972.376622021606,63538.334966898889,40241.998137207607,52477.059744231483,25249.162228696492,45210.82641883201,61430.070449880463]
["Female","75-84","Pelvis",50906.166858092067,43434.842303454992,73434.993523196987,61762.793366367434,51467.369131351254,61839.312353837042,24418.463115330349,37273.063193765789,80307.061406543129]
["Female","75-84","Radius/Ulna",50598.945642882303,40433.914187213624,63673.710123889046,58445.109620668503,35907.83097636138,44615.291263943262,21025.024392793355,39287.740576367432,53874.133002944611]
["Female","75-84","Spine",51128.943298441482,47091.341736134702,71040.282024481217,62407.639701481232,43722.279483444647,48917.825450147146,26160.229799482222,31908.129764624893,67316.922953417001]
["Female","75-84","Tibia/Fibula",50997.718823071817,29852.041509167291,58711.342798276411,64910.378456062273,42038.087415837523,45768.507353483874,14247.233296848426,45354.654286596473,57638.320550117918]
["Female","85+","Ankle",39705.485534977546,37925.550907048615,75801.316033545532,61736.953905063347,44485.744664410013,48139.228174932825,23357.465617509864,52388.503863878621,61194.922056151059]
["Female","85+","Clavicle",45871.749711867764,37050.047118884315,53376.533491966904,50609.613966019497,33389.283904877746,40629.110285006835,35507.30560356046,42931.936600750625,35653.762552433058]
["Female","85+","Femur",37000.019140692966,54180.64031440737,38529.815047979442,44235.182946087705,34728.773878598615,38021.195693758054,28647.545047362859,36194.227657844211,51206.078840903298]
["Female","85+","Hip",42826.243007536468,31372.580970067909,50938.386020175676,47930.484188292103,36873.655258650731,42524.594744183341,26385.1338503726,38014.755541901075,40925.173993976307]
["Female","85+","Humerus",35301.762498386379,41270.112021624431,63728.881696207667,55204.19271828582,37304.414353578119,45852.049236539184,26222.340228149638,44342.21317508792,46650.420008805944]
["Female","85+","Pelvis",40161.778528665389,38719.32415536914,58511.508167093438,51927.261081786834,46636.628508959409,52752.680043315682,25115.195727642895,36012.010818430448,60192.652544091739]
["Female","85+","Radius/Ulna",46892.574942019659,41137.396533345738,58741.348619632954,56664.021444660837,36908.085562853033,43391.729914224568,23973.711299116629,42498.006656684571,46156.394903598128]
["Female","85+","Spine",40472.961229439949,41696.934379555365,56474.432343451561,52293.443854110643,39165.983116330077,41124.334595957458,26188.914060610878,30468.628919620525,49814.997742230065]
["Female","85+","Tibia/Fibula",37391.901244048327,24647.322793771375,42646.881501482618,51095.006362650565,35619.998614929944,35876.852979053765,14669.28476911637,41031.744743261508,38259.355522903388]

{"sheet":"REF_2ndFxProp","index":10,"n_rows":178,"n_cols":13,"rows_kept":178,"cut":false,"hidden":true,"merged":[[4,3,4,12],[3,0,3,12],[4,2,5,2],[4,0,5,0],[4,1,5,1],[62,0,62,12],[63,0,64,0],[63,1,64,1],[63,2,64,2],[63,3,63,12],[121,0,121,12],[122,0,123,0],[122,1,123,1],[122,2,123,2],[122,3,122,12]]}
["Refracture Reference Table: "]
["The table below lists proportions of patients expected to have second fractures at various sites over various time periods by age, sex, and initial fracture site"]
[]
["Two Year Model"]
["Sex","Age","Initial Fracture Site","Second Fracture Status"]
[null,null,null,"Ankle","Clavicle","Femur","Hip","Humerus","Pelvis","Radius/Ulna","Spine","Tibia/Fibula","None"]
["Male","65-74","Ankle",6.3411277332231083E-3,8.8785807743952858E-4,3.791101569831078E-3,5.3433704727305475E-3,3.1942637673892976E-3,3.0273783092521286E-7,1.2629768774241292E-2,8.7334163565923086E-3,3.2711991444684383E-3,0.95580759136625337]
["Male","65-74","Clavicle",2.8372567782893916E-7,1.1330778173222021E-7,8.3086512417986924E-3,1.3440832703145448E-2,5.4548072835455229E-3,1.6543987706145407E-7,1.2193430099527862E-2,3.4487512095168878E-2,2.475983429199764E-7,0.92611395650513395]
["Male","65-74","Femur",1.9516760779932791E-7,4.7477633029842277E-8,9.0997610832802885E-3,3.0384972441007244E-2,7.0649656815425692E-3,6.5485795176494698E-3,1.0124806792312014E-6,3.1067062010227433E-2,1.2810282369905907E-2,0.90302312177046706]
["Male","65-74","Hip",2.0323761215764839E-3,2.6198199965043701E-3,1.023082898915636E-2,2.4732189450125782E-2,7.3177698173316121E-3,3.425356698327553E-3,9.2526094254340111E-3,2.334319744726476E-2,1.0557016445443539E-3,0.91599015040973475]
["Male","65-74","Humerus",1.526536935197413E-3,2.804994922751661E-3,2.1533003871028389E-3,2.8803638872565821E-2,9.3586563599937743E-3,3.1940884082992459E-3,1.3940548181343049E-2,1.9427735866844258E-2,1.4288954438303355E-3,0.91736160462207161]
["Male","65-74","Pelvis",1.9361887497097891E-7,7.7446832198078342E-8,5.2550057935450509E-3,1.8578056139928384E-2,5.9773725996745512E-3,1.4488658917975654E-3,5.4291419804532127E-3,2.2275359375583278E-2,1.9931603184973135E-7,0.94103572783727907]
["Male","65-74","Radius/Ulna",4.7375879772976678E-3,1.0842929771699053E-3,2.5575979382034744E-7,1.9236858276116563E-2,2.6154290079590031E-3,2.1940039026663622E-3,1.0769608511946758E-2,1.8512166056913842E-2,1.6500872093082259E-3,0.93919971032082794]
["Male","65-74","Spine",1.3501081286215392E-3,1.1785497822161103E-3,1.4268720695102125E-3,2.3629234242542502E-2,5.8745219383177826E-3,4.8787287531164058E-3,4.5982908702982012E-3,0.12230093459876487,2.3031659686340833E-3,0.83245959364797839]
["Male","65-74","Tibia/Fibula",3.5022011098936072E-3,6.4123583740771733E-8,2.4272089848627788E-7,9.3399571026751439E-3,3.5278960004123173E-3,9.2618300559952228E-3,9.9572572719205023E-3,1.7737865695726787E-2,4.0164629790343381E-3,0.94265622293985996]
["Male","75-84","Ankle",8.1004721851615502E-3,3.3072676147361444E-3,3.7032927430237414E-3,1.2790751291994347E-2,4.4132984354924298E-3,5.3809380968619121E-7,7.5294526840101045E-3,1.7763261335192432E-2,4.32374685738932E-3,0.93806791875919016]
["Male","75-84","Clavicle",2.4659079155398792E-7,1.3390495381662499E-7,4.6035129206283033E-3,1.8324146856711351E-2,7.1873295455357642E-3,8.3366383736794938E-7,7.9726719729566846E-3,3.3179416225473081E-2,1.9545501456155036E-7,0.9287315128640975]
["Male","75-84","Femur",2.1395031502590434E-7,1.0952401226304072E-7,8.9582353256306892E-3,3.4423286115222079E-2,9.1059974540771936E-3,8.5457429410691881E-3,4.9430059067724625E-7,2.9345618696396646E-2,1.8362917124077192E-2,0.89125738456860903]
["Male","75-84","Hip",1.8499572344426412E-3,4.0307905473071946E-3,9.3423938691306104E-3,2.4130160288125958E-2,9.2189626676345438E-3,6.8954551612833512E-3,4.6583556558057035E-3,2.5740677489256823E-2,1.0176158835389438E-3,0.91311563120347417]
["Male","75-84","Humerus",2.3056005424203852E-3,4.9186848188373889E-3,1.7586407007399291E-3,5.7405561078032616E-2,9.9666167317655242E-3,1.0115219608193294E-2,9.2372219115662013E-3,2.7160159669620734E-2,2.6420131451058101E-3,0.87449028179371802]
["Male","75-84","Pelvis",2.2187653807728812E-7,9.0506447601624788E-8,2.1457959041012884E-3,2.7295191043477347E-2,1.078558515151427E-2,3.2553849550260717E-3,4.504201079187674E-3,2.6720218724195628E-2,2.2719782014868698E-7,0.92529308356169193]
["Male","75-84","Radius/Ulna",4.9571829917262411E-3,2.154023813558397E-3,3.9891493239544349E-7,4.0659708305318933E-2,4.3285717346809366E-3,7.5423788844675814E-3,6.3594228995999154E-3,2.9959534890469836E-2,1.6570478809229301E-3,0.90238172968432284]
["Male","75-84","Spine",1.1036955906525625E-3,2.3562330456989786E-3,1.4184492206830599E-3,3.7440918231737196E-2,8.0918240609834814E-3,9.0120644735113536E-3,2.8441497826011252E-3,0.11572008061301529,2.2094954288592677E-3,0.81980308955225767]
["Male","75-84","Tibia/Fibula",5.2850302437843439E-3,2.0235000577073587E-7,4.2106991965803461E-7,1.7113854529570101E-2,5.1453240041780162E-3,4.6552161420078267E-3,5.0489905987677556E-3,2.4635742654954097E-2,4.1974967759293037E-3,0.93391772163088327]
["Male","85+","Ankle",9.0402321562153085E-3,2.1241778960430615E-3,2.3659623560929226E-3,1.6781630323861062E-2,3.3605506856064561E-3,1.3284862472213251E-6,1.0993287453942542E-2,1.7538261313138574E-2,3.226135092767566E-3,0.93456843423608527]
["Male","85+","Clavicle",1.2437120970926541E-7,1.0273683517139166E-7,2.0154856069137393E-3,2.470881746577102E-2,3.9086035518906903E-3,9.1376252691400006E-7,1.6806406657092252E-2,3.7983815547237669E-2,1.0303520441969188E-7,0.91457562726531838]
["Male","85+","Femur",3.0344195186774794E-7,1.9458913385396568E-7,1.3775130998360627E-3,1.8503867640129339E-2,4.7440906594991231E-3,6.5770069554662398E-3,5.5706967943205282E-7,2.5643234428721427E-2,1.157537239562002E-2,0.93157785971996254]
["Male","85+","Hip",1.3705608825222001E-3,2.2093979538804834E-3,2.8688752653596222E-3,1.7773703959467251E-2,5.2811298383263171E-3,5.9074842227386506E-3,7.791396089000301E-3,2.0807636512631945E-2,5.4695981662340027E-4,0.93544285545944972]
["Male","85+","Humerus",1.6589355501959275E-3,3.3081071303431193E-3,1.2145530655883676E-3,5.5167618615363512E-2,7.1864417598237768E-3,1.2079093663883704E-2,1.7629544542907216E-2,2.8379758491082936E-2,1.2130964760381827E-3,0.87216285070477328]
["Male","85+","Pelvis",2.9675862286209028E-7,1.4730703628604264E-7,8.1091546384824014E-4,2.6996535224956028E-2,6.7946024033305455E-3,3.3454744857339125E-3,6.8353558570826024E-3,2.3798166330404873E-2,1.5534043926192574E-7,0.9314183508285454]
["Male","85+","Radius/Ulna",5.823811968224608E-3,2.8925978971962051E-3,1.4517872689385938E-7,6.1249459487833877E-2,3.8747262869995238E-3,1.069263326764411E-2,1.4147741848810966E-2,3.9234443617041127E-2,1.6348564865682675E-3,0.86044958396095439]
["Male","85+","Spine",1.1927286996288977E-3,2.7780346216516442E-3,5.1475908033510169E-4,4.0863764101060684E-2,6.3345812277641892E-3,1.1576112492906635E-2,5.2996655089736812E-3,8.9482556518608508E-2,1.2503752509863647E-3,0.84070742249808428]
["Male","85+","Tibia/Fibula",2.8492127089185695E-3,1.1832833631575943E-7,1.5427601010205451E-7,1.3715858438349765E-2,3.2461598517174763E-3,1.1296045555537992E-2,3.1200615014610683E-3,2.0197376376775357E-2,2.9649278955878287E-3,0.94261008506730559]
["Female","65-74","Ankle",1.2147064664210078E-2,6.1072258894578804E-4,3.5793726555445951E-3,8.2596940688345211E-3,7.7143910278615717E-3,2.6263303014438005E-3,1.2971926847602813E-2,1.6292217652626676E-2,8.8594753667227237E-3,0.92693880482620727]
["Female","65-74","Clavicle",1.0173882886077349E-2,1.0174900325237074E-2,9.2324452282694178E-3,2.7545079999348895E-2,1.3917178428182093E-2,4.3602261933988404E-3,1.6059875161553234E-2,5.7141116436942793E-2,5.8143205526711046E-3,0.84558097478831928]
["Female","65-74","Femur",7.2419863194269473E-3,5.571033672545861E-4,2.3119941702471329E-2,2.6926085078877594E-2,1.036874012195553E-2,7.0413190824285335E-3,1.6713144778239764E-2,3.3588895533859998E-2,1.576347448348505E-2,0.85867930953200056]
["Female","65-74","Hip",5.9741813864732278E-3,2.6771347031895264E-3,1.2728544654837335E-2,3.0133788448136814E-2,1.4327017379694572E-2,8.9948040422891933E-3,1.8308164025620868E-2,4.7254461935722115E-2,5.6737318848504173E-3,0.85392817153918588]
["Female","65-74","Humerus",6.6007133281257247E-3,2.550980316691391E-3,5.5760337335246648E-3,2.1647234795317837E-2,1.9276326238133478E-2,3.8673817326764556E-3,2.0254514828813727E-2,3.45247936763112E-2,3.2735588394397709E-3,0.88242846251096585]
["Female","65-74","Pelvis",6.6188222683994189E-3,2.7580321851520106E-3,1.1255055990248434E-2,2.9731807996812885E-2,1.451986118437671E-2,7.6317520777462308E-3,1.6760374657099793E-2,6.6454496417416048E-2,5.5158041254376351E-3,0.8387539930973108]
["Female","65-74","Radius/Ulna",9.5472845384225024E-3,1.7954519492017211E-3,3.3843327677520792E-3,1.5039149572381666E-2,1.2906831857481574E-2,3.2241094498522485E-3,1.8689404752902806E-2,2.7135878238978589E-2,4.7046753638294971E-3,0.90357288150919723]
["Female","65-74","Spine",7.6906493792570831E-3,1.9396455003300539E-3,4.7702810551956574E-3,2.6015830668227286E-2,1.3309861472664586E-2,8.650397075645638E-3,1.5611459448085209E-2,0.15653900694664291,4.6464580728396042E-3,0.76082641038111187]
["Female","65-74","Tibia/Fibula",1.1575850843033388E-2,1.1793118663113707E-3,7.0754504137822494E-3,1.4754248928138607E-2,8.0376046060472994E-3,6.1106374959385684E-3,2.2185326552235745E-2,2.6029515461834511E-2,1.2331181110918672E-2,0.89072087272175948]
["Female","75-84","Ankle",1.0074346269452562E-2,1.3034208342395921E-3,2.9153568164327209E-3,1.9867638844283244E-2,8.3786953760134428E-3,3.659008537495274E-3,1.3958549938249189E-2,3.2495194579814819E-2,8.7889233579543612E-3,0.89855886544606489]
["Female","75-84","Clavicle",5.7399908898689003E-3,6.8885294049809819E-3,4.2646393764676173E-3,3.7730078826471523E-2,1.4413389820687714E-2,1.7219761060377911E-2,1.8951017484479041E-2,5.3901463150688458E-2,3.4444272086612891E-3,0.83744670277731648]
["Female","75-84","Femur",5.2966742511720835E-3,7.5667542966926073E-4,1.9502040942657044E-2,3.1499734707715547E-2,1.0796037015910066E-2,7.4014736614200069E-3,1.5134533566846404E-2,3.1972594814381514E-2,1.7428017699252143E-2,0.86021221791097591]
["Female","75-84","Hip",3.5801434181926728E-3,2.3931317421807641E-3,9.8276796703951532E-3,2.9958193523653111E-2,1.438811992051566E-2,1.4392437004021976E-2,1.6871112849383391E-2,5.181620097793007E-2,4.1624459097099938E-3,0.85261053498401729]
["Female","75-84","Humerus",6.5452706009804171E-3,2.5917744143318829E-3,3.8398862478103268E-3,4.3839829048666519E-2,1.6319206763790662E-2,9.7079267566243296E-3,2.449680603649106E-2,4.7862999035759642E-2,4.5939615893953499E-3,0.84020233950614986]
["Female","75-84","Pelvis",4.8702033295732524E-3,1.8263796749145714E-3,3.7898850456653936E-3,4.3411990757220444E-2,2.0369438965710335E-2,1.3292974833581724E-2,2.4822132325640778E-2,7.7310956666373346E-2,4.667089703904761E-3,0.80563894869741537]
["Female","75-84","Radius/Ulna",6.5224668323373191E-3,2.0551578402389827E-3,4.4262496833320404E-3,3.2122369381356652E-2,1.6887144515356188E-2,8.7368756872211913E-3,2.0032433857415981E-2,4.3308661640951839E-2,3.5660290040357926E-3,0.86234261155775394]
["Female","75-84","Spine",4.145199660783948E-3,2.2563556251957084E-3,4.0154561664312253E-3,4.2066468745798634E-2,1.4636244559906898E-2,1.2719687073818471E-2,1.7699757811046778E-2,0.14750336019367552,3.3975376766197038E-3,0.75155993248672304]
["Female","75-84","Tibia/Fibula",1.1346389737464477E-2,2.1331710074033359E-3,1.0239057849798108E-2,2.7178048540617551E-2,9.2193967639335773E-3,2.4085131539013462E-3,2.031398588188682E-2,3.5467245497440666E-2,9.6765904066511386E-3,0.87201760116090299]
["Female","85+","Ankle",8.5168460620863255E-3,1.0423169709064381E-3,5.3970153715667841E-3,3.2689243923861369E-2,7.918850780306956E-3,9.4474616012783091E-3,9.2003919996162097E-3,3.1219599659575475E-2,7.9220189542116171E-3,0.88664625467659053]
["Female","85+","Clavicle",2.1831684783818481E-3,6.550734966928911E-3,5.3858613535104254E-3,6.3515073268929606E-2,9.68498988096924E-3,1.9649998304763206E-2,1.7953359425440251E-2,5.9774386633896753E-2,2.1836051557438058E-3,0.81311882253143597]
["Female","85+","Femur",5.7543963758610464E-3,1.6925971928486592E-3,8.7869191006953624E-3,2.1472308962367882E-2,7.0594288568372283E-3,6.0240762599259009E-3,7.7862873132125655E-3,2.7491150414335291E-2,1.3420241806746903E-2,0.90051259371716919]
["Female","85+","Hip",2.0408830652855841E-3,1.6589462129803149E-3,8.8824959177785517E-3,2.8108797041825749E-2,1.0391442068127922E-2,1.3098301814624833E-2,1.2939473356080942E-2,4.1400070732019817E-2,2.745278671093291E-3,0.87873431112018296]
["Female","85+","Humerus",3.584510277478312E-3,2.1806475228057583E-3,7.7208299250747896E-3,5.308645768321095E-2,1.4674655079808405E-2,1.2181542076170105E-2,2.120679950254158E-2,4.8897284415168711E-2,2.5602934005308419E-3,0.83390698011721065]
["Female","85+","Pelvis",4.994683263759357E-3,3.7463199048622152E-3,4.200795866791545E-3,5.4503994874434351E-2,1.6121825892526118E-2,1.4461269393564841E-2,1.721315641768285E-2,6.7821143640241707E-2,3.9019405231658063E-3,0.81303487022297127]
["Female","85+","Radius/Ulna",5.803076171924766E-3,3.4352446691611558E-3,4.6664011897736904E-3,6.0666287684072347E-2,1.8757396439858003E-2,1.2949901104824958E-2,2.0113438050870684E-2,5.5173797158414875E-2,4.2490190792878434E-3,0.81418543845181157]
["Female","85+","Spine",3.4229143485833319E-3,3.3410740826047506E-3,4.2592467990342654E-3,5.8078313752640914E-2,1.4345156181710426E-2,1.7235864131852224E-2,1.5018643613677513E-2,0.11195447740280438,2.342906697470502E-3,0.77000140298962161]
["Female","85+","Tibia/Fibula",4.7689436870069889E-3,1.5984506735993989E-3,1.1187698552041041E-2,2.8113076700863323E-2,7.4300666650994945E-3,6.2904639700246462E-3,5.8324364622489005E-3,2.912027977999879E-2,8.4980339021531633E-3,0.89716054960696423]
[]
[]
["Three Year Model"]
["Sex","Age","Initial Fracture Site","Second Fracture Status"]
[null,null,null,"Ankle","Clavicle","Femur","Hip","Humerus","Pelvis","Radius/Ulna","Spine","Tibia/Fibula","None"]
["Male","65-74","Ankle",8.9440986735007996E-3,3.4983588156904024E-3,3.1771798024233509E-3,4.789346388251515E-3,7.5859203887867618E-3,1.8695428742679548E-3,1.0492848697741882E-2,1.7334417026525193E-2,9.4120797939088296E-3,0.93289620753890334]
["Male","65-74","Clavicle",1.4397223660806025E-7,4.3144754750297803E-12,7.6118779977929936E-3,5.4310084161203219E-2,5.458150093811307E-3,2.8406994119495943E-7,1.1262852507753567E-2,3.1989570304530812E-2,8.3164492147161215E-8,0.8893669537239236]
["Male","65-74","Femur",1.3223646073300481E-7,1.7668646580300407E-8,3.1055661640409134E-2,3.979260660032944E-2,1.0015973125761876E-2,1.506699509380016E-7,2.6560007213307527E-7,3.790113774229191E-2,2.1708005970182347E-2,0.859526048745895]
["Male","65-74","Hip",3.0676692353800781E-3,2.7360576393140532E-3,8.7759766871681171E-3,4.4568087077963107E-2,1.5505860768256474E-2,5.9246289852605645E-3,9.6043686871586566E-3,2.5126374379106767E-2,4.2542482271256598E-3,0.88043672831326647]
["Male","65-74","Humerus",2.7750063840570869E-3,2.575009047641894E-3,1.1725647219041001E-7,3.2562230652035722E-2,1.8220604110969322E-2,3.6475402917552015E-3,1.7680335756065525E-2,3.2112746795814537E-2,3.8626483442198117E-3,0.88656376136096882]
["Male","65-74","Pelvis",7.0794683122992579E-3,2.9368547028984193E-7,2.7329969959068918E-3,3.2762966511943215E-2,3.7950546366486535E-3,5.819409567726524E-3,8.7276732230075291E-3,1.4909503191811935E-2,7.3597375469490594E-8,0.92417256027781025]
["Male","65-74","Radius/Ulna",5.527141597010031E-3,2.438957738431175E-3,7.3809049765067146E-8,3.2052359232859172E-2,6.4164871282879838E-3,1.3906493435135129E-3,6.5927515246392426E-3,1.8788984958580741E-2,1.9063125837744596E-3,0.92488628208385393]
["Male","65-74","Spine",4.9900813980052758E-3,1.6389441472640675E-3,8.8280779202925598E-4,2.786725160621489E-2,9.5434229591482359E-3,7.4876292234923357E-3,5.4753282150269734E-3,0.12441866656926644,1.7465671307965583E-3,0.81594930095875606]
["Male","65-74","Tibia/Fibula",1.0714569612168623E-2,5.2823458995942627E-12,2.2365731109287255E-7,1.3466491129362254E-2,3.0723564278378321E-7,8.6954896593169576E-3,1.0138139106637445E-2,2.1526924656781028E-2,8.5960643196853776E-3,0.92686179061781204]
["Male","75-84","Ankle",1.51135054755371E-2,1.9598907785005177E-3,1.7833413123323971E-3,1.7412507092616845E-2,9.867916593724815E-3,3.2870442162088323E-3,1.470207656061414E-2,2.6025810221190149E-2,4.3465774679160548E-3,0.90550133028135915]
["Male","75-84","Clavicle",1.3800526216497655E-7,3.698942969968958E-12,9.6396158485813326E-3,2.1729727590687021E-2,1.2030935105500212E-2,1.9117549268349881E-7,1.7762353720606226E-2,5.0384382604324721E-2,9.1248980159005454E-8,0.88845256469686651]
["Male","75-84","Femur",7.9881489978431434E-8,5.4934642535287209E-8,1.5328802930644326E-2,5.0528301402723193E-2,1.3296935606032921E-2,1.597554424278234E-7,3.2588487052177731E-7,2.9389386422205538E-2,1.7147177848270922E-2,0.87430877533367757]
["Male","75-84","Hip",2.649547357958513E-3,4.7521104141492942E-3,7.665952855263199E-3,4.0657723465240915E-2,1.1167288298001061E-2,7.6384050408019113E-3,7.6140012116226253E-3,2.7031120600608617E-2,2.7198828705725271E-3,0.88810396788578139]
["Male","75-84","Humerus",2.5436819368841205E-3,2.7957841249252116E-3,1.2738616863705959E-7,6.3682679157747182E-2,1.5104800585307021E-2,9.461326666812684E-3,8.806698392087484E-3,4.2457883700993675E-2,5.8469058854480477E-3,0.84930011216362589]
["Male","75-84","Pelvis",3.1194119218704145E-3,1.3179932760314672E-12,4.6137662501797615E-3,5.3900755659614184E-2,9.3562493290611486E-3,1.5884511222163653E-2,6.2892667970773884E-3,3.2692460889235282E-2,1.236871081681518E-7,0.87414345424237205]
["Male","75-84","Radius/Ulna",3.6741129083350606E-3,7.0760208157972801E-3,2.5463274108862859E-7,5.2937486534147038E-2,6.6993581147552677E-3,1.8470905362899929E-3,5.7391534566753402E-3,4.493026935424823E-2,1.2314738671836464E-3,0.87586477977982713]
["Male","75-84","Spine",3.1776315669334548E-3,1.5760727145190001E-3,1.5535398931098799E-3,3.9253324019031192E-2,9.566200732825143E-3,1.1057800748907083E-2,4.9408438133175872E-3,0.13584793416556468,1.6008522265327386E-3,0.79142580011925934]
["Male","75-84","Tibia/Fibula",1.2449804141255294E-2,2.0633796868615751E-7,7.5400616330507609E-8,2.1557092724823767E-2,2.1929447232836696E-7,4.0630960753681305E-7,1.2937174239601812E-2,2.0156058056267856E-2,1.3238177515676759E-2,0.91966078597970968]
["Male","85+","Ankle",2.7700128315976133E-3,9.7413276510163824E-8,1.9451750101503185E-3,1.5241956976319497E-2,2.1557785890647008E-3,3.7108165714947812E-3,1.8166004313593605E-2,1.9678997544243477E-2,9.1472377872221441E-3,0.92718392296303742]
["Male","85+","Clavicle",4.0701867441936704E-8,4.4960704794471151E-7,8.0700801697479937E-3,5.6829946648982263E-2,8.0708872181167058E-3,8.5805995484658327E-7,2.7717484308062618E-2,4.9287150913754102E-2,9.5075753061242746E-8,0.8500230072967131]
["Male","85+","Femur",4.1492386631694715E-8,5.7708816208409749E-8,5.5677966311356583E-3,2.2628256157280837E-2,4.5181354504900224E-3,1.8040601610121579E-7,1.9375799962124539E-7,1.4858905727527311E-2,2.0271164287926011E-2,0.93215526838042162]
["Male","85+","Hip",1.4071658008901217E-3,2.5794536454970336E-3,4.8306334647978824E-3,3.082967225722405E-2,7.5698829970727924E-3,8.4890543589849297E-3,7.5328812985826438E-3,2.2255242775088988E-2,2.1068155957916957E-3,0.91239919780606982]
["Male","85+","Humerus",1.6789485279477584E-3,1.6163454749455364E-3,1.190541318546573E-7,4.8118548248469041E-2,2.0785751361123594E-2,1.2652663182182132E-2,2.1893016862566762E-2,3.9384318176563772E-2,5.881240571774261E-3,0.84798904854029533]
["Male","85+","Pelvis",4.0360638008571945E-4,1.1110718602861221E-7,2.9990177467799054E-3,3.7954376398645136E-2,7.5797848649227003E-3,2.0719697488631655E-2,6.4313522365607202E-3,2.4910385810091456E-2,6.5189301971577968E-8,0.89900160277779473]
["Male","85+","Radius/Ulna",1.2992664660052237E-3,6.0982378249881813E-3,9.3635576891449783E-8,6.8278835861143236E-2,6.6545434590252021E-3,5.8556080806192162E-3,7.9486320787528868E-3,4.5595081474232448E-2,5.150016138167993E-3,0.85311968498148871]
["Male","85+","Spine",1.6656927751714657E-3,2.0551341344956183E-3,8.2270393488968242E-4,4.4395633414372401E-2,7.8911440005414567E-3,1.760426351853427E-2,5.0265864626526432E-3,9.9220149941952371E-2,1.8623537004244875E-3,0.81945633811696561]
["Male","85+","Tibia/Fibula",3.2688699935764791E-3,3.9689842058672231E-12,7.9142887038726753E-8,1.4355660975404753E-2,1.9174280475271702E-7,5.6388758566635582E-7,5.9891192073859021E-3,2.5399877659893544E-2,1.7389113638761548E-2,0.93359652374773139]
["Female","65-74","Ankle",1.4521568118526319E-2,1.6423612627882204E-3,6.9673503420421027E-3,9.1361128101553387E-3,1.0974067622789555E-2,3.405306671880738E-3,1.5399499373995399E-2,2.3963575756779022E-2,1.7008870476568821E-2,0.89698128756447459]
["Female","65-74","Clavicle",2.1052642958753361E-2,8.3140892314978474E-8,6.5196853037792456E-3,5.5630193837230356E-2,7.6532172002302216E-3,2.1052642958753368E-2,1.5124653710514019E-2,7.7900012121667653E-2,9.0870613623482747E-8,0.79506677789756575]
["Female","65-74","Femur",1.8779280701224477E-2,1.3125602729771893E-8,4.5370139651410554E-2,2.4830039037937377E-2,1.6757638291460257E-2,9.389144408164421E-3,1.8779280701224477E-2,6.2774828416303968E-2,2.8481483424660167E-2,0.77483815224201158]
["Female","65-74","Hip",6.8322433967988004E-3,2.5016564234371093E-3,1.9771728856601608E-2,4.239596030387259E-2,2.2500849900371368E-2,1.1071265762207008E-2,2.3017460540372948E-2,6.0676294225760277E-2,8.1535472816934712E-3,0.80307899330888488]
["Female","65-74","Humerus",1.2567801443054168E-2,3.3673904668223903E-3,1.1888102406548733E-2,3.0782246215722547E-2,2.0887232814987125E-2,4.4408158173738993E-3,4.2150144059227845E-2,5.3342751532905582E-2,4.3909170575935873E-3,0.81618259818576411]
["Female","65-74","Pelvis",2.4664310908821638E-2,1.376125859908299E-2,3.4835688373950125E-3,3.2647141309322003E-2,7.6419843129324214E-3,6.8247608234845419E-3,4.2349528866527882E-2,5.3616523578018951E-2,4.5871425692205793E-3,0.81042378019519401]
["Female","65-74","Radius/Ulna",1.3054048601317652E-2,1.6699577443161082E-3,3.5109909631102451E-3,2.5862610697741005E-2,1.9917491655195303E-2,4.6664486560902951E-3,2.5505607330478103E-2,3.1046880095154973E-2,5.9786711246140271E-3,0.86878729313198244]
["Female","65-74","Spine",1.0157900975249198E-2,3.2157217398085533E-3,5.5976777480267938E-3,3.0067709561563388E-2,1.4574185158510196E-2,9.3535114026262554E-3,2.4976910644280471E-2,0.18561076576736518,4.2505646115198808E-3,0.71219505239105019]
["Female","65-74","Tibia/Fibula",1.4624841572244616E-2,6.6502006381462721E-8,2.7605680324117646E-2,2.8992047272411909E-2,1.5337818261874614E-2,3.0673732007269064E-3,2.0964311935158547E-2,3.2285608071546713E-2,1.2303964904476321E-2,0.84481828795543634]
["Female","75-84","Ankle",2.0323343053288076E-2,9.4437696002628885E-4,2.240883324696697E-3,3.7689069906635238E-2,1.7386084232946988E-2,7.0622954238412925E-3,2.4193164377371745E-2,3.120162352493679E-2,6.8879267285447444E-3,0.85207123246771221]
["Female","75-84","Clavicle",1.6807722430105605E-2,7.357085880769219E-8,4.7575767346433326E-3,2.5397187746492404E-2,2.0660805457395015E-2,1.6806041741898411E-2,2.6894947649672846E-2,0.10700102878756056,8.792190763162673E-8,0.78167452795946535]
["Female","75-84","Femur",9.828379951944289E-3,4.3815370129524908E-8,1.3423059874165182E-2,3.7422574330641133E-2,2.8342830734842558E-2,1.2283711470434264E-2,2.7025317560084049E-2,4.4158000131259145E-2,2.0636763353754486E-2,0.80687931877750485]
["Female","75-84","Hip",5.0171849803949771E-3,4.5780311030861132E-3,1.015909146627289E-2,4.5049821218826634E-2,2.0260415673019852E-2,1.7283789092780298E-2,2.1003078359772383E-2,5.8111815934142122E-2,4.6925165460771408E-3,0.81384425562562768]
["Female","75-84","Humerus",9.7419486604157016E-3,3.8314417387294991E-3,7.5559940746534118E-3,6.9744681398860822E-2,2.1532020772992492E-2,1.3872953669105259E-2,2.4035722601556401E-2,6.2448434327960954E-2,5.9508922449410234E-3,0.78128591051078444]
["Female","75-84","Pelvis",8.8998731849724375E-3,6.2674056226711413E-8,3.3318810612265257E-3,6.025810148165698E-2,2.2688019906626902E-2,2.1726593730711743E-2,3.3833012525270767E-2,0.10080994664039666,6.6841364687810888E-3,0.74176837232630055]
["Female","75-84","Radius/Ulna",7.2009861359260156E-3,4.9824312761620583E-3,6.9540065811350433E-3,4.8560865988651968E-2,2.5376358679962404E-2,7.325181845845955E-3,2.4943617552819132E-2,6.450985352519871E-2,3.3933511738715632E-3,0.80675334724042713]
["Female","75-84","Spine",5.4845463337356371E-3,3.249283075836995E-3,5.7784436398145185E-3,4.9197085304133067E-2,1.8214798716199243E-2,1.6680400041685538E-2,2.5871303460695858E-2,0.17992397129319973,3.4974508688640437E-3,0.69210271726583539]
["Female","75-84","Tibia/Fibula",1.4343106539971404E-2,2.7171117140663368E-3,5.4345104683518695E-3,5.3665452202657948E-2,1.3587760798923853E-2,1.7229015518445005E-7,3.0568481026465633E-2,2.6716181921425282E-2,1.6933085776241447E-2,0.83603413726174103]
["Female","85+","Ankle",6.1983096802162739E-3,4.3288507350487691E-8,4.1221572168558471E-3,4.3810636162230902E-2,4.1007776344178376E-3,6.1023663528809082E-3,1.9754407335057747E-2,2.3921475755824206E-2,1.2029676309179232E-2,0.87996015026482965]
["Female","85+","Clavicle",7.6928690961775197E-3,7.6913306762054264E-3,6.2644688759306098E-3,8.2260727639334369E-2,1.3955780683769587E-2,5.384415246406208E-2,2.5865080308649271E-2,9.8977624393969052E-2,7.0902405875823328E-8,0.70344789495949622]
["Female","85+","Femur",8.6583841344037883E-3,4.3264769809576019E-8,8.3806721122500882E-3,2.2683280598596475E-2,1.059760588395519E-2,1.0821426626487092E-2,1.0822508823258673E-2,2.3072192755853278E-2,2.0635814116313451E-2,0.8843280716841122]
["Female","85+","Hip",4.4297581454401302E-3,2.2895264089462077E-3,1.0785956758396683E-2,4.5319843723228212E-2,1.4813589780344642E-2,1.4688207895126431E-2,1.3718495897937957E-2,4.846515023753354E-2,3.0136289622281474E-3,0.84247584219081795]
["Female","85+","Humerus",1.0380381443049034E-2,1.9818239844934939E-3,1.1553837408504391E-2,6.789196046300576E-2,3.1035062848489767E-2,1.377585779470141E-2,3.8306424550330544E-2,5.6980985527654425E-2,4.8192466778620236E-3,0.76327441930190898]
["Female","85+","Pelvis",1.9524676565432966E-3,4.9649043747561584E-3,3.7217501848548227E-3,5.741433652847603E-2,2.0220441283092454E-2,2.2102573228930722E-2,2.3296288066827712E-2,7.935996622972441E-2,2.979018957560379E-3,0.78398825348923407]
["Female","85+","Radius/Ulna",4.0972617786107215E-3,3.8290582748467363E-3,4.1700119091493421E-3,8.042450286185078E-2,2.6314467729562495E-2,1.7186408908384413E-2,2.2074407188861885E-2,6.4181749316232259E-2,1.1387529939276211E-2,0.76633460209322513]
["Female","85+","Spine",4.7789212651608761E-3,3.9032707062124686E-3,5.1552460376336415E-3,7.3811522015386974E-2,1.6204919099922731E-2,2.0303937734182497E-2,1.7374695120754152E-2,0.13310187923737679,3.3730414483884655E-3,0.72199256733498152]
["Female","85+","Tibia/Fibula",6.3038856927930967E-3,4.8486081523831966E-8,9.6771382272936614E-3,4.7739837636158675E-2,1.2903082288281286E-2,1.840995746610099E-7,9.4071140785619602E-3,3.4338467248852499E-2,1.8568493004225004E-2,0.86106174923817758]
[]
[]
["Four Year Model"]
["Sex","Age","Initial Fracture Site","Second Fracture Status"]
[null,null,null,"Ankle","Clavicle","Femur","Hip","Humerus","Pelvis","Radius/Ulna","Spine","Tibia/Fibula","None"]
["Male","65-74","Ankle",1.3706945515522942E-2,7.142555862999566E-3,1.8331046295662638E-7,2.2368545858463549E-3,9.7675989292193635E-3,3.3745793391459686E-3,1.66843420249803E-2,1.880778117142377E-2,1.0395475634035853E-2,0.91788368362636286]
["Male","65-74","Clavicle",3.4409199473306364E-7,5.7064205613098974E-8,2.4670099287959644E-7,3.2732435258021872E-2,4.324112262900164E-7,2.4453954844626624E-7,1.3163745399190569E-2,5.8795568722743038E-2,9.2349200393355231E-8,0.89530683346287621]
["Male","65-74","Femur",3.0785613571216038E-7,1.4140470778157617E-12,3.5127701089562716E-2,6.7093691559036703E-2,1.6864149275482181E-2,2.4631238350735352E-7,4.3211881364200064E-7,3.238158911322879E-2,3.4670529218961944E-2,0.81386135345498067]
["Male","65-74","Hip",5.2304894947148442E-3,4.1932364882809369E-3,8.8478356282754474E-3,4.8162122281327643E-2,2.2816246941210094E-2,7.441503169379189E-3,7.8394828355478098E-3,3.738886255158088E-2,5.7509949080744912E-3,0.85232922570160852]
["Male","65-74","Humerus",1.2442319790730639E-2,2.614496532219989E-3,1.5661367533005125E-7,3.7825048741562436E-2,1.8045052514381103E-2,2.614496532219989E-3,2.8013080121172481E-2,4.9336863910104403E-2,3.5718067074016397E-3,0.84553667853653192]
["Male","65-74","Pelvis",2.4818689007942946E-2,2.4461254661561337E-7,3.7954589173384563E-7,5.1612555080014298E-2,7.2868033972579051E-3,7.5335393033969366E-3,1.637515027200024E-2,2.4482656242487143E-2,3.7177951663082832E-12,0.86788998253474448]
["Male","65-74","Radius/Ulna",5.1612863892354279E-3,1.7823876621129197E-3,9.7491423168027761E-8,2.7934258775606097E-2,3.9355626145486195E-3,2.3573871094241423E-3,1.2770704650396408E-2,3.1107652458078817E-2,1.0385949142381673E-2,0.9045647137067927]
["Male","65-74","Spine",7.6793834844649817E-3,3.0377201046482955E-3,9.0294581624579279E-4,2.2599036406235902E-2,1.1001232021454655E-2,1.0800660271128611E-2,1.046260287472619E-2,0.1441287890798893,1.7743022880139302E-3,0.78761332765319236]
["Male","65-74","Tibia/Fibula",9.9515232433182426E-3,6.6889670904974395E-12,2.2558661500190514E-7,2.1199839888796423E-2,4.3724959480050096E-7,4.8082538882267249E-7,1.9382946425269085E-2,2.2486016547602239E-2,1.3103686845967823E-2,0.91387484338075864]
["Male","75-84","Ankle",1.1764749978369973E-2,9.6552444651458889E-8,6.606811984426773E-8,1.5519165913844791E-2,7.2165411328737562E-3,5.1329255056610026E-3,1.0914320896859822E-2,3.7250887522393042E-2,3.6277614247357181E-3,0.90857348500469748]
["Male","75-84","Clavicle",1.0458007441341666E-7,3.766838092550143E-8,5.4541474501406234E-12,3.2773179487512974E-2,3.1554319280940525E-2,2.5321047004535389E-7,9.9583409092107913E-3,6.6248344928360514E-2,9.3593509703530759E-8,0.85946532633608597]
["Male","75-84","Femur",1.3292884852212254E-8,1.3097708490760518E-12,2.4288096165683417E-2,0.10362580280056587,1.2824871359987139E-2,1.449511687645053E-7,1.8036758700433617E-7,2.8645213484407583E-2,2.4452350850319857E-2,0.8061633267260857]
["Male","75-84","Hip",2.7703235621107172E-3,3.3056466848577406E-3,6.2291016365057482E-3,4.9083951244372009E-2,9.974502858666974E-3,7.281465324584251E-3,3.0809319204783332E-3,3.6500724978060527E-2,4.0494137712574763E-3,0.87772393801910631]
["Male","75-84","Humerus",3.5877190329598216E-3,3.4054756916493071E-3,1.1846235036697432E-7,9.2757135737702001E-2,1.2153104283115222E-2,3.9529598748463315E-3,6.7266996775159653E-3,4.614481638885766E-2,3.1299737993601253E-3,0.82814199705164326]
["Male","75-84","Pelvis",5.6334993754217147E-3,1.9398764252539404E-8,1.4901541212755977E-11,8.5089088511612829E-2,3.7076520577905862E-3,2.8979793398286359E-2,7.2790387070396081E-3,3.5089390076477232E-2,1.4098441688405624E-7,0.83422137747528902]
["Male","75-84","Radius/Ulna",1.135084316431731E-3,3.9454970282516008E-3,2.7442705659534078E-7,7.749201786613362E-2,2.430203347084815E-3,3.1195068729227985E-3,4.9227875033068169E-3,6.8681160684634313E-2,5.1557620597114237E-3,0.83311770589446621]
["Male","75-84","Spine",1.4150692764625845E-3,1.5046291991280627E-3,1.0140441944886595E-3,4.5129967266711049E-2,8.0812493938217152E-3,1.3063818840931322E-2,4.7438378852616876E-3,0.14526308656804704,1.6131462886105053E-3,0.77817115108653734]
["Male","75-84","Tibia/Fibula",5.2613827339527963E-3,2.0752927775773932E-7,8.5189009355983148E-8,2.8206765750006319E-2,1.2226275121649732E-7,9.3392664099782264E-12,1.1245430511478111E-2,2.5458810441154851E-2,1.543290424566382E-2,0.91439429132736638]
["Male","85+","Ankle",5.4762786712964752E-3,1.7959500679421654E-7,5.6300552785504287E-8,1.5372709019119387E-2,2.4031822479052881E-3,4.1337864201082056E-3,2.5743799337973852E-2,4.6819219687557416E-2,8.2936801387621818E-3,0.89175710858171764]
["Male","85+","Clavicle",1.1018515055533894E-12,6.1541064824973591E-8,2.1852592835099723E-7,6.2645641804799077E-2,9.2525030484679211E-3,6.0917444562945292E-7,1.7727092423882339E-2,7.5739067818987399E-2,1.3015221794108244E-7,0.83463467550910475]
["Male","85+","Femur",2.7645086237087544E-8,2.8772811791334488E-7,1.5192554028264438E-2,6.6500232325141892E-2,7.8311192317829913E-3,9.6855095352302447E-8,1.3999630077592952E-7,1.3992275694795513E-2,1.5705413176913489E-2,0.88077785331850134]
["Male","85+","Hip",2.7598790424922057E-3,5.1823304741642762E-3,3.5418700613651473E-3,3.50142406196252E-2,6.3493652900418864E-3,5.6533871074686444E-3,5.3018448960649792E-3,3.0366950231526735E-2,3.3426197424969088E-3,0.9024875125347539]
["Male","85+","Humerus",3.7701825628419865E-3,7.7213670350892369E-3,1.7654962236602041E-7,7.043507936142826E-2,1.4299026034123974E-2,6.494082810482295E-3,2.2558037338636115E-2,5.5923876929245914E-2,5.8304339143754004E-3,0.81296773746415452]
["Male","85+","Pelvis",1.2553049511027834E-3,1.0380945860655393E-7,1.4513394722325862E-7,7.4847037580026102E-2,4.8006269885269692E-3,4.0126883934765809E-2,7.8880308791580752E-3,3.1464078561418522E-2,2.0335578693617163E-7,0.83961758480580884]
["Male","85+","Radius/Ulna",1.1439645863399925E-3,7.1970263695416712E-3,6.4082960031610137E-8,8.4670557877884578E-2,2.7162926017096521E-3,6.9564406069236879E-3,9.9748600886987709E-3,7.0263182122464241E-2,1.8231811200204669E-2,0.79884580046327269]
["Male","85+","Spine",1.0643706938565133E-3,3.6871423485014222E-3,5.4884002505692624E-4,4.5995875375789558E-2,6.1925795391097813E-3,1.8693048685888062E-2,5.5259309266692466E-3,0.10881527575487679,1.8084167282961339E-3,0.80766851992195554]
["Male","85+","Tibia/Fibula",2.3247642847061866E-3,4.1693180610790285E-12,1.0227826723999474E-7,2.3936072985417486E-2,1.8314848347246606E-7,6.7961242599773204E-12,5.7579796097354937E-3,2.5005271208370941E-2,3.7385639159079748E-2,0.90558998731497409]
["Female","65-74","Ankle",1.3285682767846134E-2,1.8760846492779954E-3,9.3810056721169606E-3,6.917033354988977E-3,1.8072419141830741E-2,4.7421327026451361E-3,1.813215663765512E-2,2.1325146682485321E-2,1.6032003957980934E-2,0.89023633443317263]
["Female","65-74","Clavicle",2.8170368607408486E-2,4.6743781220821368E-8,1.4084440351803982E-2,4.0665117737095823E-2,2.6227176177729372E-7,1.4084440351803982E-2,2.1866825411059509E-2,0.11268210982875028,1.0194987030454337E-7,0.76844628674666471]
["Female","65-74","Femur",2.8368301223881745E-2,2.8846334342007687E-8,3.4829766059403404E-2,3.4896005522479165E-2,1.756963921281372E-2,1.4184819843896326E-2,2.1277972181596112E-2,7.7981558380381705E-2,3.4934412248380467E-2,0.73595749648083297]
["Female","65-74","Hip",4.4727825348253999E-3,2.2924261387248309E-3,2.3644031281235635E-2,6.0359038597865705E-2,3.0009401201992185E-2,1.3908646623334608E-2,2.2737389999116609E-2,7.3325666608464998E-2,9.4084733736829688E-3,0.75984214364075697]
["Female","65-74","Humerus",1.5924783374931088E-2,1.4618117609175208E-3,1.691289922492932E-2,4.1304712539727062E-2,2.0869246135924814E-2,5.6903775462862106E-3,4.5868407876562545E-2,6.3795113629326411E-2,5.4514225803710776E-3,0.78272122533102395]
["Female","65-74","Pelvis",2.4214980136181986E-2,1.3793141219677625E-2,6.8968960015779067E-3,4.7606602306854387E-2,1.7675357812110649E-2,3.7790454660915182E-3,3.4604075202403155E-2,7.9517049321696773E-2,1.5653537354932585E-7,0.77191269599803247]
["Female","65-74","Radius/Ulna",1.5099869583332105E-2,1.8242813103358309E-3,5.3307188988637481E-3,2.9291170044008871E-2,2.4907927017374168E-2,4.9233348056218129E-3,3.1908936349827229E-2,3.6204597260621307E-2,9.9342273941771479E-3,0.84057493733583777]
["Female","65-74","Spine",1.4894838095687287E-2,2.9874336756661791E-3,8.350444044220362E-3,3.5403642714927824E-2,1.6225997118659987E-2,1.0796421281543745E-2,2.7371839143634835E-2,0.21294091149394204,4.9451866838144381E-3,0.66608328574790321]
["Female","65-74","Tibia/Fibula",1.5546688296536597E-2,6.8858811811237557E-8,3.3654529210132698E-2,3.5418973270729077E-2,1.4423338801092166E-2,9.6152237015296738E-3,2.1670408030688711E-2,3.9751502719893132E-2,1.4381571710122679E-2,0.81553769540046339]
["Female","75-84","Ankle",2.9085350057459731E-2,4.2984740083303984E-8,1.9267499369649366E-3,4.0086299314814292E-2,2.3977948919115765E-2,1.079879563852164E-2,2.9210686342597582E-2,4.0712477297001039E-2,5.2421651678473558E-3,0.81895948434093757]
["Female","75-84","Clavicle",2.2730359255683286E-2,5.4435254305895307E-8,1.846961423687592E-7,3.5399632654450765E-2,3.577328704995543E-2,2.2725813638409018E-2,4.2402250687988197E-2,0.12738340085571334,1.0076710882571847E-7,0.71358491595929441]
["Female","75-84","Femur",3.5210858612045714E-3,5.10384863936427E-8,1.546639220956721E-2,5.0737710214551417E-2,2.7041410826112201E-2,1.4084422864966291E-2,2.4649815738164028E-2,7.4938623512475586E-2,2.6017500957592109E-2,0.76354298677688015]
["Female","75-84","Hip",6.4395945535190473E-3,3.2643660569234055E-3,1.0109398953838873E-2,5.4760305571838364E-2,2.5107474247775159E-2,2.1714181677381282E-2,2.3452229866005054E-2,7.3535301292188535E-2,6.6151705570039439E-3,0.77500197722352637]
["Female","75-84","Humerus",1.2373724304211657E-2,3.4095326073662145E-3,7.70196288584512E-3,8.9386996324140391E-2,2.6665623236597203E-2,1.3607964095598741E-2,2.8656354514001385E-2,6.076264548024584E-2,4.7288177145180356E-3,0.75270637883747549]
["Female","75-84","Pelvis",1.4570249900240681E-2,1.9268408023182713E-3,1.603713926914638E-7,6.8134369110724138E-2,1.6784935232283256E-2,2.2618807981615127E-2,3.9369120751830085E-2,0.11416922433962907,5.7804513724699419E-3,0.71664584013749677]
["Female","75-84","Radius/Ulna",8.8178515677228599E-3,7.1254882770629101E-3,8.9020203262007384E-3,7.0659901923262339E-2,2.8754039275699934E-2,1.0154106997277902E-2,3.1534376048517117E-2,8.0212411031881273E-2,4.8103904425985762E-3,0.74902941410977641]
["Female","75-84","Spine",7.2311158986589812E-3,2.5906099944938616E-3,5.5200855982094656E-3,6.1001189689566658E-2,2.2109190174646822E-2,2.0194158251075709E-2,3.1569560059989524E-2,0.2136829484387508,4.3513814399644855E-3,0.63174976045464382]
["Female","75-84","Tibia/Fibula",2.2615796355404887E-2,3.9061358665119796E-3,7.8126843837403679E-3,4.2463658495396184E-2,7.8126843837403748E-3,3.0161735387959766E-7,3.3399756712618467E-2,4.679838135541807E-2,1.7120021317652216E-2,0.81807057951216355]
["Female","85+","Ankle",1.128303477740489E-2,4.3515222020966065E-8,2.9499854862815667E-3,5.4592704163048685E-2,8.6227171570015717E-3,8.4595861199955567E-3,3.2970072314876038E-2,4.5727517512132727E-2,8.0671499223951663E-3,0.82732718903164182]
["Female","85+","Clavicle",1.9001820159759963E-7,4.6081882363436312E-8,1.2658251657932187E-2,8.857142666768901E-2,1.0784493415090917E-2,5.0633292145987704E-2,3.4388056436868229E-2,0.12390427695993873,8.9803133189778942E-8,0.67905987681327606]
["Female","85+","Femur",6.0239267277728921E-3,6.0233243652187398E-3,1.7157567450359727E-2,4.4187384378366015E-2,1.7600711494296442E-2,9.0362053764594559E-3,9.0371090421796311E-3,3.2289410463251678E-2,1.1103266308284225E-2,0.8475410943938112]
["Female","85+","Hip",5.3268995634621662E-3,2.7750516885151201E-3,1.0289967315625519E-2,5.3510043942090309E-2,1.7195872318159153E-2,1.6339236679778747E-2,1.9241499398515809E-2,5.4471050307272222E-2,3.6622194602185234E-3,0.81718815932636246]
["Female","85+","Humerus",1.0195546994578111E-2,3.9584441466628852E-3,1.940345330823233E-2,8.7799082948371507E-2,3.1875926056425002E-2,2.0459576385889407E-2,4.3265305527625635E-2,6.1914292881496885E-2,5.5786736767831774E-3,0.7155496980739352]
["Female","85+","Pelvis",2.6859714381704692E-3,5.5708211370768491E-3,2.7858205569960084E-3,8.1797155114451875E-2,2.3297416263677397E-2,3.0242325942819837E-2,2.0265956619170793E-2,9.0816634162568577E-2,5.5713782470455993E-3,0.73696652051802258]
["Female","85+","Radius/Ulna",7.1509960960121294E-3,6.830184327436515E-3,3.6061894510511605E-3,0.102488609044543,3.3510260017864592E-2,2.1266895485481982E-2,2.9522469787777599E-2,7.0805144545379603E-2,1.1055761127803874E-2,0.71376349011664952]
["Female","85+","Spine",4.606310649029036E-3,3.5110925033044887E-3,5.4549706754488227E-3,8.6862572522434886E-2,1.8591923082849068E-2,2.856343043563337E-2,1.7882583378252683E-2,0.14536200881101177,3.3368499844713185E-3,0.68582825795756452]
["Female","85+","Tibia/Fibula",8.3409631860004423E-3,4.2776515879453333E-8,1.6879142694378367E-2,4.9619241880005334E-2,1.2657864221871073E-2,2.1383170012483588E-7,8.1962661223234073E-3,4.1139910125880697E-2,2.7960105752321236E-2,0.83520624940900345]

{"sheet":"Report","index":11,"n_rows":193,"n_cols":11,"rows_kept":193,"cut":false,"hidden":false,"merged":[[133,0,134,0],[133,1,134,1],[133,2,134,3],[133,4,134,4],[133,5,133,8],[134,5,134,6],[134,7,134,8],[130,2,130,3],[130,5,130,6],[130,7,130,8],[79,2,79,3],[65,0,65,11],[68,1,69,1],[68,2,69,3],[68,4,69,4],[68,0,69,0],[69,7,69,8],[68,5,68,8],[5,0,5,7],[33,2,33,4],[33,5,33,7],[33,8,33,10],[33,0,34,0],[33,1,34,1],[28,0,28,11],[13,0,14,0],[13,1,14,1],[15,0,16,0],[15,1,16,1],[74,7,74,8],[70,2,70,3],[71,2,71,3],[73,2,73,3],[72,2,72,3],[69,5,69,6],[78,5,78,6],[77,5,77,6],[76,5,76,6],[75,5,75,6],[74,5,74,6],[73,5,73,6],[72,5,72,6],[71,5,71,6],[70,5,70,6],[83,7,83,8],[79,7,79,8],[80,7,80,8],[81,5,81,6],[81,7,81,8],[82,5,82,6],[82,7,82,8],[75,7,75,8],[76,7,76,8],[77,7,77,8],[78,7,78,8],[80,5,80,6],[79,5,79,6],[74,2,74,3],[75,2,75,3],[76,2,76,3],[77,2,77,3],[78,2,78,3],[70,7,70,8],[71,7,71,8],[72,7,72,8],[73,7,73,8],[88,5,88,6],[88,7,88,8],[89,5,89,6],[89,7,89,8],[88,2,88,3],[89,2,89,3],[86,0,87,0],[86,1,87,1],[86,5,86,8],[87,5,87,6],[87,7,87,8],[86,2,87,3],[86,4,87,4],[92,5,92,6],[92,7,92,8],[93,5,93,6],[93,7,93,8],[92,2,92,3],[93,2,93,3],[90,5,90,6],[90,7,90,8],[91,5,91,6],[91,7,91,8],[90,2,90,3],[91,2,91,3],[96,5,96,6],[96,7,96,8],[97,5,97,6],[97,7,97,8],[96,2,96,3],[97,2,97,3],[94,5,94,6],[94,7,94,8],[95,5,95,6],[95,7,95,8],[94,2,94,3],[95,2,95,3],[100,5,100,6],[100,7,100,8],[101,5,101,6],[101,7,101,8],[100,2,100,3],[101,2,101,3],[98,5,98,6],[98,7,98,8],[99,5,99,6],[99,7,99,8],[98,2,98,3],[99,2,99,3],[104,5,104,6],[104,7,104,8],[105,5,105,6],[105,7,105,8],[104,2,104,3],[105,2,105,3],[102,5,102,6],[102,7,102,8],[103,5,103,6],[103,7,103,8],[102,2,102,3],[103,2,103,3],[108,5,108,6],[108,7,108,8],[109,5,109,6],[109,7,109,8],[108,2,108,3],[109,2,109,3],[106,5,106,6],[106,7,106,8],[107,5,107,6],[107,7,107,8],[106,2,106,3],[107,2,107,3],[112,5,112,6],[112,7,112,8],[113,5,113,6],[113,7,113,8],[112,2,112,3],[113,2,113,3],[110,5,110,6],[110,7,110,8],[111,5,111,6],[111,7,111,8],[110,2,110,3],[111,2,111,3],[116,5,116,6],[116,7,116,8],[117,5,117,6],[117,7,117,8],[116,2,116,3],[117,2,117,3],[114,5,114,6],[114,7,114,8],[115,5,115,6],[115,7,115,8],[114,2,114,3],[115,2,115,3],[120,5,120,6],[120,7,120,8],[121,5,121,6],[121,7,121,8],[120,2,120,3],[121,2,121,3],[118,5,118,6],[118,7,118,8],[119,5,119,6],[119,7,119,8],[118,2,118,3],[119,2,119,3],[124,5,124,6],[124,7,124,8],[125,5,125,6],[125,7,125,8],[124,2,124,3],[125,2,125,3],[122,5,122,6],[122,7,122,8],[123,5,123,6],[123,7,123,8],[122,2,122,3],[123,2,123,3],[128,5,128,6],[128,7,128,8],[131,5,131,6],[131,7,131,8],[128,2,128,3],[131,2,131,3],[126,5,126,6],[126,7,126,8],[127,5,127,6],[127,7,127,8],[126,2,126,3],[127,2,127,3],[129,2,129,3],[129,5,129,6],[129,7,129,8],[137,5,137,6],[137,7,137,8],[138,5,138,6],[138,7,138,8],[137,2,137,3],[138,2,138,3],[135,5,135,6],[135,7,135,8],[136,5,136,6],[136,7,136,8],[135,2,135,3],[136,2,136,3],[141,5,141,6],[141,7,141,8],[142,5,142,6],[142,7,142,8],[141,2,141,3],[142,2,142,3],[139,5,139,6],[139,7,139,8],[140,5,140,6],[140,7,140,8],[139,2,139,3],[140,2,140,3],[145,5,145,6],[145,7,145,8],[146,5,146,6],[146,7,146,8],[145,2,145,3],[146,2,146,3],[143,5,143,6],[143,7,143,8],[144,5,144,6],[144,7,144,8],[143,2,143,3],[144,2,144,3],[149,5,149,6],[149,7,149,8],[150,5,150,6],[150,7,150,8],[149,2,149,3],[150,2,150,3],[147,5,147,6],[147,7,147,8],[148,5,148,6],[148,7,148,8],[147,2,147,3],[148,2,148,3],[153,5,153,6],[153,7,153,8],[154,5,154,6],[154,7,154,8],[153,2,153,3],[154,2,154,3],[151,5,151,6],[151,7,151,8],[152,5,152,6],[152,7,152,8],[151,2,151,3],[152,2,152,3],[157,5,157,6],[157,7,157,8],[158,5,158,6],[158,7,158,8],[157,2,157,3],[158,2,158,3],[155,5,155,6],[155,7,155,8],[156,5,156,6],[156,7,156,8],[155,2,155,3],[156,2,156,3],[161,5,161,6],[161,7,161,8],[162,5,162,6],[162,7,162,8],[161,2,161,3],[162,2,162,3],[159,5,159,6],[159,7,159,8],[160,5,160,6],[160,7,160,8],[159,2,159,3],[160,2,160,3],[165,5,165,6],[165,7,165,8],[166,5,166,6],[166,7,166,8],[165,2,165,3],[166,2,166,3],[163,5,163,6],[163,7,163,8],[164,5,164,6],[164,7,164,8],[163,2,163,3],[164,2,164,3],[169,5,169,6],[169,7,169,8],[170,5,170,6],[170,7,170,8],[169,2,169,3],[170,2,170,3],[167,5,167,6],[167,7,167,8],[168,5,168,6],[168,7,168,8],[167,2,167,3],[168,2,168,3],[173,5,173,6],[173,7,173,8],[174,5,174,6],[174,7,174,8],[173,2,173,3],[174,2,174,3],[171,5,171,6],[171,7,171,8],[172,5,172,6],[172,7,172,8],[171,2,171,3],[172,2,172,3],[177,5,177,6],[177,7,177,8],[178,5,178,6],[178,7,178,8],[177,2,177,3],[178,2,178,3],[175,5,175,6],[175,7,175,8],[176,5,176,6],[176,7,176,8],[175,2,175,3],[176,2,176,3],[181,5,181,6],[181,7,181,8],[182,5,182,6],[182,7,182,8],[181,2,181,3],[182,2,182,3],[179,5,179,6],[179,7,179,8],[180,5,180,6],[180,7,180,8],[179,2,179,3],[180,2,180,3],[186,7,186,8],[185,2,185,3],[186,2,186,3],[183,5,183,6],[183,7,183,8],[184,5,184,6],[184,7,184,8],[183,2,183,3],[184,2,184,3],[80,2,80,3],[81,2,81,3],[82,2,82,3],[191,5,191,6],[191,7,191,8],[192,5,192,6],[192,7,192,8],[191,2,191,3],[192,2,192,3],[189,5,189,6],[189,7,189,8],[190,5,190,6],[190,7,190,8],[189,2,189,3],[190,2,190,3],[187,5,187,6],[187,7,187,8],[188,5,188,6],[188,7,188,8],[187,2,187,3],[188,2,188,3],[185,5,185,6],[185,7,185,8],[186,5,186,6]]}
[]
[]
[]
[]
[]
["Fracture Liaison Service (FLS) Impact Analysis Report"]
[{"$f":"\"Generated for \"&Inputs!D4","v":"Generated for "}]
[]
["Input Summary"]
["Initial Fracture Data Input",{"$f":"IF(Backend!K1=1, \"Simplified\", \"Detailed\")","v":"Detailed"}]
["Initial Fragility Fracture Patients",{"$f":"IF(Backend!$K$1=1, SUM(Inputs!C22:C30), SUM(Inputs!B36:G44))","v":0}]
["FLS Recruitment Rate",{"$f":"Inputs!B49","v":0.8}]
["FLS Coordinator Staffing",{"$f":"ROUND(ftedef, 2)&\" FTEs of\"&CHAR(10)&Backend!C62","v":"0.5 FTEs of\n"}]
["Other Staff",{"$f":"IF(NOT(ISBLANK(Inputs!A69)),Inputs!A69&IF(NOT(ISBLANK(Inputs!A70)),\",\"&CHAR(10)&Inputs!A70&IF(NOT(ISBLANK(Inputs!A71)),\",\"&CHAR(10)&Inputs!A71&IF(NOT(ISBLANK(Inputs!A72)),\",\"&CHAR(10)&Inputs!A72&IF(NOT(ISBLANK(Inputs!A73)),\",\"&CHAR(10)&Inputs!A73&IF(NOT(ISBLANK(Inputs!A74)),\",\"&CHAR(10)&Inputs!A74,  \"\"),\"\"),\"\"), \"\"), \"\"),\"N/A\")","v":"N/A"}]
[]
["Non-labor Costs",{"$f":"IF(NOT(ISBLANK(Inputs!A78)),Inputs!A78&IF(NOT(ISBLANK(Inputs!A79)),\",\"&CHAR(10)&Inputs!A79&IF(NOT(ISBLANK(Inputs!A80)),\",\"&CHAR(10)&Inputs!A80&IF(NOT(ISBLANK(Inputs!A81)),\",\"&CHAR(10)&Inputs!A81&IF(NOT(ISBLANK(Inputs!A82)),\",\"&CHAR(10)&Inputs!A82&IF(NOT(ISBLANK(Inputs!A83)),\",\"&CHAR(10)&Inputs!A83, \"\"),\"\"),\"\"), \"\"), \"\"),\"N/A\")","v":"N/A"}]
[]
["Expected Patients Recruited into FLS",{"$f":"ROUND(B12*B11, 0)","v":0}]
["FLS Base Protocol Selected:",{"$f":"IF(Protocols!N15=84, Protocols!O15, IF(Protocols!N32=84, Protocols!O32, IF(Protocols!N49=84, Protocols!O49, IF(Protocols!N66=84, Protocols!O66, \"Custom\"))))","v":"Custom"}]
["FLS Impact Data Input:",{"$f":"IF(Backend!K2=1, \"Direct Estimates\", \"Treatment Rates\")","v":"Direct Estimates"}]
[]
[]
["FLS Cost & Revenue"]
["Labor Cost for FLS Coordinator",{"$f":"ftedef*coordSal*(1+coordOH)","v":0}]
["Other Labor Costs",{"$f":"SUM(Inputs!D69*Inputs!E69*(1+Inputs!F69),Inputs!D70*Inputs!E70*(1+Inputs!F70),Inputs!D71*Inputs!E71*(1+Inputs!F71), Inputs!D72*Inputs!E72*(1+Inputs!F72), Inputs!D73*Inputs!E73*(1+Inputs!F73), Inputs!D74*Inputs!E74*(1+Inputs!F74))","v":0}]
["Non-Labor & Overhead Costs",{"$f":"IF(Backend!K3=TRUE, SUM(Inputs!D78:D83)+Inputs!B85*SUM(Report!B24:B25, Inputs!D78:D83), SUM(Inputs!D78:D83)+Inputs!B85*SUM(Report!B24:B25))","v":0}]
["Incremental Revenue per Patient Generated by FLS over 4 years",{"$f":"Backend!G25","v":0}]
["Total Revenue Generated by FLS Program in one year",{"$f":"Backend!G22*B18","v":0}]
[{"$f":"\"Given a total cost of $\"&FIXED(SUM(B24:B26),0)&\" and revenue of $\"&FIXED(B28,0)&\", the return on the investment in the FLS program is \"&FIXED((B28-SUM(B24:B26))/SUM(B24:B26), 2)&\" after 1 year.\"","v":{"$error":"#DIV/0!"}}]
[]
[]
["Fracture Frequency Outcomes"]
[]
["Fracture Site","Expected Percentage of Fractures Avoided","Over 2 Years",null,null,"Over 3 Years",null,null,"Over 4 Years"]
[null,null,"Fx \nw/o FLS","Fx\n w/FLS","Fx \nPrevented","Fx \nw/o FLS","Fx\n w/FLS","Fx \nPrevented","Fx \nw/o FLS","Fx\n w/FLS","Fx \nPrevented"]
["Ankle",{"$f":"Backend!H11","v":0},{"$f":"'Output - 2 Years'!B11","v":0},{"$f":"'Output - 2 Years'!D11","v":0},{"$f":"'Output - 2 Years'!F11","v":0},{"$f":"'Output - 3 Years'!B11","v":0},{"$f":"'Output - 3 Years'!D11","v":0},{"$f":"'Output - 3 Years'!F11","v":0},{"$f":"'Output - 4 Years'!B11","v":0},{"$f":"'Output - 4 Years'!D11","v":0},{"$f":"'Output - 4 Years'!F11","v":0}]
["Clavicle",{"$f":"Backend!H12","v":0},{"$f":"'Output - 2 Years'!B12","v":0},{"$f":"'Output - 2 Years'!D12","v":0},{"$f":"'Output - 2 Years'!F12","v":0},{"$f":"'Output - 3 Years'!B12","v":0},{"$f":"'Output - 3 Years'!D12","v":0},{"$f":"'Output - 3 Years'!F12","v":0},{"$f":"'Output - 4 Years'!B12","v":0},{"$f":"'Output - 4 Years'!D12","v":0},{"$f":"'Output - 4 Years'!F12","v":0}]
["Femur",{"$f":"Backend!H13","v":0},{"$f":"'Output - 2 Years'!B13","v":0},{"$f":"'Output - 2 Years'!D13","v":0},{"$f":"'Output - 2 Years'!F13","v":0},{"$f":"'Output - 3 Years'!B13","v":0},{"$f":"'Output - 3 Years'!D13","v":0},{"$f":"'Output - 3 Years'!F13","v":0},{"$f":"'Output - 4 Years'!B13","v":0},{"$f":"'Output - 4 Years'!D13","v":0},{"$f":"'Output - 4 Years'!F13","v":0}]
["Hip",{"$f":"Backend!H14","v":0},{"$f":"'Output - 2 Years'!B14","v":0},{"$f":"'Output - 2 Years'!D14","v":0},{"$f":"'Output - 2 Years'!F14","v":0},{"$f":"'Output - 3 Years'!B14","v":0},{"$f":"'Output - 3 Years'!D14","v":0},{"$f":"'Output - 3 Years'!F14","v":0},{"$f":"'Output - 4 Years'!B14","v":0},{"$f":"'Output - 4 Years'!D14","v":0},{"$f":"'Output - 4 Years'!F14","v":0}]
["Humerus",{"$f":"Backend!H15","v":0},{"$f":"'Output - 2 Years'!B15","v":0},{"$f":"'Output - 2 Years'!D15","v":0},{"$f":"'Output - 2 Years'!F15","v":0},{"$f":"'Output - 3 Years'!B15","v":0},{"$f":"'Output - 3 Years'!D15","v":0},{"$f":"'Output - 3 Years'!F15","v":0},{"$f":"'Output - 4 Years'!B15","v":0},{"$f":"'Output - 4 Years'!D15","v":0},{"$f":"'Output - 4 Years'!F15","v":0}]
["Pelvis",{"$f":"Backend!H16","v":0},{"$f":"'Output - 2 Years'!B16","v":0},{"$f":"'Output - 2 Years'!D16","v":0},{"$f":"'Output - 2 Years'!F16","v":0},{"$f":"'Output - 3 Years'!B16","v":0},{"$f":"'Output - 3 Years'!D16","v":0},{"$f":"'Output - 3 Years'!F16","v":0},{"$f":"'Output - 4 Years'!B16","v":0},{"$f":"'Output - 4 Years'!D16","v":0},{"$f":"'Output - 4 Years'!F16","v":0}]
["Radius/Ulna",{"$f":"Backend!H17","v":0},{"$f":"'Output - 2 Years'!B17","v":0},{"$f":"'Output - 2 Years'!D17","v":0},{"$f":"'Output - 2 Years'!F17","v":0},{"$f":"'Output - 3 Years'!B17","v":0},{"$f":"'Output - 3 Years'!D17","v":0},{"$f":"'Output - 3 Years'!F17","v":0},{"$f":"'Output - 4 Years'!B17","v":0},{"$f":"'Output - 4 Years'!D17","v":0},{"$f":"'Output - 4 Years'!F17","v":0}]
["Spine",{"$f":"Backend!H18","v":0},{"$f":"'Output - 2 Years'!B18","v":0},{"$f":"'Output - 2 Years'!D18","v":0},{"$f":"'Output - 2 Years'!F18","v":0},{"$f":"'Output - 3 Years'!B18","v":0},{"$f":"'Output - 3 Years'!D18","v":0},{"$f":"'Output - 3 Years'!F18","v":0},{"$f":"'Output - 4 Years'!B18","v":0},{"$f":"'Output - 4 Years'!D18","v":0},{"$f":"'Output - 4 Years'!F18","v":0}]
["Tibia/Fibula",{"$f":"Backend!H19","v":0},{"$f":"'Output - 2 Years'!B19","v":0},{"$f":"'Output - 2 Years'!D19","v":0},{"$f":"'Output - 2 Years'!F19","v":0},{"$f":"'Output - 3 Years'!B19","v":0},{"$f":"'Output - 3 Years'!D19","v":0},{"$f":"'Output - 3 Years'!F19","v":0},{"$f":"'Output - 4 Years'!B19","v":0},{"$f":"'Output - 4 Years'!D19","v":0},{"$f":"'Output - 4 Years'!F19","v":0}]
["All Sites","-",{"$f":"'Output - 2 Years'!B20","v":0},{"$f":"'Output - 2 Years'!D20","v":0},{"$f":"'Output - 2 Years'!F20","v":0},{"$f":"'Output - 3 Years'!B20","v":0},{"$f":"'Output - 3 Years'!D20","v":0},{"$f":"'Output - 3 Years'!F20","v":0},{"$f":"'Output - 4 Years'!B20","v":0},{"$f":"'Output - 4 Years'!D20","v":0},{"$f":"'Output - 4 Years'!F20","v":0}]
[]
[]
["Fracture Cost Outcomes"]
[]
[]
[]
[]
[]
[]
[]
[]
[]
[]
[]
[]
[]
[]
[]
[]
["FLS Protocol"]
["Revenue estimates on the previous page were made based on the following FLS protocol information entered by the user."]
[]
["Base Protocol"]
["Item","Elapsed Months\n(from FLS initiation)","Anticipated CPT Code\n(optional)",null,"Reimbursement Revenue","Probability of Receipt"]
["Item",null,null,null,null,"FLS",null,"Non-FLS"]
[{"$f":"IF(ISBLANK(Inputs!A97), \"\", Inputs!A97)","v":""},{"$f":"IF(ISBLANK(Inputs!B97), \"\", Inputs!B97)","v":""},{"$f":"IF(ISBLANK(Inputs!C97), \"\", Inputs!C97)","v":""},{"$f":"IF(ISBLANK(Inputs!D97), \"\", Inputs!D97)","v":""},{"$f":"IF(ISBLANK(Inputs!E97), \"\", Inputs!E97)","v":""},{"$f":"IF(ISBLANK(Inputs!F97), \"\", Inputs!F97)","v":""},{"$f":"IF(ISBLANK(Inputs!G97), \"\", Inputs!G97)","v":""},{"$f":"IF(ISBLANK(Inputs!G97), \"\", Inputs!G97)","v":""},{"$f":"IF(ISBLANK(Inputs!I97), \"\", Inputs!I97)","v":""}]
[{"$f":"IF(ISBLANK(Inputs!A98), \"\", Inputs!A98)","v":""},{"$f":"IF(ISBLANK(Inputs!B98), \"\", Inputs!B98)","v":""},{"$f":"IF(ISBLANK(Inputs!C98), \"\", Inputs!C98)","v":""},{"$f":"IF(ISBLANK(Inputs!D98), \"\", Inputs!D98)","v":""},{"$f":"IF(ISBLANK(Inputs!E98), \"\", Inputs!E98)","v":""},{"$f":"IF(ISBLANK(Inputs!F98), \"\", Inputs!F98)","v":""},{"$f":"IF(ISBLANK(Inputs!G98), \"\", Inputs!G98)","v":""},{"$f":"IF(ISBLANK(Inputs!G98), \"\", Inputs!G98)","v":""},{"$f":"IF(ISBLANK(Inputs!I98), \"\", Inputs!I98)","v":""}]
[{"$f":"IF(ISBLANK(Inputs!A99), \"\", Inputs!A99)","v":""},{"$f":"IF(ISBLANK(Inputs!B99), \"\", Inputs!B99)","v":""},{"$f":"IF(ISBLANK(Inputs!C99), \"\", Inputs!C99)","v":""},{"$f":"IF(ISBLANK(Inputs!D99), \"\", Inputs!D99)","v":""},{"$f":"IF(ISBLANK(Inputs!E99), \"\", Inputs!E99)","v":""},{"$f":"IF(ISBLANK(Inputs!F99), \"\", Inputs!F99)","v":""},{"$f":"IF(ISBLANK(Inputs!G99), \"\", Inputs!G99)","v":""},{"$f":"IF(ISBLANK(Inputs!G99), \"\", Inputs!G99)","v":""},{"$f":"IF(ISBLANK(Inputs!I99), \"\", Inputs!I99)","v":""}]
[{"$f":"IF(ISBLANK(Inputs!A100), \"\", Inputs!A100)","v":""},{"$f":"IF(ISBLANK(Inputs!B100), \"\", Inputs!B100)","v":""},{"$f":"IF(ISBLANK(Inputs!C100), \"\", Inputs!C100)","v":""},{"$f":"IF(ISBLANK(Inputs!D100), \"\", Inputs!D100)","v":""},{"$f":"IF(ISBLANK(Inputs!E100), \"\", Inputs!E100)","v":""},{"$f":"IF(ISBLANK(Inputs!F100), \"\", Inputs!F100)","v":""},{"$f":"IF(ISBLANK(Inputs!G100), \"\", Inputs!G100)","v":""},{"$f":"IF(ISBLANK(Inputs!G100), \"\", Inputs!G100)","v":""},{"$f":"IF(ISBLANK(Inputs!I100), \"\", Inputs!I100)","v":""}]
[{"$f":"IF(ISBLANK(Inputs!A101), \"\", Inputs!A101)","v":""},{"$f":"IF(ISBLANK(Inputs!B101), \"\", Inputs!B101)","v":""},{"$f":"IF(ISBLANK(Inputs!C101), \"\", Inputs!C101)","v":""},{"$f":"IF(ISBLANK(Inputs!D101), \"\", Inputs!D101)","v":""},{"$f":"IF(ISBLANK(Inputs!E101), \"\", Inputs!E101)","v":""},{"$f":"IF(ISBLANK(Inputs!F101), \"\", Inputs!F101)","v":""},{"$f":"IF(ISBLANK(Inputs!G101), \"\", Inputs!G101)","v":""},{"$f":"IF(ISBLANK(Inputs!G101), \"\", Inputs!G101)","v":""},{"$f":"IF(ISBLANK(Inputs!I101), \"\", Inputs!I101)","v":""}]
[{"$f":"IF(ISBLANK(Inputs!A102), \"\", Inputs!A102)","v":""},{"$f":"IF(ISBLANK(Inputs!B102), \"\", Inputs!B102)","v":""},{"$f":"IF(ISBLANK(Inputs!C102), \"\", Inputs!C102)","v":""},{"$f":"IF(ISBLANK(Inputs!D102), \"\", Inputs!D102)","v":""},{"$f":"IF(ISBLANK(Inputs!E102), \"\", Inputs!E102)","v":""},{"$f":"IF(ISBLANK(Inputs!F102), \"\", Inputs!F102)","v":""},{"$f":"IF(ISBLANK(Inputs!G102), \"\", Inputs!G102)","v":""},{"$f":"IF(ISBLANK(Inputs!G102), \"\", Inputs!G102)","v":""},{"$f":"IF(ISBLANK(Inputs!I102), \"\", Inputs!I102)","v":""}]
[{"$f":"IF(ISBLANK(Inputs!A103), \"\", Inputs!A103)","v":""},{"$f":"IF(ISBLANK(Inputs!B103), \"\", Inputs!B103)","v":""},{"$f":"IF(ISBLANK(Inputs!C103), \"\", Inputs!C103)","v":""},{"$f":"IF(ISBLANK(Inputs!D103), \"\", Inputs!D103)","v":""},{"$f":"IF(ISBLANK(Inputs!E103), \"\", Inputs!E103)","v":""},{"$f":"IF(ISBLANK(Inputs!F103), \"\", Inputs!F103)","v":""},{"$f":"IF(ISBLANK(Inputs!G103), \"\", Inputs!G103)","v":""},{"$f":"IF(ISBLANK(Inputs!G103), \"\", Inputs!G103)","v":""},{"$f":"IF(ISBLANK(Inputs!I103), \"\", Inputs!I103)","v":""}]
[{"$f":"IF(ISBLANK(Inputs!A104), \"\", Inputs!A104)","v":""},{"$f":"IF(ISBLANK(Inputs!B104), \"\", Inputs!B104)","v":""},{"$f":"IF(ISBLANK(Inputs!C104), \"\", Inputs!C104)","v":""},{"$f":"IF(ISBLANK(Inputs!D104), \"\", Inputs!D104)","v":""},{"$f":"IF(ISBLANK(Inputs!E104), \"\", Inputs!E104)","v":""},{"$f":"IF(ISBLANK(Inputs!F104), \"\", Inputs!F104)","v":""},{"$f":"IF(ISBLANK(Inputs!G104), \"\", Inputs!G104)","v":""},{"$f":"IF(ISBLANK(Inputs!G104), \"\", Inputs!G104)","v":""},{"$f":"IF(ISBLANK(Inputs!I104), \"\", Inputs!I104)","v":""}]
[{"$f":"IF(ISBLANK(Inputs!A105), \"\", Inputs!A105)","v":""},{"$f":"IF(ISBLANK(Inputs!B105), \"\", Inputs!B105)","v":""},{"$f":"IF(ISBLANK(Inputs!C105), \"\", Inputs!C105)","v":""},{"$f":"IF(ISBLANK(Inputs!D105), \"\", Inputs!D105)","v":""},{"$f":"IF(ISBLANK(Inputs!E105), \"\", Inputs!E105)","v":""},{"$f":"IF(ISBLANK(Inputs!F105), \"\", Inputs!F105)","v":""},{"$f":"IF(ISBLANK(Inputs!G105), \"\", Inputs!G105)","v":""},{"$f":"IF(ISBLANK(Inputs!G105), \"\", Inputs!G105)","v":""},{"$f":"IF(ISBLANK(Inputs!I105), \"\", Inputs!I105)","v":""}]
[{"$f":"IF(ISBLANK(Inputs!A106), \"\", Inputs!A106)","v":""},{"$f":"IF(ISBLANK(Inputs!B106), \"\", Inputs!B106)","v":""},{"$f":"IF(ISBLANK(Inputs!C106), \"\", Inputs!C106)","v":""},{"$f":"IF(ISBLANK(Inputs!D106), \"\", Inputs!D106)","v":""},{"$f":"IF(ISBLANK(Inputs!E106), \"\", Inputs!E106)","v":""},{"$f":"IF(ISBLANK(Inputs!F106), \"\", Inputs!F106)","v":""},{"$f":"IF(ISBLANK(Inputs!G106), \"\", Inputs!G106)","v":""},{"$f":"IF(ISBLANK(Inputs!G106), \"\", Inputs!G106)","v":""},{"$f":"IF(ISBLANK(Inputs!I106), \"\", Inputs!I106)","v":""}]
[{"$f":"IF(ISBLANK(Inputs!A107), \"\", Inputs!A107)","v":""},{"$f":"IF(ISBLANK(Inputs!B107), \"\", Inputs!B107)","v":""},{"$f":"IF(ISBLANK(Inputs!C107), \"\", Inputs!C107)","v":""},{"$f":"IF(ISBLANK(Inputs!D107), \"\", Inputs!D107)","v":""},{"$f":"IF(ISBLANK(Inputs!E107), \"\", Inputs!E107)","v":""},{"$f":"IF(ISBLANK(Inputs!F107), \"\", Inputs!F107)","v":""},{"$f":"IF(ISBLANK(Inputs!G107), \"\", Inputs!G107)","v":""},{"$f":"IF(ISBLANK(Inputs!G107), \"\", Inputs!G107)","v":""},{"$f":"IF(ISBLANK(Inputs!I107), \"\", Inputs!I107)","v":""}]
[{"$f":"IF(ISBLANK(Inputs!A108), \"\", Inputs!A108)","v":""},{"$f":"IF(ISBLANK(Inputs!B108), \"\", Inputs!B108)","v":""},{"$f":"IF(ISBLANK(Inputs!C108), \"\", Inputs!C108)","v":""},{"$f":"IF(ISBLANK(Inputs!D108), \"\", Inputs!D108)","v":""},{"$f":"IF(ISBLANK(Inputs!E108), \"\", Inputs!E108)","v":""},{"$f":"IF(ISBLANK(Inputs!F108), \"\", Inputs!F108)","v":""},{"$f":"IF(ISBLANK(Inputs!G108), \"\", Inputs!G108)","v":""},{"$f":"IF(ISBLANK(Inputs!G108), \"\", Inputs!G108)","v":""},{"$f":"IF(ISBLANK(Inputs!I108), \"\", Inputs!I108)","v":""}]
[{"$f":"IF(ISBLANK(Inputs!A109), \"\", Inputs!A109)","v":""},{"$f":"IF(ISBLANK(Inputs!B109), \"\", Inputs!B109)","v":""},{"$f":"IF(ISBLANK(Inputs!C109), \"\", Inputs!C109)","v":""},{"$f":"IF(ISBLANK(Inputs!D109), \"\", Inputs!D109)","v":""},{"$f":"IF(ISBLANK(Inputs!E109), \"\", Inputs!E109)","v":""},{"$f":"IF(ISBLANK(Inputs!F109), \"\", Inputs!F109)","v":""},{"$f":"IF(ISBLANK(Inputs!G109), \"\", Inputs!G109)","v":""},{"$f":"IF(ISBLANK(Inputs!G109), \"\", Inputs!G109)","v":""},{"$f":"IF(ISBLANK(Inputs!I109), \"\", Inputs!I109)","v":""}]
[{"$f":"IF(ISBLANK(Inputs!A110), \"\", Inputs!A110)","v":""},{"$f":"IF(ISBLANK(Inputs!B110), \"\", Inputs!B110)","v":""},{"$f":"IF(ISBLANK(Inputs!C110), \"\", Inputs!C110)","v":""},{"$f":"IF(ISBLANK(Inputs!D110), \"\", Inputs!D110)","v":""},{"$f":"IF(ISBLANK(Inputs!E110), \"\", Inputs!E110)","v":""},{"$f":"IF(ISBLANK(Inputs!F110), \"\", Inputs!F110)","v":""},{"$f":"IF(ISBLANK(Inputs!G110), \"\", Inputs!G110)","v":""},{"$f":"IF(ISBLANK(Inputs!G110), \"\", Inputs!G110)","v":""},{"$f":"IF(ISBLANK(Inputs!I110), \"\", Inputs!I110)","v":""}]
[]
["Additional Procedures"]
["Item","Elapsed Months\n(from FLS initiation)","Anticipated CPT Code\n(optional)",null,"Reimbursement Revenue","Probability of Receipt"]
["Item",null,null,null,null,"FLS",null,"Non-FLS"]
[{"$f":"IF(ISBLANK(Inputs!A116), \"\", Inputs!A116)","v":""},{"$f":"IF(ISBLANK(Inputs!B116), \"\", Inputs!B116)","v":""},{"$f":"IF(ISBLANK(Inputs!C116), \"\", Inputs!C116)","v":""},{"$f":"IF(ISBLANK(Inputs!D116), \"\", Inputs!D116)","v":""},{"$f":"IF(ISBLANK(Inputs!E116), \"\", Inputs!E116)","v":""},{"$f":"IF(ISBLANK(Inputs!F116), \"\", Inputs!F116)","v":""},{"$f":"IF(ISBLANK(Inputs!G116), \"\", Inputs!G116)","v":""},{"$f":"IF(ISBLANK(Inputs!G116), \"\", Inputs!G116)","v":""},{"$f":"IF(ISBLANK(Inputs!I116), \"\", Inputs!I116)","v":""}]
[{"$f":"IF(ISBLANK(Inputs!A117), \"\", Inputs!A117)","v":""},{"$f":"IF(ISBLANK(Inputs!B117), \"\", Inputs!B117)","v":""},{"$f":"IF(ISBLANK(Inputs!C117), \"\", Inputs!C117)","v":""},{"$f":"IF(ISBLANK(Inputs!D117), \"\", Inputs!D117)","v":""},{"$f":"IF(ISBLANK(Inputs!E117), \"\", Inputs!E117)","v":""},{"$f":"IF(ISBLANK(Inputs!F117), \"\", Inputs!F117)","v":""},{"$f":"IF(ISBLANK(Inputs!G117), \"\", Inputs!G117)","v":""},{"$f":"IF(ISBLANK(Inputs!G117), \"\", Inputs!G117)","v":""},{"$f":"IF(ISBLANK(Inputs!I117), \"\", Inputs!I117)","v":""}]
[{"$f":"IF(ISBLANK(Inputs!A118), \"\", Inputs!A118)","v":""},{"$f":"IF(ISBLANK(Inputs!B118), \"\", Inputs!B118)","v":""},{"$f":"IF(ISBLANK(Inputs!C118), \"\", Inputs!C118)","v":""},{"$f":"IF(ISBLANK(Inputs!D118), \"\", Inputs!D118)","v":""},{"$f":"IF(ISBLANK(Inputs!E118), \"\", Inputs!E118)","v":""},{"$f":"IF(ISBLANK(Inputs!F118), \"\", Inputs!F118)","v":""},{"$f":"IF(ISBLANK(Inputs!G118), \"\", Inputs!G118)","v":""},{"$f":"IF(ISBLANK(Inputs!G118), \"\", Inputs!G118)","v":""},{"$f":"IF(ISBLANK(Inputs!I118), \"\", Inputs!I118)","v":""}]
[{"$f":"IF(ISBLANK(Inputs!A119), \"\", Inputs!A119)","v":""},{"$f":"IF(ISBLANK(Inputs!B119), \"\", Inputs!B119)","v":""},{"$f":"IF(ISBLANK(Inputs!C119), \"\", Inputs!C119)","v":""},{"$f":"IF(ISBLANK(Inputs!D119), \"\", Inputs!D119)","v":""},{"$f":"IF(ISBLANK(Inputs!E119), \"\", Inputs!E119)","v":""},{"$f":"IF(ISBLANK(Inputs!F119), \"\", Inputs!F119)","v":""},{"$f":"IF(ISBLANK(Inputs!G119), \"\", Inputs!G119)","v":""},{"$f":"IF(ISBLANK(Inputs!G119), \"\", Inputs!G119)","v":""},{"$f":"IF(ISBLANK(Inputs!I119), \"\", Inputs!I119)","v":""}]
[{"$f":"IF(ISBLANK(Inputs!A120), \"\", Inputs!A120)","v":""},{"$f":"IF(ISBLANK(Inputs!B120), \"\", Inputs!B120)","v":""},{"$f":"IF(ISBLANK(Inputs!C120), \"\", Inputs!C120)","v":""},{"$f":"IF(ISBLANK(Inputs!D120), \"\", Inputs!D120)","v":""},{"$f":"IF(ISBLANK(Inputs!E120), \"\", Inputs!E120)","v":""},{"$f":"IF(ISBLANK(Inputs!F120), \"\", Inputs!F120)","v":""},{"$f":"IF(ISBLANK(Inputs!G120), \"\", Inputs!G120)","v":""},{"$f":"IF(ISBLANK(Inputs!G120), \"\", Inputs!G120)","v":""},{"$f":"IF(ISBLANK(Inputs!I120), \"\", Inputs!I120)","v":""}]
[{"$f":"IF(ISBLANK(Inputs!A121), \"\", Inputs!A121)","v":""},{"$f":"IF(ISBLANK(Inputs!B121), \"\", Inputs!B121)","v":""},{"$f":"IF(ISBLANK(Inputs!C121), \"\", Inputs!C121)","v":""},{"$f":"IF(ISBLANK(Inputs!D121), \"\", Inputs!D121)","v":""},{"$f":"IF(ISBLANK(Inputs!E121), \"\", Inputs!E121)","v":""},{"$f":"IF(ISBLANK(Inputs!F121), \"\", Inputs!F121)","v":""},{"$f":"IF(ISBLANK(Inputs!G121), \"\", Inputs!G121)","v":""},{"$f":"IF(ISBLANK(Inputs!G121), \"\", Inputs!G121)","v":""},{"$f":"IF(ISBLANK(Inputs!I121), \"\", Inputs!I121)","v":""}]
[{"$f":"IF(ISBLANK(Inputs!A122), \"\", Inputs!A122)","v":""},{"$f":"IF(ISBLANK(Inputs!B122), \"\", Inputs!B122)","v":""},{"$f":"IF(ISBLANK(Inputs!C122), \"\", Inputs!C122)","v":""},{"$f":"IF(ISBLANK(Inputs!D122), \"\", Inputs!D122)","v":""},{"$f":"IF(ISBLANK(Inputs!E122), \"\", Inputs!E122)","v":""},{"$f":"IF(ISBLANK(Inputs!F122), \"\", Inputs!F122)","v":""},{"$f":"IF(ISBLANK(Inputs!G122), \"\", Inputs!G122)","v":""},{"$f":"IF(ISBLANK(Inputs!G122), \"\", Inputs!G122)","v":""},{"$f":"IF(ISBLANK(Inputs!I122), \"\", Inputs!I122)","v":""}]
[{"$f":"IF(ISBLANK(Inputs!A123), \"\", Inputs!A123)","v":""},{"$f":"IF(ISBLANK(Inputs!B123), \"\", Inputs!B123)","v":""},{"$f":"IF(ISBLANK(Inputs!C123), \"\", Inputs!C123)","v":""},{"$f":"IF(ISBLANK(Inputs!D123), \"\", Inputs!D123)","v":""},{"$f":"IF(ISBLANK(Inputs!E123), \"\", Inputs!E123)","v":""},{"$f":"IF(ISBLANK(Inputs!F123), \"\", Inputs!F123)","v":""},{"$f":"IF(ISBLANK(Inputs!G123), \"\", Inputs!G123)","v":""},{"$f":"IF(ISBLANK(Inputs!G123), \"\", Inputs!G123)","v":""},{"$f":"IF(ISBLANK(Inputs!I123), \"\", Inputs!I123)","v":""}]
[{"$f":"IF(ISBLANK(Inputs!A124), \"\", Inputs!A124)","v":""},{"$f":"IF(ISBLANK(Inputs!B124), \"\", Inputs!B124)","v":""},{"$f":"IF(ISBLANK(Inputs!C124), \"\", Inputs!C124)","v":""},{"$f":"IF(ISBLANK(Inputs!D124), \"\", Inputs!D124)","v":""},{"$f":"IF(ISBLANK(Inputs!E124), \"\", Inputs!E124)","v":""},{"$f":"IF(ISBLANK(Inputs!F124), \"\", Inputs!F124)","v":""},{"$f":"IF(ISBLANK(Inputs!G124), \"\", Inputs!G124)","v":""},{"$f":"IF(ISBLANK(Inputs!G124), \"\", Inputs!G124)","v":""},{"$f":"IF(ISBLANK(Inputs!I124), \"\", Inputs!I124)","v":""}]
[{"$f":"IF(ISBLANK(Inputs!A125), \"\", Inputs!A125)","v":""},{"$f":"IF(ISBLANK(Inputs!B125), \"\", Inputs!B125)","v":""},{"$f":"IF(ISBLANK(Inputs!C125), \"\", Inputs!C125)","v":""},{"$f":"IF(ISBLANK(Inputs!D125), \"\", Inputs!D125)","v":""},{"$f":"IF(ISBLANK(Inputs!E125), \"\", Inputs!E125)","v":""},{"$f":"IF(ISBLANK(Inputs!F125), \"\", Inputs!F125)","v":""},{"$f":"IF(ISBLANK(Inputs!G125), \"\", Inputs!G125)","v":""},{"$f":"IF(ISBLANK(Inputs!G125), \"\", Inputs!G125)","v":""},{"$f":"IF(ISBLANK(Inputs!I125), \"\", Inputs!I125)","v":""}]
[{"$f":"IF(ISBLANK(Inputs!A126), \"\", Inputs!A126)","v":""},{"$f":"IF(ISBLANK(Inputs!B126), \"\", Inputs!B126)","v":""},{"$f":"IF(ISBLANK(Inputs!C126), \"\", Inputs!C126)","v":""},{"$f":"IF(ISBLANK(Inputs!D126), \"\", Inputs!D126)","v":""},{"$f":"IF(ISBLANK(Inputs!E126), \"\", Inputs!E126)","v":""},{"$f":"IF(ISBLANK(Inputs!F126), \"\", Inputs!F126)","v":""},{"$f":"IF(ISBLANK(Inputs!G126), \"\", Inputs!G126)","v":""},{"$f":"IF(ISBLANK(Inputs!G126), \"\", Inputs!G126)","v":""},{"$f":"IF(ISBLANK(Inputs!I126), \"\", Inputs!I126)","v":""}]
[{"$f":"IF(ISBLANK(Inputs!A127), \"\", Inputs!A127)","v":""},{"$f":"IF(ISBLANK(Inputs!B127), \"\", Inputs!B127)","v":""},{"$f":"IF(ISBLANK(Inputs!C127), \"\", Inputs!C127)","v":""},{"$f":"IF(ISBLANK(Inputs!D127), \"\", Inputs!D127)","v":""},{"$f":"IF(ISBLANK(Inputs!E127), \"\", Inputs!E127)","v":""},{"$f":"IF(ISBLANK(Inputs!F127), \"\", Inputs!F127)","v":""},{"$f":"IF(ISBLANK(Inputs!G127), \"\", Inputs!G127)","v":""},{"$f":"IF(ISBLANK(Inputs!G127), \"\", Inputs!G127)","v":""},{"$f":"IF(ISBLANK(Inputs!I127), \"\", Inputs!I127)","v":""}]
[{"$f":"IF(ISBLANK(Inputs!A128), \"\", Inputs!A128)","v":""},{"$f":"IF(ISBLANK(Inputs!B128), \"\", Inputs!B128)","v":""},{"$f":"IF(ISBLANK(Inputs!C128), \"\", Inputs!C128)","v":""},{"$f":"IF(ISBLANK(Inputs!D128), \"\", Inputs!D128)","v":""},{"$f":"IF(ISBLANK(Inputs!E128), \"\", Inputs!E128)","v":""},{"$f":"IF(ISBLANK(Inputs!F128), \"\", Inputs!F128)","v":""},{"$f":"IF(ISBLANK(Inputs!G128), \"\", Inputs!G128)","v":""},{"$f":"IF(ISBLANK(Inputs!G128), \"\", Inputs!G128)","v":""},{"$f":"IF(ISBLANK(Inputs!I128), \"\", Inputs!I128)","v":""}]
[{"$f":"IF(ISBLANK(Inputs!A129), \"\", Inputs!A129)","v":""},{"$f":"IF(ISBLANK(Inputs!B129), \"\", Inputs!B129)","v":""},{"$f":"IF(ISBLANK(Inputs!C129), \"\", Inputs!C129)","v":""},{"$f":"IF(ISBLANK(Inputs!D129), \"\", Inputs!D129)","v":""},{"$f":"IF(ISBLANK(Inputs!E129), \"\", Inputs!E129)","v":""},{"$f":"IF(ISBLANK(Inputs!F129), \"\", Inputs!F129)","v":""},{"$f":"IF(ISBLANK(Inputs!G129), \"\", Inputs!G129)","v":""},{"$f":"IF(ISBLANK(Inputs!G129), \"\", Inputs!G129)","v":""},{"$f":"IF(ISBLANK(Inputs!I129), \"\", Inputs!I129)","v":""}]
[{"$f":"IF(ISBLANK(Inputs!A130), \"\", Inputs!A130)","v":""},{"$f":"IF(ISBLANK(Inputs!B130), \"\", Inputs!B130)","v":""},{"$f":"IF(ISBLANK(Inputs!C130), \"\", Inputs!C130)","v":""},{"$f":"IF(ISBLANK(Inputs!D130), \"\", Inputs!D130)","v":""},{"$f":"IF(ISBLANK(Inputs!E130), \"\", Inputs!E130)","v":""},{"$f":"IF(ISBLANK(Inputs!F130), \"\", Inputs!F130)","v":""},{"$f":"IF(ISBLANK(Inputs!G130), \"\", Inputs!G130)","v":""},{"$f":"IF(ISBLANK(Inputs!G130), \"\", Inputs!G130)","v":""},{"$f":"IF(ISBLANK(Inputs!I130), \"\", Inputs!I130)","v":""}]
[{"$f":"IF(ISBLANK(Inputs!A131), \"\", Inputs!A131)","v":""},{"$f":"IF(ISBLANK(Inputs!B131), \"\", Inputs!B131)","v":""},{"$f":"IF(ISBLANK(Inputs!C131), \"\", Inputs!C131)","v":""},{"$f":"IF(ISBLANK(Inputs!D131), \"\", Inputs!D131)","v":""},{"$f":"IF(ISBLANK(Inputs!E131), \"\", Inputs!E131)","v":""},{"$f":"IF(ISBLANK(Inputs!F131), \"\", Inputs!F131)","v":""},{"$f":"IF(ISBLANK(Inputs!G131), \"\", Inputs!G131)","v":""},{"$f":"IF(ISBLANK(Inputs!G131), \"\", Inputs!G131)","v":""},{"$f":"IF(ISBLANK(Inputs!I131), \"\", Inputs!I131)","v":""}]
[{"$f":"IF(ISBLANK(Inputs!A132), \"\", Inputs!A132)","v":""},{"$f":"IF(ISBLANK(Inputs!B132), \"\", Inputs!B132)","v":""},{"$f":"IF(ISBLANK(Inputs!C132), \"\", Inputs!C132)","v":""},{"$f":"IF(ISBLANK(Inputs!D132), \"\", Inputs!D132)","v":""},{"$f":"IF(ISBLANK(Inputs!E132), \"\", Inputs!E132)","v":""},{"$f":"IF(ISBLANK(Inputs!F132), \"\", Inputs!F132)","v":""},{"$f":"IF(ISBLANK(Inputs!G132), \"\", Inputs!G132)","v":""},{"$f":"IF(ISBLANK(Inputs!G132), \"\", Inputs!G132)","v":""},{"$f":"IF(ISBLANK(Inputs!I132), \"\", Inputs!I132)","v":""}]
[{"$f":"IF(ISBLANK(Inputs!A133), \"\", Inputs!A133)","v":""},{"$f":"IF(ISBLANK(Inputs!B133), \"\", Inputs!B133)","v":""},{"$f":"IF(ISBLANK(Inputs!C133), \"\", Inputs!C133)","v":""},{"$f":"IF(ISBLANK(Inputs!D133), \"\", Inputs!D133)","v":""},{"$f":"IF(ISBLANK(Inputs!E133), \"\", Inputs!E133)","v":""},{"$f":"IF(ISBLANK(Inputs!F133), \"\", Inputs!F133)","v":""},{"$f":"IF(ISBLANK(Inputs!G133), \"\", Inputs!G133)","v":""},{"$f":"IF(ISBLANK(Inputs!G133), \"\", Inputs!G133)","v":""},{"$f":"IF(ISBLANK(Inputs!I133), \"\", Inputs!I133)","v":""}]
[{"$f":"IF(ISBLANK(Inputs!A134), \"\", Inputs!A134)","v":""},{"$f":"IF(ISBLANK(Inputs!B134), \"\", Inputs!B134)","v":""},{"$f":"IF(ISBLANK(Inputs!C134), \"\", Inputs!C134)","v":""},{"$f":"IF(ISBLANK(Inputs!D134), \"\", Inputs!D134)","v":""},{"$f":"IF(ISBLANK(Inputs!E134), \"\", Inputs!E134)","v":""},{"$f":"IF(ISBLANK(Inputs!F134), \"\", Inputs!F134)","v":""},{"$f":"IF(ISBLANK(Inputs!G134), \"\", Inputs!G134)","v":""},{"$f":"IF(ISBLANK(Inputs!G134), \"\", Inputs!G134)","v":""},{"$f":"IF(ISBLANK(Inputs!I134), \"\", Inputs!I134)","v":""}]
[{"$f":"IF(ISBLANK(Inputs!A135), \"\", Inputs!A135)","v":""},{"$f":"IF(ISBLANK(Inputs!B135), \"\", Inputs!B135)","v":""},{"$f":"IF(ISBLANK(Inputs!C135), \"\", Inputs!C135)","v":""},{"$f":"IF(ISBLANK(Inputs!D135), \"\", Inputs!D135)","v":""},{"$f":"IF(ISBLANK(Inputs!E135), \"\", Inputs!E135)","v":""},{"$f":"IF(ISBLANK(Inputs!F135), \"\", Inputs!F135)","v":""},{"$f":"IF(ISBLANK(Inputs!G135), \"\", Inputs!G135)","v":""},{"$f":"IF(ISBLANK(Inputs!G135), \"\", Inputs!G135)","v":""},{"$f":"IF(ISBLANK(Inputs!I135), \"\", Inputs!I135)","v":""}]
[{"$f":"IF(ISBLANK(Inputs!A136), \"\", Inputs!A136)","v":""},{"$f":"IF(ISBLANK(Inputs!B136), \"\", Inputs!B136)","v":""},{"$f":"IF(ISBLANK(Inputs!C136), \"\", Inputs!C136)","v":""},{"$f":"IF(ISBLANK(Inputs!D136), \"\", Inputs!D136)","v":""},{"$f":"IF(ISBLANK(Inputs!E136), \"\", Inputs!E136)","v":""},{"$f":"IF(ISBLANK(Inputs!F136), \"\", Inputs!F136)","v":""},{"$f":"IF(ISBLANK(Inputs!G136), \"\", Inputs!G136)","v":""},{"$f":"IF(ISBLANK(Inputs!G136), \"\", Inputs!G136)","v":""},{"$f":"IF(ISBLANK(Inputs!I136), \"\", Inputs!I136)","v":""}]
[{"$f":"IF(ISBLANK(Inputs!A137), \"\", Inputs!A137)","v":""},{"$f":"IF(ISBLANK(Inputs!B137), \"\", Inputs!B137)","v":""},{"$f":"IF(ISBLANK(Inputs!C137), \"\", Inputs!C137)","v":""},{"$f":"IF(ISBLANK(Inputs!D137), \"\", Inputs!D137)","v":""},{"$f":"IF(ISBLANK(Inputs!E137), \"\", Inputs!E137)","v":""},{"$f":"IF(ISBLANK(Inputs!F137), \"\", Inputs!F137)","v":""},{"$f":"IF(ISBLANK(Inputs!G137), \"\", Inputs!G137)","v":""},{"$f":"IF(ISBLANK(Inputs!G137), \"\", Inputs!G137)","v":""},{"$f":"IF(ISBLANK(Inputs!I137), \"\", Inputs!I137)","v":""}]
[{"$f":"IF(ISBLANK(Inputs!A138), \"\", Inputs!A138)","v":""},{"$f":"IF(ISBLANK(Inputs!B138), \"\", Inputs!B138)","v":""},{"$f":"IF(ISBLANK(Inputs!C138), \"\", Inputs!C138)","v":""},{"$f":"IF(ISBLANK(Inputs!D138), \"\", Inputs!D138)","v":""},{"$f":"IF(ISBLANK(Inputs!E138), \"\", Inputs!E138)","v":""},{"$f":"IF(ISBLANK(Inputs!F138), \"\", Inputs!F138)","v":""},{"$f":"IF(ISBLANK(Inputs!G138), \"\", Inputs!G138)","v":""},{"$f":"IF(ISBLANK(Inputs!G138), \"\", Inputs!G138)","v":""},{"$f":"IF(ISBLANK(Inputs!I138), \"\", Inputs!I138)","v":""}]
[{"$f":"IF(ISBLANK(Inputs!A139), \"\", Inputs!A139)","v":""},{"$f":"IF(ISBLANK(Inputs!B139), \"\", Inputs!B139)","v":""},{"$f":"IF(ISBLANK(Inputs!C139), \"\", Inputs!C139)","v":""},{"$f":"IF(ISBLANK(Inputs!D139), \"\", Inputs!D139)","v":""},{"$f":"IF(ISBLANK(Inputs!E139), \"\", Inputs!E139)","v":""},{"$f":"IF(ISBLANK(Inputs!F139), \"\", Inputs!F139)","v":""},{"$f":"IF(ISBLANK(Inputs!G139), \"\", Inputs!G139)","v":""},{"$f":"IF(ISBLANK(Inputs!G139), \"\", Inputs!G139)","v":""},{"$f":"IF(ISBLANK(Inputs!I139), \"\", Inputs!I139)","v":""}]
[{"$f":"IF(ISBLANK(Inputs!A140), \"\", Inputs!A140)","v":""},{"$f":"IF(ISBLANK(Inputs!B140), \"\", Inputs!B140)","v":""},{"$f":"IF(ISBLANK(Inputs!C140), \"\", Inputs!C140)","v":""},{"$f":"IF(ISBLANK(Inputs!D140), \"\", Inputs!D140)","v":""},{"$f":"IF(ISBLANK(Inputs!E140), \"\", Inputs!E140)","v":""},{"$f":"IF(ISBLANK(Inputs!F140), \"\", Inputs!F140)","v":""},{"$f":"IF(ISBLANK(Inputs!G140), \"\", Inputs!G140)","v":""},{"$f":"IF(ISBLANK(Inputs!G140), \"\", Inputs!G140)","v":""},{"$f":"IF(ISBLANK(Inputs!I140), \"\", Inputs!I140)","v":""}]
[{"$f":"IF(ISBLANK(Inputs!A141), \"\", Inputs!A141)","v":""},{"$f":"IF(ISBLANK(Inputs!B141), \"\", Inputs!B141)","v":""},{"$f":"IF(ISBLANK(Inputs!C141), \"\", Inputs!C141)","v":""},{"$f":"IF(ISBLANK(Inputs!D141), \"\", Inputs!D141)","v":""},{"$f":"IF(ISBLANK(Inputs!E141), \"\", Inputs!E141)","v":""},{"$f":"IF(ISBLANK(Inputs!F141), \"\", Inputs!F141)","v":""},{"$f":"IF(ISBLANK(Inputs!G141), \"\", Inputs!G141)","v":""},{"$f":"IF(ISBLANK(Inputs!G141), \"\", Inputs!G141)","v":""},{"$f":"IF(ISBLANK(Inputs!I141), \"\", Inputs!I141)","v":""}]
[{"$f":"IF(ISBLANK(Inputs!A142), \"\", Inputs!A142)","v":""},{"$f":"IF(ISBLANK(Inputs!B142), \"\", Inputs!B142)","v":""},{"$f":"IF(ISBLANK(Inputs!C142), \"\", Inputs!C142)","v":""},{"$f":"IF(ISBLANK(Inputs!D142), \"\", Inputs!D142)","v":""},{"$f":"IF(ISBLANK(Inputs!E142), \"\", Inputs!E142)","v":""},{"$f":"IF(ISBLANK(Inputs!F142), \"\", Inputs!F142)","v":""},{"$f":"IF(ISBLANK(Inputs!G142), \"\", Inputs!G142)","v":""},{"$f":"IF(ISBLANK(Inputs!G142), \"\", Inputs!G142)","v":""},{"$f":"IF(ISBLANK(Inputs!I142), \"\", Inputs!I142)","v":""}]
[{"$f":"IF(ISBLANK(Inputs!A143), \"\", Inputs!A143)","v":""},{"$f":"IF(ISBLANK(Inputs!B143), \"\", Inputs!B143)","v":""},{"$f":"IF(ISBLANK(Inputs!C143), \"\", Inputs!C143)","v":""},{"$f":"IF(ISBLANK(Inputs!D143), \"\", Inputs!D143)","v":""},{"$f":"IF(ISBLANK(Inputs!E143), \"\", Inputs!E143)","v":""},{"$f":"IF(ISBLANK(Inputs!F143), \"\", Inputs!F143)","v":""},{"$f":"IF(ISBLANK(Inputs!G143), \"\", Inputs!G143)","v":""},{"$f":"IF(ISBLANK(Inputs!G143), \"\", Inputs!G143)","v":""},{"$f":"IF(ISBLANK(Inputs!I143), \"\", Inputs!I143)","v":""}]
[{"$f":"IF(ISBLANK(Inputs!A144), \"\", Inputs!A144)","v":""},{"$f":"IF(ISBLANK(Inputs!B144), \"\", Inputs!B144)","v":""},{"$f":"IF(ISBLANK(Inputs!C144), \"\", Inputs!C144)","v":""},{"$f":"IF(ISBLANK(Inputs!D144), \"\", Inputs!D144)","v":""},{"$f":"IF(ISBLANK(Inputs!E144), \"\", Inputs!E144)","v":""},{"$f":"IF(ISBLANK(Inputs!F144), \"\", Inputs!F144)","v":""},{"$f":"IF(ISBLANK(Inputs!G144), \"\", Inputs!G144)","v":""},{"$f":"IF(ISBLANK(Inputs!G144), \"\", Inputs!G144)","v":""},{"$f":"IF(ISBLANK(Inputs!I144), \"\", Inputs!I144)","v":""}]
[{"$f":"IF(ISBLANK(Inputs!A145), \"\", Inputs!A145)","v":""},{"$f":"IF(ISBLANK(Inputs!B145), \"\", Inputs!B145)","v":""},{"$f":"IF(ISBLANK(Inputs!C145), \"\", Inputs!C145)","v":""},{"$f":"IF(ISBLANK(Inputs!D145), \"\", Inputs!D145)","v":""},{"$f":"IF(ISBLANK(Inputs!E145), \"\", Inputs!E145)","v":""},{"$f":"IF(ISBLANK(Inputs!F145), \"\", Inputs!F145)","v":""},{"$f":"IF(ISBLANK(Inputs!G145), \"\", Inputs!G145)","v":""},{"$f":"IF(ISBLANK(Inputs!G145), \"\", Inputs!G145)","v":""},{"$f":"IF(ISBLANK(Inputs!I145), \"\", Inputs!I145)","v":""}]
[{"$f":"IF(ISBLANK(Inputs!A146), \"\", Inputs!A146)","v":""},{"$f":"IF(ISBLANK(Inputs!B146), \"\", Inputs!B146)","v":""},{"$f":"IF(ISBLANK(Inputs!C146), \"\", Inputs!C146)","v":""},{"$f":"IF(ISBLANK(Inputs!D146), \"\", Inputs!D146)","v":""},{"$f":"IF(ISBLANK(Inputs!E146), \"\", Inputs!E146)","v":""},{"$f":"IF(ISBLANK(Inputs!F146), \"\", Inputs!F146)","v":""},{"$f":"IF(ISBLANK(Inputs!G146), \"\", Inputs!G146)","v":""},{"$f":"IF(ISBLANK(Inputs!G146), \"\", Inputs!G146)","v":""},{"$f":"IF(ISBLANK(Inputs!I146), \"\", Inputs!I146)","v":""}]
[{"$f":"IF(ISBLANK(Inputs!A147), \"\", Inputs!A147)","v":""},{"$f":"IF(ISBLANK(Inputs!B147), \"\", Inputs!B147)","v":""},{"$f":"IF(ISBLANK(Inputs!C147), \"\", Inputs!C147)","v":""},{"$f":"IF(ISBLANK(Inputs!D147), \"\", Inputs!D147)","v":""},{"$f":"IF(ISBLANK(Inputs!E147), \"\", Inputs!E147)","v":""},{"$f":"IF(ISBLANK(Inputs!F147), \"\", Inputs!F147)","v":""},{"$f":"IF(ISBLANK(Inputs!G147), \"\", Inputs!G147)","v":""},{"$f":"IF(ISBLANK(Inputs!G147), \"\", Inputs!G147)","v":""},{"$f":"IF(ISBLANK(Inputs!I147), \"\", Inputs!I147)","v":""}]
[{"$f":"IF(ISBLANK(Inputs!A148), \"\", Inputs!A148)","v":""},{"$f":"IF(ISBLANK(Inputs!B148), \"\", Inputs!B148)","v":""},{"$f":"IF(ISBLANK(Inputs!C148), \"\", Inputs!C148)","v":""},{"$f":"IF(ISBLANK(Inputs!D148), \"\", Inputs!D148)","v":""},{"$f":"IF(ISBLANK(Inputs!E148), \"\", Inputs!E148)","v":""},{"$f":"IF(ISBLANK(Inputs!F148), \"\", Inputs!F148)","v":""},{"$f":"IF(ISBLANK(Inputs!G148), \"\", Inputs!G148)","v":""},{"$f":"IF(ISBLANK(Inputs!G148), \"\", Inputs!G148)","v":""},{"$f":"IF(ISBLANK(Inputs!I148), \"\", Inputs!I148)","v":""}]
[{"$f":"IF(ISBLANK(Inputs!A149), \"\", Inputs!A149)","v":""},{"$f":"IF(ISBLANK(Inputs!B149), \"\", Inputs!B149)","v":""},{"$f":"IF(ISBLANK(Inputs!C149), \"\", Inputs!C149)","v":""},{"$f":"IF(ISBLANK(Inputs!D149), \"\", Inputs!D149)","v":""},{"$f":"IF(ISBLANK(Inputs!E149), \"\", Inputs!E149)","v":""},{"$f":"IF(ISBLANK(Inputs!F149), \"\", Inputs!F149)","v":""},{"$f":"IF(ISBLANK(Inputs!G149), \"\", Inputs!G149)","v":""},{"$f":"IF(ISBLANK(Inputs!G149), \"\", Inputs!G149)","v":""},{"$f":"IF(ISBLANK(Inputs!I149), \"\", Inputs!I149)","v":""}]
[{"$f":"IF(ISBLANK(Inputs!A150), \"\", Inputs!A150)","v":""},{"$f":"IF(ISBLANK(Inputs!B150), \"\", Inputs!B150)","v":""},{"$f":"IF(ISBLANK(Inputs!C150), \"\", Inputs!C150)","v":""},{"$f":"IF(ISBLANK(Inputs!D150), \"\", Inputs!D150)","v":""},{"$f":"IF(ISBLANK(Inputs!E150), \"\", Inputs!E150)","v":""},{"$f":"IF(ISBLANK(Inputs!F150), \"\", Inputs!F150)","v":""},{"$f":"IF(ISBLANK(Inputs!G150), \"\", Inputs!G150)","v":""},{"$f":"IF(ISBLANK(Inputs!G150), \"\", Inputs!G150)","v":""},{"$f":"IF(ISBLANK(Inputs!I150), \"\", Inputs!I150)","v":""}]
[{"$f":"IF(ISBLANK(Inputs!A151), \"\", Inputs!A151)","v":""},{"$f":"IF(ISBLANK(Inputs!B151), \"\", Inputs!B151)","v":""},{"$f":"IF(ISBLANK(Inputs!C151), \"\", Inputs!C151)","v":""},{"$f":"IF(ISBLANK(Inputs!D151), \"\", Inputs!D151)","v":""},{"$f":"IF(ISBLANK(Inputs!E151), \"\", Inputs!E151)","v":""},{"$f":"IF(ISBLANK(Inputs!F151), \"\", Inputs!F151)","v":""},{"$f":"IF(ISBLANK(Inputs!G151), \"\", Inputs!G151)","v":""},{"$f":"IF(ISBLANK(Inputs!G151), \"\", Inputs!G151)","v":""},{"$f":"IF(ISBLANK(Inputs!I151), \"\", Inputs!I151)","v":""}]
[{"$f":"IF(ISBLANK(Inputs!A152), \"\", Inputs!A152)","v":""},{"$f":"IF(ISBLANK(Inputs!B152), \"\", Inputs!B152)","v":""},{"$f":"IF(ISBLANK(Inputs!C152), \"\", Inputs!C152)","v":""},{"$f":"IF(ISBLANK(Inputs!D152), \"\", Inputs!D152)","v":""},{"$f":"IF(ISBLANK(Inputs!E152), \"\", Inputs!E152)","v":""},{"$f":"IF(ISBLANK(Inputs!F152), \"\", Inputs!F152)","v":""},{"$f":"IF(ISBLANK(Inputs!G152), \"\", Inputs!G152)","v":""},{"$f":"IF(ISBLANK(Inputs!G152), \"\", Inputs!G152)","v":""},{"$f":"IF(ISBLANK(Inputs!I152), \"\", Inputs!I152)","v":""}]
[{"$f":"IF(ISBLANK(Inputs!A153), \"\", Inputs!A153)","v":""},{"$f":"IF(ISBLANK(Inputs!B153), \"\", Inputs!B153)","v":""},{"$f":"IF(ISBLANK(Inputs!C153), \"\", Inputs!C153)","v":""},{"$f":"IF(ISBLANK(Inputs!D153), \"\", Inputs!D153)","v":""},{"$f":"IF(ISBLANK(Inputs!E153), \"\", Inputs!E153)","v":""},{"$f":"IF(ISBLANK(Inputs!F153), \"\", Inputs!F153)","v":""},{"$f":"IF(ISBLANK(Inputs!G153), \"\", Inputs!G153)","v":""},{"$f":"IF(ISBLANK(Inputs!G153), \"\", Inputs!G153)","v":""},{"$f":"IF(ISBLANK(Inputs!I153), \"\", Inputs!I153)","v":""}]
[{"$f":"IF(ISBLANK(Inputs!A154), \"\", Inputs!A154)","v":""},{"$f":"IF(ISBLANK(Inputs!B154), \"\", Inputs!B154)","v":""},{"$f":"IF(ISBLANK(Inputs!C154), \"\", Inputs!C154)","v":""},{"$f":"IF(ISBLANK(Inputs!D154), \"\", Inputs!D154)","v":""},{"$f":"IF(ISBLANK(Inputs!E154), \"\", Inputs!E154)","v":""},{"$f":"IF(ISBLANK(Inputs!F154), \"\", Inputs!F154)","v":""},{"$f":"IF(ISBLANK(Inputs!G154), \"\", Inputs!G154)","v":""},{"$f":"IF(ISBLANK(Inputs!G154), \"\", Inputs!G154)","v":""},{"$f":"IF(ISBLANK(Inputs!I154), \"\", Inputs!I154)","v":""}]
[{"$f":"IF(ISBLANK(Inputs!A155), \"\", Inputs!A155)","v":""},{"$f":"IF(ISBLANK(Inputs!B155), \"\", Inputs!B155)","v":""},{"$f":"IF(ISBLANK(Inputs!C155), \"\", Inputs!C155)","v":""},{"$f":"IF(ISBLANK(Inputs!D155), \"\", Inputs!D155)","v":""},{"$f":"IF(ISBLANK(Inputs!E155), \"\", Inputs!E155)","v":""},{"$f":"IF(ISBLANK(Inputs!F155), \"\", Inputs!F155)","v":""},{"$f":"IF(ISBLANK(Inputs!G155), \"\", Inputs!G155)","v":""},{"$f":"IF(ISBLANK(Inputs!G155), \"\", Inputs!G155)","v":""},{"$f":"IF(ISBLANK(Inputs!I155), \"\", Inputs!I155)","v":""}]
[{"$f":"IF(ISBLANK(Inputs!A156), \"\", Inputs!A156)","v":""},{"$f":"IF(ISBLANK(Inputs!B156), \"\", Inputs!B156)","v":""},{"$f":"IF(ISBLANK(Inputs!C156), \"\", Inputs!C156)","v":""},{"$f":"IF(ISBLANK(Inputs!D156), \"\", Inputs!D156)","v":""},{"$f":"IF(ISBLANK(Inputs!E156), \"\", Inputs!E156)","v":""},{"$f":"IF(ISBLANK(Inputs!F156), \"\", Inputs!F156)","v":""},{"$f":"IF(ISBLANK(Inputs!G156), \"\", Inputs!G156)","v":""},{"$f":"IF(ISBLANK(Inputs!G156), \"\", Inputs!G156)","v":""},{"$f":"IF(ISBLANK(Inputs!I156), \"\", Inputs!I156)","v":""}]
[{"$f":"IF(ISBLANK(Inputs!A157), \"\", Inputs!A157)","v":""},{"$f":"IF(ISBLANK(Inputs!B157), \"\", Inputs!B157)","v":""},{"$f":"IF(ISBLANK(Inputs!C157), \"\", Inputs!C157)","v":""},{"$f":"IF(ISBLANK(Inputs!D157), \"\", Inputs!D157)","v":""},{"$f":"IF(ISBLANK(Inputs!E157), \"\", Inputs!E157)","v":""},{"$f":"IF(ISBLANK(Inputs!F157), \"\", Inputs!F157)","v":""},{"$f":"IF(ISBLANK(Inputs!G157), \"\", Inputs!G157)","v":""},{"$f":"IF(ISBLANK(Inputs!G157), \"\", Inputs!G157)","v":""},{"$f":"IF(ISBLANK(Inputs!I157), \"\", Inputs!I157)","v":""}]
[]
[]
["Additional Procedures (cont.)"]
["Item","Elapsed Months\n(from FLS initiation)","Anticipated CPT Code\n(optional)",null,"Reimbursement Revenue","Probability of Receipt"]
["Item",null,null,null,null,"FLS",null,"Non-FLS"]
[{"$f":"IF(ISBLANK(Inputs!A158), \"\", Inputs!A158)","v":""},{"$f":"IF(ISBLANK(Inputs!B158), \"\", Inputs!B158)","v":""},{"$f":"IF(ISBLANK(Inputs!C158), \"\", Inputs!C158)","v":""},{"$f":"IF(ISBLANK(Inputs!D158), \"\", Inputs!D158)","v":""},{"$f":"IF(ISBLANK(Inputs!E158), \"\", Inputs!E158)","v":""},{"$f":"IF(ISBLANK(Inputs!F158), \"\", Inputs!F158)","v":""},{"$f":"IF(ISBLANK(Inputs!G158), \"\", Inputs!G158)","v":""},{"$f":"IF(ISBLANK(Inputs!G158), \"\", Inputs!G158)","v":""},{"$f":"IF(ISBLANK(Inputs!I158), \"\", Inputs!I158)","v":""}]
[{"$f":"IF(ISBLANK(Inputs!A159), \"\", Inputs!A159)","v":""},{"$f":"IF(ISBLANK(Inputs!B159), \"\", Inputs!B159)","v":""},{"$f":"IF(ISBLANK(Inputs!C159), \"\", Inputs!C159)","v":""},{"$f":"IF(ISBLANK(Inputs!D159), \"\", Inputs!D159)","v":""},{"$f":"IF(ISBLANK(Inputs!E159), \"\", Inputs!E159)","v":""},{"$f":"IF(ISBLANK(Inputs!F159), \"\", Inputs!F159)","v":""},{"$f":"IF(ISBLANK(Inputs!G159), \"\", Inputs!G159)","v":""},{"$f":"IF(ISBLANK(Inputs!G159), \"\", Inputs!G159)","v":""},{"$f":"IF(ISBLANK(Inputs!I159), \"\", Inputs!I159)","v":""}]
[{"$f":"IF(ISBLANK(Inputs!A160), \"\", Inputs!A160)","v":""},{"$f":"IF(ISBLANK(Inputs!B160), \"\", Inputs!B160)","v":""},{"$f":"IF(ISBLANK(Inputs!C160), \"\", Inputs!C160)","v":""},{"$f":"IF(ISBLANK(Inputs!D160), \"\", Inputs!D160)","v":""},{"$f":"IF(ISBLANK(Inputs!E160), \"\", Inputs!E160)","v":""},{"$f":"IF(ISBLANK(Inputs!F160), \"\", Inputs!F160)","v":""},{"$f":"IF(ISBLANK(Inputs!G160), \"\", Inputs!G160)","v":""},{"$f":"IF(ISBLANK(Inputs!G160), \"\", Inputs!G160)","v":""},{"$f":"IF(ISBLANK(Inputs!I160), \"\", Inputs!I160)","v":""}]
[{"$f":"IF(ISBLANK(Inputs!A161), \"\", Inputs!A161)","v":""},{"$f":"IF(ISBLANK(Inputs!B161), \"\", Inputs!B161)","v":""},{"$f":"IF(ISBLANK(Inputs!C161), \"\", Inputs!C161)","v":""},{"$f":"IF(ISBLANK(Inputs!D161), \"\", Inputs!D161)","v":""},{"$f":"IF(ISBLANK(Inputs!E161), \"\", Inputs!E161)","v":""},{"$f":"IF(ISBLANK(Inputs!F161), \"\", Inputs!F161)","v":""},{"$f":"IF(ISBLANK(Inputs!G161), \"\", Inputs!G161)","v":""},{"$f":"IF(ISBLANK(Inputs!G161), \"\", Inputs!G161)","v":""},{"$f":"IF(ISBLANK(Inputs!I161), \"\", Inputs!I161)","v":""}]
[{"$f":"IF(ISBLANK(Inputs!A162), \"\", Inputs!A162)","v":""},{"$f":"IF(ISBLANK(Inputs!B162), \"\", Inputs!B162)","v":""},{"$f":"IF(ISBLANK(Inputs!C162), \"\", Inputs!C162)","v":""},{"$f":"IF(ISBLANK(Inputs!D162), \"\", Inputs!D162)","v":""},{"$f":"IF(ISBLANK(Inputs!E162), \"\", Inputs!E162)","v":""},{"$f":"IF(ISBLANK(Inputs!F162), \"\", Inputs!F162)","v":""},{"$f":"IF(ISBLANK(Inputs!G162), \"\", Inputs!G162)","v":""},{"$f":"IF(ISBLANK(Inputs!G162), \"\", Inputs!G162)","v":""},{"$f":"IF(ISBLANK(Inputs!I162), \"\", Inputs!I162)","v":""}]
[{"$f":"IF(ISBLANK(Inputs!A163), \"\", Inputs!A163)","v":""},{"$f":"IF(ISBLANK(Inputs!B163), \"\", Inputs!B163)","v":""},{"$f":"IF(ISBLANK(Inputs!C163), \"\", Inputs!C163)","v":""},{"$f":"IF(ISBLANK(Inputs!D163), \"\", Inputs!D163)","v":""},{"$f":"IF(ISBLANK(Inputs!E163), \"\", Inputs!E163)","v":""},{"$f":"IF(ISBLANK(Inputs!F163), \"\", Inputs!F163)","v":""},{"$f":"IF(ISBLANK(Inputs!G163), \"\", Inputs!G163)","v":""},{"$f":"IF(ISBLANK(Inputs!G163), \"\", Inputs!G163)","v":""},{"$f":"IF(ISBLANK(Inputs!I163), \"\", Inputs!I163)","v":""}]
[{"$f":"IF(ISBLANK(Inputs!A164), \"\", Inputs!A164)","v":""},{"$f":"IF(ISBLANK(Inputs!B164), \"\", Inputs!B164)","v":""},{"$f":"IF(ISBLANK(Inputs!C164), \"\", Inputs!C164)","v":""},{"$f":"IF(ISBLANK(Inputs!D164), \"\", Inputs!D164)","v":""},{"$f":"IF(ISBLANK(Inputs!E164), \"\", Inputs!E164)","v":""},{"$f":"IF(ISBLANK(Inputs!F164), \"\", Inputs!F164)","v":""},{"$f":"IF(ISBLANK(Inputs!G164), \"\", Inputs!G164)","v":""},{"$f":"IF(ISBLANK(Inputs!G164), \"\", Inputs!G164)","v":""},{"$f":"IF(ISBLANK(Inputs!I164), \"\", Inputs!I164)","v":""}]
[{"$f":"IF(ISBLANK(Inputs!A165), \"\", Inputs!A165)","v":""},{"$f":"IF(ISBLANK(Inputs!B165), \"\", Inputs!B165)","v":""},{"$f":"IF(ISBLANK(Inputs!C165), \"\", Inputs!C165)","v":""},{"$f":"IF(ISBLANK(Inputs!D165), \"\", Inputs!D165)","v":""},{"$f":"IF(ISBLANK(Inputs!E165), \"\", Inputs!E165)","v":""},{"$f":"IF(ISBLANK(Inputs!F165), \"\", Inputs!F165)","v":""},{"$f":"IF(ISBLANK(Inputs!G165), \"\", Inputs!G165)","v":""},{"$f":"IF(ISBLANK(Inputs!G165), \"\", Inputs!G165)","v":""},{"$f":"IF(ISBLANK(Inputs!I165), \"\", Inputs!I165)","v":""}]
[{"$f":"IF(ISBLANK(Inputs!A166), \"\", Inputs!A166)","v":""},{"$f":"IF(ISBLANK(Inputs!B166), \"\", Inputs!B166)","v":""},{"$f":"IF(ISBLANK(Inputs!C166), \"\", Inputs!C166)","v":""},{"$f":"IF(ISBLANK(Inputs!D166), \"\", Inputs!D166)","v":""},{"$f":"IF(ISBLANK(Inputs!E166), \"\", Inputs!E166)","v":""},{"$f":"IF(ISBLANK(Inputs!F166), \"\", Inputs!F166)","v":""},{"$f":"IF(ISBLANK(Inputs!G166), \"\", Inputs!G166)","v":""},{"$f":"IF(ISBLANK(Inputs!G166), \"\", Inputs!G166)","v":""},{"$f":"IF(ISBLANK(Inputs!I166), \"\", Inputs!I166)","v":""}]
[{"$f":"IF(ISBLANK(Inputs!A167), \"\", Inputs!A167)","v":""},{"$f":"IF(ISBLANK(Inputs!B167), \"\", Inputs!B167)","v":""},{"$f":"IF(ISBLANK(Inputs!C167), \"\", Inputs!C167)","v":""},{"$f":"IF(ISBLANK(Inputs!D167), \"\", Inputs!D167)","v":""},{"$f":"IF(ISBLANK(Inputs!E167), \"\", Inputs!E167)","v":""},{"$f":"IF(ISBLANK(Inputs!F167), \"\", Inputs!F167)","v":""},{"$f":"IF(ISBLANK(Inputs!G167), \"\", Inputs!G167)","v":""},{"$f":"IF(ISBLANK(Inputs!G167), \"\", Inputs!G167)","v":""},{"$f":"IF(ISBLANK(Inputs!I167), \"\", Inputs!I167)","v":""}]
[{"$f":"IF(ISBLANK(Inputs!A168), \"\", Inputs!A168)","v":""},{"$f":"IF(ISBLANK(Inputs!B168), \"\", Inputs!B168)","v":""},{"$f":"IF(ISBLANK(Inputs!C168), \"\", Inputs!C168)","v":""},{"$f":"IF(ISBLANK(Inputs!D168), \"\", Inputs!D168)","v":""},{"$f":"IF(ISBLANK(Inputs!E168), \"\", Inputs!E168)","v":""},{"$f":"IF(ISBLANK(Inputs!F168), \"\", Inputs!F168)","v":""},{"$f":"IF(ISBLANK(Inputs!G168), \"\", Inputs!G168)","v":""},{"$f":"IF(ISBLANK(Inputs!G168), \"\", Inputs!G168)","v":""},{"$f":"IF(ISBLANK(Inputs!I168), \"\", Inputs!I168)","v":""}]
[{"$f":"IF(ISBLANK(Inputs!A169), \"\", Inputs!A169)","v":""},{"$f":"IF(ISBLANK(Inputs!B169), \"\", Inputs!B169)","v":""},{"$f":"IF(ISBLANK(Inputs!C169), \"\", Inputs!C169)","v":""},{"$f":"IF(ISBLANK(Inputs!D169), \"\", Inputs!D169)","v":""},{"$f":"IF(ISBLANK(Inputs!E169), \"\", Inputs!E169)","v":""},{"$f":"IF(ISBLANK(Inputs!F169), \"\", Inputs!F169)","v":""},{"$f":"IF(ISBLANK(Inputs!G169), \"\", Inputs!G169)","v":""},{"$f":"IF(ISBLANK(Inputs!G169), \"\", Inputs!G169)","v":""},{"$f":"IF(ISBLANK(Inputs!I169), \"\", Inputs!I169)","v":""}]
[{"$f":"IF(ISBLANK(Inputs!A170), \"\", Inputs!A170)","v":""},{"$f":"IF(ISBLANK(Inputs!B170), \"\", Inputs!B170)","v":""},{"$f":"IF(ISBLANK(Inputs!C170), \"\", Inputs!C170)","v":""},{"$f":"IF(ISBLANK(Inputs!D170), \"\", Inputs!D170)","v":""},{"$f":"IF(ISBLANK(Inputs!E170), \"\", Inputs!E170)","v":""},{"$f":"IF(ISBLANK(Inputs!F170), \"\", Inputs!F170)","v":""},{"$f":"IF(ISBLANK(Inputs!G170), \"\", Inputs!G170)","v":""},{"$f":"IF(ISBLANK(Inputs!G170), \"\", Inputs!G170)","v":""},{"$f":"IF(ISBLANK(Inputs!I170), \"\", Inputs!I170)","v":""}]
[{"$f":"IF(ISBLANK(Inputs!A171), \"\", Inputs!A171)","v":""},{"$f":"IF(ISBLANK(Inputs!B171), \"\", Inputs!B171)","v":""},{"$f":"IF(ISBLANK(Inputs!C171), \"\", Inputs!C171)","v":""},{"$f":"IF(ISBLANK(Inputs!D171), \"\", Inputs!D171)","v":""},{"$f":"IF(ISBLANK(Inputs!E171), \"\", Inputs!E171)","v":""},{"$f":"IF(ISBLANK(Inputs!F171), \"\", Inputs!F171)","v":""},{"$f":"IF(ISBLANK(Inputs!G171), \"\", Inputs!G171)","v":""},{"$f":"IF(ISBLANK(Inputs!G171), \"\", Inputs!G171)","v":""},{"$f":"IF(ISBLANK(Inputs!I171), \"\", Inputs!I171)","v":""}]
[{"$f":"IF(ISBLANK(Inputs!A172), \"\", Inputs!A172)","v":""},{"$f":"IF(ISBLANK(Inputs!B172), \"\", Inputs!B172)","v":""},{"$f":"IF(ISBLANK(Inputs!C172), \"\", Inputs!C172)","v":""},{"$f":"IF(ISBLANK(Inputs!D172), \"\", Inputs!D172)","v":""},{"$f":"IF(ISBLANK(Inputs!E172), \"\", Inputs!E172)","v":""},{"$f":"IF(ISBLANK(Inputs!F172), \"\", Inputs!F172)","v":""},{"$f":"IF(ISBLANK(Inputs!G172), \"\", Inputs!G172)","v":""},{"$f":"IF(ISBLANK(Inputs!G172), \"\", Inputs!G172)","v":""},{"$f":"IF(ISBLANK(Inputs!I172), \"\", Inputs!I172)","v":""}]
[{"$f":"IF(ISBLANK(Inputs!A173), \"\", Inputs!A173)","v":""},{"$f":"IF(ISBLANK(Inputs!B173), \"\", Inputs!B173)","v":""},{"$f":"IF(ISBLANK(Inputs!C173), \"\", Inputs!C173)","v":""},{"$f":"IF(ISBLANK(Inputs!D173), \"\", Inputs!D173)","v":""},{"$f":"IF(ISBLANK(Inputs!E173), \"\", Inputs!E173)","v":""},{"$f":"IF(ISBLANK(Inputs!F173), \"\", Inputs!F173)","v":""},{"$f":"IF(ISBLANK(Inputs!G173), \"\", Inputs!G173)","v":""},{"$f":"IF(ISBLANK(Inputs!G173), \"\", Inputs!G173)","v":""},{"$f":"IF(ISBLANK(Inputs!I173), \"\", Inputs!I173)","v":""}]
[{"$f":"IF(ISBLANK(Inputs!A174), \"\", Inputs!A174)","v":""},{"$f":"IF(ISBLANK(Inputs!B174), \"\", Inputs!B174)","v":""},{"$f":"IF(ISBLANK(Inputs!C174), \"\", Inputs!C174)","v":""},{"$f":"IF(ISBLANK(Inputs!D174), \"\", Inputs!D174)","v":""},{"$f":"IF(ISBLANK(Inputs!E174), \"\", Inputs!E174)","v":""},{"$f":"IF(ISBLANK(Inputs!F174), \"\", Inputs!F174)","v":""},{"$f":"IF(ISBLANK(Inputs!G174), \"\", Inputs!G174)","v":""},{"$f":"IF(ISBLANK(Inputs!G174), \"\", Inputs!G174)","v":""},{"$f":"IF(ISBLANK(Inputs!I174), \"\", Inputs!I174)","v":""}]
[{"$f":"IF(ISBLANK(Inputs!A175), \"\", Inputs!A175)","v":""},{"$f":"IF(ISBLANK(Inputs!B175), \"\", Inputs!B175)","v":""},{"$f":"IF(ISBLANK(Inputs!C175), \"\", Inputs!C175)","v":""},{"$f":"IF(ISBLANK(Inputs!D175), \"\", Inputs!D175)","v":""},{"$f":"IF(ISBLANK(Inputs!E175), \"\", Inputs!E175)","v":""},{"$f":"IF(ISBLANK(Inputs!F175), \"\", Inputs!F175)","v":""},{"$f":"IF(ISBLANK(Inputs!G175), \"\", Inputs!G175)","v":""},{"$f":"IF(ISBLANK(Inputs!G175), \"\", Inputs!G175)","v":""},{"$f":"IF(ISBLANK(Inputs!I175), \"\", Inputs!I175)","v":""}]
[{"$f":"IF(ISBLANK(Inputs!A176), \"\", Inputs!A176)","v":""},{"$f":"IF(ISBLANK(Inputs!B176), \"\", Inputs!B176)","v":""},{"$f":"IF(ISBLANK(Inputs!C176), \"\", Inputs!C176)","v":""},{"$f":"IF(ISBLANK(Inputs!D176), \"\", Inputs!D176)","v":""},{"$f":"IF(ISBLANK(Inputs!E176), \"\", Inputs!E176)","v":""},{"$f":"IF(ISBLANK(Inputs!F176), \"\", Inputs!F176)","v":""},{"$f":"IF(ISBLANK(Inputs!G176), \"\", Inputs!G176)","v":""},{"$f":"IF(ISBLANK(Inputs!G176), \"\", Inputs!G176)","v":""},{"$f":"IF(ISBLANK(Inputs!I176), \"\", Inputs!I176)","v":""}]
[{"$f":"IF(ISBLANK(Inputs!A177), \"\", Inputs!A177)","v":""},{"$f":"IF(ISBLANK(Inputs!B177), \"\", Inputs!B177)","v":""},{"$f":"IF(ISBLANK(Inputs!C177), \"\", Inputs!C177)","v":""},{"$f":"IF(ISBLANK(Inputs!D177), \"\", Inputs!D177)","v":""},{"$f":"IF(ISBLANK(Inputs!E177), \"\", Inputs!E177)","v":""},{"$f":"IF(ISBLANK(Inputs!F177), \"\", Inputs!F177)","v":""},{"$f":"IF(ISBLANK(Inputs!G177), \"\", Inputs!G177)","v":""},{"$f":"IF(ISBLANK(Inputs!G177), \"\", Inputs!G177)","v":""},{"$f":"IF(ISBLANK(Inputs!I177), \"\", Inputs!I177)","v":""}]
[{"$f":"IF(ISBLANK(Inputs!A178), \"\", Inputs!A178)","v":""},{"$f":"IF(ISBLANK(Inputs!B178), \"\", Inputs!B178)","v":""},{"$f":"IF(ISBLANK(Inputs!C178), \"\", Inputs!C178)","v":""},{"$f":"IF(ISBLANK(Inputs!D178), \"\", Inputs!D178)","v":""},{"$f":"IF(ISBLANK(Inputs!E178), \"\", Inputs!E178)","v":""},{"$f":"IF(ISBLANK(Inputs!F178), \"\", Inputs!F178)","v":""},{"$f":"IF(ISBLANK(Inputs!G178), \"\", Inputs!G178)","v":""},{"$f":"IF(ISBLANK(Inputs!G178), \"\", Inputs!G178)","v":""},{"$f":"IF(ISBLANK(Inputs!I178), \"\", Inputs!I178)","v":""}]
[{"$f":"IF(ISBLANK(Inputs!A179), \"\", Inputs!A179)","v":""},{"$f":"IF(ISBLANK(Inputs!B179), \"\", Inputs!B179)","v":""},{"$f":"IF(ISBLANK(Inputs!C179), \"\", Inputs!C179)","v":""},{"$f":"IF(ISBLANK(Inputs!D179), \"\", Inputs!D179)","v":""},{"$f":"IF(ISBLANK(Inputs!E179), \"\", Inputs!E179)","v":""},{"$f":"IF(ISBLANK(Inputs!F179), \"\", Inputs!F179)","v":""},{"$f":"IF(ISBLANK(Inputs!G179), \"\", Inputs!G179)","v":""},{"$f":"IF(ISBLANK(Inputs!G179), \"\", Inputs!G179)","v":""},{"$f":"IF(ISBLANK(Inputs!I179), \"\", Inputs!I179)","v":""}]
[{"$f":"IF(ISBLANK(Inputs!A180), \"\", Inputs!A180)","v":""},{"$f":"IF(ISBLANK(Inputs!B180), \"\", Inputs!B180)","v":""},{"$f":"IF(ISBLANK(Inputs!C180), \"\", Inputs!C180)","v":""},{"$f":"IF(ISBLANK(Inputs!D180), \"\", Inputs!D180)","v":""},{"$f":"IF(ISBLANK(Inputs!E180), \"\", Inputs!E180)","v":""},{"$f":"IF(ISBLANK(Inputs!F180), \"\", Inputs!F180)","v":""},{"$f":"IF(ISBLANK(Inputs!G180), \"\", Inputs!G180)","v":""},{"$f":"IF(ISBLANK(Inputs!G180), \"\", Inputs!G180)","v":""},{"$f":"IF(ISBLANK(Inputs!I180), \"\", Inputs!I180)","v":""}]
[{"$f":"IF(ISBLANK(Inputs!A181), \"\", Inputs!A181)","v":""},{"$f":"IF(ISBLANK(Inputs!B181), \"\", Inputs!B181)","v":""},{"$f":"IF(ISBLANK(Inputs!C181), \"\", Inputs!C181)","v":""},{"$f":"IF(ISBLANK(Inputs!D181), \"\", Inputs!D181)","v":""},{"$f":"IF(ISBLANK(Inputs!E181), \"\", Inputs!E181)","v":""},{"$f":"IF(ISBLANK(Inputs!F181), \"\", Inputs!F181)","v":""},{"$f":"IF(ISBLANK(Inputs!G181), \"\", Inputs!G181)","v":""},{"$f":"IF(ISBLANK(Inputs!G181), \"\", Inputs!G181)","v":""},{"$f":"IF(ISBLANK(Inputs!I181), \"\", Inputs!I181)","v":""}]
[{"$f":"IF(ISBLANK(Inputs!A182), \"\", Inputs!A182)","v":""},{"$f":"IF(ISBLANK(Inputs!B182), \"\", Inputs!B182)","v":""},{"$f":"IF(ISBLANK(Inputs!C182), \"\", Inputs!C182)","v":""},{"$f":"IF(ISBLANK(Inputs!D182), \"\", Inputs!D182)","v":""},{"$f":"IF(ISBLANK(Inputs!E182), \"\", Inputs!E182)","v":""},{"$f":"IF(ISBLANK(Inputs!F182), \"\", Inputs!F182)","v":""},{"$f":"IF(ISBLANK(Inputs!G182), \"\", Inputs!G182)","v":""},{"$f":"IF(ISBLANK(Inputs!G182), \"\", Inputs!G182)","v":""},{"$f":"IF(ISBLANK(Inputs!I182), \"\", Inputs!I182)","v":""}]
[{"$f":"IF(ISBLANK(Inputs!A183), \"\", Inputs!A183)","v":""},{"$f":"IF(ISBLANK(Inputs!B183), \"\", Inputs!B183)","v":""},{"$f":"IF(ISBLANK(Inputs!C183), \"\", Inputs!C183)","v":""},{"$f":"IF(ISBLANK(Inputs!D183), \"\", Inputs!D183)","v":""},{"$f":"IF(ISBLANK(Inputs!E183), \"\", Inputs!E183)","v":""},{"$f":"IF(ISBLANK(Inputs!F183), \"\", Inputs!F183)","v":""},{"$f":"IF(ISBLANK(Inputs!G183), \"\", Inputs!G183)","v":""},{"$f":"IF(ISBLANK(Inputs!G183), \"\", Inputs!G183)","v":""},{"$f":"IF(ISBLANK(Inputs!I183), \"\", Inputs!I183)","v":""}]
[{"$f":"IF(ISBLANK(Inputs!A184), \"\", Inputs!A184)","v":""},{"$f":"IF(ISBLANK(Inputs!B184), \"\", Inputs!B184)","v":""},{"$f":"IF(ISBLANK(Inputs!C184), \"\", Inputs!C184)","v":""},{"$f":"IF(ISBLANK(Inputs!D184), \"\", Inputs!D184)","v":""},{"$f":"IF(ISBLANK(Inputs!E184), \"\", Inputs!E184)","v":""},{"$f":"IF(ISBLANK(Inputs!F184), \"\", Inputs!F184)","v":""},{"$f":"IF(ISBLANK(Inputs!G184), \"\", Inputs!G184)","v":""},{"$f":"IF(ISBLANK(Inputs!G184), \"\", Inputs!G184)","v":""},{"$f":"IF(ISBLANK(Inputs!I184), \"\", Inputs!I184)","v":""}]
[{"$f":"IF(ISBLANK(Inputs!A185), \"\", Inputs!A185)","v":""},{"$f":"IF(ISBLANK(Inputs!B185), \"\", Inputs!B185)","v":""},{"$f":"IF(ISBLANK(Inputs!C185), \"\", Inputs!C185)","v":""},{"$f":"IF(ISBLANK(Inputs!D185), \"\", Inputs!D185)","v":""},{"$f":"IF(ISBLANK(Inputs!E185), \"\", Inputs!E185)","v":""},{"$f":"IF(ISBLANK(Inputs!F185), \"\", Inputs!F185)","v":""},{"$f":"IF(ISBLANK(Inputs!G185), \"\", Inputs!G185)","v":""},{"$f":"IF(ISBLANK(Inputs!G185), \"\", Inputs!G185)","v":""},{"$f":"IF(ISBLANK(Inputs!I185), \"\", Inputs!I185)","v":""}]
[{"$f":"IF(ISBLANK(Inputs!A186), \"\", Inputs!A186)","v":""},{"$f":"IF(ISBLANK(Inputs!B186), \"\", Inputs!B186)","v":""},{"$f":"IF(ISBLANK(Inputs!C186), \"\", Inputs!C186)","v":""},{"$f":"IF(ISBLANK(Inputs!D186), \"\", Inputs!D186)","v":""},{"$f":"IF(ISBLANK(Inputs!E186), \"\", Inputs!E186)","v":""},{"$f":"IF(ISBLANK(Inputs!F186), \"\", Inputs!F186)","v":""},{"$f":"IF(ISBLANK(Inputs!G186), \"\", Inputs!G186)","v":""},{"$f":"IF(ISBLANK(Inputs!G186), \"\", Inputs!G186)","v":""},{"$f":"IF(ISBLANK(Inputs!I186), \"\", Inputs!I186)","v":""}]
[{"$f":"IF(ISBLANK(Inputs!A187), \"\", Inputs!A187)","v":""},{"$f":"IF(ISBLANK(Inputs!B187), \"\", Inputs!B187)","v":""},{"$f":"IF(ISBLANK(Inputs!C187), \"\", Inputs!C187)","v":""},{"$f":"IF(ISBLANK(Inputs!D187), \"\", Inputs!D187)","v":""},{"$f":"IF(ISBLANK(Inputs!E187), \"\", Inputs!E187)","v":""},{"$f":"IF(ISBLANK(Inputs!F187), \"\", Inputs!F187)","v":""},{"$f":"IF(ISBLANK(Inputs!G187), \"\", Inputs!G187)","v":""},{"$f":"IF(ISBLANK(Inputs!G187), \"\", Inputs!G187)","v":""},{"$f":"IF(ISBLANK(Inputs!I187), \"\", Inputs!I187)","v":""}]
[{"$f":"IF(ISBLANK(Inputs!A188), \"\", Inputs!A188)","v":""},{"$f":"IF(ISBLANK(Inputs!B188), \"\", Inputs!B188)","v":""},{"$f":"IF(ISBLANK(Inputs!C188), \"\", Inputs!C188)","v":""},{"$f":"IF(ISBLANK(Inputs!D188), \"\", Inputs!D188)","v":""},{"$f":"IF(ISBLANK(Inputs!E188), \"\", Inputs!E188)","v":""},{"$f":"IF(ISBLANK(Inputs!F188), \"\", Inputs!F188)","v":""},{"$f":"IF(ISBLANK(Inputs!G188), \"\", Inputs!G188)","v":""},{"$f":"IF(ISBLANK(Inputs!G188), \"\", Inputs!G188)","v":""},{"$f":"IF(ISBLANK(Inputs!I188), \"\", Inputs!I188)","v":""}]
[{"$f":"IF(ISBLANK(Inputs!A189), \"\", Inputs!A189)","v":""},{"$f":"IF(ISBLANK(Inputs!B189), \"\", Inputs!B189)","v":""},{"$f":"IF(ISBLANK(Inputs!C189), \"\", Inputs!C189)","v":""},{"$f":"IF(ISBLANK(Inputs!D189), \"\", Inputs!D189)","v":""},{"$f":"IF(ISBLANK(Inputs!E189), \"\", Inputs!E189)","v":""},{"$f":"IF(ISBLANK(Inputs!F189), \"\", Inputs!F189)","v":""},{"$f":"IF(ISBLANK(Inputs!G189), \"\", Inputs!G189)","v":""},{"$f":"IF(ISBLANK(Inputs!G189), \"\", Inputs!G189)","v":""},{"$f":"IF(ISBLANK(Inputs!I189), \"\", Inputs!I189)","v":""}]
[{"$f":"IF(ISBLANK(Inputs!A190), \"\", Inputs!A190)","v":""},{"$f":"IF(ISBLANK(Inputs!B190), \"\", Inputs!B190)","v":""},{"$f":"IF(ISBLANK(Inputs!C190), \"\", Inputs!C190)","v":""},{"$f":"IF(ISBLANK(Inputs!D190), \"\", Inputs!D190)","v":""},{"$f":"IF(ISBLANK(Inputs!E190), \"\", Inputs!E190)","v":""},{"$f":"IF(ISBLANK(Inputs!F190), \"\", Inputs!F190)","v":""},{"$f":"IF(ISBLANK(Inputs!G190), \"\", Inputs!G190)","v":""},{"$f":"IF(ISBLANK(Inputs!G190), \"\", Inputs!G190)","v":""},{"$f":"IF(ISBLANK(Inputs!I190), \"\", Inputs!I190)","v":""}]
[{"$f":"IF(ISBLANK(Inputs!A191), \"\", Inputs!A191)","v":""},{"$f":"IF(ISBLANK(Inputs!B191), \"\", Inputs!B191)","v":""},{"$f":"IF(ISBLANK(Inputs!C191), \"\", Inputs!C191)","v":""},{"$f":"IF(ISBLANK(Inputs!D191), \"\", Inputs!D191)","v":""},{"$f":"IF(ISBLANK(Inputs!E191), \"\", Inputs!E191)","v":""},{"$f":"IF(ISBLANK(Inputs!F191), \"\", Inputs!F191)","v":""},{"$f":"IF(ISBLANK(Inputs!G191), \"\", Inputs!G191)","v":""},{"$f":"IF(ISBLANK(Inputs!G191), \"\", Inputs!G191)","v":""},{"$f":"IF(ISBLANK(Inputs!I191), \"\", Inputs!I191)","v":""}]
[{"$f":"IF(ISBLANK(Inputs!A192), \"\", Inputs!A192)","v":""},{"$f":"IF(ISBLANK(Inputs!B192), \"\", Inputs!B192)","v":""},{"$f":"IF(ISBLANK(Inputs!C192), \"\", Inputs!C192)","v":""},{"$f":"IF(ISBLANK(Inputs!D192), \"\", Inputs!D192)","v":""},{"$f":"IF(ISBLANK(Inputs!E192), \"\", Inputs!E192)","v":""},{"$f":"IF(ISBLANK(Inputs!F192), \"\", Inputs!F192)","v":""},{"$f":"IF(ISBLANK(Inputs!G192), \"\", Inputs!G192)","v":""},{"$f":"IF(ISBLANK(Inputs!G192), \"\", Inputs!G192)","v":""},{"$f":"IF(ISBLANK(Inputs!I192), \"\", Inputs!I192)","v":""}]
[{"$f":"IF(ISBLANK(Inputs!A193), \"\", Inputs!A193)","v":""},{"$f":"IF(ISBLANK(Inputs!B193), \"\", Inputs!B193)","v":""},{"$f":"IF(ISBLANK(Inputs!C193), \"\", Inputs!C193)","v":""},{"$f":"IF(ISBLANK(Inputs!D193), \"\", Inputs!D193)","v":""},{"$f":"IF(ISBLANK(Inputs!E193), \"\", Inputs!E193)","v":""},{"$f":"IF(ISBLANK(Inputs!F193), \"\", Inputs!F193)","v":""},{"$f":"IF(ISBLANK(Inputs!G193), \"\", Inputs!G193)","v":""},{"$f":"IF(ISBLANK(Inputs!G193), \"\", Inputs!G193)","v":""},{"$f":"IF(ISBLANK(Inputs!I193), \"\", Inputs!I193)","v":""}]
[{"$f":"IF(ISBLANK(Inputs!A194), \"\", Inputs!A194)","v":""},{"$f":"IF(ISBLANK(Inputs!B194), \"\", Inputs!B194)","v":""},{"$f":"IF(ISBLANK(Inputs!C194), \"\", Inputs!C194)","v":""},{"$f":"IF(ISBLANK(Inputs!D194), \"\", Inputs!D194)","v":""},{"$f":"IF(ISBLANK(Inputs!E194), \"\", Inputs!E194)","v":""},{"$f":"IF(ISBLANK(Inputs!F194), \"\", Inputs!F194)","v":""},{"$f":"IF(ISBLANK(Inputs!G194), \"\", Inputs!G194)","v":""},{"$f":"IF(ISBLANK(Inputs!G194), \"\", Inputs!G194)","v":""},{"$f":"IF(ISBLANK(Inputs!I194), \"\", Inputs!I194)","v":""}]
[{"$f":"IF(ISBLANK(Inputs!A195), \"\", Inputs!A195)","v":""},{"$f":"IF(ISBLANK(Inputs!B195), \"\", Inputs!B195)","v":""},{"$f":"IF(ISBLANK(Inputs!C195), \"\", Inputs!C195)","v":""},{"$f":"IF(ISBLANK(Inputs!D195), \"\", Inputs!D195)","v":""},{"$f":"IF(ISBLANK(Inputs!E195), \"\", Inputs!E195)","v":""},{"$f":"IF(ISBLANK(Inputs!F195), \"\", Inputs!F195)","v":""},{"$f":"IF(ISBLANK(Inputs!G195), \"\", Inputs!G195)","v":""},{"$f":"IF(ISBLANK(Inputs!G195), \"\", Inputs!G195)","v":""},{"$f":"IF(ISBLANK(Inputs!I195), \"\", Inputs!I195)","v":""}]
[{"$f":"IF(ISBLANK(Inputs!A196), \"\", Inputs!A196)","v":""},{"$f":"IF(ISBLANK(Inputs!B196), \"\", Inputs!B196)","v":""},{"$f":"IF(ISBLANK(Inputs!C196), \"\", Inputs!C196)","v":""},{"$f":"IF(ISBLANK(Inputs!D196), \"\", Inputs!D196)","v":""},{"$f":"IF(ISBLANK(Inputs!E196), \"\", Inputs!E196)","v":""},{"$f":"IF(ISBLANK(Inputs!F196), \"\", Inputs!F196)","v":""},{"$f":"IF(ISBLANK(Inputs!G196), \"\", Inputs!G196)","v":""},{"$f":"IF(ISBLANK(Inputs!G196), \"\", Inputs!G196)","v":""},{"$f":"IF(ISBLANK(Inputs!I196), \"\", Inputs!I196)","v":""}]
[{"$f":"IF(ISBLANK(Inputs!A197), \"\", Inputs!A197)","v":""},{"$f":"IF(ISBLANK(Inputs!B197), \"\", Inputs!B197)","v":""},{"$f":"IF(ISBLANK(Inputs!C197), \"\", Inputs!C197)","v":""},{"$f":"IF(ISBLANK(Inputs!D197), \"\", Inputs!D197)","v":""},{"$f":"IF(ISBLANK(Inputs!E197), \"\", Inputs!E197)","v":""},{"$f":"IF(ISBLANK(Inputs!F197), \"\", Inputs!F197)","v":""},{"$f":"IF(ISBLANK(Inputs!G197), \"\", Inputs!G197)","v":""},{"$f":"IF(ISBLANK(Inputs!G197), \"\", Inputs!G197)","v":""},{"$f":"IF(ISBLANK(Inputs!I197), \"\", Inputs!I197)","v":""}]
[{"$f":"IF(ISBLANK(Inputs!A198), \"\", Inputs!A198)","v":""},{"$f":"IF(ISBLANK(Inputs!B198), \"\", Inputs!B198)","v":""},{"$f":"IF(ISBLANK(Inputs!C198), \"\", Inputs!C198)","v":""},{"$f":"IF(ISBLANK(Inputs!D198), \"\", Inputs!D198)","v":""},{"$f":"IF(ISBLANK(Inputs!E198), \"\", Inputs!E198)","v":""},{"$f":"IF(ISBLANK(Inputs!F198), \"\", Inputs!F198)","v":""},{"$f":"IF(ISBLANK(Inputs!G198), \"\", Inputs!G198)","v":""},{"$f":"IF(ISBLANK(Inputs!G198), \"\", Inputs!G198)","v":""},{"$f":"IF(ISBLANK(Inputs!I198), \"\", Inputs!I198)","v":""}]
[{"$f":"IF(ISBLANK(Inputs!A199), \"\", Inputs!A199)","v":""},{"$f":"IF(ISBLANK(Inputs!B199), \"\", Inputs!B199)","v":""},{"$f":"IF(ISBLANK(Inputs!C199), \"\", Inputs!C199)","v":""},{"$f":"IF(ISBLANK(Inputs!D199), \"\", Inputs!D199)","v":""},{"$f":"IF(ISBLANK(Inputs!E199), \"\", Inputs!E199)","v":""},{"$f":"IF(ISBLANK(Inputs!F199), \"\", Inputs!F199)","v":""},{"$f":"IF(ISBLANK(Inputs!G199), \"\", Inputs!G199)","v":""},{"$f":"IF(ISBLANK(Inputs!G199), \"\", Inputs!G199)","v":""},{"$f":"IF(ISBLANK(Inputs!I199), \"\", Inputs!I199)","v":""}]
[{"$f":"IF(ISBLANK(Inputs!A200), \"\", Inputs!A200)","v":""},{"$f":"IF(ISBLANK(Inputs!B200), \"\", Inputs!B200)","v":""},{"$f":"IF(ISBLANK(Inputs!C200), \"\", Inputs!C200)","v":""},{"$f":"IF(ISBLANK(Inputs!D200), \"\", Inputs!D200)","v":""},{"$f":"IF(ISBLANK(Inputs!E200), \"\", Inputs!E200)","v":""},{"$f":"IF(ISBLANK(Inputs!F200), \"\", Inputs!F200)","v":""},{"$f":"IF(ISBLANK(Inputs!G200), \"\", Inputs!G200)","v":""},{"$f":"IF(ISBLANK(Inputs!G200), \"\", Inputs!G200)","v":""},{"$f":"IF(ISBLANK(Inputs!I200), \"\", Inputs!I200)","v":""}]
[{"$f":"IF(ISBLANK(Inputs!A201), \"\", Inputs!A201)","v":""},{"$f":"IF(ISBLANK(Inputs!B201), \"\", Inputs!B201)","v":""},{"$f":"IF(ISBLANK(Inputs!C201), \"\", Inputs!C201)","v":""},{"$f":"IF(ISBLANK(Inputs!D201), \"\", Inputs!D201)","v":""},{"$f":"IF(ISBLANK(Inputs!E201), \"\", Inputs!E201)","v":""},{"$f":"IF(ISBLANK(Inputs!F201), \"\", Inputs!F201)","v":""},{"$f":"IF(ISBLANK(Inputs!G201), \"\", Inputs!G201)","v":""},{"$f":"IF(ISBLANK(Inputs!G201), \"\", Inputs!G201)","v":""},{"$f":"IF(ISBLANK(Inputs!I201), \"\", Inputs!I201)","v":""}]
[{"$f":"IF(ISBLANK(Inputs!A202), \"\", Inputs!A202)","v":""},{"$f":"IF(ISBLANK(Inputs!B202), \"\", Inputs!B202)","v":""},{"$f":"IF(ISBLANK(Inputs!C202), \"\", Inputs!C202)","v":""},{"$f":"IF(ISBLANK(Inputs!D202), \"\", Inputs!D202)","v":""},{"$f":"IF(ISBLANK(Inputs!E202), \"\", Inputs!E202)","v":""},{"$f":"IF(ISBLANK(Inputs!F202), \"\", Inputs!F202)","v":""},{"$f":"IF(ISBLANK(Inputs!G202), \"\", Inputs!G202)","v":""},{"$f":"IF(ISBLANK(Inputs!G202), \"\", Inputs!G202)","v":""},{"$f":"IF(ISBLANK(Inputs!I202), \"\", Inputs!I202)","v":""}]
[{"$f":"IF(ISBLANK(Inputs!A203), \"\", Inputs!A203)","v":""},{"$f":"IF(ISBLANK(Inputs!B203), \"\", Inputs!B203)","v":""},{"$f":"IF(ISBLANK(Inputs!C203), \"\", Inputs!C203)","v":""},{"$f":"IF(ISBLANK(Inputs!D203), \"\", Inputs!D203)","v":""},{"$f":"IF(ISBLANK(Inputs!E203), \"\", Inputs!E203)","v":""},{"$f":"IF(ISBLANK(Inputs!F203), \"\", Inputs!F203)","v":""},{"$f":"IF(ISBLANK(Inputs!G203), \"\", Inputs!G203)","v":""},{"$f":"IF(ISBLANK(Inputs!G203), \"\", Inputs!G203)","v":""},{"$f":"IF(ISBLANK(Inputs!I203), \"\", Inputs!I203)","v":""}]
[{"$f":"IF(ISBLANK(Inputs!A204), \"\", Inputs!A204)","v":""},{"$f":"IF(ISBLANK(Inputs!B204), \"\", Inputs!B204)","v":""},{"$f":"IF(ISBLANK(Inputs!C204), \"\", Inputs!C204)","v":""},{"$f":"IF(ISBLANK(Inputs!D204), \"\", Inputs!D204)","v":""},{"$f":"IF(ISBLANK(Inputs!E204), \"\", Inputs!E204)","v":""},{"$f":"IF(ISBLANK(Inputs!F204), \"\", Inputs!F204)","v":""},{"$f":"IF(ISBLANK(Inputs!G204), \"\", Inputs!G204)","v":""},{"$f":"IF(ISBLANK(Inputs!G204), \"\", Inputs!G204)","v":""},{"$f":"IF(ISBLANK(Inputs!I204), \"\", Inputs!I204)","v":""}]
[{"$f":"IF(ISBLANK(Inputs!A205), \"\", Inputs!A205)","v":""},{"$f":"IF(ISBLANK(Inputs!B205), \"\", Inputs!B205)","v":""},{"$f":"IF(ISBLANK(Inputs!C205), \"\", Inputs!C205)","v":""},{"$f":"IF(ISBLANK(Inputs!D205), \"\", Inputs!D205)","v":""},{"$f":"IF(ISBLANK(Inputs!E205), \"\", Inputs!E205)","v":""},{"$f":"IF(ISBLANK(Inputs!F205), \"\", Inputs!F205)","v":""},{"$f":"IF(ISBLANK(Inputs!G205), \"\", Inputs!G205)","v":""},{"$f":"IF(ISBLANK(Inputs!G205), \"\", Inputs!G205)","v":""},{"$f":"IF(ISBLANK(Inputs!I205), \"\", Inputs!I205)","v":""}]
[{"$f":"IF(ISBLANK(Inputs!A206), \"\", Inputs!A206)","v":""},{"$f":"IF(ISBLANK(Inputs!B206), \"\", Inputs!B206)","v":""},{"$f":"IF(ISBLANK(Inputs!C206), \"\", Inputs!C206)","v":""},{"$f":"IF(ISBLANK(Inputs!D206), \"\", Inputs!D206)","v":""},{"$f":"IF(ISBLANK(Inputs!E206), \"\", Inputs!E206)","v":""},{"$f":"IF(ISBLANK(Inputs!F206), \"\", Inputs!F206)","v":""},{"$f":"IF(ISBLANK(Inputs!G206), \"\", Inputs!G206)","v":""},{"$f":"IF(ISBLANK(Inputs!G206), \"\", Inputs!G206)","v":""},{"$f":"IF(ISBLANK(Inputs!I206), \"\", Inputs!I206)","v":""}]
[{"$f":"IF(ISBLANK(Inputs!A207), \"\", Inputs!A207)","v":""},{"$f":"IF(ISBLANK(Inputs!B207), \"\", Inputs!B207)","v":""},{"$f":"IF(ISBLANK(Inputs!C207), \"\", Inputs!C207)","v":""},{"$f":"IF(ISBLANK(Inputs!D207), \"\", Inputs!D207)","v":""},{"$f":"IF(ISBLANK(Inputs!E207), \"\", Inputs!E207)","v":""},{"$f":"IF(ISBLANK(Inputs!F207), \"\", Inputs!F207)","v":""},{"$f":"IF(ISBLANK(Inputs!G207), \"\", Inputs!G207)","v":""},{"$f":"IF(ISBLANK(Inputs!G207), \"\", Inputs!G207)","v":""},{"$f":"IF(ISBLANK(Inputs!I207), \"\", Inputs!I207)","v":""}]
[{"$f":"IF(ISBLANK(Inputs!A208), \"\", Inputs!A208)","v":""},{"$f":"IF(ISBLANK(Inputs!B208), \"\", Inputs!B208)","v":""},{"$f":"IF(ISBLANK(Inputs!C208), \"\", Inputs!C208)","v":""},{"$f":"IF(ISBLANK(Inputs!D208), \"\", Inputs!D208)","v":""},{"$f":"IF(ISBLANK(Inputs!E208), \"\", Inputs!E208)","v":""},{"$f":"IF(ISBLANK(Inputs!F208), \"\", Inputs!F208)","v":""},{"$f":"IF(ISBLANK(Inputs!G208), \"\", Inputs!G208)","v":""},{"$f":"IF(ISBLANK(Inputs!G208), \"\", Inputs!G208)","v":""},{"$f":"IF(ISBLANK(Inputs!I208), \"\", Inputs!I208)","v":""}]
[{"$f":"IF(ISBLANK(Inputs!A209), \"\", Inputs!A209)","v":""},{"$f":"IF(ISBLANK(Inputs!B209), \"\", Inputs!B209)","v":""},{"$f":"IF(ISBLANK(Inputs!C209), \"\", Inputs!C209)","v":""},{"$f":"IF(ISBLANK(Inputs!D209), \"\", Inputs!D209)","v":""},{"$f":"IF(ISBLANK(Inputs!E209), \"\", Inputs!E209)","v":""},{"$f":"IF(ISBLANK(Inputs!F209), \"\", Inputs!F209)","v":""},{"$f":"IF(ISBLANK(Inputs!G209), \"\", Inputs!G209)","v":""},{"$f":"IF(ISBLANK(Inputs!G209), \"\", Inputs!G209)","v":""},{"$f":"IF(ISBLANK(Inputs!I209), \"\", Inputs!I209)","v":""}]
[{"$f":"IF(ISBLANK(Inputs!A210), \"\", Inputs!A210)","v":""},{"$f":"IF(ISBLANK(Inputs!B210), \"\", Inputs!B210)","v":""},{"$f":"IF(ISBLANK(Inputs!C210), \"\", Inputs!C210)","v":""},{"$f":"IF(ISBLANK(Inputs!D210), \"\", Inputs!D210)","v":""},{"$f":"IF(ISBLANK(Inputs!E210), \"\", Inputs!E210)","v":""},{"$f":"IF(ISBLANK(Inputs!F210), \"\", Inputs!F210)","v":""},{"$f":"IF(ISBLANK(Inputs!G210), \"\", Inputs!G210)","v":""},{"$f":"IF(ISBLANK(Inputs!G210), \"\", Inputs!G210)","v":""},{"$f":"IF(ISBLANK(Inputs!I210), \"\", Inputs!I210)","v":""}]
[{"$f":"IF(ISBLANK(Inputs!A211), \"\", Inputs!A211)","v":""},{"$f":"IF(ISBLANK(Inputs!B211), \"\", Inputs!B211)","v":""},{"$f":"IF(ISBLANK(Inputs!C211), \"\", Inputs!C211)","v":""},{"$f":"IF(ISBLANK(Inputs!D211), \"\", Inputs!D211)","v":""},{"$f":"IF(ISBLANK(Inputs!E211), \"\", Inputs!E211)","v":""},{"$f":"IF(ISBLANK(Inputs!F211), \"\", Inputs!F211)","v":""},{"$f":"IF(ISBLANK(Inputs!G211), \"\", Inputs!G211)","v":""},{"$f":"IF(ISBLANK(Inputs!G211), \"\", Inputs!G211)","v":""},{"$f":"IF(ISBLANK(Inputs!I211), \"\", Inputs!I211)","v":""}]
[{"$f":"IF(ISBLANK(Inputs!A212), \"\", Inputs!A212)","v":""},{"$f":"IF(ISBLANK(Inputs!B212), \"\", Inputs!B212)","v":""},{"$f":"IF(ISBLANK(Inputs!C212), \"\", Inputs!C212)","v":""},{"$f":"IF(ISBLANK(Inputs!D212), \"\", Inputs!D212)","v":""},{"$f":"IF(ISBLANK(Inputs!E212), \"\", Inputs!E212)","v":""},{"$f":"IF(ISBLANK(Inputs!F212), \"\", Inputs!F212)","v":""},{"$f":"IF(ISBLANK(Inputs!G212), \"\", Inputs!G212)","v":""},{"$f":"IF(ISBLANK(Inputs!G212), \"\", Inputs!G212)","v":""},{"$f":"IF(ISBLANK(Inputs!I212), \"\", Inputs!I212)","v":""}]
[{"$f":"IF(ISBLANK(Inputs!A213), \"\", Inputs!A213)","v":""},{"$f":"IF(ISBLANK(Inputs!B213), \"\", Inputs!B213)","v":""},{"$f":"IF(ISBLANK(Inputs!C213), \"\", Inputs!C213)","v":""},{"$f":"IF(ISBLANK(Inputs!D213), \"\", Inputs!D213)","v":""},{"$f":"IF(ISBLANK(Inputs!E213), \"\", Inputs!E213)","v":""},{"$f":"IF(ISBLANK(Inputs!F213), \"\", Inputs!F213)","v":""},{"$f":"IF(ISBLANK(Inputs!G213), \"\", Inputs!G213)","v":""},{"$f":"IF(ISBLANK(Inputs!G213), \"\", Inputs!G213)","v":""},{"$f":"IF(ISBLANK(Inputs!I213), \"\", Inputs!I213)","v":""}]
[{"$f":"IF(ISBLANK(Inputs!A214), \"\", Inputs!A214)","v":""},{"$f":"IF(ISBLANK(Inputs!B214), \"\", Inputs!B214)","v":""},{"$f":"IF(ISBLANK(Inputs!C214), \"\", Inputs!C214)","v":""},{"$f":"IF(ISBLANK(Inputs!D214), \"\", Inputs!D214)","v":""},{"$f":"IF(ISBLANK(Inputs!E214), \"\", Inputs!E214)","v":""},{"$f":"IF(ISBLANK(Inputs!F214), \"\", Inputs!F214)","v":""},{"$f":"IF(ISBLANK(Inputs!G214), \"\", Inputs!G214)","v":""},{"$f":"IF(ISBLANK(Inputs!G214), \"\", Inputs!G214)","v":""},{"$f":"IF(ISBLANK(Inputs!I214), \"\", Inputs!I214)","v":""}]
[{"$f":"IF(ISBLANK(Inputs!A215), \"\", Inputs!A215)","v":""},{"$f":"IF(ISBLANK(Inputs!B215), \"\", Inputs!B215)","v":""},{"$f":"IF(ISBLANK(Inputs!C215), \"\", Inputs!C215)","v":""},{"$f":"IF(ISBLANK(Inputs!D215), \"\", Inputs!D215)","v":""},{"$f":"IF(ISBLANK(Inputs!E215), \"\", Inputs!E215)","v":""},{"$f":"IF(ISBLANK(Inputs!F215), \"\", Inputs!F215)","v":""},{"$f":"IF(ISBLANK(Inputs!G215), \"\", Inputs!G215)","v":""},{"$f":"IF(ISBLANK(Inputs!G215), \"\", Inputs!G215)","v":""},{"$f":"IF(ISBLANK(Inputs!I215), \"\", Inputs!I215)","v":""}]

{"sheet":"Next Steps","index":12,"n_rows":0,"n_cols":0,"rows_kept":0,"cut":false,"hidden":false,"merged":[]}

{"sheet":"Sources","index":13,"n_rows":9,"n_cols":2,"rows_kept":9,"cut":false,"hidden":false,"merged":[]}
["Salaries"]
[1,"Defaults from Bureau of Labor Statistics, U.S. Department of Labor (2015). Occupational Employment Statistics. Retrieved June 21, 2016 from: www.bls.gov/oes/\n"]
["Reimbursement Rates"]
[2,"Default procedure reimbursement rates from Center for Medicare & Medicaid Services (2016). Physician Fee Schedule Search. Retrieved July 25, 2016 from: https://www.cms.gov/apps/physician-fee-schedule/search/search-criteria.aspx\n\nDefault lab reimbursement rates from Center for Medicare & Medicaid Services (2016). Clinical Laboratory Fee Schedule. Retrieved July 25, 2016 from: https://www.cms.gov/Medicare/Medicare-fee-for-service-Payment/clinicallabfeesched/index.html\n\nNote: Default reimbursement rates for 100% fee schedules are rates for facilities and non-facilities without modifiers from the CMS search tool. The 85% fee schedules are equal to 0.85 times the 100% rates."]
["Impact of Treatment Options"]
[3,"Larsen, E. R., Mosekilde, L., & Foldspang, A. (2004). Vitamin D and calcium supplementation prevents osteoporotic fractures in elderly community dwelling residents: A pragmatic population-based 3-year intervention study.  JOURNAL OF BONE AND MINERAL RESEARCH, 19(3), 370-378. \n\nTang, B. M. P., Eslick, G. D., Nowson, C., Smith, C., & Bensoussan, A. (2007). Articles: Use of calcium or calcium in combination with vitamin D supplementation to prevent fractures and bone loss in people aged 50 years and older: a meta-analysis.  The Lancet, 370, 657-666. doi: 10.1016/S0140-6736(07)61342-7\n"]
[4,"National Osteoporosis Foundation. (2014). Clinician's Guide to Prevention and Treatment of Osteoporosis.  Retrieved from http://nof.org/files/nof/public/content/file/2791/upload/919.pdf\n\nBlack, D. M., Cummings, S. R., Karpf, D. B., Cauley, J. A., Thompson, D. E., Nevitt, M. C., . . . Ensrud, K. E. (1996). Randomised trial of effect of alendronate on risk of fracture in women with existing vertebral fractures. Fracture Intervention Trial Research Group.  Lancet (London, England), 348(9041), 1535-1541. \n\nCummings, S. R., Black, D. M., Thompson, D. E., Applegate, W. B., Barrett-Conner, E., Musliner, T. A., . . . LaCroix, A. Z. (1998). Effect of alendronate on risk of fracture in women with low bone density but without vertebral fractures: results from the Fracture Intervention Trial.  JAMA: Journal of the American Medical Association, 280(24), 2077-2082 2076p. "]
[5,"Palacios, S., Kalouche-Khalil, L., Rizzoli, R., Zapalowski, C., Resch, H., Adachi, J. D., . . . Adami, S. (2015). Treatment with denosumab reduces secondary fracture risk in women with postmenopausal osteoporosis.  Climacteric: The Journal Of The International Menopause Society, 18(6), 805-812. doi: 10.3109/13697137.2015.1045484"]
[6,"National Osteoporosis Foundation. (2014). Clinician's Guide to Prevention and Treatment of Osteoporosis.  Retrieved from http://nof.org/files/nof/public/content/file/2791/upload/919.pdf\n\nNeer, R. M., Arnaud, C. D., Zanchetta, J. R., Prince, R., Gaich, G. A., Reginster, J., . . . Mitlak, B. H. (2001). Effect of parathyroid hormone (1-34) on fractures and bone mineral density in postmenopausal women with osteoporosis.  New England Journal of Medicine, 344(19), 1434-1441 1438p."]

{"sheet":"Backend","index":14,"n_rows":107,"n_cols":29,"rows_kept":107,"cut":false,"hidden":true,"merged":[[7,7,7,15],[20,5,20,6],[0,4,0,5],[16,10,16,19]]}
["Sex","Age","Initial Fracture","Exp(InitFx)","Initial Fxs",null,null,null,null,"CalcMethod",2]
["Male","65-74","Ankle",{"$f":"IF($K$1=1, VLOOKUP($A2, InpSex, 2, 0)*VLOOKUP($B2,InpAge, 2, 0)*VLOOKUP($C2, InpFxSite, 2, 0), SUM((Inputs!$B$34:$G$34=Backend!$A2)*(Inputs!$B$35:$G$35=Backend!$B2)*(Inputs!$A$36:$A$44=Backend!$C2)*(Inputs!$B$36:$G$44)))","v":0},"Ankle",{"$f":"SUM(($C$2:$C$55=$E2)*($D$2:$D$55))","v":0},null,null,null,"FLS Impact",1]
["Male","65-74","Clavicle",{"$f":"IF($K$1=1, VLOOKUP($A3, InpSex, 2, 0)*VLOOKUP($B3,InpAge, 2, 0)*VLOOKUP($C3, InpFxSite, 2, 0), SUM((Inputs!$B$34:$G$34=Backend!$A3)*(Inputs!$B$35:$G$35=Backend!$B3)*(Inputs!$A$36:$A$44=Backend!$C3)*(Inputs!$B$36:$G$44)))","v":0},"Clavicle",{"$f":"SUM(($C$2:$C$55=$E3)*($D$2:$D$55))","v":0},null,null,null,"OH - all costs",true]
["Male","65-74","Femur",{"$f":"IF($K$1=1, VLOOKUP($A4, InpSex, 2, 0)*VLOOKUP($B4,InpAge, 2, 0)*VLOOKUP($C4, InpFxSite, 2, 0), SUM((Inputs!$B$34:$G$34=Backend!$A4)*(Inputs!$B$35:$G$35=Backend!$B4)*(Inputs!$A$36:$A$44=Backend!$C4)*(Inputs!$B$36:$G$44)))","v":0},"Femur",{"$f":"SUM(($C$2:$C$55=$E4)*($D$2:$D$55))","v":0},null,null,null,null,null,null,null,null,null,null,null,null,null,null,null,null,null,null,null,null,null,null,{"$f":"MIN(AC8:AC107)","v":116}]
["Male","65-74","Hip",{"$f":"IF($K$1=1, VLOOKUP($A5, InpSex, 2, 0)*VLOOKUP($B5,InpAge, 2, 0)*VLOOKUP($C5, InpFxSite, 2, 0), SUM((Inputs!$B$34:$G$34=Backend!$A5)*(Inputs!$B$35:$G$35=Backend!$B5)*(Inputs!$A$36:$A$44=Backend!$C5)*(Inputs!$B$36:$G$44)))","v":0},"Hip",{"$f":"SUM(($C$2:$C$55=$E5)*($D$2:$D$55))","v":0}]
["Male","65-74","Humerus",{"$f":"IF($K$1=1, VLOOKUP($A6, InpSex, 2, 0)*VLOOKUP($B6,InpAge, 2, 0)*VLOOKUP($C6, InpFxSite, 2, 0), SUM((Inputs!$B$34:$G$34=Backend!$A6)*(Inputs!$B$35:$G$35=Backend!$B6)*(Inputs!$A$36:$A$44=Backend!$C6)*(Inputs!$B$36:$G$44)))","v":0},"Humerus",{"$f":"SUM(($C$2:$C$55=$E6)*($D$2:$D$55))","v":0}]
["Male","65-74","Pelvis",{"$f":"IF($K$1=1, VLOOKUP($A7, InpSex, 2, 0)*VLOOKUP($B7,InpAge, 2, 0)*VLOOKUP($C7, InpFxSite, 2, 0), SUM((Inputs!$B$34:$G$34=Backend!$A7)*(Inputs!$B$35:$G$35=Backend!$B7)*(Inputs!$A$36:$A$44=Backend!$C7)*(Inputs!$B$36:$G$44)))","v":0},"Pelvis",{"$f":"SUM(($C$2:$C$55=$E7)*($D$2:$D$55))","v":0}]
["Male","65-74","Radius/Ulna",{"$f":"IF($K$1=1, VLOOKUP($A8, InpSex, 2, 0)*VLOOKUP($B8,InpAge, 2, 0)*VLOOKUP($C8, InpFxSite, 2, 0), SUM((Inputs!$B$34:$G$34=Backend!$A8)*(Inputs!$B$35:$G$35=Backend!$B8)*(Inputs!$A$36:$A$44=Backend!$C8)*(Inputs!$B$36:$G$44)))","v":0},"Radius/Ulna",{"$f":"SUM(($C$2:$C$55=$E8)*($D$2:$D$55))","v":0},null,"Second Fracture Reduction Rates",null,null,null,null,null,null,null,null,null,null,null,null,null,null,null,null,null,null,null,null,{"$f":"IF(ISBLANK(Inputs!A116:'Inputs'!G116), ROW(Inputs!A116), 999)","v":116}]
["Male","65-74","Spine",{"$f":"IF($K$1=1, VLOOKUP($A9, InpSex, 2, 0)*VLOOKUP($B9,InpAge, 2, 0)*VLOOKUP($C9, InpFxSite, 2, 0), SUM((Inputs!$B$34:$G$34=Backend!$A9)*(Inputs!$B$35:$G$35=Backend!$B9)*(Inputs!$A$36:$A$44=Backend!$C9)*(Inputs!$B$36:$G$44)))","v":0},"Spine",{"$f":"SUM(($C$2:$C$55=$E9)*($D$2:$D$55))","v":0},null,"Ankle","Clavicle","Femur","Hip","Humerus","Pelvis","Radius/Ulna","Spine","Tibia/Fibula",null,null,null,null,null,null,null,null,null,null,null,null,{"$f":"IF(ISBLANK(Inputs!A117:'Inputs'!G117), ROW(Inputs!A117), 999)","v":117}]
["Male","65-74","Tibia/Fibula",{"$f":"IF($K$1=1, VLOOKUP($A10, InpSex, 2, 0)*VLOOKUP($B10,InpAge, 2, 0)*VLOOKUP($C10, InpFxSite, 2, 0), SUM((Inputs!$B$34:$G$34=Backend!$A10)*(Inputs!$B$35:$G$35=Backend!$B10)*(Inputs!$A$36:$A$44=Backend!$C10)*(Inputs!$B$36:$G$44)))","v":0},"Tibia/Fibula",{"$f":"SUM(($C$2:$C$55=$E10)*($D$2:$D$55))","v":0},null,{"$f":"IF($K$2=1,VLOOKUP(H9,dirEstPrev,2,0), SUM((Inputs!$D$243-Inputs!$F$243)*0.16,(Inputs!$D$244-Inputs!$F$244)*0.5,(Inputs!$D$245-Inputs!$F$245)*0.39,(Inputs!$D$246-Inputs!$F$246)*0.59))","v":0},{"$f":"IF($K$2=1,VLOOKUP(I9,dirEstPrev,2,0), SUM((Inputs!$D$243-Inputs!$F$243)*0.16,(Inputs!$D$244-Inputs!$F$244)*0.5,(Inputs!$D$245-Inputs!$F$245)*0.39,(Inputs!$D$246-Inputs!$F$246)*0.59))","v":0},{"$f":"IF($K$2=1,VLOOKUP(J9,dirEstPrev,2,0), SUM((Inputs!$D$243-Inputs!$F$243)*0.16,(Inputs!$D$244-Inputs!$F$244)*0.5,(Inputs!$D$245-Inputs!$F$245)*0.39,(Inputs!$D$246-Inputs!$F$246)*0.59))","v":0},{"$f":"IF($K$2=1,VLOOKUP(K9,dirEstPrev,2,0), SUM((Inputs!$D$243-Inputs!$F$243)*0.16,(Inputs!$D$244-Inputs!$F$244)*0.5,(Inputs!$D$245-Inputs!$F$245)*0.39,(Inputs!$D$246-Inputs!$F$246)*0.59))","v":0},{"$f":"IF($K$2=1,VLOOKUP(L9,dirEstPrev,2,0), SUM((Inputs!$D$243-Inputs!$F$243)*0.16,(Inputs!$D$244-Inputs!$F$244)*0.5,(Inputs!$D$245-Inputs!$F$245)*0.39,(Inputs!$D$246-Inputs!$F$246)*0.59))","v":0},{"$f":"IF($K$2=1,VLOOKUP(M9,dirEstPrev,2,0), SUM((Inputs!$D$243-Inputs!$F$243)*0.16,(Inputs!$D$244-Inputs!$F$244)*0.5,(Inputs!$D$245-Inputs!$F$245)*0.39,(Inputs!$D$246-Inputs!$F$246)*0.59))","v":0},{"$f":"IF($K$2=1,VLOOKUP(N9,dirEstPrev,2,0), SUM((Inputs!$D$243-Inputs!$F$243)*0.16,(Inputs!$D$244-Inputs!$F$244)*0.5,(Inputs!$D$245-Inputs!$F$245)*0.39,(Inputs!$D$246-Inputs!$F$246)*0.59))","v":0},{"$f":"IF($K$2=1,VLOOKUP(O9,dirEstPrev,2,0), SUM((Inputs!$D$243-Inputs!$F$243)*0.16,(Inputs!$D$244-Inputs!$F$244)*0.5,(Inputs!$D$245-Inputs!$F$245)*0.39,(Inputs!$D$246-Inputs!$F$246)*0.59))","v":0},{"$f":"IF($K$2=1,VLOOKUP(P9,dirEstPrev,2,0), SUM((Inputs!$D$243-Inputs!$F$243)*0.16,(Inputs!$D$244-Inputs!$F$244)*0.5,(Inputs!$D$245-Inputs!$F$245)*0.39,(Inputs!$D$246-Inputs!$F$246)*0.59))","v":0},null,null,null,null,null,null,null,null,null,null,null,null,{"$f":"IF(ISBLANK(Inputs!A118:'Inputs'!G118), ROW(Inputs!A118), 999)","v":118}]
["Male","75-84","Ankle",{"$f":"IF($K$1=1, VLOOKUP($A11, InpSex, 2, 0)*VLOOKUP($B11,InpAge, 2, 0)*VLOOKUP($C11, InpFxSite, 2, 0), SUM((Inputs!$B$34:$G$34=Backend!$A11)*(Inputs!$B$35:$G$35=Backend!$B11)*(Inputs!$A$36:$A$44=Backend!$C11)*(Inputs!$B$36:$G$44)))","v":0},null,null,"Ankle",{"$f":"TRANSPOSE(H10:P10)","v":0},null,null,null,null,null,null,null,null,null,null,null,null,null,null,null,null,null,null,null,null,{"$f":"IF(ISBLANK(Inputs!A119:'Inputs'!G119), ROW(Inputs!A119), 999)","v":119}]
["Male","75-84","Clavicle",{"$f":"IF($K$1=1, VLOOKUP($A12, InpSex, 2, 0)*VLOOKUP($B12,InpAge, 2, 0)*VLOOKUP($C12, InpFxSite, 2, 0), SUM((Inputs!$B$34:$G$34=Backend!$A12)*(Inputs!$B$35:$G$35=Backend!$B12)*(Inputs!$A$36:$A$44=Backend!$C12)*(Inputs!$B$36:$G$44)))","v":0},null,null,"Clavicle",0,null,null,null,null,null,null,null,null,null,null,null,null,null,null,null,null,null,null,null,null,{"$f":"IF(ISBLANK(Inputs!A120:'Inputs'!G120), ROW(Inputs!A120), 999)","v":120}]
["Male","75-84","Femur",{"$f":"IF($K$1=1, VLOOKUP($A13, InpSex, 2, 0)*VLOOKUP($B13,InpAge, 2, 0)*VLOOKUP($C13, InpFxSite, 2, 0), SUM((Inputs!$B$34:$G$34=Backend!$A13)*(Inputs!$B$35:$G$35=Backend!$B13)*(Inputs!$A$36:$A$44=Backend!$C13)*(Inputs!$B$36:$G$44)))","v":0},null,null,"Femur",0,null,null,null,null,null,null,null,null,null,null,null,null,null,null,null,null,null,null,null,null,{"$f":"IF(ISBLANK(Inputs!A121:'Inputs'!G121), ROW(Inputs!A121), 999)","v":121}]
["Male","75-84","Hip",{"$f":"IF($K$1=1, VLOOKUP($A14, InpSex, 2, 0)*VLOOKUP($B14,InpAge, 2, 0)*VLOOKUP($C14, InpFxSite, 2, 0), SUM((Inputs!$B$34:$G$34=Backend!$A14)*(Inputs!$B$35:$G$35=Backend!$B14)*(Inputs!$A$36:$A$44=Backend!$C14)*(Inputs!$B$36:$G$44)))","v":0},null,null,"Hip",0,null,null,null,null,null,null,null,null,null,null,null,null,null,null,null,null,null,null,null,null,{"$f":"IF(ISBLANK(Inputs!A122:'Inputs'!G122), ROW(Inputs!A122), 999)","v":122}]
["Male","75-84","Humerus",{"$f":"IF($K$1=1, VLOOKUP($A15, InpSex, 2, 0)*VLOOKUP($B15,InpAge, 2, 0)*VLOOKUP($C15, InpFxSite, 2, 0), SUM((Inputs!$B$34:$G$34=Backend!$A15)*(Inputs!$B$35:$G$35=Backend!$B15)*(Inputs!$A$36:$A$44=Backend!$C15)*(Inputs!$B$36:$G$44)))","v":0},null,null,"Humerus",0,null,null,null,null,null,null,null,null,null,null,null,null,null,null,null,null,null,null,null,null,{"$f":"IF(ISBLANK(Inputs!A123:'Inputs'!G123), ROW(Inputs!A123), 999)","v":123}]
["Male","75-84","Pelvis",{"$f":"IF($K$1=1, VLOOKUP($A16, InpSex, 2, 0)*VLOOKUP($B16,InpAge, 2, 0)*VLOOKUP($C16, InpFxSite, 2, 0), SUM((Inputs!$B$34:$G$34=Backend!$A16)*(Inputs!$B$35:$G$35=Backend!$B16)*(Inputs!$A$36:$A$44=Backend!$C16)*(Inputs!$B$36:$G$44)))","v":0},null,null,"Pelvis",0,null,null,null,null,null,null,null,null,null,null,null,null,null,null,null,null,null,null,null,null,{"$f":"IF(ISBLANK(Inputs!A124:'Inputs'!G124), ROW(Inputs!A124), 999)","v":124}]
["Male","75-84","Radius/Ulna",{"$f":"IF($K$1=1, VLOOKUP($A17, InpSex, 2, 0)*VLOOKUP($B17,InpAge, 2, 0)*VLOOKUP($C17, InpFxSite, 2, 0), SUM((Inputs!$B$34:$G$34=Backend!$A17)*(Inputs!$B$35:$G$35=Backend!$B17)*(Inputs!$A$36:$A$44=Backend!$C17)*(Inputs!$B$36:$G$44)))","v":0},null,null,"Radius/Ulna",0,null,null,"2nd Fxs",null,null,null,null,null,null,null,null,null,null,null,null,null,null,null,null,null,{"$f":"IF(ISBLANK(Inputs!A125:'Inputs'!G125), ROW(Inputs!A125), 999)","v":125}]
["Male","75-84","Spine",{"$f":"IF($K$1=1, VLOOKUP($A18, InpSex, 2, 0)*VLOOKUP($B18,InpAge, 2, 0)*VLOOKUP($C18, InpFxSite, 2, 0), SUM((Inputs!$B$34:$G$34=Backend!$A18)*(Inputs!$B$35:$G$35=Backend!$B18)*(Inputs!$A$36:$A$44=Backend!$C18)*(Inputs!$B$36:$G$44)))","v":0},null,null,"Spine",0,null,null,null,"Ankle","Clavicle","Femur","Hip","Humerus","Pelvis","Radius/Ulna","Spine","Tibia/Fibula",null,null,null,null,null,null,null,null,{"$f":"IF(ISBLANK(Inputs!A126:'Inputs'!G126), ROW(Inputs!A126), 999)","v":126}]
["Male","75-84","Tibia/Fibula",{"$f":"IF($K$1=1, VLOOKUP($A19, InpSex, 2, 0)*VLOOKUP($B19,InpAge, 2, 0)*VLOOKUP($C19, InpFxSite, 2, 0), SUM((Inputs!$B$34:$G$34=Backend!$A19)*(Inputs!$B$35:$G$35=Backend!$B19)*(Inputs!$A$36:$A$44=Backend!$C19)*(Inputs!$B$36:$G$44)))","v":0},null,null,"Tibia/Fibula",0,null,null,"2y_noFLS",{"$f":"SUM(Expected2ndFx!D$7:D$60)","v":0},{"$f":"SUM(Expected2ndFx!E$7:E$60)","v":0},{"$f":"SUM(Expected2ndFx!F$7:F$60)","v":0},{"$f":"SUM(Expected2ndFx!G$7:G$60)","v":0},{"$f":"SUM(Expected2ndFx!H$7:H$60)","v":0},{"$f":"SUM(Expected2ndFx!I$7:I$60)","v":0},{"$f":"SUM(Expected2ndFx!J$7:J$60)","v":0},{"$f":"SUM(Expected2ndFx!K$7:K$60)","v":0},{"$f":"SUM(Expected2ndFx!L$7:L$60)","v":0},null,null,null,null,null,null,null,null,{"$f":"IF(ISBLANK(Inputs!A127:'Inputs'!G127), ROW(Inputs!A127), 999)","v":127}]
["Male","85+","Ankle",{"$f":"IF($K$1=1, VLOOKUP($A20, InpSex, 2, 0)*VLOOKUP($B20,InpAge, 2, 0)*VLOOKUP($C20, InpFxSite, 2, 0), SUM((Inputs!$B$34:$G$34=Backend!$A20)*(Inputs!$B$35:$G$35=Backend!$B20)*(Inputs!$A$36:$A$44=Backend!$C20)*(Inputs!$B$36:$G$44)))","v":0},null,null,null,null,null,null,"2y_FLS",{"$f":"L19-SUM(FLSPreventedFx!D$7:D$60)","v":0},{"$f":"M19-SUM(FLSPreventedFx!E$7:E$60)","v":0},{"$f":"N19-SUM(FLSPreventedFx!F$7:F$60)","v":0},{"$f":"O19-SUM(FLSPreventedFx!G$7:G$60)","v":0},{"$f":"P19-SUM(FLSPreventedFx!H$7:H$60)","v":0},{"$f":"Q19-SUM(FLSPreventedFx!I$7:I$60)","v":0},{"$f":"R19-SUM(FLSPreventedFx!J$7:J$60)","v":0},{"$f":"S19-SUM(FLSPreventedFx!K$7:K$60)","v":0},{"$f":"T19-SUM(FLSPreventedFx!L$7:L$60)","v":0},null,null,null,null,null,null,null,null,{"$f":"IF(ISBLANK(Inputs!A128:'Inputs'!G128), ROW(Inputs!A128), 999)","v":128}]
["Male","85+","Clavicle",{"$f":"IF($K$1=1, VLOOKUP($A21, InpSex, 2, 0)*VLOOKUP($B21,InpAge, 2, 0)*VLOOKUP($C21, InpFxSite, 2, 0), SUM((Inputs!$B$34:$G$34=Backend!$A21)*(Inputs!$B$35:$G$35=Backend!$B21)*(Inputs!$A$36:$A$44=Backend!$C21)*(Inputs!$B$36:$G$44)))","v":0},null,"FLS Revenue, Per-patient",null,null,null,null,"3y_noFLS",{"$f":"SUM(Expected2ndFx!D$66:D$119)","v":0},{"$f":"SUM(Expected2ndFx!E$66:E$119)","v":0},{"$f":"SUM(Expected2ndFx!F$66:F$119)","v":0},{"$f":"SUM(Expected2ndFx!G$66:G$119)","v":0},{"$f":"SUM(Expected2ndFx!H$66:H$119)","v":0},{"$f":"SUM(Expected2ndFx!I$66:I$119)","v":0},{"$f":"SUM(Expected2ndFx!J$66:J$119)","v":0},{"$f":"SUM(Expected2ndFx!K$66:K$119)","v":0},{"$f":"SUM(Expected2ndFx!L$66:L$119)","v":0},null,null,null,null,null,null,null,null,{"$f":"IF(ISBLANK(Inputs!A129:'Inputs'!G129), ROW(Inputs!A129), 999)","v":129}]
["Male","85+","Femur",{"$f":"IF($K$1=1, VLOOKUP($A22, InpSex, 2, 0)*VLOOKUP($B22,InpAge, 2, 0)*VLOOKUP($C22, InpFxSite, 2, 0), SUM((Inputs!$B$34:$G$34=Backend!$A22)*(Inputs!$B$35:$G$35=Backend!$B22)*(Inputs!$A$36:$A$44=Backend!$C22)*(Inputs!$B$36:$G$44)))","v":0},null,"Y1",{"$f":"SUM((Inputs!$B$97:$B$110<=12)*Inputs!$E$97:$E$110*(Inputs!$F$97:$F$110-Inputs!$G$97:$G$110)) + SUM((Inputs!$B$116:$B$215 <=12)*Inputs!$E$116:$E$215*(Inputs!$F$116:$F$215-Inputs!$G$116:$G$215))","v":0},"Y1",{"$f":"G22","v":0},null,"3y_FLS",{"$f":"L21-SUM(FLSPreventedFx!D$66:D$119)","v":0},{"$f":"M21-SUM(FLSPreventedFx!E$66:E$119)","v":0},{"$f":"N21-SUM(FLSPreventedFx!F$66:F$119)","v":0},{"$f":"O21-SUM(FLSPreventedFx!G$66:G$119)","v":0},{"$f":"P21-SUM(FLSPreventedFx!H$66:H$119)","v":0},{"$f":"Q21-SUM(FLSPreventedFx!I$66:I$119)","v":0},{"$f":"R21-SUM(FLSPreventedFx!J$66:J$119)","v":0},{"$f":"S21-SUM(FLSPreventedFx!K$66:K$119)","v":0},{"$f":"T21-SUM(FLSPreventedFx!L$66:L$119)","v":0},null,null,null,null,null,null,null,null,{"$f":"IF(ISBLANK(Inputs!A130:'Inputs'!G130), ROW(Inputs!A130), 999)","v":130}]
["Male","85+","Hip",{"$f":"IF($K$1=1, VLOOKUP($A23, InpSex, 2, 0)*VLOOKUP($B23,InpAge, 2, 0)*VLOOKUP($C23, InpFxSite, 2, 0), SUM((Inputs!$B$34:$G$34=Backend!$A23)*(Inputs!$B$35:$G$35=Backend!$B23)*(Inputs!$A$36:$A$44=Backend!$C23)*(Inputs!$B$36:$G$44)))","v":0},null,"Y2",{"$f":"SUM((Inputs!$B$97:$B$110<=24)*Inputs!$E$97:$E$110*(Inputs!$F$97:$F$110-Inputs!$G$97:$G$110)) + SUM((Inputs!$B$116:$B$215 <=24)*Inputs!$E$116:$E$215*(Inputs!$F$116:$F$215-Inputs!$G$116:$G$215))","v":0},"Y2",{"$f":"G23-G22","v":0},null,"4y_noFLS",{"$f":"SUM(Expected2ndFx!D$125:D$178)","v":0},{"$f":"SUM(Expected2ndFx!E$125:E$178)","v":0},{"$f":"SUM(Expected2ndFx!F$125:F$178)","v":0},{"$f":"SUM(Expected2ndFx!G$125:G$178)","v":0},{"$f":"SUM(Expected2ndFx!H$125:H$178)","v":0},{"$f":"SUM(Expected2ndFx!I$125:I$178)","v":0},{"$f":"SUM(Expected2ndFx!J$125:J$178)","v":0},{"$f":"SUM(Expected2ndFx!K$125:K$178)","v":0},{"$f":"SUM(Expected2ndFx!L$125:L$178)","v":0},null,null,null,null,null,null,null,null,{"$f":"IF(ISBLANK(Inputs!A131:'Inputs'!G131), ROW(Inputs!A131), 999)","v":131}]
["Male","85+","Humerus",{"$f":"IF($K$1=1, VLOOKUP($A24, InpSex, 2, 0)*VLOOKUP($B24,InpAge, 2, 0)*VLOOKUP($C24, InpFxSite, 2, 0), SUM((Inputs!$B$34:$G$34=Backend!$A24)*(Inputs!$B$35:$G$35=Backend!$B24)*(Inputs!$A$36:$A$44=Backend!$C24)*(Inputs!$B$36:$G$44)))","v":0},null,"Y3",{"$f":"SUM((Inputs!$B$97:$B$110<=36)*Inputs!$E$97:$E$110*(Inputs!$F$97:$F$110-Inputs!$G$97:$G$110)) + SUM((Inputs!$B$116:$B$215 <=36)*Inputs!$E$116:$E$215*(Inputs!$F$116:$F$215-Inputs!$G$116:$G$215))","v":0},"Y3",{"$f":"G24-G23","v":0},null,"4y_FLS",{"$f":"L23-SUM(FLSPreventedFx!D$125:D$178)","v":0},{"$f":"M23-SUM(FLSPreventedFx!E$125:E$178)","v":0},{"$f":"N23-SUM(FLSPreventedFx!F$125:F$178)","v":0},{"$f":"O23-SUM(FLSPreventedFx!G$125:G$178)","v":0},{"$f":"P23-SUM(FLSPreventedFx!H$125:H$178)","v":0},{"$f":"Q23-SUM(FLSPreventedFx!I$125:I$178)","v":0},{"$f":"R23-SUM(FLSPreventedFx!J$125:J$178)","v":0},{"$f":"S23-SUM(FLSPreventedFx!K$125:K$178)","v":0},{"$f":"T23-SUM(FLSPreventedFx!L$125:L$178)","v":0},null,null,null,null,null,null,null,null,{"$f":"IF(ISBLANK(Inputs!A132:'Inputs'!G132), ROW(Inputs!A132), 999)","v":132}]
["Male","85+","Pelvis",{"$f":"IF($K$1=1, VLOOKUP($A25, InpSex, 2, 0)*VLOOKUP($B25,InpAge, 2, 0)*VLOOKUP($C25, InpFxSite, 2, 0), SUM((Inputs!$B$34:$G$34=Backend!$A25)*(Inputs!$B$35:$G$35=Backend!$B25)*(Inputs!$A$36:$A$44=Backend!$C25)*(Inputs!$B$36:$G$44)))","v":0},null,"Y4",{"$f":"SUM((Inputs!$B$97:$B$110<=48)*Inputs!$E$97:$E$110*(Inputs!$F$97:$F$110-Inputs!$G$97:$G$110)) + SUM((Inputs!$B$116:$B$215 <=48)*Inputs!$E$116:$E$215*(Inputs!$F$116:$F$215-Inputs!$G$116:$G$215))","v":0},"Y4",{"$f":"G25-G24","v":0},null,null,null,null,null,null,null,null,null,null,null,null,null,null,null,null,null,null,null,{"$f":"IF(ISBLANK(Inputs!A133:'Inputs'!G133), ROW(Inputs!A133), 999)","v":133}]
["Male","85+","Radius/Ulna",{"$f":"IF($K$1=1, VLOOKUP($A26, InpSex, 2, 0)*VLOOKUP($B26,InpAge, 2, 0)*VLOOKUP($C26, InpFxSite, 2, 0), SUM((Inputs!$B$34:$G$34=Backend!$A26)*(Inputs!$B$35:$G$35=Backend!$B26)*(Inputs!$A$36:$A$44=Backend!$C26)*(Inputs!$B$36:$G$44)))","v":0},null,null,null,null,null,null,null,{"$f":"TRANSPOSE(K19:K24)","v":"2y_noFLS"},"2y_FLS","3y_noFLS","3y_FLS","4y_noFLS","4y_FLS",null,null,null,null,null,null,null,null,null,null,null,{"$f":"IF(ISBLANK(Inputs!A134:'Inputs'!G134), ROW(Inputs!A134), 999)","v":134}]
["Male","85+","Spine",{"$f":"IF($K$1=1, VLOOKUP($A27, InpSex, 2, 0)*VLOOKUP($B27,InpAge, 2, 0)*VLOOKUP($C27, InpFxSite, 2, 0), SUM((Inputs!$B$34:$G$34=Backend!$A27)*(Inputs!$B$35:$G$35=Backend!$B27)*(Inputs!$A$36:$A$44=Backend!$C27)*(Inputs!$B$36:$G$44)))","v":0},null,null,null,null,null,null,{"$f":"TRANSPOSE(L18:T18)","v":"Ankle"},{"$f":"TRANSPOSE(L19:T24)","v":0},0,0,0,0,0,null,null,null,null,null,null,null,null,null,null,null,{"$f":"IF(ISBLANK(Inputs!A135:'Inputs'!G135), ROW(Inputs!A135), 999)","v":135}]
["Male","85+","Tibia/Fibula",{"$f":"IF($K$1=1, VLOOKUP($A28, InpSex, 2, 0)*VLOOKUP($B28,InpAge, 2, 0)*VLOOKUP($C28, InpFxSite, 2, 0), SUM((Inputs!$B$34:$G$34=Backend!$A28)*(Inputs!$B$35:$G$35=Backend!$B28)*(Inputs!$A$36:$A$44=Backend!$C28)*(Inputs!$B$36:$G$44)))","v":0},null,null,null,null,null,null,"Clavicle",0,0,0,0,0,0,null,null,null,null,null,null,null,null,null,null,null,{"$f":"IF(ISBLANK(Inputs!A136:'Inputs'!G136), ROW(Inputs!A136), 999)","v":136}]
["Female","65-74","Ankle",{"$f":"IF($K$1=1, VLOOKUP($A29, InpSex, 2, 0)*VLOOKUP($B29,InpAge, 2, 0)*VLOOKUP($C29, InpFxSite, 2, 0), SUM((Inputs!$B$34:$G$34=Backend!$A29)*(Inputs!$B$35:$G$35=Backend!$B29)*(Inputs!$A$36:$A$44=Backend!$C29)*(Inputs!$B$36:$G$44)))","v":0},null,null,null,null,null,null,"Femur",0,0,0,0,0,0,null,null,null,null,null,null,null,null,null,null,null,{"$f":"IF(ISBLANK(Inputs!A137:'Inputs'!G137), ROW(Inputs!A137), 999)","v":137}]
["Female","65-74","Clavicle",{"$f":"IF($K$1=1, VLOOKUP($A30, InpSex, 2, 0)*VLOOKUP($B30,InpAge, 2, 0)*VLOOKUP($C30, InpFxSite, 2, 0), SUM((Inputs!$B$34:$G$34=Backend!$A30)*(Inputs!$B$35:$G$35=Backend!$B30)*(Inputs!$A$36:$A$44=Backend!$C30)*(Inputs!$B$36:$G$44)))","v":0},null,null,null,null,null,null,"Hip",0,0,0,0,0,0,null,null,null,null,null,null,null,null,null,null,null,{"$f":"IF(ISBLANK(Inputs!A138:'Inputs'!G138), ROW(Inputs!A138), 999)","v":138}]
["Female","65-74","Femur",{"$f":"IF($K$1=1, VLOOKUP($A31, InpSex, 2, 0)*VLOOKUP($B31,InpAge, 2, 0)*VLOOKUP($C31, InpFxSite, 2, 0), SUM((Inputs!$B$34:$G$34=Backend!$A31)*(Inputs!$B$35:$G$35=Backend!$B31)*(Inputs!$A$36:$A$44=Backend!$C31)*(Inputs!$B$36:$G$44)))","v":0},null,null,null,null,null,null,"Humerus",0,0,0,0,0,0,null,null,null,null,null,null,null,null,null,null,null,{"$f":"IF(ISBLANK(Inputs!A139:'Inputs'!G139), ROW(Inputs!A139), 999)","v":139}]
["Female","65-74","Hip",{"$f":"IF($K$1=1, VLOOKUP($A32, InpSex, 2, 0)*VLOOKUP($B32,InpAge, 2, 0)*VLOOKUP($C32, InpFxSite, 2, 0), SUM((Inputs!$B$34:$G$34=Backend!$A32)*(Inputs!$B$35:$G$35=Backend!$B32)*(Inputs!$A$36:$A$44=Backend!$C32)*(Inputs!$B$36:$G$44)))","v":0},null,null,null,null,null,null,"Pelvis",0,0,0,0,0,0,null,null,null,null,null,null,null,null,null,null,null,{"$f":"IF(ISBLANK(Inputs!A140:'Inputs'!G140), ROW(Inputs!A140), 999)","v":140}]
["Female","65-74","Humerus",{"$f":"IF($K$1=1, VLOOKUP($A33, InpSex, 2, 0)*VLOOKUP($B33,InpAge, 2, 0)*VLOOKUP($C33, InpFxSite, 2, 0), SUM((Inputs!$B$34:$G$34=Backend!$A33)*(Inputs!$B$35:$G$35=Backend!$B33)*(Inputs!$A$36:$A$44=Backend!$C33)*(Inputs!$B$36:$G$44)))","v":0},null,null,"No FLS","FLS","Savings",null,"Radius/Ulna",0,0,0,0,0,0,null,null,null,null,null,null,null,null,null,null,null,{"$f":"IF(ISBLANK(Inputs!A141:'Inputs'!G141), ROW(Inputs!A141), 999)","v":141}]
["Female","65-74","Pelvis",{"$f":"IF($K$1=1, VLOOKUP($A34, InpSex, 2, 0)*VLOOKUP($B34,InpAge, 2, 0)*VLOOKUP($C34, InpFxSite, 2, 0), SUM((Inputs!$B$34:$G$34=Backend!$A34)*(Inputs!$B$35:$G$35=Backend!$B34)*(Inputs!$A$36:$A$44=Backend!$C34)*(Inputs!$B$36:$G$44)))","v":0},null,"After 2 Years",{"$f":"SUM(Expected2ndFxCost!D7:L60)","v":0},{"$f":"SUM(Expected2ndFxCost!D7:L60)-SUM(FLSAvoidedFxCost!D7:L60)","v":0},{"$f":"G34-H34","v":0},null,"Spine",0,0,0,0,0,0,null,null,null,null,null,null,null,null,null,null,null,{"$f":"IF(ISBLANK(Inputs!A142:'Inputs'!G142), ROW(Inputs!A142), 999)","v":142}]
["Female","65-74","Radius/Ulna",{"$f":"IF($K$1=1, VLOOKUP($A35, InpSex, 2, 0)*VLOOKUP($B35,InpAge, 2, 0)*VLOOKUP($C35, InpFxSite, 2, 0), SUM((Inputs!$B$34:$G$34=Backend!$A35)*(Inputs!$B$35:$G$35=Backend!$B35)*(Inputs!$A$36:$A$44=Backend!$C35)*(Inputs!$B$36:$G$44)))","v":0},null,"After 3 Years",{"$f":"SUM(Expected2ndFxCost!D66:L119)","v":0},{"$f":"SUM(Expected2ndFxCost!D66:L119)-SUM(FLSAvoidedFxCost!D66:L119)","v":0},{"$f":"G35-H35","v":0},null,"Tibia/Fibula",0,0,0,0,0,0,null,null,null,null,null,null,null,null,null,null,null,{"$f":"IF(ISBLANK(Inputs!A143:'Inputs'!G143), ROW(Inputs!A143), 999)","v":143}]
["Female","65-74","Spine",{"$f":"IF($K$1=1, VLOOKUP($A36, InpSex, 2, 0)*VLOOKUP($B36,InpAge, 2, 0)*VLOOKUP($C36, InpFxSite, 2, 0), SUM((Inputs!$B$34:$G$34=Backend!$A36)*(Inputs!$B$35:$G$35=Backend!$B36)*(Inputs!$A$36:$A$44=Backend!$C36)*(Inputs!$B$36:$G$44)))","v":0},null,"After 4 Years",{"$f":"SUM(Expected2ndFxCost!D125:L178)","v":0},{"$f":"SUM(Expected2ndFxCost!D125:L178)-SUM(FLSAvoidedFxCost!D125:L178)","v":0},{"$f":"G36-H36","v":0},null,null,null,null,null,null,null,null,null,null,null,null,null,null,null,null,null,null,null,{"$f":"IF(ISBLANK(Inputs!A144:'Inputs'!G144), ROW(Inputs!A144), 999)","v":144}]
["Female","65-74","Tibia/Fibula",{"$f":"IF($K$1=1, VLOOKUP($A37, InpSex, 2, 0)*VLOOKUP($B37,InpAge, 2, 0)*VLOOKUP($C37, InpFxSite, 2, 0), SUM((Inputs!$B$34:$G$34=Backend!$A37)*(Inputs!$B$35:$G$35=Backend!$B37)*(Inputs!$A$36:$A$44=Backend!$C37)*(Inputs!$B$36:$G$44)))","v":0},null,null,null,null,null,null,null,null,null,null,null,null,null,null,null,null,null,null,null,null,null,null,null,null,{"$f":"IF(ISBLANK(Inputs!A145:'Inputs'!G145), ROW(Inputs!A145), 999)","v":145}]
["Female","75-84","Ankle",{"$f":"IF($K$1=1, VLOOKUP($A38, InpSex, 2, 0)*VLOOKUP($B38,InpAge, 2, 0)*VLOOKUP($C38, InpFxSite, 2, 0), SUM((Inputs!$B$34:$G$34=Backend!$A38)*(Inputs!$B$35:$G$35=Backend!$B38)*(Inputs!$A$36:$A$44=Backend!$C38)*(Inputs!$B$36:$G$44)))","v":0},null,null,null,null,null,null,null,null,null,null,null,null,null,null,null,null,null,null,null,null,null,null,null,null,{"$f":"IF(ISBLANK(Inputs!A146:'Inputs'!G146), ROW(Inputs!A146), 999)","v":146}]
["Female","75-84","Clavicle",{"$f":"IF($K$1=1, VLOOKUP($A39, InpSex, 2, 0)*VLOOKUP($B39,InpAge, 2, 0)*VLOOKUP($C39, InpFxSite, 2, 0), SUM((Inputs!$B$34:$G$34=Backend!$A39)*(Inputs!$B$35:$G$35=Backend!$B39)*(Inputs!$A$36:$A$44=Backend!$C39)*(Inputs!$B$36:$G$44)))","v":0},null,null,"Costs Associated with Fractures","Costs Avoided due to FLS",null,null,null,null,null,null,null,null,null,null,null,null,null,null,null,null,null,null,null,null,{"$f":"IF(ISBLANK(Inputs!A147:'Inputs'!G147), ROW(Inputs!A147), 999)","v":147}]
["Female","75-84","Femur",{"$f":"IF($K$1=1, VLOOKUP($A40, InpSex, 2, 0)*VLOOKUP($B40,InpAge, 2, 0)*VLOOKUP($C40, InpFxSite, 2, 0), SUM((Inputs!$B$34:$G$34=Backend!$A40)*(Inputs!$B$35:$G$35=Backend!$B40)*(Inputs!$A$36:$A$44=Backend!$C40)*(Inputs!$B$36:$G$44)))","v":0},null,"After 2 Years",{"$f":"H34","v":0},{"$f":"I34","v":0},null,null,null,null,null,null,null,null,null,null,null,null,null,null,null,null,null,null,null,null,{"$f":"IF(ISBLANK(Inputs!A148:'Inputs'!G148), ROW(Inputs!A148), 999)","v":148}]
["Female","75-84","Hip",{"$f":"IF($K$1=1, VLOOKUP($A41, InpSex, 2, 0)*VLOOKUP($B41,InpAge, 2, 0)*VLOOKUP($C41, InpFxSite, 2, 0), SUM((Inputs!$B$34:$G$34=Backend!$A41)*(Inputs!$B$35:$G$35=Backend!$B41)*(Inputs!$A$36:$A$44=Backend!$C41)*(Inputs!$B$36:$G$44)))","v":0},null,"After 3 Years",{"$f":"H35","v":0},0,null,null,null,null,null,null,null,null,null,null,null,null,null,null,null,null,null,null,null,null,{"$f":"IF(ISBLANK(Inputs!A149:'Inputs'!G149), ROW(Inputs!A149), 999)","v":149}]
["Female","75-84","Humerus",{"$f":"IF($K$1=1, VLOOKUP($A42, InpSex, 2, 0)*VLOOKUP($B42,InpAge, 2, 0)*VLOOKUP($C42, InpFxSite, 2, 0), SUM((Inputs!$B$34:$G$34=Backend!$A42)*(Inputs!$B$35:$G$35=Backend!$B42)*(Inputs!$A$36:$A$44=Backend!$C42)*(Inputs!$B$36:$G$44)))","v":0},null,"After 4 Years",{"$f":"H36","v":0},0,null,null,null,null,null,null,null,null,null,null,null,null,null,null,null,null,null,null,null,null,{"$f":"IF(ISBLANK(Inputs!A150:'Inputs'!G150), ROW(Inputs!A150), 999)","v":150}]
["Female","75-84","Pelvis",{"$f":"IF($K$1=1, VLOOKUP($A43, InpSex, 2, 0)*VLOOKUP($B43,InpAge, 2, 0)*VLOOKUP($C43, InpFxSite, 2, 0), SUM((Inputs!$B$34:$G$34=Backend!$A43)*(Inputs!$B$35:$G$35=Backend!$B43)*(Inputs!$A$36:$A$44=Backend!$C43)*(Inputs!$B$36:$G$44)))","v":0},null,null,null,null,null,null,null,null,null,null,null,null,null,null,null,null,null,null,null,null,null,null,null,null,{"$f":"IF(ISBLANK(Inputs!A151:'Inputs'!G151), ROW(Inputs!A151), 999)","v":151}]
["Female","75-84","Radius/Ulna",{"$f":"IF($K$1=1, VLOOKUP($A44, InpSex, 2, 0)*VLOOKUP($B44,InpAge, 2, 0)*VLOOKUP($C44, InpFxSite, 2, 0), SUM((Inputs!$B$34:$G$34=Backend!$A44)*(Inputs!$B$35:$G$35=Backend!$B44)*(Inputs!$A$36:$A$44=Backend!$C44)*(Inputs!$B$36:$G$44)))","v":0},null,null,null,null,null,null,null,null,null,null,null,null,null,null,null,null,null,null,null,null,null,null,null,null,{"$f":"IF(ISBLANK(Inputs!A152:'Inputs'!G152), ROW(Inputs!A152), 999)","v":152}]
["Female","75-84","Spine",{"$f":"IF($K$1=1, VLOOKUP($A45, InpSex, 2, 0)*VLOOKUP($B45,InpAge, 2, 0)*VLOOKUP($C45, InpFxSite, 2, 0), SUM((Inputs!$B$34:$G$34=Backend!$A45)*(Inputs!$B$35:$G$35=Backend!$B45)*(Inputs!$A$36:$A$44=Backend!$C45)*(Inputs!$B$36:$G$44)))","v":0},null,null,null,null,null,null,null,null,null,null,null,null,null,null,null,null,null,null,null,null,null,null,null,null,{"$f":"IF(ISBLANK(Inputs!A153:'Inputs'!G153), ROW(Inputs!A153), 999)","v":153}]
["Female","75-84","Tibia/Fibula",{"$f":"IF($K$1=1, VLOOKUP($A46, InpSex, 2, 0)*VLOOKUP($B46,InpAge, 2, 0)*VLOOKUP($C46, InpFxSite, 2, 0), SUM((Inputs!$B$34:$G$34=Backend!$A46)*(Inputs!$B$35:$G$35=Backend!$B46)*(Inputs!$A$36:$A$44=Backend!$C46)*(Inputs!$B$36:$G$44)))","v":0},null,null,null,null,null,null,null,null,null,null,null,null,null,null,null,null,null,null,null,null,null,null,null,null,{"$f":"IF(ISBLANK(Inputs!A154:'Inputs'!G154), ROW(Inputs!A154), 999)","v":154}]
["Female","85+","Ankle",{"$f":"IF($K$1=1, VLOOKUP($A47, InpSex, 2, 0)*VLOOKUP($B47,InpAge, 2, 0)*VLOOKUP($C47, InpFxSite, 2, 0), SUM((Inputs!$B$34:$G$34=Backend!$A47)*(Inputs!$B$35:$G$35=Backend!$B47)*(Inputs!$A$36:$A$44=Backend!$C47)*(Inputs!$B$36:$G$44)))","v":0},null,null,null,null,null,null,null,null,null,null,null,null,null,null,null,null,null,null,null,null,null,null,null,null,{"$f":"IF(ISBLANK(Inputs!A155:'Inputs'!G155), ROW(Inputs!A155), 999)","v":155}]
["Female","85+","Clavicle",{"$f":"IF($K$1=1, VLOOKUP($A48, InpSex, 2, 0)*VLOOKUP($B48,InpAge, 2, 0)*VLOOKUP($C48, InpFxSite, 2, 0), SUM((Inputs!$B$34:$G$34=Backend!$A48)*(Inputs!$B$35:$G$35=Backend!$B48)*(Inputs!$A$36:$A$44=Backend!$C48)*(Inputs!$B$36:$G$44)))","v":0},null,null,null,null,null,null,null,null,null,null,null,null,null,null,null,null,null,null,null,null,null,null,null,null,{"$f":"IF(ISBLANK(Inputs!A156:'Inputs'!G156), ROW(Inputs!A156), 999)","v":156}]
["Female","85+","Femur",{"$f":"IF($K$1=1, VLOOKUP($A49, InpSex, 2, 0)*VLOOKUP($B49,InpAge, 2, 0)*VLOOKUP($C49, InpFxSite, 2, 0), SUM((Inputs!$B$34:$G$34=Backend!$A49)*(Inputs!$B$35:$G$35=Backend!$B49)*(Inputs!$A$36:$A$44=Backend!$C49)*(Inputs!$B$36:$G$44)))","v":0},null,null,null,null,null,null,null,null,null,null,null,null,null,null,null,null,null,null,null,null,null,null,null,null,{"$f":"IF(ISBLANK(Inputs!A157:'Inputs'!G157), ROW(Inputs!A157), 999)","v":157}]
["Female","85+","Hip",{"$f":"IF($K$1=1, VLOOKUP($A50, InpSex, 2, 0)*VLOOKUP($B50,InpAge, 2, 0)*VLOOKUP($C50, InpFxSite, 2, 0), SUM((Inputs!$B$34:$G$34=Backend!$A50)*(Inputs!$B$35:$G$35=Backend!$B50)*(Inputs!$A$36:$A$44=Backend!$C50)*(Inputs!$B$36:$G$44)))","v":0},null,null,null,null,null,null,null,null,null,null,null,null,null,null,null,null,null,null,null,null,null,null,null,null,{"$f":"IF(ISBLANK(Inputs!A158:'Inputs'!G158), ROW(Inputs!A158), 999)","v":158}]
["Female","85+","Humerus",{"$f":"IF($K$1=1, VLOOKUP($A51, InpSex, 2, 0)*VLOOKUP($B51,InpAge, 2, 0)*VLOOKUP($C51, InpFxSite, 2, 0), SUM((Inputs!$B$34:$G$34=Backend!$A51)*(Inputs!$B$35:$G$35=Backend!$B51)*(Inputs!$A$36:$A$44=Backend!$C51)*(Inputs!$B$36:$G$44)))","v":0},null,null,null,null,null,null,null,null,null,null,null,null,null,null,null,null,null,null,null,null,null,null,null,null,{"$f":"IF(ISBLANK(Inputs!A159:'Inputs'!G159), ROW(Inputs!A159), 999)","v":159}]
["Female","85+","Pelvis",{"$f":"IF($K$1=1, VLOOKUP($A52, InpSex, 2, 0)*VLOOKUP($B52,InpAge, 2, 0)*VLOOKUP($C52, InpFxSite, 2, 0), SUM((Inputs!$B$34:$G$34=Backend!$A52)*(Inputs!$B$35:$G$35=Backend!$B52)*(Inputs!$A$36:$A$44=Backend!$C52)*(Inputs!$B$36:$G$44)))","v":0},null,null,null,null,null,null,null,null,null,null,null,null,null,null,null,null,null,null,null,null,null,null,null,null,{"$f":"IF(ISBLANK(Inputs!A160:'Inputs'!G160), ROW(Inputs!A160), 999)","v":160}]
["Female","85+","Radius/Ulna",{"$f":"IF($K$1=1, VLOOKUP($A53, InpSex, 2, 0)*VLOOKUP($B53,InpAge, 2, 0)*VLOOKUP($C53, InpFxSite, 2, 0), SUM((Inputs!$B$34:$G$34=Backend!$A53)*(Inputs!$B$35:$G$35=Backend!$B53)*(Inputs!$A$36:$A$44=Backend!$C53)*(Inputs!$B$36:$G$44)))","v":0},null,null,null,null,null,null,null,null,null,null,null,null,null,null,null,null,null,null,null,null,null,null,null,null,{"$f":"IF(ISBLANK(Inputs!A161:'Inputs'!G161), ROW(Inputs!A161), 999)","v":161}]
["Female","85+","Spine",{"$f":"IF($K$1=1, VLOOKUP($A54, InpSex, 2, 0)*VLOOKUP($B54,InpAge, 2, 0)*VLOOKUP($C54, InpFxSite, 2, 0), SUM((Inputs!$B$34:$G$34=Backend!$A54)*(Inputs!$B$35:$G$35=Backend!$B54)*(Inputs!$A$36:$A$44=Backend!$C54)*(Inputs!$B$36:$G$44)))","v":0},null,null,null,null,null,null,null,null,null,null,null,null,null,null,null,null,null,null,null,null,null,null,null,null,{"$f":"IF(ISBLANK(Inputs!A162:'Inputs'!G162), ROW(Inputs!A162), 999)","v":162}]
["Female","85+","Tibia/Fibula",{"$f":"IF($K$1=1, VLOOKUP($A55, InpSex, 2, 0)*VLOOKUP($B55,InpAge, 2, 0)*VLOOKUP($C55, InpFxSite, 2, 0), SUM((Inputs!$B$34:$G$34=Backend!$A55)*(Inputs!$B$35:$G$35=Backend!$B55)*(Inputs!$A$36:$A$44=Backend!$C55)*(Inputs!$B$36:$G$44)))","v":0},null,null,null,null,null,null,null,null,null,null,null,null,null,null,null,null,null,null,null,null,null,null,null,null,{"$f":"IF(ISBLANK(Inputs!A163:'Inputs'!G163), ROW(Inputs!A163), 999)","v":163}]
[null,null,null,null,null,null,null,null,null,null,null,null,null,null,null,null,null,null,null,null,null,null,null,null,null,null,null,null,{"$f":"IF(ISBLANK(Inputs!A164:'Inputs'!G164), ROW(Inputs!A164), 999)","v":164}]
[null,null,null,null,null,null,null,null,null,null,null,null,null,null,null,null,null,null,null,null,null,null,null,null,null,null,null,null,{"$f":"IF(ISBLANK(Inputs!A165:'Inputs'!G165), ROW(Inputs!A165), 999)","v":165}]
[null,null,null,null,null,null,null,null,null,null,null,null,null,null,null,null,null,null,null,null,null,null,null,null,null,null,null,null,{"$f":"IF(ISBLANK(Inputs!A166:'Inputs'!G166), ROW(Inputs!A166), 999)","v":166}]
[null,null,null,null,null,null,null,null,null,null,null,null,null,null,null,null,null,null,null,null,null,null,null,null,null,null,null,null,{"$f":"IF(ISBLANK(Inputs!A167:'Inputs'!G167), ROW(Inputs!A167), 999)","v":167}]
[null,"Cost Stuff",null,null,null,null,null,null,null,null,null,null,null,null,null,null,null,null,null,null,null,null,null,null,null,null,null,null,{"$f":"IF(ISBLANK(Inputs!A168:'Inputs'!G168), ROW(Inputs!A168), 999)","v":168}]
[null,null,null,null,null,null,null,null,null,null,null,null,null,null,null,null,null,null,null,null,null,null,null,null,null,null,null,null,{"$f":"IF(ISBLANK(Inputs!A169:'Inputs'!G169), ROW(Inputs!A169), 999)","v":169}]
[null,"Nurse Practitioner","",null,null,null,null,null,null,null,null,null,null,null,null,null,null,null,null,null,null,null,null,null,null,null,null,null,{"$f":"IF(ISBLANK(Inputs!A170:'Inputs'!G170), ROW(Inputs!A170), 999)","v":170}]
[null,"Physician Assistant",null,null,null,null,null,null,null,null,null,null,null,null,null,null,null,null,null,null,null,null,null,null,null,null,null,null,{"$f":"IF(ISBLANK(Inputs!A171:'Inputs'!G171), ROW(Inputs!A171), 999)","v":171}]
[null,"Registered Nurse",null,null,null,null,null,null,null,null,null,null,null,null,null,null,null,null,null,null,null,null,null,null,null,null,null,null,{"$f":"IF(ISBLANK(Inputs!A172:'Inputs'!G172), ROW(Inputs!A172), 999)","v":172}]
[null,"Other Staff",null,null,null,null,null,null,null,null,null,null,null,null,null,null,null,null,null,null,null,null,null,null,null,null,null,null,{"$f":"IF(ISBLANK(Inputs!A173:'Inputs'!G173), ROW(Inputs!A173), 999)","v":173}]
[null,null,null,null,null,null,null,null,null,null,null,null,null,null,null,null,null,null,null,null,null,null,null,null,null,null,null,null,{"$f":"IF(ISBLANK(Inputs!A174:'Inputs'!G174), ROW(Inputs!A174), 999)","v":174}]
[null,null,null,null,null,null,null,null,null,null,null,null,null,null,null,null,null,null,null,null,null,null,null,null,null,null,null,null,{"$f":"IF(ISBLANK(Inputs!A175:'Inputs'!G175), ROW(Inputs!A175), 999)","v":175}]
[null,null,null,null,null,null,null,null,null,null,null,null,null,null,null,null,null,null,null,null,null,null,null,null,null,null,null,null,{"$f":"IF(ISBLANK(Inputs!A176:'Inputs'!G176), ROW(Inputs!A176), 999)","v":176}]
[null,null,null,null,null,null,null,null,null,null,null,null,null,null,null,null,null,null,null,null,null,null,null,null,null,null,null,null,{"$f":"IF(ISBLANK(Inputs!A177:'Inputs'!G177), ROW(Inputs!A177), 999)","v":177}]
[null,null,null,null,null,null,null,null,null,null,null,null,null,null,null,null,null,null,null,null,null,null,null,null,null,null,null,null,{"$f":"IF(ISBLANK(Inputs!A178:'Inputs'!G178), ROW(Inputs!A178), 999)","v":178}]
[null,null,null,null,null,null,null,null,null,null,null,null,null,null,null,null,null,null,null,null,null,null,null,null,null,null,null,null,{"$f":"IF(ISBLANK(Inputs!A179:'Inputs'!G179), ROW(Inputs!A179), 999)","v":179}]
[null,null,null,null,null,null,null,null,null,null,null,null,null,null,null,null,null,null,null,null,null,null,null,null,null,null,null,null,{"$f":"IF(ISBLANK(Inputs!A180:'Inputs'!G180), ROW(Inputs!A180), 999)","v":180}]
[null,null,null,null,null,null,null,null,null,null,null,null,null,null,null,null,null,null,null,null,null,null,null,null,null,null,null,null,{"$f":"IF(ISBLANK(Inputs!A181:'Inputs'!G181), ROW(Inputs!A181), 999)","v":181}]
[null,null,null,null,null,null,null,null,null,null,null,null,null,null,null,null,null,null,null,null,null,null,null,null,null,null,null,null,{"$f":"IF(ISBLANK(Inputs!A182:'Inputs'!G182), ROW(Inputs!A182), 999)","v":182}]
[null,null,null,null,null,null,null,null,null,null,null,null,null,null,null,null,null,null,null,null,null,null,null,null,null,null,null,null,{"$f":"IF(ISBLANK(Inputs!A183:'Inputs'!G183), ROW(Inputs!A183), 999)","v":183}]
[null,null,null,null,null,null,null,null,null,null,null,null,null,null,null,null,null,null,null,null,null,null,null,null,null,null,null,null,{"$f":"IF(ISBLANK(Inputs!A184:'Inputs'!G184), ROW(Inputs!A184), 999)","v":184}]
[null,null,null,null,null,null,null,null,null,null,null,null,null,null,null,null,null,null,null,null,null,null,null,null,null,null,null,null,{"$f":"IF(ISBLANK(Inputs!A185:'Inputs'!G185), ROW(Inputs!A185), 999)","v":185}]
[null,null,null,null,null,null,null,null,null,null,null,null,null,null,null,null,null,null,null,null,null,null,null,null,null,null,null,null,{"$f":"IF(ISBLANK(Inputs!A186:'Inputs'!G186), ROW(Inputs!A186), 999)","v":186}]
[null,null,null,null,null,null,null,null,null,null,null,null,null,null,null,null,null,null,null,null,null,null,null,null,null,null,null,null,{"$f":"IF(ISBLANK(Inputs!A187:'Inputs'!G187), ROW(Inputs!A187), 999)","v":187}]
[null,null,null,null,null,null,null,null,null,null,null,null,null,null,null,null,null,null,null,null,null,null,null,null,null,null,null,null,{"$f":"IF(ISBLANK(Inputs!A188:'Inputs'!G188), ROW(Inputs!A188), 999)","v":188}]
[null,null,null,null,null,null,null,null,null,null,null,null,null,null,null,null,null,null,null,null,null,null,null,null,null,null,null,null,{"$f":"IF(ISBLANK(Inputs!A189:'Inputs'!G189), ROW(Inputs!A189), 999)","v":189}]
[null,null,null,null,null,null,null,null,null,null,null,null,null,null,null,null,null,null,null,null,null,null,null,null,null,null,null,null,{"$f":"IF(ISBLANK(Inputs!A190:'Inputs'!G190), ROW(Inputs!A190), 999)","v":190}]
[null,null,null,null,null,null,null,null,null,null,null,null,null,null,null,null,null,null,null,null,null,null,null,null,null,null,null,null,{"$f":"IF(ISBLANK(Inputs!A191:'Inputs'!G191), ROW(Inputs!A191), 999)","v":191}]
[null,null,null,null,null,null,null,null,null,null,null,null,null,null,null,null,null,null,null,null,null,null,null,null,null,null,null,null,{"$f":"IF(ISBLANK(Inputs!A192:'Inputs'!G192), ROW(Inputs!A192), 999)","v":192}]
[null,null,null,null,null,null,null,null,null,null,null,null,null,null,null,null,null,null,null,null,null,null,null,null,null,null,null,null,{"$f":"IF(ISBLANK(Inputs!A193:'Inputs'!G193), ROW(Inputs!A193), 999)","v":193}]
[null,null,null,null,null,null,null,null,null,null,null,null,null,null,null,null,null,null,null,null,null,null,null,null,null,null,null,null,{"$f":"IF(ISBLANK(Inputs!A194:'Inputs'!G194), ROW(Inputs!A194), 999)","v":194}]
[null,null,null,null,null,null,null,null,null,null,null,null,null,null,null,null,null,null,null,null,null,null,null,null,null,null,null,null,{"$f":"IF(ISBLANK(Inputs!A195:'Inputs'!G195), ROW(Inputs!A195), 999)","v":195}]
[null,null,null,null,null,null,null,null,null,null,null,null,null,null,null,null,null,null,null,null,null,null,null,null,null,null,null,null,{"$f":"IF(ISBLANK(Inputs!A196:'Inputs'!G196), ROW(Inputs!A196), 999)","v":196}]
[null,null,null,null,null,null,null,null,null,null,null,null,null,null,null,null,null,null,null,null,null,null,null,null,null,null,null,null,{"$f":"IF(ISBLANK(Inputs!A197:'Inputs'!G197), ROW(Inputs!A197), 999)","v":197}]
[null,null,null,null,null,null,null,null,null,null,null,null,null,null,null,null,null,null,null,null,null,null,null,null,null,null,null,null,{"$f":"IF(ISBLANK(Inputs!A198:'Inputs'!G198), ROW(Inputs!A198), 999)","v":198}]
[null,null,null,null,null,null,null,null,null,null,null,null,null,null,null,null,null,null,null,null,null,null,null,null,null,null,null,null,{"$f":"IF(ISBLANK(Inputs!A199:'Inputs'!G199), ROW(Inputs!A199), 999)","v":199}]
[null,null,null,null,null,null,null,null,null,null,null,null,null,null,null,null,null,null,null,null,null,null,null,null,null,null,null,null,{"$f":"IF(ISBLANK(Inputs!A200:'Inputs'!G200), ROW(Inputs!A200), 999)","v":200}]
[null,null,null,null,null,null,null,null,null,null,null,null,null,null,null,null,null,null,null,null,null,null,null,null,null,null,null,null,{"$f":"IF(ISBLANK(Inputs!A201:'Inputs'!G201), ROW(Inputs!A201), 999)","v":201}]
[null,null,null,null,null,null,null,null,null,null,null,null,null,null,null,null,null,null,null,null,null,null,null,null,null,null,null,null,{"$f":"IF(ISBLANK(Inputs!A202:'Inputs'!G202), ROW(Inputs!A202), 999)","v":202}]
[null,null,null,null,null,null,null,null,null,null,null,null,null,null,null,null,null,null,null,null,null,null,null,null,null,null,null,null,{"$f":"IF(ISBLANK(Inputs!A203:'Inputs'!G203), ROW(Inputs!A203), 999)","v":203}]
[null,null,null,null,null,null,null,null,null,null,null,null,null,null,null,null,null,null,null,null,null,null,null,null,null,null,null,null,{"$f":"IF(ISBLANK(Inputs!A204:'Inputs'!G204), ROW(Inputs!A204), 999)","v":204}]
[null,null,null,null,null,null,null,null,null,null,null,null,null,null,null,null,null,null,null,null,null,null,null,null,null,null,null,null,{"$f":"IF(ISBLANK(Inputs!A205:'Inputs'!G205), ROW(Inputs!A205), 999)","v":205}]
[null,null,null,null,null,null,null,null,null,null,null,null,null,null,null,null,null,null,null,null,null,null,null,null,null,null,null,null,{"$f":"IF(ISBLANK(Inputs!A206:'Inputs'!G206), ROW(Inputs!A206), 999)","v":206}]
[null,null,null,null,null,null,null,null,null,null,null,null,null,null,null,null,null,null,null,null,null,null,null,null,null,null,null,null,{"$f":"IF(ISBLANK(Inputs!A207:'Inputs'!G207), ROW(Inputs!A207), 999)","v":207}]
[null,null,null,null,null,null,null,null,null,null,null,null,null,null,null,null,null,null,null,null,null,null,null,null,null,null,null,null,{"$f":"IF(ISBLANK(Inputs!A208:'Inputs'!G208), ROW(Inputs!A208), 999)","v":208}]
[null,null,null,null,null,null,null,null,null,null,null,null,null,null,null,null,null,null,null,null,null,null,null,null,null,null,null,null,{"$f":"IF(ISBLANK(Inputs!A209:'Inputs'!G209), ROW(Inputs!A209), 999)","v":209}]
[null,null,null,null,null,null,null,null,null,null,null,null,null,null,null,null,null,null,null,null,null,null,null,null,null,null,null,null,{"$f":"IF(ISBLANK(Inputs!A210:'Inputs'!G210), ROW(Inputs!A210), 999)","v":210}]
[null,null,null,null,null,null,null,null,null,null,null,null,null,null,null,null,null,null,null,null,null,null,null,null,null,null,null,null,{"$f":"IF(ISBLANK(Inputs!A211:'Inputs'!G211), ROW(Inputs!A211), 999)","v":211}]
[null,null,null,null,null,null,null,null,null,null,null,null,null,null,null,null,null,null,null,null,null,null,null,null,null,null,null,null,{"$f":"IF(ISBLANK(Inputs!A212:'Inputs'!G212), ROW(Inputs!A212), 999)","v":212}]
[null,null,null,null,null,null,null,null,null,null,null,null,null,null,null,null,null,null,null,null,null,null,null,null,null,null,null,null,{"$f":"IF(ISBLANK(Inputs!A213:'Inputs'!G213), ROW(Inputs!A213), 999)","v":213}]
[null,null,null,null,null,null,null,null,null,null,null,null,null,null,null,null,null,null,null,null,null,null,null,null,null,null,null,null,{"$f":"IF(ISBLANK(Inputs!A214:'Inputs'!G214), ROW(Inputs!A214), 999)","v":214}]
[null,null,null,null,null,null,null,null,null,null,null,null,null,null,null,null,null,null,null,null,null,null,null,null,null,null,null,null,{"$f":"IF(ISBLANK(Inputs!A215:'Inputs'!G215), ROW(Inputs!A215), 999)","v":215}]

{"sheet":"Protocols","index":15,"n_rows":114,"n_cols":16,"rows_kept":114,"cut":false,"hidden":true,"merged":[[42,2,42,3],[41,2,41,3],[68,2,68,3],[62,2,62,3],[63,2,63,3],[64,2,64,3],[65,2,65,3],[60,2,60,3],[61,2,61,3],[43,2,43,3],[44,2,44,3],[45,2,45,3],[46,2,46,3],[47,2,47,3],[48,2,48,3],[59,2,59,3],[58,2,58,3],[56,2,56,3],[57,2,57,3],[28,2,28,3],[29,2,29,3],[30,2,30,3],[54,2,54,3],[55,2,55,3],[51,0,51,11],[52,2,52,3],[39,2,39,3],[40,2,40,3],[34,0,34,11],[35,2,35,3],[53,2,53,3],[31,2,31,3],[38,2,38,3],[36,2,36,3],[37,2,37,3],[18,2,18,3],[19,2,19,3],[20,2,20,3],[21,2,21,3],[22,2,22,3],[23,2,23,3],[24,2,24,3],[26,2,26,3],[27,2,27,3],[25,2,25,3],[0,0,0,11],[17,0,17,11],[14,2,14,3],[13,2,13,3],[12,2,12,3],[7,2,7,3],[8,2,8,3],[11,2,11,3],[10,2,10,3],[1,2,1,3],[2,2,2,3],[3,2,3,3],[4,2,4,3],[5,2,5,3],[9,2,9,3],[6,2,6,3]]}
["Hospital (facility), 100% Reimbursement Schedule"]
["Initial visit",0,99204,null,{"$f":"VLOOKUP(Protocols!C2, baserates, 2, 0)","v":145.53},1,0,{"$f":"IF(EXACT(Inputs!A97, Protocols!A2), 1, 0)","v":0},{"$f":"IF(EXACT(Inputs!B97, Protocols!B2), 1, 0)","v":0},{"$f":"IF(EXACT(Inputs!C97, Protocols!C2), 1, 0)","v":0},{"$f":"IF(EXACT(Inputs!D97, Protocols!D2), 1, 0)","v":1},{"$f":"IF(EXACT(Inputs!E97, Protocols!E2), 1, 0)","v":0},{"$f":"IF(EXACT(Inputs!F97, Protocols!F2), 1, 0)","v":0}]
["Three month follow-up visit",3,99214,null,{"$f":"VLOOKUP(Protocols!C3, baserates, 2, 0)","v":87.35},1,0,{"$f":"IF(EXACT(Inputs!A98, Protocols!A3), 1, 0)","v":0},{"$f":"IF(EXACT(Inputs!B98, Protocols!B3), 1, 0)","v":0},{"$f":"IF(EXACT(Inputs!C98, Protocols!C3), 1, 0)","v":0},{"$f":"IF(EXACT(Inputs!D98, Protocols!D3), 1, 0)","v":1},{"$f":"IF(EXACT(Inputs!E98, Protocols!E3), 1, 0)","v":0},{"$f":"IF(EXACT(Inputs!F98, Protocols!F3), 1, 0)","v":0}]
["Six month follow-up",6,99213,null,{"$f":"VLOOKUP(Protocols!C4, baserates, 2, 0)","v":56.97},0.9,0,{"$f":"IF(EXACT(Inputs!A99, Protocols!A4), 1, 0)","v":0},{"$f":"IF(EXACT(Inputs!B99, Protocols!B4), 1, 0)","v":0},{"$f":"IF(EXACT(Inputs!C99, Protocols!C4), 1, 0)","v":0},{"$f":"IF(EXACT(Inputs!D99, Protocols!D4), 1, 0)","v":1},{"$f":"IF(EXACT(Inputs!E99, Protocols!E4), 1, 0)","v":0},{"$f":"IF(EXACT(Inputs!F99, Protocols!F4), 1, 0)","v":0},null,"Hospital (facility), 100% Reimbursement Schedule","Hospital (facility), 100% Reimbursement Schedule"]
["12 month follow-up",12,99213,null,{"$f":"VLOOKUP(Protocols!C5, baserates, 2, 0)","v":56.97},0.85,0,{"$f":"IF(EXACT(Inputs!A100, Protocols!A5), 1, 0)","v":0},{"$f":"IF(EXACT(Inputs!B100, Protocols!B5), 1, 0)","v":0},{"$f":"IF(EXACT(Inputs!C100, Protocols!C5), 1, 0)","v":0},{"$f":"IF(EXACT(Inputs!D100, Protocols!D5), 1, 0)","v":1},{"$f":"IF(EXACT(Inputs!E100, Protocols!E5), 1, 0)","v":0},{"$f":"IF(EXACT(Inputs!F100, Protocols!F5), 1, 0)","v":0},null,"Hospital (facility), 85% Reimbursement Schedule"]
["18 month follow-up",18,99213,null,{"$f":"VLOOKUP(Protocols!C6, baserates, 2, 0)","v":56.97},0.85,0,{"$f":"IF(EXACT(Inputs!A101, Protocols!A6), 1, 0)","v":0},{"$f":"IF(EXACT(Inputs!B101, Protocols!B6), 1, 0)","v":0},{"$f":"IF(EXACT(Inputs!C101, Protocols!C6), 1, 0)","v":0},{"$f":"IF(EXACT(Inputs!D101, Protocols!D6), 1, 0)","v":1},{"$f":"IF(EXACT(Inputs!E101, Protocols!E6), 1, 0)","v":0},{"$f":"IF(EXACT(Inputs!F101, Protocols!F6), 1, 0)","v":0},null,"Group/Private Practice (non-facility), 100% Reimbursement Schedule"]
["24 month follow-up",24,99213,null,{"$f":"VLOOKUP(Protocols!C7, baserates, 2, 0)","v":56.97},0.85,0,{"$f":"IF(EXACT(Inputs!A102, Protocols!A7), 1, 0)","v":0},{"$f":"IF(EXACT(Inputs!B102, Protocols!B7), 1, 0)","v":0},{"$f":"IF(EXACT(Inputs!C102, Protocols!C7), 1, 0)","v":0},{"$f":"IF(EXACT(Inputs!D102, Protocols!D7), 1, 0)","v":1},{"$f":"IF(EXACT(Inputs!E102, Protocols!E7), 1, 0)","v":0},{"$f":"IF(EXACT(Inputs!F102, Protocols!F7), 1, 0)","v":0},null,"Group/Private Practice (non-facility), 85% Reimbursement Schedule"]
["36 month follow-up",36,99213,null,{"$f":"VLOOKUP(Protocols!C8, baserates, 2, 0)","v":56.97},0.85,0,{"$f":"IF(EXACT(Inputs!A103, Protocols!A8), 1, 0)","v":0},{"$f":"IF(EXACT(Inputs!B103, Protocols!B8), 1, 0)","v":0},{"$f":"IF(EXACT(Inputs!C103, Protocols!C8), 1, 0)","v":0},{"$f":"IF(EXACT(Inputs!D103, Protocols!D8), 1, 0)","v":1},{"$f":"IF(EXACT(Inputs!E103, Protocols!E8), 1, 0)","v":0},{"$f":"IF(EXACT(Inputs!F103, Protocols!F8), 1, 0)","v":0}]
["48 month follow-up",48,99213,null,{"$f":"VLOOKUP(Protocols!C9, baserates, 2, 0)","v":56.97},0.85,0,{"$f":"IF(EXACT(Inputs!A104, Protocols!A9), 1, 0)","v":0},{"$f":"IF(EXACT(Inputs!B104, Protocols!B9), 1, 0)","v":0},{"$f":"IF(EXACT(Inputs!C104, Protocols!C9), 1, 0)","v":0},{"$f":"IF(EXACT(Inputs!D104, Protocols!D9), 1, 0)","v":1},{"$f":"IF(EXACT(Inputs!E104, Protocols!E9), 1, 0)","v":0},{"$f":"IF(EXACT(Inputs!F104, Protocols!F9), 1, 0)","v":0}]
[null,null,null,null,null,null,null,{"$f":"IF(EXACT(Inputs!A105, Protocols!A10), 1, 0)","v":1},{"$f":"IF(EXACT(Inputs!B105, Protocols!B10), 1, 0)","v":1},{"$f":"IF(EXACT(Inputs!C105, Protocols!C10), 1, 0)","v":1},{"$f":"IF(EXACT(Inputs!D105, Protocols!D10), 1, 0)","v":1},{"$f":"IF(EXACT(Inputs!E105, Protocols!E10), 1, 0)","v":1},{"$f":"IF(EXACT(Inputs!F105, Protocols!F10), 1, 0)","v":1}]
[null,null,null,null,null,null,null,{"$f":"IF(EXACT(Inputs!A106, Protocols!A11), 1, 0)","v":1},{"$f":"IF(EXACT(Inputs!B106, Protocols!B11), 1, 0)","v":1},{"$f":"IF(EXACT(Inputs!C106, Protocols!C11), 1, 0)","v":1},{"$f":"IF(EXACT(Inputs!D106, Protocols!D11), 1, 0)","v":1},{"$f":"IF(EXACT(Inputs!E106, Protocols!E11), 1, 0)","v":1},{"$f":"IF(EXACT(Inputs!F106, Protocols!F11), 1, 0)","v":1}]
[null,null,null,null,null,null,null,{"$f":"IF(EXACT(Inputs!A107, Protocols!A12), 1, 0)","v":1},{"$f":"IF(EXACT(Inputs!B107, Protocols!B12), 1, 0)","v":1},{"$f":"IF(EXACT(Inputs!C107, Protocols!C12), 1, 0)","v":1},{"$f":"IF(EXACT(Inputs!D107, Protocols!D12), 1, 0)","v":1},{"$f":"IF(EXACT(Inputs!E107, Protocols!E12), 1, 0)","v":1},{"$f":"IF(EXACT(Inputs!F107, Protocols!F12), 1, 0)","v":1}]
[null,null,null,null,null,null,null,{"$f":"IF(EXACT(Inputs!A108, Protocols!A13), 1, 0)","v":1},{"$f":"IF(EXACT(Inputs!B108, Protocols!B13), 1, 0)","v":1},{"$f":"IF(EXACT(Inputs!C108, Protocols!C13), 1, 0)","v":1},{"$f":"IF(EXACT(Inputs!D108, Protocols!D13), 1, 0)","v":1},{"$f":"IF(EXACT(Inputs!E108, Protocols!E13), 1, 0)","v":1},{"$f":"IF(EXACT(Inputs!F108, Protocols!F13), 1, 0)","v":1}]
[null,null,null,null,null,null,null,{"$f":"IF(EXACT(Inputs!A109, Protocols!A14), 1, 0)","v":1},{"$f":"IF(EXACT(Inputs!B109, Protocols!B14), 1, 0)","v":1},{"$f":"IF(EXACT(Inputs!C109, Protocols!C14), 1, 0)","v":1},{"$f":"IF(EXACT(Inputs!D109, Protocols!D14), 1, 0)","v":1},{"$f":"IF(EXACT(Inputs!E109, Protocols!E14), 1, 0)","v":1},{"$f":"IF(EXACT(Inputs!F109, Protocols!F14), 1, 0)","v":1}]
[null,null,null,null,null,null,null,{"$f":"IF(EXACT(Inputs!A110, Protocols!A15), 1, 0)","v":1},{"$f":"IF(EXACT(Inputs!B110, Protocols!B15), 1, 0)","v":1},{"$f":"IF(EXACT(Inputs!C110, Protocols!C15), 1, 0)","v":1},{"$f":"IF(EXACT(Inputs!D110, Protocols!D15), 1, 0)","v":1},{"$f":"IF(EXACT(Inputs!E110, Protocols!E15), 1, 0)","v":1},{"$f":"IF(EXACT(Inputs!F110, Protocols!F15), 1, 0)","v":1},{"$f":"SUM(H2:M15)","v":44},"Hospital (facility), 100% Reimbursement Schedule"]
[]
[]
["Hospital (facility), 85% Reimbursement Schedule"]
["Initial visit",0,99204,null,{"$f":"VLOOKUP(C19, baserates, 3, 0)","v":123.7},1,0,{"$f":"IF(EXACT(Inputs!A97, Protocols!A19), 1, 0)","v":0},{"$f":"IF(EXACT(Inputs!B97, Protocols!B19), 1, 0)","v":0},{"$f":"IF(EXACT(Inputs!C97, Protocols!C19), 1, 0)","v":0},{"$f":"IF(EXACT(Inputs!D97, Protocols!D19), 1, 0)","v":1},{"$f":"IF(EXACT(Inputs!E97, Protocols!E19), 1, 0)","v":0},{"$f":"IF(EXACT(Inputs!F97, Protocols!F19), 1, 0)","v":0}]
["Three month follow-up visit",3,99214,null,74.25,1,0,{"$f":"IF(EXACT(Inputs!A98, Protocols!A20), 1, 0)","v":0},{"$f":"IF(EXACT(Inputs!B98, Protocols!B20), 1, 0)","v":0},{"$f":"IF(EXACT(Inputs!C98, Protocols!C20), 1, 0)","v":0},{"$f":"IF(EXACT(Inputs!E98, Protocols!E20), 1, 0)","v":0},{"$f":"IF(EXACT(Inputs!F98, Protocols!F20), 1, 0)","v":0},{"$f":"IF(EXACT(Inputs!G98, Protocols!G20), 1, 0)","v":0}]
["Six month follow-up",6,99213,null,48.42,0.9,0,{"$f":"IF(EXACT(Inputs!A99, Protocols!A21), 1, 0)","v":0},{"$f":"IF(EXACT(Inputs!B99, Protocols!B21), 1, 0)","v":0},{"$f":"IF(EXACT(Inputs!C99, Protocols!C21), 1, 0)","v":0},{"$f":"IF(EXACT(Inputs!E99, Protocols!E21), 1, 0)","v":0},{"$f":"IF(EXACT(Inputs!F99, Protocols!F21), 1, 0)","v":0},{"$f":"IF(EXACT(Inputs!G99, Protocols!G21), 1, 0)","v":0}]
["12 month follow-up",12,99213,null,48.42,0.85,0,{"$f":"IF(EXACT(Inputs!A100, Protocols!A22), 1, 0)","v":0},{"$f":"IF(EXACT(Inputs!B100, Protocols!B22), 1, 0)","v":0},{"$f":"IF(EXACT(Inputs!C100, Protocols!C22), 1, 0)","v":0},{"$f":"IF(EXACT(Inputs!E100, Protocols!E22), 1, 0)","v":0},{"$f":"IF(EXACT(Inputs!F100, Protocols!F22), 1, 0)","v":0},{"$f":"IF(EXACT(Inputs!G100, Protocols!G22), 1, 0)","v":0}]
["18 month follow-up",18,99213,null,48.42,0.85,0,{"$f":"IF(EXACT(Inputs!A101, Protocols!A23), 1, 0)","v":0},{"$f":"IF(EXACT(Inputs!B101, Protocols!B23), 1, 0)","v":0},{"$f":"IF(EXACT(Inputs!C101, Protocols!C23), 1, 0)","v":0},{"$f":"IF(EXACT(Inputs!E101, Protocols!E23), 1, 0)","v":0},{"$f":"IF(EXACT(Inputs!F101, Protocols!F23), 1, 0)","v":0},{"$f":"IF(EXACT(Inputs!G101, Protocols!G23), 1, 0)","v":0}]
["24 month follow-up",24,99213,null,48.42,0.85,0,{"$f":"IF(EXACT(Inputs!A102, Protocols!A24), 1, 0)","v":0},{"$f":"IF(EXACT(Inputs!B102, Protocols!B24), 1, 0)","v":0},{"$f":"IF(EXACT(Inputs!C102, Protocols!C24), 1, 0)","v":0},{"$f":"IF(EXACT(Inputs!E102, Protocols!E24), 1, 0)","v":0},{"$f":"IF(EXACT(Inputs!F102, Protocols!F24), 1, 0)","v":0},{"$f":"IF(EXACT(Inputs!G102, Protocols!G24), 1, 0)","v":0}]
["36 month follow-up",36,99213,null,48.42,0.85,0,{"$f":"IF(EXACT(Inputs!A103, Protocols!A25), 1, 0)","v":0},{"$f":"IF(EXACT(Inputs!B103, Protocols!B25), 1, 0)","v":0},{"$f":"IF(EXACT(Inputs!C103, Protocols!C25), 1, 0)","v":0},{"$f":"IF(EXACT(Inputs!E103, Protocols!E25), 1, 0)","v":0},{"$f":"IF(EXACT(Inputs!F103, Protocols!F25), 1, 0)","v":0},{"$f":"IF(EXACT(Inputs!G103, Protocols!G25), 1, 0)","v":0}]
["48 month follow-up",48,99213,null,48.42,0.85,0,{"$f":"IF(EXACT(Inputs!A104, Protocols!A26), 1, 0)","v":0},{"$f":"IF(EXACT(Inputs!B104, Protocols!B26), 1, 0)","v":0},{"$f":"IF(EXACT(Inputs!C104, Protocols!C26), 1, 0)","v":0},{"$f":"IF(EXACT(Inputs!E104, Protocols!E26), 1, 0)","v":0},{"$f":"IF(EXACT(Inputs!F104, Protocols!F26), 1, 0)","v":0},{"$f":"IF(EXACT(Inputs!G104, Protocols!G26), 1, 0)","v":0}]
[null,null,null,null,null,null,null,{"$f":"IF(EXACT(Inputs!A105, Protocols!A27), 1, 0)","v":1},{"$f":"IF(EXACT(Inputs!B105, Protocols!B27), 1, 0)","v":1},{"$f":"IF(EXACT(Inputs!C105, Protocols!C27), 1, 0)","v":1},{"$f":"IF(EXACT(Inputs!E105, Protocols!E27), 1, 0)","v":1},{"$f":"IF(EXACT(Inputs!F105, Protocols!F27), 1, 0)","v":1},{"$f":"IF(EXACT(Inputs!G105, Protocols!G27), 1, 0)","v":1}]
[null,null,null,null,null,null,null,{"$f":"IF(EXACT(Inputs!A106, Protocols!A28), 1, 0)","v":1},{"$f":"IF(EXACT(Inputs!B106, Protocols!B28), 1, 0)","v":1},{"$f":"IF(EXACT(Inputs!C106, Protocols!C28), 1, 0)","v":1},{"$f":"IF(EXACT(Inputs!E106, Protocols!E28), 1, 0)","v":1},{"$f":"IF(EXACT(Inputs!F106, Protocols!F28), 1, 0)","v":1},{"$f":"IF(EXACT(Inputs!G106, Protocols!G28), 1, 0)","v":1}]
[null,null,null,null,null,null,null,{"$f":"IF(EXACT(Inputs!A107, Protocols!A29), 1, 0)","v":1},{"$f":"IF(EXACT(Inputs!B107, Protocols!B29), 1, 0)","v":1},{"$f":"IF(EXACT(Inputs!C107, Protocols!C29), 1, 0)","v":1},{"$f":"IF(EXACT(Inputs!E107, Protocols!E29), 1, 0)","v":1},{"$f":"IF(EXACT(Inputs!F107, Protocols!F29), 1, 0)","v":1},{"$f":"IF(EXACT(Inputs!G107, Protocols!G29), 1, 0)","v":1}]
[null,null,null,null,null,null,null,{"$f":"IF(EXACT(Inputs!A108, Protocols!A30), 1, 0)","v":1},{"$f":"IF(EXACT(Inputs!B108, Protocols!B30), 1, 0)","v":1},{"$f":"IF(EXACT(Inputs!C108, Protocols!C30), 1, 0)","v":1},{"$f":"IF(EXACT(Inputs!E108, Protocols!E30), 1, 0)","v":1},{"$f":"IF(EXACT(Inputs!F108, Protocols!F30), 1, 0)","v":1},{"$f":"IF(EXACT(Inputs!G108, Protocols!G30), 1, 0)","v":1}]
[null,null,null,null,null,null,null,{"$f":"IF(EXACT(Inputs!A109, Protocols!A31), 1, 0)","v":1},{"$f":"IF(EXACT(Inputs!B109, Protocols!B31), 1, 0)","v":1},{"$f":"IF(EXACT(Inputs!C109, Protocols!C31), 1, 0)","v":1},{"$f":"IF(EXACT(Inputs!E109, Protocols!E31), 1, 0)","v":1},{"$f":"IF(EXACT(Inputs!F109, Protocols!F31), 1, 0)","v":1},{"$f":"IF(EXACT(Inputs!G109, Protocols!G31), 1, 0)","v":1}]
[null,null,null,null,null,null,null,{"$f":"IF(EXACT(Inputs!A110, Protocols!A32), 1, 0)","v":1},{"$f":"IF(EXACT(Inputs!B110, Protocols!B32), 1, 0)","v":1},{"$f":"IF(EXACT(Inputs!C110, Protocols!C32), 1, 0)","v":1},{"$f":"IF(EXACT(Inputs!E110, Protocols!E32), 1, 0)","v":1},{"$f":"IF(EXACT(Inputs!F110, Protocols!F32), 1, 0)","v":1},{"$f":"IF(EXACT(Inputs!G110, Protocols!G32), 1, 0)","v":1},{"$f":"SUM(H19:M32)","v":37},"Hospital (facility), 85% Reimbursement Schedule"]
[]
[]
["Group/Private Practice (non-facility), 100% Reimbursement Schedule"]
["Initial visit",0,99204,null,{"$f":"VLOOKUP(C36, baserates, 4, 0)","v":187.38},1,0,{"$f":"IF(EXACT(Inputs!A97, Protocols!A36), 1, 0)","v":0},{"$f":"IF(EXACT(Inputs!B97, Protocols!B36), 1, 0)","v":0},{"$f":"IF(EXACT(Inputs!C97, Protocols!C36), 1, 0)","v":0},{"$f":"IF(EXACT(Inputs!E97, Protocols!E36), 1, 0)","v":0},{"$f":"IF(EXACT(Inputs!F97, Protocols!F36), 1, 0)","v":0},{"$f":"IF(EXACT(Inputs!G97, Protocols!G36), 1, 0)","v":0}]
["Three month follow-up visit",3,99214,null,122.29,1,0,{"$f":"IF(EXACT(Inputs!A98, Protocols!A37), 1, 0)","v":0},{"$f":"IF(EXACT(Inputs!B98, Protocols!B37), 1, 0)","v":0},{"$f":"IF(EXACT(Inputs!C98, Protocols!C37), 1, 0)","v":0},{"$f":"IF(EXACT(Inputs!E98, Protocols!E37), 1, 0)","v":0},{"$f":"IF(EXACT(Inputs!F98, Protocols!F37), 1, 0)","v":0},{"$f":"IF(EXACT(Inputs!G98, Protocols!G37), 1, 0)","v":0}]
["Six month follow-up",6,99213,null,83.29,0.9,0,{"$f":"IF(EXACT(Inputs!A99, Protocols!A38), 1, 0)","v":0},{"$f":"IF(EXACT(Inputs!B99, Protocols!B38), 1, 0)","v":0},{"$f":"IF(EXACT(Inputs!C99, Protocols!C38), 1, 0)","v":0},{"$f":"IF(EXACT(Inputs!E99, Protocols!E38), 1, 0)","v":0},{"$f":"IF(EXACT(Inputs!F99, Protocols!F38), 1, 0)","v":0},{"$f":"IF(EXACT(Inputs!G99, Protocols!G38), 1, 0)","v":0}]
["12 month follow-up",12,99213,null,83.29,0.85,0,{"$f":"IF(EXACT(Inputs!A100, Protocols!A39), 1, 0)","v":0},{"$f":"IF(EXACT(Inputs!B100, Protocols!B39), 1, 0)","v":0},{"$f":"IF(EXACT(Inputs!C100, Protocols!C39), 1, 0)","v":0},{"$f":"IF(EXACT(Inputs!E100, Protocols!E39), 1, 0)","v":0},{"$f":"IF(EXACT(Inputs!F100, Protocols!F39), 1, 0)","v":0},{"$f":"IF(EXACT(Inputs!G100, Protocols!G39), 1, 0)","v":0}]
["18 month follow-up",18,99213,null,83.29,0.85,0,{"$f":"IF(EXACT(Inputs!A101, Protocols!A40), 1, 0)","v":0},{"$f":"IF(EXACT(Inputs!B101, Protocols!B40), 1, 0)","v":0},{"$f":"IF(EXACT(Inputs!C101, Protocols!C40), 1, 0)","v":0},{"$f":"IF(EXACT(Inputs!E101, Protocols!E40), 1, 0)","v":0},{"$f":"IF(EXACT(Inputs!F101, Protocols!F40), 1, 0)","v":0},{"$f":"IF(EXACT(Inputs!G101, Protocols!G40), 1, 0)","v":0}]
["24 month follow-up",24,99213,null,83.29,0.85,0,{"$f":"IF(EXACT(Inputs!A102, Protocols!A41), 1, 0)","v":0},{"$f":"IF(EXACT(Inputs!B102, Protocols!B41), 1, 0)","v":0},{"$f":"IF(EXACT(Inputs!C102, Protocols!C41), 1, 0)","v":0},{"$f":"IF(EXACT(Inputs!E102, Protocols!E41), 1, 0)","v":0},{"$f":"IF(EXACT(Inputs!F102, Protocols!F41), 1, 0)","v":0},{"$f":"IF(EXACT(Inputs!G102, Protocols!G41), 1, 0)","v":0}]
["36 month follow-up",36,99213,null,83.29,0.85,0,{"$f":"IF(EXACT(Inputs!A103, Protocols!A42), 1, 0)","v":0},{"$f":"IF(EXACT(Inputs!B103, Protocols!B42), 1, 0)","v":0},{"$f":"IF(EXACT(Inputs!C103, Protocols!C42), 1, 0)","v":0},{"$f":"IF(EXACT(Inputs!E103, Protocols!E42), 1, 0)","v":0},{"$f":"IF(EXACT(Inputs!F103, Protocols!F42), 1, 0)","v":0},{"$f":"IF(EXACT(Inputs!G103, Protocols!G42), 1, 0)","v":0}]
["48 month follow-up",48,99213,null,83.29,0.85,0,{"$f":"IF(EXACT(Inputs!A104, Protocols!A43), 1, 0)","v":0},{"$f":"IF(EXACT(Inputs!B104, Protocols!B43), 1, 0)","v":0},{"$f":"IF(EXACT(Inputs!C104, Protocols!C43), 1, 0)","v":0},{"$f":"IF(EXACT(Inputs!E104, Protocols!E43), 1, 0)","v":0},{"$f":"IF(EXACT(Inputs!F104, Protocols!F43), 1, 0)","v":0},{"$f":"IF(EXACT(Inputs!G104, Protocols!G43), 1, 0)","v":0}]
[null,null,null,null,null,null,null,{"$f":"IF(EXACT(Inputs!A105, Protocols!A44), 1, 0)","v":1},{"$f":"IF(EXACT(Inputs!B105, Protocols!B44), 1, 0)","v":1},{"$f":"IF(EXACT(Inputs!C105, Protocols!C44), 1, 0)","v":1},{"$f":"IF(EXACT(Inputs!E105, Protocols!E44), 1, 0)","v":1},{"$f":"IF(EXACT(Inputs!F105, Protocols!F44), 1, 0)","v":1},{"$f":"IF(EXACT(Inputs!G105, Protocols!G44), 1, 0)","v":1}]
[null,null,null,null,null,null,null,{"$f":"IF(EXACT(Inputs!A106, Protocols!A45), 1, 0)","v":1},{"$f":"IF(EXACT(Inputs!B106, Protocols!B45), 1, 0)","v":1},{"$f":"IF(EXACT(Inputs!C106, Protocols!C45), 1, 0)","v":1},{"$f":"IF(EXACT(Inputs!E106, Protocols!E45), 1, 0)","v":1},{"$f":"IF(EXACT(Inputs!F106, Protocols!F45), 1, 0)","v":1},{"$f":"IF(EXACT(Inputs!G106, Protocols!G45), 1, 0)","v":1}]
[null,null,null,null,null,null,null,{"$f":"IF(EXACT(Inputs!A107, Protocols!A46), 1, 0)","v":1},{"$f":"IF(EXACT(Inputs!B107, Protocols!B46), 1, 0)","v":1},{"$f":"IF(EXACT(Inputs!C107, Protocols!C46), 1, 0)","v":1},{"$f":"IF(EXACT(Inputs!E107, Protocols!E46), 1, 0)","v":1},{"$f":"IF(EXACT(Inputs!F107, Protocols!F46), 1, 0)","v":1},{"$f":"IF(EXACT(Inputs!G107, Protocols!G46), 1, 0)","v":1}]
[null,null,null,null,null,null,null,{"$f":"IF(EXACT(Inputs!A108, Protocols!A47), 1, 0)","v":1},{"$f":"IF(EXACT(Inputs!B108, Protocols!B47), 1, 0)","v":1},{"$f":"IF(EXACT(Inputs!C108, Protocols!C47), 1, 0)","v":1},{"$f":"IF(EXACT(Inputs!E108, Protocols!E47), 1, 0)","v":1},{"$f":"IF(EXACT(Inputs!F108, Protocols!F47), 1, 0)","v":1},{"$f":"IF(EXACT(Inputs!G108, Protocols!G47), 1, 0)","v":1}]
[null,null,null,null,null,null,null,{"$f":"IF(EXACT(Inputs!A109, Protocols!A48), 1, 0)","v":1},{"$f":"IF(EXACT(Inputs!B109, Protocols!B48), 1, 0)","v":1},{"$f":"IF(EXACT(Inputs!C109, Protocols!C48), 1, 0)","v":1},{"$f":"IF(EXACT(Inputs!E109, Protocols!E48), 1, 0)","v":1},{"$f":"IF(EXACT(Inputs!F109, Protocols!F48), 1, 0)","v":1},{"$f":"IF(EXACT(Inputs!G109, Protocols!G48), 1, 0)","v":1}]
[null,null,null,null,null,null,null,{"$f":"IF(EXACT(Inputs!A110, Protocols!A49), 1, 0)","v":1},{"$f":"IF(EXACT(Inputs!B110, Protocols!B49), 1, 0)","v":1},{"$f":"IF(EXACT(Inputs!C110, Protocols!C49), 1, 0)","v":1},{"$f":"IF(EXACT(Inputs!E110, Protocols!E49), 1, 0)","v":1},{"$f":"IF(EXACT(Inputs!F110, Protocols!F49), 1, 0)","v":1},{"$f":"IF(EXACT(Inputs!G110, Protocols!G49), 1, 0)","v":1},{"$f":"SUM(H36:M49)","v":36},"Group/Private Practice (non-facility), 100% Reimbursement Schedule"]
[]
[]
["Group/Private Practice (non-facility), 85% Reimbursement Schedule"]
["Initial visit",0,99204,null,{"$f":"VLOOKUP(C53, baserates, 5, 0)","v":159.27000000000001},1,0,{"$f":"IF(EXACT(Inputs!A97, Protocols!A53), 1, 0)","v":0},{"$f":"IF(EXACT(Inputs!B97, Protocols!B53), 1, 0)","v":0},{"$f":"IF(EXACT(Inputs!C97, Protocols!C53), 1, 0)","v":0},{"$f":"IF(EXACT(Inputs!E97, Protocols!E53), 1, 0)","v":0},{"$f":"IF(EXACT(Inputs!F97, Protocols!F53), 1, 0)","v":0},{"$f":"IF(EXACT(Inputs!G97, Protocols!G53), 1, 0)","v":0}]
["Three month follow-up visit",3,99214,null,103.95,1,0,{"$f":"IF(EXACT(Inputs!A98, Protocols!A54), 1, 0)","v":0},{"$f":"IF(EXACT(Inputs!B98, Protocols!B54), 1, 0)","v":0},{"$f":"IF(EXACT(Inputs!C98, Protocols!C54), 1, 0)","v":0},{"$f":"IF(EXACT(Inputs!E98, Protocols!E54), 1, 0)","v":0},{"$f":"IF(EXACT(Inputs!F98, Protocols!F54), 1, 0)","v":0},{"$f":"IF(EXACT(Inputs!G98, Protocols!G54), 1, 0)","v":0}]
["Six month follow-up",6,99213,null,70.8,0.9,0,{"$f":"IF(EXACT(Inputs!A99, Protocols!A55), 1, 0)","v":0},{"$f":"IF(EXACT(Inputs!B99, Protocols!B55), 1, 0)","v":0},{"$f":"IF(EXACT(Inputs!C99, Protocols!C55), 1, 0)","v":0},{"$f":"IF(EXACT(Inputs!E99, Protocols!E55), 1, 0)","v":0},{"$f":"IF(EXACT(Inputs!F99, Protocols!F55), 1, 0)","v":0},{"$f":"IF(EXACT(Inputs!G99, Protocols!G55), 1, 0)","v":0}]
["12 month follow-up",12,99213,null,70.8,0.85,0,{"$f":"IF(EXACT(Inputs!A100, Protocols!A56), 1, 0)","v":0},{"$f":"IF(EXACT(Inputs!B100, Protocols!B56), 1, 0)","v":0},{"$f":"IF(EXACT(Inputs!C100, Protocols!C56), 1, 0)","v":0},{"$f":"IF(EXACT(Inputs!E100, Protocols!E56), 1, 0)","v":0},{"$f":"IF(EXACT(Inputs!F100, Protocols!F56), 1, 0)","v":0},{"$f":"IF(EXACT(Inputs!G100, Protocols!G56), 1, 0)","v":0}]
["18 month follow-up",18,99213,null,70.8,0.85,0,{"$f":"IF(EXACT(Inputs!A101, Protocols!A57), 1, 0)","v":0},{"$f":"IF(EXACT(Inputs!B101, Protocols!B57), 1, 0)","v":0},{"$f":"IF(EXACT(Inputs!C101, Protocols!C57), 1, 0)","v":0},{"$f":"IF(EXACT(Inputs!E101, Protocols!E57), 1, 0)","v":0},{"$f":"IF(EXACT(Inputs!F101, Protocols!F57), 1, 0)","v":0},{"$f":"IF(EXACT(Inputs!G101, Protocols!G57), 1, 0)","v":0}]
["24 month follow-up",24,99213,null,70.8,0.85,0,{"$f":"IF(EXACT(Inputs!A102, Protocols!A58), 1, 0)","v":0},{"$f":"IF(EXACT(Inputs!B102, Protocols!B58), 1, 0)","v":0},{"$f":"IF(EXACT(Inputs!C102, Protocols!C58), 1, 0)","v":0},{"$f":"IF(EXACT(Inputs!E102, Protocols!E58), 1, 0)","v":0},{"$f":"IF(EXACT(Inputs!F102, Protocols!F58), 1, 0)","v":0},{"$f":"IF(EXACT(Inputs!G102, Protocols!G58), 1, 0)","v":0}]
["36 month follow-up",36,99213,null,70.8,0.85,0,{"$f":"IF(EXACT(Inputs!A103, Protocols!A59), 1, 0)","v":0},{"$f":"IF(EXACT(Inputs!B103, Protocols!B59), 1, 0)","v":0},{"$f":"IF(EXACT(Inputs!C103, Protocols!C59), 1, 0)","v":0},{"$f":"IF(EXACT(Inputs!E103, Protocols!E59), 1, 0)","v":0},{"$f":"IF(EXACT(Inputs!F103, Protocols!F59), 1, 0)","v":0},{"$f":"IF(EXACT(Inputs!G103, Protocols!G59), 1, 0)","v":0}]
["48 month follow-up",48,99213,null,70.8,0.85,0,{"$f":"IF(EXACT(Inputs!A104, Protocols!A60), 1, 0)","v":0},{"$f":"IF(EXACT(Inputs!B104, Protocols!B60), 1, 0)","v":0},{"$f":"IF(EXACT(Inputs!C104, Protocols!C60), 1, 0)","v":0},{"$f":"IF(EXACT(Inputs!E104, Protocols!E60), 1, 0)","v":0},{"$f":"IF(EXACT(Inputs!F104, Protocols!F60), 1, 0)","v":0},{"$f":"IF(EXACT(Inputs!G104, Protocols!G60), 1, 0)","v":0}]
[null,null,null,null,null,null,null,{"$f":"IF(EXACT(Inputs!A105, Protocols!A61), 1, 0)","v":1},{"$f":"IF(EXACT(Inputs!B105, Protocols!B61), 1, 0)","v":1},{"$f":"IF(EXACT(Inputs!C105, Protocols!C61), 1, 0)","v":1},{"$f":"IF(EXACT(Inputs!E105, Protocols!E61), 1, 0)","v":1},{"$f":"IF(EXACT(Inputs!F105, Protocols!F61), 1, 0)","v":1},{"$f":"IF(EXACT(Inputs!G105, Protocols!G61), 1, 0)","v":1}]
[null,null,null,null,null,null,null,{"$f":"IF(EXACT(Inputs!A106, Protocols!A62), 1, 0)","v":1},{"$f":"IF(EXACT(Inputs!B106, Protocols!B62), 1, 0)","v":1},{"$f":"IF(EXACT(Inputs!C106, Protocols!C62), 1, 0)","v":1},{"$f":"IF(EXACT(Inputs!E106, Protocols!E62), 1, 0)","v":1},{"$f":"IF(EXACT(Inputs!F106, Protocols!F62), 1, 0)","v":1},{"$f":"IF(EXACT(Inputs!G106, Protocols!G62), 1, 0)","v":1}]
[null,null,null,null,null,null,null,{"$f":"IF(EXACT(Inputs!A107, Protocols!A63), 1, 0)","v":1},{"$f":"IF(EXACT(Inputs!B107, Protocols!B63), 1, 0)","v":1},{"$f":"IF(EXACT(Inputs!C107, Protocols!C63), 1, 0)","v":1},{"$f":"IF(EXACT(Inputs!E107, Protocols!E63), 1, 0)","v":1},{"$f":"IF(EXACT(Inputs!F107, Protocols!F63), 1, 0)","v":1},{"$f":"IF(EXACT(Inputs!G107, Protocols!G63), 1, 0)","v":1}]
[null,null,null,null,null,null,null,{"$f":"IF(EXACT(Inputs!A108, Protocols!A64), 1, 0)","v":1},{"$f":"IF(EXACT(Inputs!B108, Protocols!B64), 1, 0)","v":1},{"$f":"IF(EXACT(Inputs!C108, Protocols!C64), 1, 0)","v":1},{"$f":"IF(EXACT(Inputs!E108, Protocols!E64), 1, 0)","v":1},{"$f":"IF(EXACT(Inputs!F108, Protocols!F64), 1, 0)","v":1},{"$f":"IF(EXACT(Inputs!G108, Protocols!G64), 1, 0)","v":1}]
[null,null,null,null,null,null,null,{"$f":"IF(EXACT(Inputs!A109, Protocols!A65), 1, 0)","v":1},{"$f":"IF(EXACT(Inputs!B109, Protocols!B65), 1, 0)","v":1},{"$f":"IF(EXACT(Inputs!C109, Protocols!C65), 1, 0)","v":1},{"$f":"IF(EXACT(Inputs!E109, Protocols!E65), 1, 0)","v":1},{"$f":"IF(EXACT(Inputs!F109, Protocols!F65), 1, 0)","v":1},{"$f":"IF(EXACT(Inputs!G109, Protocols!G65), 1, 0)","v":1}]
[null,null,null,null,null,null,null,{"$f":"IF(EXACT(Inputs!A110, Protocols!A66), 1, 0)","v":1},{"$f":"IF(EXACT(Inputs!B110, Protocols!B66), 1, 0)","v":1},{"$f":"IF(EXACT(Inputs!C110, Protocols!C66), 1, 0)","v":1},{"$f":"IF(EXACT(Inputs!E110, Protocols!E66), 1, 0)","v":1},{"$f":"IF(EXACT(Inputs!F110, Protocols!F66), 1, 0)","v":1},{"$f":"IF(EXACT(Inputs!G110, Protocols!G66), 1, 0)","v":1},{"$f":"SUM(H53:M66)","v":36},"Group/Private Practice (non-facility), 85% Reimbursement Schedule"]
[]
[]
["OP visit new patient, level 4",null,{"$f":"VLOOKUP(A69, cpt, 2, 0)","v":99204},null,{"$f":"VLOOKUP(C69, procrates, A71, 0)","v":145.53}]
["Hospital (facility), 100% Reimbursement Schedule"]
[{"$f":"IF(EXACT(A70,O15), 2, IF(EXACT(A70, O32), 3, IF(EXACT(A70, O49), 4, 5)))","v":2}]
["NOTE: If you change this list, change 'procrates'"]
["OP visit new patient, level 4",99204]
["OP visit existing patient, level 4",99214]
["OP visit existing patient, level 3",99213]
["DXA bone density axial",77080]
["DXA bone density/peripheral",77081]
["DXA, Axial w/ VFA",77085]
["Quantitative CT Scan",77078]
["Physical Therapy Evaluation",97001]
["Physical Therapy Re-Evaluation",97002]
["Physical Therapy Gait Training",97116]
["Physical Therapy Neuromuscular Re-education",97112]
["Physical Therapy Therapeutic Exercise",97110]
["Physical Therapy Therapeutic Activity",97530]
["Intravenous infusion, for therapy, first hour",96365]
["Ther/proph/diag inj subcutaneous or intramuscular ",96372]
["MRI, Lower Extremity, w/o contrast",73718]
["MRI, Lower Joint, w/o contrast",73721]
["MRI, Upper Extremity, w/o contrast",73218]
["MRI, Upper Joint, w/o contrast",73221]
["MRI, Pelvis, w/o contrast",72195]
["MRI, Spine Cervical, w/o contrast",72141]
["MRI, Spine Lumbar, w/o contrast",72148]
["MRI, Spine Thoracic, w/o contrast",72146]
["CT Scan, Lower Extremity, w/o contrast",73700]
["CT Scan, Upper Extremity, w/o contrast",73200]
["CT Scan, Pelvis, w/o contrast",72192]
["CT Scan, Spine Cervical, w/o contrast",72125]
["CT Scan, Spine Lumbar, w/o contrast",72131]
["CT Scan, Spine Thoracic, w/o contrast",72128]
["X-Ray thoracic lumbar spine 2 view",72080]
["Parathyroid Scan",78070]
["Lab, CBC",85025]
["Lab, Renal Function Panel",80069]
["Lab, Hepatic Function Panel",80076]
["Lab, serum calcium",82310]
["Lab, 25-OH vitamin D level",82306]
["Lab, CMP",80053]
["Lab, Phosphorus",84100]
["Lab, PTH, Intact",83970]
["Lab, Celiac Antibodies",83516]
["Lab, Serum Protein Electrophoresis",84165]
["Lab, 24-hr Urine Calcium",82340]

{"sheet":"ZipLocal","index":16,"n_rows":42934,"n_cols":9,"rows_kept":4500,"cut":true,"hidden":true,"merged":[[2,4,2,5],[2,7,2,8]],"bounds":{"rows_first":2000,"rows_last":500,"rows_between":2000,"halvings":0}}
["STATE","ZIP CODE","CARRIER","LOCALITY","22202",{"$f":"_xlfn.NUMBERVALUE(VLOOKUP(E1, zips, 2, 0)&VLOOKUP(E1, zips, 3, 0))","v":1220201},null,"22202",{"$f":"_xlfn.NUMBERVALUE(VLOOKUP(H1, zips, 2, 0)&VLOOKUP(H1, zips, 3, 0))","v":1220201}]
["AK","99501","02102","01"]
["AK","99502","02102","01","Base ^^",null,null,"Other procedures ^^"]
["AK","99503","02102","01"]
["AK","99504","02102","01"]
["AK","99505","02102","01"]
["AK","99506","02102","01"]
["AK","99507","02102","01"]
["AK","99508","02102","01"]
["AK","99509","02102","01"]
["AK","99510","02102","01"]
["AK","99511","02102","01"]
["AK","99512","02102","01"]
["AK","99513","02102","01"]
["AK","99514","02102","01"]
["AK","99515","02102","01"]
["AK","99516","02102","01"]
["AK","99517","02102","01"]
["AK","99518","02102","01"]
["AK","99519","02102","01"]
["AK","99520","02102","01"]
["AK","99521","02102","01"]
["AK","99522","02102","01"]
["AK","99523","02102","01"]
["AK","99524","02102","01"]
["AK","99529","02102","01"]
["AK","99530","02102","01"]
["AK","99540","02102","01"]
["AK","99545","02102","01"]
["AK","99546","02102","01"]
["AK","99547","02102","01"]
["AK","99548","02102","01"]
["AK","99549","02102","01"]
["AK","99550","02102","01"]
["AK","99551","02102","01"]
["AK","99552","02102","01"]
["AK","99553","02102","01"]
["AK","99554","02102","01"]
["AK","99555","02102","01"]
["AK","99556","02102","01"]
["AK","99557","02102","01"]
["AK","99558","02102","01"]
["AK","99559","02102","01"]
["AK","99561","02102","01"]
["AK","99563","02102","01"]
["AK","99564","02102","01"]
["AK","99565","02102","01"]
["AK","99566","02102","01"]
["AK","99567","02102","01"]
["AK","99568","02102","01"]
["AK","99569","02102","01"]
["AK","99571","02102","01"]
["AK","99572","02102","01"]
["AK","99573","02102","01"]
["AK","99574","02102","01"]
["AK","99575","02102","01"]
["AK","99576","02102","01"]
["AK","99577","02102","01"]
["AK","99578","02102","01"]
["AK","99579","02102","01"]
["AK","99580","02102","01"]
["AK","99581","02102","01"]
["AK","99583","02102","01"]
["AK","99584","02102","01"]
["AK","99585","02102","01"]
["AK","99586","02102","01"]
["AK","99587","02102","01"]
["AK","99588","02102","01"]
["AK","99589","02102","01"]
["AK","99590","02102","01"]
["AK","99591","02102","01"]
["AK","99599","02102","01"]
["AK","99602","02102","01"]
["AK","99603","02102","01"]
["AK","99604","02102","01"]
["AK","99605","02102","01"]
["AK","99606","02102","01"]
["AK","99607","02102","01"]
["AK","99608","02102","01"]
["AK","99609","02102","01"]
["AK","99610","02102","01"]
["AK","99611","02102","01"]
["AK","99612","02102","01"]
["AK","99613","02102","01"]
["AK","99614","02102","01"]
["AK","99615","02102","01"]
["AK","99619","02102","01"]
["AK","99620","02102","01"]
["AK","99621","02102","01"]
["AK","99622","02102","01"]
["AK","99623","02102","01"]
["AK","99624","02102","01"]
["AK","99625","02102","01"]
["AK","99626","02102","01"]
["AK","99627","02102","01"]
["AK","99628","02102","01"]
["AK","99629","02102","01"]
["AK","99630","02102","01"]
["AK","99631","02102","01"]
["AK","99632","02102","01"]
["AK","99633","02102","01"]
["AK","99634","02102","01"]
["AK","99635","02102","01"]
["AK","99636","02102","01"]
["AK","99637","02102","01"]
["AK","99638","02102","01"]
["AK","99639","02102","01"]
["AK","99640","02102","01"]
["AK","99641","02102","01"]
["AK","99643","02102","01"]
["AK","99644","02102","01"]
["AK","99645","02102","01"]
["AK","99647","02102","01"]
["AK","99648","02102","01"]
["AK","99649","02102","01"]
["AK","99650","02102","01"]
["AK","99651","02102","01"]
["AK","99652","02102","01"]
["AK","99653","02102","01"]
["AK","99654","02102","01"]
["AK","99655","02102","01"]
["AK","99656","02102","01"]
["AK","99657","02102","01"]
["AK","99658","02102","01"]
["AK","99659","02102","01"]
["AK","99660","02102","01"]
["AK","99661","02102","01"]
["AK","99662","02102","01"]
["AK","99663","02102","01"]
["AK","99664","02102","01"]
["AK","99665","02102","01"]
["AK","99666","02102","01"]
["AK","99667","02102","01"]
["AK","99668","02102","01"]
["AK","99669","02102","01"]
["AK","99670","02102","01"]
["AK","99671","02102","01"]
["AK","99672","02102","01"]
["AK","99674","02102","01"]
["AK","99675","02102","01"]
["AK","99676","02102","01"]
["AK","99677","02102","01"]
["AK","99678","02102","01"]
["AK","99679","02102","01"]
["AK","99680","02102","01"]
["AK","99681","02102","01"]
["AK","99682","02102","01"]
["AK","99683","02102","01"]
["AK","99684","02102","01"]
["AK","99685","02102","01"]
["AK","99686","02102","01"]
["AK","99687","02102","01"]
["AK","99688","02102","01"]
["AK","99689","02102","01"]
["AK","99690","02102","01"]
["AK","99691","02102","01"]
["AK","99692","02102","01"]
["AK","99693","02102","01"]
["AK","99694","02102","01"]
["AK","99695","02102","01"]
["AK","99697","02102","01"]
["AK","99701","02102","01"]
["AK","99702","02102","01"]
["AK","99703","02102","01"]
["AK","99704","02102","01"]
["AK","99705","02102","01"]
["AK","99706","02102","01"]
["AK","99707","02102","01"]
["AK","99708","02102","01"]
["AK","99709","02102","01"]
["AK","99710","02102","01"]
["AK","99711","02102","01"]
["AK","99712","02102","01"]
["AK","99714","02102","01"]
["AK","99716","02102","01"]
["AK","99720","02102","01"]
["AK","99721","02102","01"]
["AK","99722","02102","01"]
["AK","99723","02102","01"]
["AK","99724","02102","01"]
["AK","99725","02102","01"]
["AK","99726","02102","01"]
["AK","99727","02102","01"]
["AK","99729","02102","01"]
["AK","99730","02102","01"]
["AK","99731","02102","01"]
["AK","99732","02102","01"]
["AK","99733","02102","01"]
["AK","99734","02102","01"]
["AK","99736","02102","01"]
["AK","99737","02102","01"]
["AK","99738","02102","01"]
["AK","99739","02102","01"]
["AK","99740","02102","01"]
["AK","99741","02102","01"]
["AK","99742","02102","01"]
["AK","99743","02102","01"]
["AK","99744","02102","01"]
["AK","99745","02102","01"]
["AK","99746","02102","01"]
["AK","99747","02102","01"]
["AK","99748","02102","01"]
["AK","99749","02102","01"]
["AK","99750","02102","01"]
["AK","99751","02102","01"]
["AK","99752","02102","01"]
["AK","99753","02102","01"]
["AK","99754","02102","01"]
["AK","99755","02102","01"]
["AK","99756","02102","01"]
["AK","99757","02102","01"]
["AK","99758","02102","01"]
["AK","99759","02102","01"]
["AK","99760","02102","01"]
["AK","99761","02102","01"]
["AK","99762","02102","01"]
["AK","99763","02102","01"]
["AK","99764","02102","01"]
["AK","99765","02102","01"]
["AK","99766","02102","01"]
["AK","99767","02102","01"]
["AK","99768","02102","01"]
["AK","99769","02102","01"]
["AK","99770","02102","01"]
["AK","99771","02102","01"]
["AK","99772","02102","01"]
["AK","99773","02102","01"]
["AK","99774","02102","01"]
["AK","99775","02102","01"]
["AK","99776","02102","01"]
["AK","99777","02102","01"]
["AK","99778","02102","01"]
["AK","99779","02102","01"]
["AK","99780","02102","01"]
["AK","99781","02102","01"]
["AK","99782","02102","01"]
["AK","99783","02102","01"]
["AK","99784","02102","01"]
["AK","99785","02102","01"]
["AK","99786","02102","01"]
["AK","99788","02102","01"]
["AK","99789","02102","01"]
["AK","99790","02102","01"]
["AK","99791","02102","01"]
["AK","99801","02102","01"]
["AK","99802","02102","01"]
["AK","99803","02102","01"]
["AK","99811","02102","01"]
["AK","99812","02102","01"]
["AK","99820","02102","01"]
["AK","99821","02102","01"]
["AK","99824","02102","01"]
["AK","99825","02102","01"]
["AK","99826","02102","01"]
["AK","99827","02102","01"]
["AK","99829","02102","01"]
["AK","99830","02102","01"]
["AK","99832","02102","01"]
["AK","99833","02102","01"]
["AK","99835","02102","01"]
["AK","99836","02102","01"]
["AK","99840","02102","01"]
["AK","99841","02102","01"]
["AK","99850","02102","01"]
["AK","99901","02102","01"]
["AK","99903","02102","01"]
["AK","99918","02102","01"]
["AK","99919","02102","01"]
["AK","99921","02102","01"]
["AK","99922","02102","01"]
["AK","99923","02102","01"]
["AK","99925","02102","01"]
["AK","99926","02102","01"]
["AK","99927","02102","01"]
["AK","99928","02102","01"]
["AK","99929","02102","01"]
["AK","99950","02102","01"]
["AL","35004","10102","00"]
["AL","35005","10102","00"]
["AL","35006","10102","00"]
["AL","35007","10102","00"]
["AL","35010","10102","00"]
["AL","35011","10102","00"]
["AL","35013","10102","00"]
["AL","35014","10102","00"]
["AL","35015","10102","00"]
["AL","35016","10102","00"]
["AL","35019","10102","00"]
["AL","35020","10102","00"]
["AL","35021","10102","00"]
["AL","35022","10102","00"]
["AL","35023","10102","00"]
["AL","35031","10102","00"]
["AL","35032","10102","00"]
["AL","35033","10102","00"]
["AL","35034","10102","00"]
["AL","35035","10102","00"]
["AL","35036","10102","00"]
["AL","35038","10102","00"]
["AL","35040","10102","00"]
["AL","35041","10102","00"]
["AL","35042","10102","00"]
["AL","35043","10102","00"]
["AL","35044","10102","00"]
["AL","35045","10102","00"]
["AL","35046","10102","00"]
["AL","35048","10102","00"]
["AL","35049","10102","00"]
["AL","35051","10102","00"]
["AL","35052","10102","00"]
["AL","35053","10102","00"]
["AL","35054","10102","00"]
["AL","35055","10102","00"]
["AL","35056","10102","00"]
["AL","35057","10102","00"]
["AL","35058","10102","00"]
["AL","35060","10102","00"]
["AL","35061","10102","00"]
["AL","35062","10102","00"]
["AL","35063","10102","00"]
["AL","35064","10102","00"]
["AL","35068","10102","00"]
["AL","35070","10102","00"]
["AL","35071","10102","00"]
["AL","35072","10102","00"]
["AL","35073","10102","00"]
["AL","35074","10102","00"]
["AL","35077","10102","00"]
["AL","35078","10102","00"]
["AL","35079","10102","00"]
["AL","35080","10102","00"]
["AL","35082","10102","00"]
["AL","35083","10102","00"]
["AL","35085","10102","00"]
["AL","35087","10102","00"]
["AL","35089","10102","00"]
["AL","35091","10102","00"]
["AL","35094","10102","00"]
["AL","35096","10102","00"]
["AL","35097","10102","00"]
["AL","35098","10102","00"]
["AL","35111","10102","00"]
["AL","35112","10102","00"]
["AL","35114","10102","00"]
["AL","35115","10102","00"]
["AL","35116","10102","00"]
["AL","35117","10102","00"]
["AL","35118","10102","00"]
["AL","35119","10102","00"]
["AL","35120","10102","00"]
["AL","35121","10102","00"]
["AL","35123","10102","00"]
["AL","35124","10102","00"]
["AL","35125","10102","00"]
["AL","35126","10102","00"]
["AL","35127","10102","00"]
["AL","35128","10102","00"]
["AL","35130","10102","00"]
["AL","35131","10102","00"]
["AL","35133","10102","00"]
["AL","35135","10102","00"]
["AL","35136","10102","00"]
["AL","35137","10102","00"]
["AL","35139","10102","00"]
["AL","35142","10102","00"]
["AL","35143","10102","00"]
["AL","35144","10102","00"]
["AL","35146","10102","00"]
["AL","35147","10102","00"]
["AL","35148","10102","00"]
["AL","35149","10102","00"]
["AL","35150","10102","00"]
["AL","35151","10102","00"]
["AL","35160","10102","00"]
["AL","35161","10102","00"]
["AL","35171","10102","00"]
["AL","35172","10102","00"]
["AL","35173","10102","00"]
["AL","35175","10102","00"]
["AL","35176","10102","00"]
["AL","35178","10102","00"]
["AL","35179","10102","00"]
["AL","35180","10102","00"]
["AL","35181","10102","00"]
["AL","35182","10102","00"]
["AL","35183","10102","00"]
["AL","35184","10102","00"]
["AL","35185","10102","00"]
["AL","35186","10102","00"]
["AL","35187","10102","00"]
["AL","35188","10102","00"]
["AL","35201","10102","00"]
["AL","35202","10102","00"]
["AL","35203","10102","00"]
["AL","35204","10102","00"]
["AL","35205","10102","00"]
["AL","35206","10102","00"]
["AL","35207","10102","00"]
["AL","35208","10102","00"]
["AL","35209","10102","00"]
["AL","35210","10102","00"]
["AL","35211","10102","00"]
["AL","35212","10102","00"]
["AL","35213","10102","00"]
["AL","35214","10102","00"]
["AL","35215","10102","00"]
["AL","35216","10102","00"]
["AL","35217","10102","00"]
["AL","35218","10102","00"]
["AL","35219","10102","00"]
["AL","35220","10102","00"]
["AL","35221","10102","00"]
["AL","35222","10102","00"]
["AL","35223","10102","00"]
["AL","35224","10102","00"]
["AL","35225","10102","00"]
["AL","35226","10102","00"]
["AL","35228","10102","00"]
["AL","35229","10102","00"]
["AL","35230","10102","00"]
["AL","35231","10102","00"]
["AL","35232","10102","00"]
["AL","35233","10102","00"]
["AL","35234","10102","00"]
["AL","35235","10102","00"]
["AL","35236","10102","00"]
["AL","35237","10102","00"]
["AL","35238","10102","00"]
["AL","35240","10102","00"]
["AL","35242","10102","00"]
["AL","35243","10102","00"]
["AL","35244","10102","00"]
["AL","35245","10102","00"]
["AL","35246","10102","00"]
["AL","35249","10102","00"]
["AL","35253","10102","00"]
["AL","35254","10102","00"]
["AL","35255","10102","00"]
["AL","35259","10102","00"]
["AL","35260","10102","00"]
["AL","35261","10102","00"]
["AL","35263","10102","00"]
["AL","35266","10102","00"]
["AL","35270","10102","00"]
["AL","35277","10102","00"]
["AL","35278","10102","00"]
["AL","35279","10102","00"]
["AL","35280","10102","00"]
["AL","35281","10102","00"]
["AL","35282","10102","00"]
["AL","35283","10102","00"]
["AL","35285","10102","00"]
["AL","35286","10102","00"]
["AL","35287","10102","00"]
["AL","35288","10102","00"]
["AL","35289","10102","00"]
["AL","35290","10102","00"]
["AL","35291","10102","00"]
["AL","35292","10102","00"]
["AL","35293","10102","00"]
["AL","35294","10102","00"]
["AL","35295","10102","00"]
["AL","35296","10102","00"]
["AL","35297","10102","00"]
["AL","35298","10102","00"]
["AL","35299","10102","00"]
["AL","35401","10102","00"]
["AL","35402","10102","00"]
["AL","35403","10102","00"]
["AL","35404","10102","00"]
["AL","35405","10102","00"]
["AL","35406","10102","00"]
["AL","35407","10102","00"]
["AL","35440","10102","00"]
["AL","35441","10102","00"]
["AL","35442","10102","00"]
["AL","35443","10102","00"]
["AL","35444","10102","00"]
["AL","35446","10102","00"]
["AL","35447","10102","00"]
["AL","35448","10102","00"]
["AL","35449","10102","00"]
["AL","35452","10102","00"]
["AL","35453","10102","00"]
["AL","35456","10102","00"]
["AL","35457","10102","00"]
["AL","35458","10102","00"]
["AL","35459","10102","00"]
["AL","35460","10102","00"]
["AL","35461","10102","00"]
["AL","35462","10102","00"]
["AL","35463","10102","00"]
["AL","35464","10102","00"]
["AL","35466","10102","00"]
["AL","35468","10102","00"]
["AL","35469","10102","00"]
["AL","35470","10102","00"]
["AL","35471","10102","00"]
["AL","35473","10102","00"]
["AL","35474","10102","00"]
["AL","35475","10102","00"]
["AL","35476","10102","00"]
["AL","35477","10102","00"]
["AL","35478","10102","00"]
["AL","35480","10102","00"]
["AL","35481","10102","00"]
["AL","35482","10102","00"]
["AL","35485","10102","00"]
["AL","35486","10102","00"]
["AL","35487","10102","00"]
["AL","35490","10102","00"]
["AL","35491","10102","00"]
["AL","35501","10102","00"]
["AL","35502","10102","00"]
["AL","35503","10102","00"]
["AL","35504","10102","00"]
["AL","35540","10102","00"]
["AL","35541","10102","00"]
["AL","35542","10102","00"]
["AL","35543","10102","00"]
["AL","35544","10102","00"]
["AL","35545","10102","00"]
["AL","35546","10102","00"]
["AL","35548","10102","00"]
["AL","35549","10102","00"]
["AL","35550","10102","00"]
["AL","35551","10102","00"]
["AL","35552","10102","00"]
["AL","35553","10102","00"]
["AL","35554","10102","00"]
["AL","35555","10102","00"]
["AL","35559","10102","00"]
["AL","35560","10102","00"]
["AL","35563","10102","00"]
["AL","35564","10102","00"]
["AL","35565","10102","00"]
["AL","35570","10102","00"]
["AL","35571","10102","00"]
["AL","35572","10102","00"]
["AL","35573","10102","00"]
["AL","35574","10102","00"]
["AL","35575","10102","00"]
["AL","35576","10102","00"]
["AL","35577","10102","00"]
["AL","35578","10102","00"]
["AL","35579","10102","00"]
["AL","35580","10102","00"]
["AL","35581","10102","00"]
["AL","35582","10102","00"]
["AL","35584","10102","00"]
["AL","35585","10102","00"]
["AL","35586","10102","00"]
["AL","35587","10102","00"]
["AL","35592","10102","00"]
["AL","35593","10102","00"]
["AL","35594","10102","00"]
["AL","35601","10102","00"]
["AL","35602","10102","00"]
["AL","35603","10102","00"]
["AL","35609","10102","00"]
["AL","35610","10102","00"]
["AL","35611","10102","00"]
["AL","35612","10102","00"]
["AL","35613","10102","00"]
["AL","35614","10102","00"]
["AL","35615","10102","00"]
["AL","35616","10102","00"]
["AL","35617","10102","00"]
["AL","35618","10102","00"]
["AL","35619","10102","00"]
["AL","35620","10102","00"]
["AL","35621","10102","00"]
["AL","35622","10102","00"]
["AL","35630","10102","00"]
["AL","35631","10102","00"]
["AL","35632","10102","00"]
["AL","35633","10102","00"]
["AL","35634","10102","00"]
["AL","35640","10102","00"]
["AL","35643","10102","00"]
["AL","35645","10102","00"]
["AL","35646","10102","00"]
["AL","35647","10102","00"]
["AL","35648","10102","00"]
["AL","35649","10102","00"]
["AL","35650","10102","00"]
["AL","35651","10102","00"]
["AL","35652","10102","00"]
["AL","35653","10102","00"]
["AL","35654","10102","00"]
["AL","35660","10102","00"]
["AL","35661","10102","00"]
["AL","35662","10102","00"]
["AL","35670","10102","00"]
["AL","35671","10102","00"]
["AL","35672","10102","00"]
["AL","35673","10102","00"]
["AL","35674","10102","00"]
["AL","35677","10102","00"]
["AL","35699","10102","00"]
["AL","35739","10102","00"]
["AL","35740","10102","00"]
["AL","35741","10102","00"]
["AL","35742","10102","00"]
["AL","35744","10102","00"]
["AL","35745","10102","00"]
["AL","35746","10102","00"]
["AL","35747","10102","00"]
["AL","35748","10102","00"]
["AL","35749","10102","00"]
["AL","35750","10102","00"]
["AL","35751","10102","00"]
["AL","35752","10102","00"]
["AL","35754","10102","00"]
["AL","35755","10102","00"]
["AL","35756","10102","00"]
["AL","35757","10102","00"]
["AL","35758","10102","00"]
["AL","35759","10102","00"]
["AL","35760","10102","00"]
["AL","35761","10102","00"]
["AL","35762","10102","00"]
["AL","35763","10102","00"]
["AL","35764","10102","00"]
["AL","35765","10102","00"]
["AL","35766","10102","00"]
["AL","35767","10102","00"]
["AL","35768","10102","00"]
["AL","35769","10102","00"]
["AL","35771","10102","00"]
["AL","35772","10102","00"]
["AL","35773","10102","00"]
["AL","35774","10102","00"]
["AL","35775","10102","00"]
["AL","35776","10102","00"]
["AL","35801","10102","00"]
["AL","35802","10102","00"]
["AL","35803","10102","00"]
["AL","35804","10102","00"]
["AL","35805","10102","00"]
["AL","35806","10102","00"]
["AL","35807","10102","00"]
["AL","35808","10102","00"]
["AL","35809","10102","00"]
["AL","35810","10102","00"]
["AL","35811","10102","00"]
["AL","35812","10102","00"]
["AL","35813","10102","00"]
["AL","35814","10102","00"]
["AL","35815","10102","00"]
["AL","35816","10102","00"]
["AL","35824","10102","00"]
["AL","35893","10102","00"]
["AL","35894","10102","00"]
["AL","35895","10102","00"]
["AL","35896","10102","00"]
["AL","35897","10102","00"]
["AL","35898","10102","00"]
["AL","35899","10102","00"]
["AL","35901","10102","00"]
["AL","35902","10102","00"]
["AL","35903","10102","00"]
["AL","35904","10102","00"]
["AL","35905","10102","00"]
["AL","35906","10102","00"]
["AL","35907","10102","00"]
["AL","35950","10102","00"]
["AL","35951","10102","00"]
["AL","35952","10102","00"]
["AL","35953","10102","00"]
["AL","35954","10102","00"]
["AL","35956","10102","00"]
["AL","35957","10102","00"]
["AL","35958","10102","00"]
["AL","35959","10102","00"]
["AL","35960","10102","00"]
["AL","35961","10102","00"]
["AL","35962","10102","00"]
["AL","35963","10102","00"]
["AL","35964","10102","00"]
["AL","35966","10102","00"]
["AL","35967","10102","00"]
["AL","35968","10102","00"]
["AL","35971","10102","00"]
["AL","35972","10102","00"]
["AL","35973","10102","00"]
["AL","35974","10102","00"]
["AL","35975","10102","00"]
["AL","35976","10102","00"]
["AL","35978","10102","00"]
["AL","35979","10102","00"]
["AL","35980","10102","00"]
["AL","35981","10102","00"]
["AL","35983","10102","00"]
["AL","35984","10102","00"]
["AL","35986","10102","00"]
["AL","35987","10102","00"]
["AL","35988","10102","00"]
["AL","35989","10102","00"]
["AL","35990","10102","00"]
["AL","35999","10102","00"]
["AL","36003","10102","00"]
["AL","36005","10102","00"]
["AL","36006","10102","00"]
["AL","36008","10102","00"]
["AL","36009","10102","00"]
["AL","36010","10102","00"]
["AL","36013","10102","00"]
["AL","36015","10102","00"]
["AL","36016","10102","00"]
["AL","36017","10102","00"]
["AL","36020","10102","00"]
["AL","36022","10102","00"]
["AL","36023","10102","00"]
["AL","36024","10102","00"]
["AL","36025","10102","00"]
["AL","36026","10102","00"]
["AL","36027","10102","00"]
["AL","36028","10102","00"]
["AL","36029","10102","00"]
["AL","36030","10102","00"]
["AL","36031","10102","00"]
["AL","36032","10102","00"]
["AL","36033","10102","00"]
["AL","36034","10102","00"]
["AL","36035","10102","00"]
["AL","36036","10102","00"]
["AL","36037","10102","00"]
["AL","36038","10102","00"]
["AL","36039","10102","00"]
["AL","36040","10102","00"]
["AL","36041","10102","00"]
["AL","36042","10102","00"]
["AL","36043","10102","00"]
["AL","36045","10102","00"]
["AL","36046","10102","00"]
["AL","36047","10102","00"]
["AL","36048","10102","00"]
["AL","36049","10102","00"]
["AL","36051","10102","00"]
["AL","36052","10102","00"]
["AL","36053","10102","00"]
["AL","36054","10102","00"]
["AL","36057","10102","00"]
["AL","36061","10102","00"]
["AL","36062","10102","00"]
["AL","36064","10102","00"]
["AL","36065","10102","00"]
["AL","36066","10102","00"]
["AL","36067","10102","00"]
["AL","36068","10102","00"]
["AL","36069","10102","00"]
["AL","36071","10102","00"]
["AL","36072","10102","00"]
["AL","36075","10102","00"]
["AL","36078","10102","00"]
["AL","36079","10102","00"]
["AL","36080","10102","00"]
["AL","36081","10102","00"]
["AL","36082","10102","00"]
["AL","36083","10102","00"]
["AL","36087","10102","00"]
["AL","36088","10102","00"]
["AL","36089","10102","00"]
["AL","36091","10102","00"]
["AL","36092","10102","00"]
["AL","36093","10102","00"]
["AL","36100","10102","00"]
["AL","36101","10102","00"]
["AL","36102","10102","00"]
["AL","36103","10102","00"]
["AL","36104","10102","00"]
["AL","36105","10102","00"]
["AL","36106","10102","00"]
["AL","36107","10102","00"]
["AL","36108","10102","00"]
["AL","36109","10102","00"]
["AL","36110","10102","00"]
["AL","36111","10102","00"]
["AL","36112","10102","00"]
["AL","36113","10102","00"]
["AL","36114","10102","00"]
["AL","36115","10102","00"]
["AL","36116","10102","00"]
["AL","36117","10102","00"]
["AL","36118","10102","00"]
["AL","36119","10102","00"]
["AL","36120","10102","00"]
["AL","36121","10102","00"]
["AL","36123","10102","00"]
["AL","36124","10102","00"]
["AL","36125","10102","00"]
["AL","36130","10102","00"]
["AL","36131","10102","00"]
["AL","36132","10102","00"]
["AL","36133","10102","00"]
["AL","36134","10102","00"]
["AL","36135","10102","00"]
["AL","36140","10102","00"]
["AL","36141","10102","00"]
["AL","36142","10102","00"]
["AL","36177","10102","00"]
["AL","36191","10102","00"]
["AL","36201","10102","00"]
["AL","36202","10102","00"]
["AL","36203","10102","00"]
["AL","36204","10102","00"]
["AL","36205","10102","00"]
["AL","36206","10102","00"]
["AL","36207","10102","00"]
["AL","36210","10102","00"]
["AL","36250","10102","00"]
["AL","36251","10102","00"]
["AL","36253","10102","00"]
["AL","36254","10102","00"]
["AL","36255","10102","00"]
["AL","36256","10102","00"]
["AL","36257","10102","00"]
["AL","36258","10102","00"]
["AL","36260","10102","00"]
["AL","36261","10102","00"]
["AL","36262","10102","00"]
["AL","36263","10102","00"]
["AL","36264","10102","00"]
["AL","36265","10102","00"]
["AL","36266","10102","00"]
["AL","36267","10102","00"]
["AL","36268","10102","00"]
["AL","36269","10102","00"]
["AL","36270","10102","00"]
["AL","36271","10102","00"]
["AL","36272","10102","00"]
["AL","36273","10102","00"]
["AL","36274","10102","00"]
["AL","36275","10102","00"]
["AL","36276","10102","00"]
["AL","36277","10102","00"]
["AL","36278","10102","00"]
["AL","36279","10102","00"]
["AL","36280","10102","00"]
["AL","36301","10102","00"]
["AL","36302","10102","00"]
["AL","36303","10102","00"]
["AL","36304","10102","00"]
["AL","36305","10102","00"]
["AL","36310","10102","00"]
["AL","36311","10102","00"]
["AL","36312","10102","00"]
["AL","36313","10102","00"]
["AL","36314","10102","00"]
["AL","36316","10102","00"]
["AL","36317","10102","00"]
["AL","36318","10102","00"]
["AL","36319","10102","00"]
["AL","36320","10102","00"]
["AL","36321","10102","00"]
["AL","36322","10102","00"]
["AL","36323","10102","00"]
["AL","36330","10102","00"]
["AL","36331","10102","00"]
["AL","36340","10102","00"]
["AL","36343","10102","00"]
["AL","36344","10102","00"]
["AL","36345","10102","00"]
["AL","36346","10102","00"]
["AL","36349","10102","00"]
["AL","36350","10102","00"]
["AL","36351","10102","00"]
["AL","36352","10102","00"]
["AL","36353","10102","00"]
["AL","36360","10102","00"]
["AL","36361","10102","00"]
["AL","36362","10102","00"]
["AL","36370","10102","00"]
["AL","36371","10102","00"]
["AL","36373","10102","00"]
["AL","36374","10102","00"]
["AL","36375","10102","00"]
["AL","36376","10102","00"]
["AL","36401","10102","00"]
["AL","36419","10102","00"]
["AL","36420","10102","00"]
["AL","36421","10102","00"]
["AL","36425","10102","00"]
["AL","36426","10102","00"]
["AL","36427","10102","00"]
["AL","36429","10102","00"]
["AL","36431","10102","00"]
["AL","36432","10102","00"]
["AL","36435","10102","00"]
["AL","36436","10102","00"]
["AL","36439","10102","00"]
["AL","36441","10102","00"]
["AL","36442","10102","00"]
["AL","36444","10102","00"]
["AL","36445","10102","00"]
["AL","36446","10102","00"]
["AL","36449","10102","00"]
["AL","36451","10102","00"]
["AL","36453","10102","00"]
["AL","36454","10102","00"]
["AL","36455","10102","00"]
["AL","36456","10102","00"]
["AL","36457","10102","00"]
["AL","36458","10102","00"]
["AL","36460","10102","00"]
["AL","36461","10102","00"]
["AL","36462","10102","00"]
["AL","36467","10102","00"]
["AL","36470","10102","00"]
["AL","36471","10102","00"]
["AL","36473","10102","00"]
["AL","36474","10102","00"]
["AL","36475","10102","00"]
["AL","36476","10102","00"]
["AL","36477","10102","00"]
["AL","36480","10102","00"]
["AL","36481","10102","00"]
["AL","36482","10102","00"]
["AL","36483","10102","00"]
["AL","36501","10102","00"]
["AL","36502","10102","00"]
["AL","36503","10102","00"]
["AL","36504","10102","00"]
["AL","36505","10102","00"]
["AL","36507","10102","00"]
["AL","36509","10102","00"]
["AL","36511","10102","00"]
["AL","36512","10102","00"]
["AL","36513","10102","00"]
["AL","36515","10102","00"]
["AL","36518","10102","00"]
["AL","36521","10102","00"]
["AL","36522","10102","00"]
["AL","36523","10102","00"]
["AL","36524","10102","00"]
["AL","36525","10102","00"]
["AL","36526","10102","00"]
["AL","36527","10102","00"]
["AL","36528","10102","00"]
["AL","36529","10102","00"]
["AL","36530","10102","00"]
["AL","36532","10102","00"]
["AL","36533","10102","00"]
["AL","36535","10102","00"]
["AL","36536","10102","00"]
["AL","36538","10102","00"]
["AL","36539","10102","00"]
["AL","36540","10102","00"]
["AL","36541","10102","00"]
["AL","36542","10102","00"]
["AL","36543","10102","00"]
["AL","36544","10102","00"]
["AL","36545","10102","00"]
["AL","36547","10102","00"]
["AL","36548","10102","00"]
["AL","36549","10102","00"]
["AL","36550","10102","00"]
["AL","36551","10102","00"]
["AL","36553","10102","00"]
["AL","36555","10102","00"]
["AL","36556","10102","00"]
["AL","36558","10102","00"]
["AL","36559","10102","00"]
["AL","36560","10102","00"]
["AL","36561","10102","00"]
["AL","36562","10102","00"]
["AL","36564","10102","00"]
["AL","36567","10102","00"]
["AL","36568","10102","00"]
["AL","36569","10102","00"]
["AL","36570","10102","00"]
["AL","36571","10102","00"]
["AL","36572","10102","00"]
["AL","36574","10102","00"]
["AL","36575","10102","00"]
["AL","36576","10102","00"]
["AL","36577","10102","00"]
["AL","36578","10102","00"]
["AL","36579","10102","00"]
["AL","36580","10102","00"]
["AL","36581","10102","00"]
["AL","36582","10102","00"]
["AL","36583","10102","00"]
["AL","36584","10102","00"]
["AL","36585","10102","00"]
["AL","36586","10102","00"]
["AL","36587","10102","00"]
["AL","36590","10102","00"]
["AL","36601","10102","00"]
["AL","36602","10102","00"]
["AL","36603","10102","00"]
["AL","36604","10102","00"]
["AL","36605","10102","00"]
["AL","36606","10102","00"]
["AL","36607","10102","00"]
["AL","36608","10102","00"]
["AL","36609","10102","00"]
["AL","36610","10102","00"]
["AL","36611","10102","00"]
["AL","36612","10102","00"]
["AL","36613","10102","00"]
["AL","36614","10102","00"]
["AL","36615","10102","00"]
["AL","36616","10102","00"]
["AL","36617","10102","00"]
["AL","36618","10102","00"]
["AL","36619","10102","00"]
["AL","36621","10102","00"]
["AL","36622","10102","00"]
["AL","36623","10102","00"]
["AL","36624","10102","00"]
["AL","36625","10102","00"]
["AL","36626","10102","00"]
["AL","36628","10102","00"]
["AL","36630","10102","00"]
["AL","36631","10102","00"]
["AL","36633","10102","00"]
["AL","36640","10102","00"]
["AL","36641","10102","00"]
["AL","36644","10102","00"]
["AL","36652","10102","00"]
["AL","36660","10102","00"]
["AL","36663","10102","00"]
["AL","36670","10102","00"]
["AL","36671","10102","00"]
["AL","36675","10102","00"]
["AL","36685","10102","00"]
["AL","36688","10102","00"]
["AL","36689","10102","00"]
["AL","36690","10102","00"]
["AL","36691","10102","00"]
["AL","36693","10102","00"]
["AL","36695","10102","00"]
["AL","36701","10102","00"]
["AL","36702","10102","00"]
["AL","36703","10102","00"]
["AL","36720","10102","00"]
["AL","36721","10102","00"]
["AL","36722","10102","00"]
["AL","36723","10102","00"]
["AL","36726","10102","00"]
["AL","36727","10102","00"]
["AL","36728","10102","00"]
["AL","36732","10102","00"]
["AL","36736","10102","00"]
["AL","36738","10102","00"]
["AL","36740","10102","00"]
["AL","36741","10102","00"]
["AL","36742","10102","00"]
["AL","36744","10102","00"]
["AL","36745","10102","00"]
["AL","36748","10102","00"]
["AL","36749","10102","00"]
["AL","36750","10102","00"]
["AL","36751","10102","00"]
["AL","36752","10102","00"]
["AL","36753","10102","00"]
["AL","36754","10102","00"]
["AL","36756","10102","00"]
["AL","36758","10102","00"]
["AL","36759","10102","00"]
["AL","36761","10102","00"]
["AL","36762","10102","00"]
["AL","36763","10102","00"]
["AL","36764","10102","00"]
["AL","36765","10102","00"]
["AL","36766","10102","00"]
["AL","36767","10102","00"]
["AL","36768","10102","00"]
["AL","36769","10102","00"]
["AL","36773","10102","00"]
["AL","36775","10102","00"]
["AL","36776","10102","00"]
["AL","36778","10102","00"]
["AL","36779","10102","00"]
["AL","36782","10102","00"]
["AL","36783","10102","00"]
["AL","36784","10102","00"]
["AL","36785","10102","00"]
["AL","36786","10102","00"]
["AL","36790","10102","00"]
["AL","36792","10102","00"]
["AL","36793","10102","00"]
["AL","36801","10102","00"]
["AL","36802","10102","00"]
["AL","36803","10102","00"]
["AL","36804","10102","00"]
["AL","36830","10102","00"]
["AL","36831","10102","00"]
["AL","36832","10102","00"]
["AL","36849","10102","00"]
["AL","36850","10102","00"]
["AL","36851","10102","00"]
["AL","36852","10102","00"]
["AL","36853","10102","00"]
["AL","36854","10102","00"]
["AL","36855","10102","00"]
["AL","36856","10102","00"]
["AL","36858","10102","00"]
["AL","36859","10102","00"]
["AL","36860","10102","00"]
["AL","36861","10102","00"]
["AL","36862","10102","00"]
["AL","36863","10102","00"]
["AL","36865","10102","00"]
["AL","36866","10102","00"]
["AL","36867","10102","00"]
["AL","36868","10102","00"]
["AL","36869","10102","00"]
["AL","36870","10102","00"]
["AL","36871","10102","00"]
["AL","36872","10102","00"]
["AL","36874","10102","00"]
["AL","36875","10102","00"]
["AL","36877","10102","00"]
["AL","36879","10102","00"]
["AL","36901","10102","00"]
["AL","36904","10102","00"]
["AL","36906","10102","00"]
["AL","36907","10102","00"]
["AL","36908","10102","00"]
["AL","36910","10102","00"]
["AL","36912","10102","00"]
["AL","36913","10102","00"]
["AL","36915","10102","00"]
["AL","36916","10102","00"]
["AL","36919","10102","00"]
["AL","36921","10102","00"]
["AL","36922","10102","00"]
["AL","36925","10102","00"]
["AR","71601","07102","13"]
["AR","71602","07102","13"]
["AR","71603","07102","13"]
["AR","71611","07102","13"]
["AR","71612","07102","13"]
["AR","71613","07102","13"]
["AR","71630","07102","13"]
["AR","71631","07102","13"]
["AR","71635","07102","13"]
["AR","71638","07102","13"]
["AR","71639","07102","13"]
["AR","71640","07102","13"]
["AR","71642","07102","13"]
["AR","71643","07102","13"]
["AR","71644","07102","13"]
["AR","71646","07102","13"]
["AR","71647","07102","13"]
["AR","71649","07102","13"]
["AR","71650","07102","13"]
["AR","71651","07102","13"]
["AR","71652","07102","13"]
["AR","71653","07102","13"]
["AR","71654","07102","13"]
["AR","71655","07102","13"]
["AR","71656","07102","13"]
["AR","71657","07102","13"]
["AR","71658","07102","13"]
["AR","71659","07102","13"]
["AR","71660","07102","13"]
["AR","71661","07102","13"]
["AR","71662","07102","13"]
["AR","71663","07102","13"]
["AR","71665","07102","13"]
["AR","71666","07102","13"]
["AR","71667","07102","13"]
["AR","71670","07102","13"]
["AR","71671","07102","13"]
["AR","71674","07102","13"]
["AR","71675","07102","13"]
["AR","71676","07102","13"]
["AR","71677","07102","13"]
["AR","71678","07102","13"]
["AR","71701","07102","13"]
["AR","71711","07102","13"]
["AR","71720","07102","13"]
["AR","71721","07102","13"]
["AR","71722","07102","13"]
["AR","71724","07102","13"]
["AR","71725","07102","13"]
["AR","71726","07102","13"]
["AR","71728","07102","13"]
["AR","71730","07102","13"]
["AR","71731","07102","13"]
["AR","71740","07102","13"]
["AR","71742","07102","13"]
["AR","71743","07102","13"]
["AR","71744","07102","13"]
["AR","71745","07102","13"]
["AR","71747","07102","13"]
["AR","71748","07102","13"]
["AR","71749","07102","13"]
["AR","71750","07102","13"]
["AR","71751","07102","13"]
["AR","71752","07102","13"]
["AR","71753","07102","13"]
["AR","71754","07102","13"]
["AR","71758","07102","13"]
["AR","71759","07102","13"]
["AR","71762","07102","13"]
["AR","71763","07102","13"]
["AR","71764","07102","13"]
["AR","71765","07102","13"]
["AR","71766","07102","13"]
["AR","71767","07102","13"]
["AR","71768","07102","13"]
["AR","71769","07102","13"]
["AR","71770","07102","13"]
["AR","71772","07102","13"]
["AR","71801","07102","13"]
["AR","71802","07102","13"]
["AR","71820","07102","13"]
["AR","71822","07102","13"]
["AR","71823","07102","13"]
["AR","71825","07102","13"]
["AR","71826","07102","13"]
["AR","71827","07102","13"]
["AR","71828","07102","13"]
["AR","71831","07102","13"]
["AR","71832","07102","13"]
["AR","71833","07102","13"]
["AR","71834","07102","13"]
["AR","71835","07102","13"]
["AR","71836","07102","13"]
["AR","71837","07102","13"]
["AR","71838","07102","13"]
["AR","71839","07102","13"]
["AR","71840","07102","13"]
["AR","71841","07102","13"]
["AR","71842","07102","13"]
["AR","71844","07102","13"]
["AR","71845","07102","13"]
["AR","71846","07102","13"]
["AR","71847","07102","13"]
["AR","71851","07102","13"]
["AR","71852","07102","13"]
["AR","71853","07102","13"]
["AR","71854","07102","13"]
["AR","71855","07102","13"]
["AR","71857","07102","13"]
["AR","71858","07102","13"]
["AR","71859","07102","13"]
["AR","71860","07102","13"]
["AR","71861","07102","13"]
["AR","71862","07102","13"]
["AR","71864","07102","13"]
["AR","71865","07102","13"]
["AR","71866","07102","13"]
["AR","71901","07102","13"]
["AR","71902","07102","13"]
["AR","71903","07102","13"]
["AR","71909","07102","13"]
["AR","71910","07102","13"]
["AR","71913","07102","13"]
["AR","71914","07102","13"]
["AR","71920","07102","13"]
["AR","71921","07102","13"]
["AR","71922","07102","13"]
["AR","71923","07102","13"]
["AR","71929","07102","13"]
["AR","71932","07102","13"]
["AR","71933","07102","13"]
["AR","71935","07102","13"]
["AR","71937","07102","13"]
["AR","71940","07102","13"]
["AR","71941","07102","13"]
["AR","71942","07102","13"]
["AR","71943","07102","13"]
["AR","71944","07102","13"]
["AR","71945","07102","13"]
["AR","71946","07102","13"]
["AR","71949","07102","13"]
["AR","71950","07102","13"]
["AR","71951","07102","13"]
["AR","71952","07102","13"]
["AR","71953","07102","13"]
["AR","71956","07102","13"]
["AR","71957","07102","13"]
["AR","71958","07102","13"]
["AR","71959","07102","13"]
["AR","71960","07102","13"]
["AR","71961","07102","13"]
["AR","71962","07102","13"]
["AR","71964","07102","13"]
["AR","71965","07102","13"]
["AR","71966","07102","13"]
["AR","71968","07102","13"]
["AR","71969","07102","13"]
["AR","71970","07102","13"]
["AR","71971","07102","13"]
["AR","71972","07102","13"]
["AR","71973","07102","13"]
["AR","71998","07102","13"]
["AR","71999","07102","13"]
["AR","72001","07102","13"]
["AR","72002","07102","13"]
["AR","72003","07102","13"]
["AR","72004","07102","13"]
["AR","72005","07102","13"]
["AR","72006","07102","13"]
["AR","72007","07102","13"]
["AR","72010","07102","13"]
["AR","72011","07102","13"]
["AR","72012","07102","13"]
["AR","72013","07102","13"]
["AR","72014","07102","13"]
["AR","72015","07102","13"]
["AR","72016","07102","13"]
["AR","72017","07102","13"]
["AR","72018","07102","13"]
["AR","72019","07102","13"]
["AR","72020","07102","13"]
["AR","72021","07102","13"]
["AR","72022","07102","13"]
["AR","72023","07102","13"]
["AR","72024","07102","13"]
["AR","72025","07102","13"]
["AR","72026","07102","13"]
["AR","72027","07102","13"]
["AR","72028","07102","13"]
["AR","72029","07102","13"]
["AR","72030","07102","13"]
["AR","72031","07102","13"]
["AR","72032","07102","13"]
["AR","72033","07102","13"]
["AR","72034","07102","13"]
["AR","72035","07102","13"]
["AR","72036","07102","13"]
["AR","72037","07102","13"]
["AR","72038","07102","13"]
["AR","72039","07102","13"]
["AR","72040","07102","13"]
["AR","72041","07102","13"]
["AR","72042","07102","13"]
["AR","72043","07102","13"]
["AR","72044","07102","13"]
["AR","72045","07102","13"]
["AR","72046","07102","13"]
["AR","72047","07102","13"]
["AR","72048","07102","13"]
["AR","72051","07102","13"]
["AR","72052","07102","13"]
["AR","72053","07102","13"]
["AR","72055","07102","13"]
["AR","72057","07102","13"]
["AR","72058","07102","13"]
["AR","72059","07102","13"]
["AR","72060","07102","13"]
["AR","72061","07102","13"]
["AR","72063","07102","13"]
["AR","72064","07102","13"]
["AR","72065","07102","13"]
["AR","72066","07102","13"]
["AR","72067","07102","13"]
["AR","72068","07102","13"]
["AR","72069","07102","13"]
["AR","72070","07102","13"]
["AR","72071","07102","13"]
["AR","72072","07102","13"]
["AR","72073","07102","13"]
["AR","72074","07102","13"]
["AR","72075","07102","13"]
["AR","72076","07102","13"]
["AR","72078","07102","13"]
["AR","72079","07102","13"]
["AR","72080","07102","13"]
["AR","72081","07102","13"]
["AR","72082","07102","13"]
["AR","72083","07102","13"]
["AR","72084","07102","13"]
["AR","72085","07102","13"]
["AR","72086","07102","13"]
["AR","72087","07102","13"]
["AR","72088","07102","13"]
["AR","72089","07102","13"]
["AR","72099","07102","13"]
["AR","72101","07102","13"]
["AR","72102","07102","13"]
["AR","72103","07102","13"]
["AR","72104","07102","13"]
["AR","72105","07102","13"]
["AR","72106","07102","13"]
["AR","72107","07102","13"]
["AR","72108","07102","13"]
["AR","72110","07102","13"]
["AR","72111","07102","13"]
["AR","72112","07102","13"]
["AR","72113","07102","13"]
["AR","72114","07102","13"]
["AR","72115","07102","13"]
["AR","72116","07102","13"]
["AR","72117","07102","13"]
["AR","72118","07102","13"]
["AR","72119","07102","13"]
["AR","72120","07102","13"]
["AR","72121","07102","13"]
["AR","72122","07102","13"]
["AR","72123","07102","13"]
["AR","72124","07102","13"]
["AR","72125","07102","13"]
["AR","72126","07102","13"]
["AR","72127","07102","13"]
["AR","72128","07102","13"]
["AR","72129","07102","13"]
["AR","72130","07102","13"]
["AR","72131","07102","13"]
["AR","72132","07102","13"]
["AR","72133","07102","13"]
["AR","72134","07102","13"]
["AR","72135","07102","13"]
["AR","72136","07102","13"]
["AR","72137","07102","13"]
["AR","72139","07102","13"]
["AR","72140","07102","13"]
["AR","72141","07102","13"]
["AR","72142","07102","13"]
["AR","72143","07102","13"]
["AR","72145","07102","13"]
["AR","72149","07102","13"]
["AR","72150","07102","13"]
["AR","72152","07102","13"]
["AR","72153","07102","13"]
["AR","72156","07102","13"]
["AR","72157","07102","13"]
["AR","72158","07102","13"]
["AR","72160","07102","13"]
["AR","72164","07102","13"]
["AR","72165","07102","13"]
["AR","72166","07102","13"]
["AR","72167","07102","13"]
["AR","72168","07102","13"]
["AR","72169","07102","13"]
["AR","72170","07102","13"]
["AR","72173","07102","13"]
["AR","72175","07102","13"]
["AR","72176","07102","13"]
["AR","72178","07102","13"]
["AR","72179","07102","13"]
["AR","72180","07102","13"]
["AR","72181","07102","13"]
["AR","72182","07102","13"]
["AR","72183","07102","13"]
["AR","72189","07102","13"]
["AR","72190","07102","13"]
["AR","72198","07102","13"]
["AR","72199","07102","13"]
["AR","72201","07102","13"]
["AR","72202","07102","13"]
["AR","72203","07102","13"]
["AR","72204","07102","13"]
["AR","72205","07102","13"]
["AR","72206","07102","13"]
["AR","72207","07102","13"]
["AR","72208","07102","13"]
["AR","72209","07102","13"]
["AR","72210","07102","13"]
["AR","72211","07102","13"]
["AR","72212","07102","13"]
["AR","72214","07102","13"]
["AR","72215","07102","13"]
["AR","72216","07102","13"]
["AR","72217","07102","13"]
["AR","72219","07102","13"]
["AR","72221","07102","13"]
["AR","72222","07102","13"]
["AR","72223","07102","13"]
["AR","72225","07102","13"]
["AR","72227","07102","13"]
["AR","72231","07102","13"]
["AR","72255","07102","13"]
["AR","72260","07102","13"]
["AR","72295","07102","13"]
["AR","72301","07102","13"]
["AR","72303","07102","13"]
["AR","72310","07102","13"]
["AR","72311","07102","13"]
["AR","72312","07102","13"]
["AR","72313","07102","13"]
["AR","72314","07102","13"]
["AR","72315","07102","13"]
["AR","72316","07102","13"]
["AR","72319","07102","13"]
["AR","72320","07102","13"]
["AR","72321","07102","13"]
["AR","72322","07102","13"]
["AR","72324","07102","13"]
["AR","72325","07102","13"]
["AR","72326","07102","13"]
["AR","72327","07102","13"]
["AR","72328","07102","13"]
["AR","72329","07102","13"]
["AR","72330","07102","13"]
["AR","72331","07102","13"]
["AR","72332","07102","13"]
["AR","72333","07102","13"]
["AR","72335","07102","13"]
["AR","72336","07102","13"]
["AR","72338","07102","13"]
["AR","72339","07102","13"]
["AR","72340","07102","13"]
["AR","72341","07102","13"]
["AR","72342","07102","13"]
["AR","72346","07102","13"]
["AR","72347","07102","13"]
["AR","72348","07102","13"]
["AR","72350","07102","13"]
["AR","72351","07102","13"]
["AR","72352","07102","13"]
["AR","72353","07102","13"]
["AR","72354","07102","13"]
["AR","72355","07102","13"]
["AR","72358","07102","13"]
["AR","72359","07102","13"]
["AR","72360","07102","13"]
["AR","72364","07102","13"]
["AR","72365","07102","13"]
["AR","72366","07102","13"]
["AR","72367","07102","13"]
["AR","72368","07102","13"]
["AR","72369","07102","13"]
["AR","72370","07102","13"]
["AR","72372","07102","13"]
["AR","72373","07102","13"]
["AR","72374","07102","13"]
["AR","72376","07102","13"]
["AR","72377","07102","13"]
["AR","72379","07102","13"]
["AR","72381","07102","13"]
["AR","72383","07102","13"]
["AR","72384","07102","13"]
["AR","72385","07102","13"]
["AR","72386","07102","13"]
["AR","72387","07102","13"]
["AR","72389","07102","13"]
["AR","72390","07102","13"]
["AR","72391","07102","13"]
["AR","72392","07102","13"]
["AR","72394","07102","13"]
["AR","72395","07102","13"]
["AR","72396","07102","13"]
["AR","72397","07102","13"]
["AR","72401","07102","13"]
["AR","72402","07102","13"]
["AR","72403","07102","13"]
["AR","72404","07102","13"]
["AR","72410","07102","13"]
["AR","72411","07102","13"]
["AR","72412","07102","13"]
["AR","72413","07102","13"]
["AR","72414","07102","13"]
["AR","72415","07102","13"]
["AR","72416","07102","13"]
["AR","72417","07102","13"]
["AR","72419","07102","13"]
["AR","72421","07102","13"]
["AR","72422","07102","13"]
["AR","72424","07102","13"]
["AR","72425","07102","13"]
["AR","72426","07102","13"]
["AR","72427","07102","13"]
["AR","72428","07102","13"]
["AR","72429","07102","13"]
["AR","72430","07102","13"]
["AR","72431","07102","13"]
["AR","72432","07102","13"]
["AR","72433","07102","13"]
["AR","72434","07102","13"]
["AR","72435","07102","13"]
["AR","72436","07102","13"]
["AR","72437","07102","13"]
["AR","72438","07102","13"]
["AR","72439","07102","13"]
["AR","72440","07102","13"]
["AR","72441","07102","13"]
["AR","72442","07102","13"]
["AR","72443","07102","13"]
["AR","72444","07102","13"]
["AR","72445","07102","13"]
["AR","72447","07102","13"]
["AR","72449","07102","13"]
["AR","72450","07102","13"]
["AR","72451","07102","13"]
["AR","72453","07102","13"]
["AR","72454","07102","13"]
["AR","72455","07102","13"]
["AR","72456","07102","13"]
["AR","72457","07102","13"]
["AR","72458","07102","13"]
["AR","72459","07102","13"]
["AR","72460","07102","13"]
["AR","72461","07102","13"]
["AR","72462","07102","13"]
["AR","72464","07102","13"]
["AR","72465","07102","13"]
["AR","72466","07102","13"]
["AR","72467","07102","13"]
["AR","72469","07102","13"]
["AR","72470","07102","13"]
["AR","72471","07102","13"]
["AR","72472","07102","13"]
["AR","72473","07102","13"]
["AR","72474","07102","13"]
["AR","72475","07102","13"]
["AR","72476","07102","13"]
["AR","72478","07102","13"]
["AR","72479","07102","13"]
["AR","72482","07102","13"]
["AR","72501","07102","13"]
["AR","72503","07102","13"]
["AR","72512","07102","13"]
["AR","72513","07102","13"]
["AR","72515","07102","13"]
["AR","72516","07102","13"]
["AR","72517","07102","13"]
["AR","72519","07102","13"]
["AR","72520","07102","13"]
["AR","72521","07102","13"]
["AR","72522","07102","13"]
["AR","72523","07102","13"]
["AR","72524","07102","13"]
["AR","72525","07102","13"]
["AR","72526","07102","13"]
["AR","72527","07102","13"]
["AR","72528","07102","13"]
["AR","72529","07102","13"]
["AR","72530","07102","13"]
["AR","72531","07102","13"]
["AR","72532","07102","13"]
["AR","72533","07102","13"]
["AR","72534","07102","13"]
["AR","72536","07102","13"]
["AR","72537","07102","13"]
["AR","72538","07102","13"]
["AR","72539","07102","13"]
["AR","72540","07102","13"]
["AR","72542","07102","13"]
["AR","72543","07102","13"]
["AR","72544","07102","13"]
["AR","72545","07102","13"]
["AR","72546","07102","13"]
["AR","72550","07102","13"]
["AR","72553","07102","13"]
["AR","72554","07102","13"]
["AR","72555","07102","13"]
["AR","72556","07102","13"]
["AR","72557","07102","13"]
["AR","72560","07102","13"]
["AR","72561","07102","13"]
["AR","72562","07102","13"]
["AR","72564","07102","13"]
["AR","72565","07102","13"]
["AR","72566","07102","13"]
["AR","72567","07102","13"]
["AR","72568","07102","13"]
["AR","72569","07102","13"]
["AR","72571","07102","13"]
["AR","72572","07102","13"]
["AR","72573","07102","13"]
["AR","72575","07102","13"]
["AR","72576","07102","13"]
["AR","72577","07102","13"]
["AR","72578","07102","13"]
["AR","72579","07102","13"]
["AR","72581","07102","13"]
["AR","72583","07102","13"]
["AR","72584","07102","13"]
["AR","72585","07102","13"]
["AR","72587","07102","13"]
["AR","72601","07102","13"]
["AR","72602","07102","13"]
["AR","72610","07102","13"]
["AR","72611","07102","13"]
["AR","72613","07102","13"]
["AR","72615","07102","13"]
["AR","72616","07102","13"]
["AR","72617","07102","13"]
["AR","72619","07102","13"]
["AR","72623","07102","13"]
["AR","72624","07102","13"]
["AR","72626","07102","13"]
["AR","72628","07102","13"]
["AR","72629","07102","13"]
["AR","72630","07102","13"]
["AR","72631","07102","13"]
["AR","72632","07102","13"]
["AR","72633","07102","13"]
["AR","72634","07102","13"]
["AR","72635","07102","13"]
["AR","72636","07102","13"]
["AR","72638","07102","13"]
["AR","72639","07102","13"]
["AR","72640","07102","13"]
["AR","72641","07102","13"]
["AR","72642","07102","13"]
["AR","72644","07102","13"]
["AR","72645","07102","13"]
["AR","72648","07102","13"]
["AR","72650","07102","13"]
["AR","72651","07102","13"]
["AR","72653","07102","13"]
["AR","72654","07102","13"]
["AR","72655","07102","13"]
["AR","72657","07102","13"]
["AR","72658","07102","13"]
["AR","72659","07102","13"]
["AR","72660","07102","13"]
["AR","72661","07102","13"]
["AR","72662","07102","13"]
["AR","72663","07102","13"]
["AR","72666","07102","13"]
["AR","72668","07102","13"]
["AR","72669","07102","13"]
["AR","72670","07102","13"]
["AR","72672","07102","13"]
["AR","72675","07102","13"]
["AR","72677","07102","13"]
["AR","72679","07102","13"]
["AR","72680","07102","13"]
["AR","72682","07102","13"]
["AR","72683","07102","13"]
["AR","72685","07102","13"]
["AR","72686","07102","13"]
["AR","72687","07102","13"]
["AR","72701","07102","13"]
["AR","72702","07102","13"]
["AR","72703","07102","13"]
["AR","72704","07102","13"]
["AR","72711","07102","13"]
["AR","72712","07102","13"]
["AR","72714","07102","13"]
["AR","72715","07102","13"]
["AR","72716","07102","13"]
["AR","72717","07102","13"]
["AR","72718","07102","13"]
["AR","72719","07102","13"]
["AR","72721","07102","13"]
["AR","72722","07102","13"]
["AR","72727","07102","13"]
["AR","72728","07102","13"]
["AR","72729","07102","13"]
["AR","72730","07102","13"]
["AR","72732","07102","13"]
["AR","72733","07102","13"]
["AR","72734","07102","13"]
["AR","72735","07102","13"]
["AR","72736","07102","13"]
["AR","72737","07102","13"]
["AR","72738","07102","13"]
["AR","72739","07102","13"]
["AR","72740","07102","13"]
["AR","72741","07102","13"]
["AR","72742","07102","13"]
["AR","72744","07102","13"]
["AR","72745","07102","13"]
["AR","72747","07102","13"]
["AR","72749","07102","13"]
["AR","72751","07102","13"]
["AR","72752","07102","13"]
["AR","72753","07102","13"]
["AR","72756","07102","13"]
["AR","72757","07102","13"]
["AR","72758","07102","13"]
["AR","72760","07102","13"]
["AR","72761","07102","13"]
["AR","72762","07102","13"]
["AR","72764","07102","13"]
["AR","72765","07102","13"]
["AR","72766","07102","13"]
["AR","72768","07102","13"]
["AR","72769","07102","13"]
["AR","72770","07102","13"]
["AR","72773","07102","13"]
["AR","72774","07102","13"]
["AR","72776","07102","13"]
["AR","72801","07102","13"]
["AR","72802","07102","13"]
["AR","72811","07102","13"]
["AR","72812","07102","13"]
["AR","72820","07102","13"]
["AR","72821","07102","13"]
["AR","72823","07102","13"]
["AR","72824","07102","13"]
["AR","72826","07102","13"]
["AR","72827","07102","13"]
["AR","72828","07102","13"]
["AR","72829","07102","13"]
["AR","72830","07102","13"]
["AR","72832","07102","13"]
["AR","72833","07102","13"]
["AR","72834","07102","13"]
["AR","72835","07102","13"]
["AR","72837","07102","13"]
["AR","72838","07102","13"]
["AR","72839","07102","13"]
["AR","72840","07102","13"]
["AR","72841","07102","13"]
["AR","72842","07102","13"]
["AR","72843","07102","13"]
["AR","72845","07102","13"]
["AR","72846","07102","13"]
["AR","72847","07102","13"]
["AR","72851","07102","13"]
["AR","72852","07102","13"]
["AR","72853","07102","13"]
["AR","72854","07102","13"]
["AR","72855","07102","13"]
["AR","72856","07102","13"]
["AR","72857","07102","13"]
["AR","72858","07102","13"]
["AR","72860","07102","13"]
["AR","72863","07102","13"]
["AR","72865","07102","13"]
["AR","72901","07102","13"]
["AR","72902","07102","13"]
["AR","72903","07102","13"]
["AR","72904","07102","13"]
["AR","72905","07102","13"]
["AR","72906","07102","13"]
["AR","72908","07102","13"]
["AR","72913","07102","13"]
["AR","72914","07102","13"]
["AR","72916","07102","13"]
["AR","72917","07102","13"]
["AR","72918","07102","13"]
["AR","72919","07102","13"]
["AR","72921","07102","13"]
["AR","72923","07102","13"]
["AR","72924","07102","13"]
["AR","72926","07102","13"]
["AR","72927","07102","13"]
["AR","72928","07102","13"]
["AR","72930","07102","13"]
["AR","72932","07102","13"]
["AR","72933","07102","13"]
["AR","72934","07102","13"]
["AR","72935","07102","13"]
["AR","72936","07102","13"]
["AR","72937","07102","13"]
["AR","72938","07102","13"]
["AR","72940","07102","13"]
["AR","72941","07102","13"]
["AR","72943","07102","13"]
["AR","72944","07102","13"]
["AR","72945","07102","13"]
["AR","72946","07102","13"]
["AR","72947","07102","13"]
["AR","72948","07102","13"]
["AR","72949","07102","13"]
["AR","72950","07102","13"]
["AR","72951","07102","13"]
["AR","72952","07102","13"]
["AR","72955","07102","13"]
["AR","72956","07102","13"]
["AR","72957","07102","13"]
["AR","72958","07102","13"]
["AR","72959","07102","13"]
["AS","96799","01212","01"]
["AZ","85001","03102","00"]
["AZ","85002","03102","00"]
["AZ","85003","03102","00"]
["AZ","85004","03102","00"]
["AZ","85005","03102","00"]
["AZ","85006","03102","00"]
["AZ","85007","03102","00"]
["AZ","85008","03102","00"]
["AZ","85009","03102","00"]
["AZ","85010","03102","00"]
["AZ","85011","03102","00"]
["AZ","85012","03102","00"]
["AZ","85013","03102","00"]
["AZ","85014","03102","00"]
["AZ","85015","03102","00"]
["AZ","85016","03102","00"]
["AZ","85017","03102","00"]
["AZ","85018","03102","00"]
["AZ","85019","03102","00"]
["AZ","85020","03102","00"]
["AZ","85021","03102","00"]
["AZ","85022","03102","00"]
["AZ","85023","03102","00"]
["AZ","85024","03102","00"]
["AZ","85025","03102","00"]
["AZ","85026","03102","00"]
["AZ","85027","03102","00"]
["AZ","85028","03102","00"]
["AZ","85029","03102","00"]
["AZ","85030","03102","00"]
["AZ","85031","03102","00"]
["AZ","85032","03102","00"]
["AZ","85033","03102","00"]
["AZ","85034","03102","00"]
["AZ","85035","03102","00"]
["AZ","85036","03102","00"]
["AZ","85037","03102","00"]
["AZ","85038","03102","00"]
["AZ","85039","03102","00"]
["AZ","85040","03102","00"]
["AZ","85041","03102","00"]
["AZ","85042","03102","00"]
["AZ","85043","03102","00"]
["AZ","85044","03102","00"]
["AZ","85045","03102","00"]
["AZ","85046","03102","00"]
["AZ","85048","03102","00"]
["AZ","85050","03102","00"]
["AZ","85051","03102","00"]
["AZ","85053","03102","00"]
["AZ","85054","03102","00"]
["AZ","85055","03102","00"]
["AZ","85060","03102","00"]
["AZ","85061","03102","00"]
["AZ","85062","03102","00"]
["AZ","85063","03102","00"]
["AZ","85064","03102","00"]
["AZ","85065","03102","00"]
["AZ","85066","03102","00"]
["AZ","85067","03102","00"]
["AZ","85068","03102","00"]
["AZ","85069","03102","00"]
["AZ","85070","03102","00"]
["AZ","85071","03102","00"]
["AZ","85072","03102","00"]
["AZ","85073","03102","00"]
["AZ","85074","03102","00"]
["AZ","85075","03102","00"]
["AZ","85076","03102","00"]
["AZ","85077","03102","00"]
["AZ","85078","03102","00"]
["AZ","85079","03102","00"]
["AZ","85080","03102","00"]
["AZ","85082","03102","00"]
["AZ","85083","03102","00"]
["AZ","85085","03102","00"]
["AZ","85086","03102","00"]
["AZ","85087","03102","00"]
["AZ","85096","03102","00"]
["AZ","85097","03102","00"]
["AZ","85098","03102","00"]
["AZ","85099","03102","00"]
["AZ","85117","03102","00"]
["AZ","85118","03102","00"]
["AZ","85119","03102","00"]
["AZ","85120","03102","00"]
["AZ","85121","03102","00"]
["AZ","85122","03102","00"]
["AZ","85123","03102","00"]
["AZ","85127","03102","00"]
["AZ","85128","03102","00"]
["AZ","85130","03102","00"]
["AZ","85131","03102","00"]
["AZ","85132","03102","00"]
["AZ","85135","03102","00"]
["AZ","85137","03102","00"]
["AZ","85138","03102","00"]
["AZ","85139","03102","00"]
["AZ","85140","03102","00"]
["AZ","85141","03102","00"]
["AZ","85142","03102","00"]
["AZ","85143","03102","00"]
["AZ","85145","03102","00"]
["AZ","85147","03102","00"]
["AZ","85172","03102","00"]
["AZ","85173","03102","00"]
["AZ","85178","03102","00"]
["AZ","85190","03102","00"]
["AZ","85191","03102","00"]
["AZ","85192","03102","00"]
["AZ","85193","03102","00"]
["AZ","85194","03102","00"]
["AZ","85201","03102","00"]
["AZ","85202","03102","00"]
["AZ","85203","03102","00"]
["AZ","85204","03102","00"]
["AZ","85205","03102","00"]
["AZ","85206","03102","00"]
["AZ","85207","03102","00"]
["AZ","85208","03102","00"]
["AZ","85209","03102","00"]
["AZ","85210","03102","00"]
["AZ","85211","03102","00"]
["AZ","85212","03102","00"]
["AZ","85213","03102","00"]
["AZ","85214","03102","00"]
["AZ","85215","03102","00"]
["AZ","85216","03102","00"]
["AZ","85217","03102","00"]
["AZ","85218","03102","00"]
["AZ","85219","03102","00"]
["AZ","85220","03102","00"]
["AZ","85221","03102","00"]
["AZ","85222","03102","00"]
["AZ","85223","03102","00"]
["AZ","85224","03102","00"]
["AZ","85225","03102","00"]
["AZ","85226","03102","00"]
["AZ","85227","03102","00"]
["AZ","85228","03102","00"]
["AZ","85230","03102","00"]
["AZ","85231","03102","00"]
["AZ","85232","03102","00"]
["AZ","85238","03102","00"]
["AZ","85259","03102","00"]
["AZ","85287","03102","00"]
["AZ","85310","03102","00"]
["AZ","85325","03102","00"]
["AZ","85347","03102","00"]
["AZ","85369","03102","00"]
["AZ","85532","03102","00"]
["AZ","85602","03102","00"]
["AZ","85616","03102","00"]
["AZ","85671","03102","00"]
["AZ","85701","03102","00"]
["AZ","85726","03102","00"]
["AZ","85745","03102","00"]
["AZ","85933","03102","00"]
["AZ","86025","03102","00"]
["AZ","86054","03102","00"]
["AZ","86305","03102","00"]
["AZ","86335","03102","00"]
["AZ","86435","03102","00"]
["AZ","86535","03102","00"]
["CA","90013","01182","18"]
["CA","90038","01182","18"]
["CA","90039","01182","18"]
["CA","90065","01182","18"]
["CA","90091","01182","18"]
["CA","90224","01182","18"]
["CA","90247","01182","18"]
["CA","90274","01182","18"]
["CA","90310","01182","18"]
["CA","90509","01182","18"]
["CA","90640","01182","18"]
["CA","90701","01182","18"]
["CA","90805","01182","18"]
["CA","90810","01182","18"]
["CA","91001","01182","18"]
["CA","91043","01182","18"]
["CA","91129","01182","18"]
["CA","91224","01182","18"]
["CA","91303","01182","18"]
["CA","91329","01182","18"]
["CA","91359","01182","17"]
["CA","91394","01182","18"]
["CA","91497","01182","18"]
["CA","91611","01182","18"]
["CA","91723","01182","18"]
["CA","91732","01182","18"]
["CA","91764","01112","99"]
["CA","91792","01182","18"]
["CA","91915","01182","99"]
["CA","91946","01182","99"]
["CA","91990","01182","99"]
["CA","92037","01182","99"]
["CA","92069","01182","99"]
["CA","92106","01182","99"]
["CA","92122","01182","99"]
["CA","92161","01182","99"]
["CA","92166","01182","99"]
["CA","92193","01182","99"]
["CA","92239","01112","99"]
["CA","92268","01112","99"]
["CA","92309","01112","99"]
["CA","92336","01112","99"]
["CA","92337","01112","99"]
["CA","92375","01112","99"]
["CA","92408","01112","99"]
["CA","92509","01112","99"]
["CA","92555","01112","99"]
["CA","92563","01112","99"]
["CA","92606","01182","26"]
["CA","92647","01182","26"]
["CA","92676","01182","26"]
["CA","92711","01182","26"]
["CA","92806","01182","26"]
["CA","92860","01112","99"]
["CA","92865","01182","26"]
["CA","93004","01182","17"]
["CA","93041","01182","17"]
["CA","93102","01182","99"]
["CA","93216","01112","99"]
["CA","93222","01112","99"]
["CA","93252","01112","99"]
["CA","93283","01112","99"]
["CA","93382","01112","99"]
["CA","93422","01182","99"]
["CA","93450","01112","99"]
["CA","93455","01182","99"]
["CA","93526","01112","99"]
["CA","93552","01182","18"]
["CA","93608","01112","99"]
["CA","93630","01112","99"]
["CA","93636","01112","99"]
["CA","93669","01112","99"]
["CA","93716","01112","99"]
["CA","93762","01112","99"]
["CA","93844","01112","99"]
["CA","93928","01112","99"]
["CA","94022","01112","09"]
["CA","94027","01112","06"]
["CA","94071","01112","06"]
["CA","94109","01112","05"]
["CA","94130","01112","05"]
["CA","94163","01112","05"]
["CA","94164","01112","05"]
["CA","94235","01112","99"]
["CA","94277","01112","99"]
["CA","94297","01112","99"]
["CA","94503","01112","03"]
["CA","94525","01112","07"]
["CA","94530","01112","07"]
["CA","94563","01112","07"]
["CA","94579","01112","07"]
["CA","94608","01112","07"]
["CA","94659","01112","07"]
["CA","94820","01112","07"]
["CA","94915","01112","03"]
["CA","94942","01112","03"]
["CA","94976","01112","03"]
["CA","95017","01112","99"]
["CA","95046","01112","09"]
["CA","95061","01112","99"]
["CA","95112","01112","09"]
["CA","95137","01112","09"]
["CA","95191","01112","09"]
["CA","95219","01112","99"]
["CA","95251","01112","99"]
["CA","95311","01112","99"]
["CA","95316","01112","99"]
["CA","95344","01112","99"]
["CA","95369","01112","99"]
["CA","95404","01112","99"]
["CA","95428","01112","99"]
["CA","95433","01112","99"]
["CA","95469","01112","99"]
["CA","95494","01112","99"]
["CA","95546","01112","99"]
["CA","95587","01112","99"]
["CA","95619","01112","99"]
["CA","95633","01112","99"]
["CA","95650","01112","99"]
["CA","95676","01112","99"]
["CA","95703","01112","99"]
["CA","95759","01112","99"]
["CA","95798","01112","99"]
["CA","95830","01112","99"]
["CA","95899","01112","99"]
["CA","95935","01112","99"]
["CA","95960","01112","99"]
["CA","95984","01112","99"]
["CA","95992","01112","99"]
["CA","96024","01112","99"]
["CA","96055","01112","99"]
["CA","96088","01112","99"]
["CA","96112","01112","99"]
["CA","96140","01112","99"]
["CA","96141","01112","99"]
["CO","80021","04112","01"]
["CO","80040","04112","01"]
["CO","80117","04112","01"]
["CO","80160","04112","01"]
["CO","80217","04112","01"]
["CO","80234","04112","01"]
["CO","80251","04112","01"]
["CO","80281","04112","01"]
["CO","80401","04112","01"]
["CO","80444","04112","01"]
["CO","80471","04112","01"]
["CO","80477","04112","01"]
["CO","80516","04112","01"]
["CO","80545","04112","01"]
["CO","80638","04112","01"]
["CO","80728","04112","01"]
["CO","80734","04112","01"]
["CO","80802","04112","01"]
["CO","80830","04112","01"]
["CO","80912","04112","01"]
["CO","80933","04112","01"]
["CO","81002","04112","01"]
["CO","81007","04112","01"]
["CO","81054","04112","01"]
["CO","81073","04112","01"]
["CO","81127","04112","01"]
["CO","81157","04112","01"]
["CO","81215","04112","01"]
["CO","81325","04112","01"]
["CO","81401","04112","01"]
["CO","81430","04112","01"]
["CO","81612","04112","01"]
["CO","81649","04112","01"]
["CT","06023","13102","00"]
["CT","06028","13102","00"]
["CT","06062","13102","00"]
["CT","06083","13102","00"]
["CT","06117","13102","00"]
["CT","06144","13102","00"]
["CT","06151","13102","00"]
["CT","06243","13102","00"]
["CT","06268","13102","00"]
["CT","06370","13102","00"]
["CT","06388","13102","00"]
["CT","06432","13102","00"]
["CT","06440","13102","00"]
["CT","06470","13102","00"]
["CT","06505","13102","00"]
["CT","06536","13102","00"]
["CT","06703","13102","00"]
["CT","06759","13102","00"]
["CT","06796","13102","00"]
["CT","06811","13102","00"]
["CT","06857","13102","00"]
["CT","06904","13102","00"]
["CT","06920","13102","00"]
["DC","20017","12202","01"]
["DC","20043","12202","01"]
["DC","20070","12202","01"]
["DC","20206","12202","01"]
["DC","20242","12202","01"]
["DC","20306","12202","01"]
["DC","20376","12202","01"]
["DC","20391","12202","01"]
["DC","20416","12202","01"]
["DC","20472","12202","01"]
["DC","20523","12202","01"]
["DC","20544","12202","01"]
["DC","20550","12202","01"]
["DC","56944","12202","01"]
["DE","19701","12102","01"]
["DE","19735","12102","01"]
["DE","19892","12102","01"]
["DE","19944","12102","01"]
["DE","19970","12102","01"]
["DE","19980","12102","01"]
["FL","32053","09102","99"]
["FL","32086","09102","99"]
["FL","32120","09102","99"]
["FL","32143","09102","99"]
["FL","32149","09102","99"]
["FL","32189","09102","99"]
["FL","32221","09102","99"]
["FL","32232","09102","99"]
["FL","32310","09102","99"]
["FL","32333","09102","99"]
["FL","32340","09102","99"]
["FL","32404","09102","99"]
["FL","32422","09102","99"]
["FL","32463","09102","99"]
["FL","32531","09102","99"]
["FL","32533","09102","99"]
["FL","32566","09102","99"]
["FL","32595","09102","99"]
["FL","32625","09102","99"]
["FL","32669","09102","99"]
["FL","32714","09102","99"]
["FL","32719","09102","99"]
["FL","32752","09102","99"]
["FL","32783","09102","99"]
["FL","32814","09102","99"]
["FL","32836","09102","99"]
["FL","32856","09102","99"]
["FL","32902","09102","99"]
["FL","32934","09102","99"]
["FL","32967","09102","03"]
["FL","33013","09102","04"]
["FL","33050","09102","04"]
["FL","33056","09102","04"]
["FL","33083","09102","03"]
["FL","33130","09102","04"]
["FL","33143","09102","04"]
["FL","33178","09102","04"]
["FL","33233","09102","04"]
["FL","33303","09102","03"]
["FL","33309","09102","03"]
["FL","33335","09102","03"]
["FL","33406","09102","03"]
["FL","33432","09102","03"]
["FL","33459","09102","03"]
["FL","33467","09102","03"]
["FL","33498","09102","03"]
["FL","33541","09102","99"]
["FL","33576","09102","99"]
["FL","33611","09102","99"]
["FL","33617","09102","99"]
["FL","33655","09102","99"]
["FL","33690","09102","99"]
["FL","33734","09102","99"]
["FL","33760","09102","99"]
["FL","33809","09102","99"]
["FL","33815","09102","99"]
["FL","33848","09102","99"]
["FL","33880","09102","99"]
["FL","33906","09102","03"]
["FL","33947","09102","99"]
["FL","33983","09102","99"]
["FL","34101","09102","03"]
["FL","34142","09102","03"]
["FL","34220","09102","99"]
["FL","34250","09102","99"]
["FL","34290","09102","99"]
["FL","34452","09102","99"]
["FL","34472","09102","99"]
["FL","34601","09102","99"]
["FL","34668","09102","99"]
["FL","34711","09102","99"]
["FL","34759","09102","99"]
["FL","34778","09102","99"]
["FL","34956","09102","03"]
["FM","96944","01212","01"]
["GA","30023","10202","01"]
["GA","30043","10202","01"]
["GA","30076","10202","01"]
["GA","30103","10202","99"]
["GA","30108","10202","99"]
["GA","30132","10202","01"]
["GA","30154","10202","01"]
["GA","30206","10202","99"]
["GA","30238","10202","01"]
["GA","30251","10202","99"]
["GA","30290","10202","01"]
["GA","30308","10202","01"]
["GA","30333","10202","01"]
["GA","30354","10202","01"]
["GA","30381","10202","01"]
["GA","30390","10202","01"]
["GA","30426","10202","99"]
["GA","30460","10202","99"]
["GA","30512","10202","99"]
["GA","30540","10202","99"]
["GA","30552","10202","99"]
["GA","30573","10202","99"]
["GA","30621","10202","99"]
["GA","30648","10202","99"]
["GA","30708","10202","99"]
["GA","30753","10202","99"]
["GA","30820","10202","99"]
["GA","30828","10202","99"]
["GA","31007","10202","99"]
["GA","31028","10202","99"]
["GA","31058","10202","99"]
["GA","31081","10202","99"]
["GA","31086","10202","99"]
["GA","31145","10202","01"]
["GA","31211","10202","99"]
["GA","31314","10202","99"]
["GA","31405","10202","99"]
["GA","31516","10202","99"]
["GA","31534","10202","99"]
["GA","31553","10202","99"]
["GA","31622","10202","99"]
["GA","31698","10202","99"]
["GA","31720","10202","99"]
["GA","31735","10202","99"]
["GA","31749","10202","99"]
["GA","31775","10202","99"]
["GA","31801","10202","99"]
["GA","31831","10202","99"]
["GA","39817","10202","99"]
["GA","39825","10202","99"]
["GA","39867","10202","99"]
["GU","96930","01212","01"]
["HI","96727","01212","01"]
["HI","96751","01212","01"]
["HI","96777","01212","01"]
["HI","96803","01212","01"]
["HI","96808","01212","01"]
["HI","96840","01212","01"]
["HI","96898","01212","01"]
["IA","50032","05102","00"]
["IA","50055","05102","00"]
["IA","50071","05102","00"]
["IA","50108","05102","00"]
["IA","50132","05102","00"]
["IA","50157","05102","00"]
["IA","50207","05102","00"]
["IA","50229","05102","00"]
["IA","50242","05102","00"]
["IA","50266","05102","00"]
["IA","50315","05102","00"]
["IA","50360","05102","00"]
["IA","50420","05102","00"]
["IA","50427","05102","00"]
["IA","50453","05102","00"]
["IA","50481","05102","00"]
["IA","50532","05102","00"]
["IA","50561","05102","00"]
["IA","50591","05102","00"]
["IA","50616","05102","00"]
["IA","50623","05102","00"]
["IA","50654","05102","00"]
["IA","50676","05102","00"]
["IA","50846","05102","00"]
["IA","51003","05102","00"]
["IA","51020","05102","00"]
["IA","51033","05102","00"]
["IA","51056","05102","00"]
["IA","51239","05102","00"]
["IA","51347","05102","00"]
["IA","51436","05102","00"]
["IA","51447","05102","00"]
["IA","51510","05102","00"]
["IA","51549","05102","00"]
["IA","51579","05102","00"]
["IA","51651","05102","00"]
["IA","52047","05102","00"]
["IA","52053","05102","00"]
["IA","52099","05102","00"]
["IA","52168","05102","00"]
["IA","52213","05102","00"]
["IA","52242","05102","00"]
["IA","52247","05102","00"]
["IA","52316","05102","00"]
["IA","52349","05102","00"]
["IA","52409","05102","00"]
["IA","52550","05102","00"]
["IA","52581","05102","00"]
["IA","52630","05102","00"]
["IA","52640","05102","00"]
["IA","52727","05102","00"]
["IA","52753","05102","00"]
["IA","52805","05102","00"]
["ID","83223","02202","00"]
["ID","83230","02202","00"]
["ID","83272","02202","00"]
["ID","83321","02202","00"]
["ID","83403","02202","00"]
["ID","83440","02202","00"]
["ID","83467","02202","00"]
["ID","83522","02202","00"]
["ID","83548","02202","00"]
["ID","83635","02202","00"]
["ID","83655","02202","00"]
["ID","83707","02202","00"]
["ID","83713","02202","00"]
["ID","83744","02202","00"]
["ID","83840","02202","00"]
["ID","83856","02202","00"]
["IL","60002","06102","15"]
["IL","60033","06102","99"]
["IL","60056","06102","16"]
["IL","60068","06102","16"]
["IL","60093","06102","16"]
["IL","60115","06102","99"]
["IL","60141","06102","16"]
["IL","60165","06102","16"]
["IL","60172","06102","15"]
["IL","60197","06102","15"]
["IL","60408","06102","15"]
["IL","60433","06102","15"]
["IL","60457","06102","16"]
["IL","60480","06102","16"]
["IL","60487","06102","16"]
["IL","60525","06102","16"]
["IL","60564","06102","15"]
["IL","60602","06102","16"]
["IL","60623","06102","16"]
["IL","60652","06102","16"]
["IL","60657","06102","16"]
["IL","60695","06102","16"]
["IL","60827","06102","16"]
["IL","60935","06102","99"]
["IL","60959","06102","99"]
["IL","61017","06102","99"]
["IL","61020","06102","99"]
["IL","61054","06102","99"]
["IL","61085","06102","99"]
["IL","61130","06102","99"]
["IL","61257","06102","99"]
["IL","61262","06102","99"]
["IL","61310","06102","99"]
["IL","61335","06102","99"]
["IL","61363","06102","99"]
["IL","61421","06102","99"]
["IL","61424","06102","99"]
["IL","61449","06102","99"]
["IL","61479","06102","99"]
["IL","61520","06102","99"]
["IL","61559","06102","99"]
["IL","61615","06102","99"]
["IL","61653","06102","99"]
["IL","61702","06102","99"]
["IL","61751","06102","99"]
["IL","61770","06102","99"]
["IL","61821","06102","99"]
["IL","61850","06102","99"]
["IL","61857","06102","99"]
["IL","61913","06102","99"]
["IL","61949","06102","99"]
["IL","62026","06102","12"]
["IL","62053","06102","12"]
["IL","62065","06102","12"]
["IL","62091","06102","12"]
["IL","62220","06102","12"]
["IL","62249","06102","12"]
["IL","62278","06102","12"]
["IL","62285","06102","12"]
["IL","62348","06102","99"]
["IL","62349","06102","99"]
["IL","62401","06102","99"]
["IL","62427","06102","99"]
["IL","62465","06102","99"]
["IL","62520","06102","99"]
["IL","62525","06102","99"]
["IL","62549","06102","99"]
["IL","62572","06102","12"]
["IL","62649","06102","12"]
["IL","62684","06102","99"]
["IL","62718","06102","99"]
["IL","62736","06102","99"]
["IL","62801","06102","99"]
["IL","62825","06102","99"]
["IL","62851","06102","99"]
["IL","62877","06102","12"]
["IL","62886","06102","99"]
["IL","62906","06102","99"]
["IL","62934","06102","99"]
["IL","62958","06102","99"]
["IL","62988","06102","99"]
["IN","46001","08102","00"]
["IN","46062","08102","00"]
["IN","46068","08102","00"]
["IN","46114","08102","00"]
["IN","46143","08102","00"]
["IN","46176","08102","00"]
["IN","46220","08102","00"]
["IN","46225","08102","00"]
["IN","46254","08102","00"]
["IN","46302","08102","00"]
["IN","46361","08102","00"]
["IN","46393","08102","00"]
["IN","46517","08102","00"]
["IN","46538","08102","00"]
["IN","46563","08102","00"]
["IN","46626","08102","00"]
["IN","46723","08102","00"]
["IN","46767","08102","00"]
["IN","46778","08102","00"]
["IN","46797","08102","00"]
["IN","46855","08102","00"]
["IN","46901","08102","00"]
["IN","46936","08102","00"]
["IN","46950","08102","00"]
["IN","47003","08102","00"]
["IN","47016","08102","00"]
["IN","47041","08102","00"]
["IN","47129","08102","00"]
["IN","47166","08102","00"]
["IN","47231","08102","00"]
["IN","47282","08102","00"]
["IN","47305","08102","00"]
["IN","47345","08102","00"]
["IN","47381","08102","00"]
["IN","47420","08102","00"]
["IN","47454","08102","00"]
["IN","47467","08102","00"]
["IN","47523","08102","00"]
["IN","47562","08102","00"]
["IN","47612","08102","00"]
["IN","47649","08102","00"]
["IN","47708","08102","00"]
["IN","47805","08102","00"]
["IN","47812","08102","00"]
["IN","47856","08102","00"]
["IN","47880","08102","00"]
["IN","47918","08102","00"]
["IN","47957","08102","00"]
["IN","47963","08102","00"]
["IN","47992","08102","00"]
["WK","66026","05202","00"]
["WK","66054","05202","00"]
["WK","66090","05202","00"]
["EK","66119","05202","00"]
["EK","66204","05202","00"]
["EK","66276","05202","00"]
["WK","66418","05202","00"]
["WK","66503","05202","00"]
["WK","66531","05202","00"]
["WK","66536","05202","00"]
["WK","66612","05202","00"]
["WK","66642","05202","00"]
["WK","66733","05202","00"]
["WK","66760","05202","00"]
["WK","66782","05202","00"]
["WK","66849","05202","00"]
["WK","66871","05202","00"]
["WK","66956","05202","00"]
["WK","67013","05202","00"]
["WK","67038","05202","00"]
["WK","67103","05202","00"]
["WK","67104","05202","00"]
["WK","67138","05202","00"]
["WK","67210","05202","00"]
["WK","67256","05202","00"]
["WK","67352","05202","00"]
["WK","67428","05202","00"]
["WK","67437","05202","00"]
["WK","67470","05202","00"]
["WK","67511","05202","00"]
["WK","67553","05202","00"]
["WK","67581","05202","00"]
["WK","67646","05202","00"]
["WK","67656","05202","00"]
["WK","67731","05202","00"]
["WK","67762","05202","00"]
["WK","67861","05202","00"]
["WK","67905","05202","00"]
["KY","40008","15102","00"]
["KY","40041","15102","00"]
["KY","40075","15102","00"]
["KY","40152","15102","00"]
["KY","40203","15102","00"]
["KY","40241","15102","00"]
["KY","40251","15102","00"]
["KY","40290","15102","00"]
["KY","40342","15102","00"]
["KY","40372","15102","00"]
["KY","40440","15102","00"]
["KY","40447","15102","00"]
["KY","40502","15102","00"]
["KY","40578","15102","00"]
["KY","40595","15102","00"]
["KY","40746","15102","00"]
["KY","40826","15102","00"]
["KY","40870","15102","00"]
["KY","40930","15102","00"]
["KY","40977","15102","00"]
["KY","41015","15102","00"]
["KY","41052","15102","00"]
["KY","41086","15102","00"]
["KY","41096","15102","00"]
["KY","41159","15102","00"]
["KY","41216","15102","00"]
["KY","41274","15102","00"]
["KY","41367","15102","00"]
["KY","41502","15102","00"]
["KY","41517","15102","00"]
["KY","41549","15102","00"]
["KY","41631","15102","00"]
["KY","41668","15102","00"]
["KY","41745","15102","00"]
["KY","41821","15102","00"]
["KY","41822","15102","00"]
["KY","42003","15102","00"]
["KY","42039","15102","00"]
["KY","42069","15102","00"]
["KY","42130","15102","00"]
["KY","42140","15102","00"]
["KY","42220","15102","00"]
["KY","42261","15102","00"]
["KY","42321","15102","00"]
["KY","42355","15102","00"]
["KY","42408","15102","00"]
["KY","42462","15102","00"]
["KY","42503","15102","00"]
["KY","42633","15102","00"]
["KY","42731","15102","00"]
["KY","42783","15102","00"]
["LA","70043","07202","01"]
["LA","70050","07202","01"]
["LA","70078","07202","99"]
["LA","70128","07202","01"]
["LA","70152","07202","01"]
["LA","70178","07202","01"]
["LA","70354","07202","99"]
["LA","70359","07202","99"]
["LA","70435","07202","99"]
["LA","70450","07202","99"]
["LA","70500","07202","99"]
["LA","70525","07202","99"]
["LA","70531","07202","99"]
["LA","70583","07202","99"]
["LA","70601","07202","99"]
["LA","70647","07202","99"]
["LA","70706","07202","99"]
["LA","70737","07202","99"]
["LA","70764","07202","99"]
["LA","70772","07202","99"]
["LA","70807","07202","99"]
["LA","70833","07202","99"]
["LA","71021","07202","99"]
["LA","71050","07202","99"]
["LA","71051","07202","99"]
["LA","71104","07202","99"]
["LA","71138","07202","99"]
["LA","71219","07202","99"]
["LA","71249","07202","99"]
["LA","71280","07202","99"]
["LA","71291","07202","99"]
["LA","71355","07202","99"]
["LA","71365","07202","99"]
["LA","71422","07202","99"]
["LA","71447","07202","99"]
["LA","71477","07202","99"]
["MA","01009","14212","99"]
["MA","01028","14212","99"]
["MA","01068","14212","99"]
["MA","01093","14212","99"]
["MA","01195","14212","99"]
["MA","01201","14212","99"]
["MA","01247","14212","99"]
["MA","01342","14212","99"]
["MA","01431","14212","01"]
["MA","01504","14212","99"]
["MA","01529","14212","99"]
["MA","01569","14212","99"]
["MA","01582","14212","99"]
["MA","01702","14212","01"]
["MA","01784","14212","01"]
["MA","01832","14212","99"]
["MA","01867","14212","01"]
["MA","01886","14212","01"]
["MA","01969","14212","99"]
["MA","02020","14212","99"]
["MA","02060","14212","99"]
["MA","02114","14212","01"]
["MA","02135","14212","01"]
["MA","02155","14212","01"]
["MA","02162","14212","01"]
["MA","02189","14212","01"]
["MA","02228","14212","01"]
["MA","02272","14212","01"]
["MA","02332","14212","99"]
["MA","02359","14212","99"]
["MA","02453","14212","01"]
["MA","02492","14212","01"]
["MA","02539","14212","99"]
["MA","02643","14212","99"]
["MA","02648","14212","99"]
["MA","02673","14212","99"]
["MA","02745","14212","99"]
["MA","02769","14212","99"]
["MD","20626","12302","99"]
["MD","20667","12302","99"]
["MD","20670","12302","99"]
["MD","20704","12202","01"]
["MD","20741","12202","01"]
["MD","20765","12302","01"]
["MD","20799","12202","01"]
["MD","20847","12202","01"]
["MD","20850","12202","01"]
["MD","20891","12202","01"]
["MD","20915","12202","01"]
["MD","21035","12302","01"]
["MD","21050","12302","01"]
["MD","21113","12302","01"]
["MD","21123","12302","01"]
["MD","21162","12302","01"]
["MD","21223","12302","01"]
["MD","21234","12302","01"]
["MD","21402","12302","01"]
["MD","21411","12302","01"]
["MD","21541","12302","99"]
["MD","21626","12302","99"]
["MD","21664","12302","99"]
["MD","21679","12302","99"]
["MD","21720","12302","99"]
["MD","21757","12302","01"]
["MD","21765","12302","01"]
["MD","21797","12302","01"]
["MD","21837","12302","99"]
["MD","21875","12302","99"]
["MD","21904","12302","99"]
["ME","03910","14112","03"]
["ME","04028","14112","03"]
["ME","04055","14112","03"]
["ME","04086","14112","99"]
["ME","04101","14112","03"]
["ME","04238","14112","99"]
["ME","04250","14112","99"]
["ME","04282","14112","99"]
["ME","04345","14112","99"]
["ME","04360","14112","99"]
["ME","04443","14112","99"]
["ME","04451","14112","99"]
["ME","04487","14112","99"]
["ME","04549","14112","99"]
["ME","04572","14112","99"]
["ME","04637","14112","99"]
["ME","04671","14112","99"]
["ME","04676","14112","99"]
["ME","04743","14112","99"]
["ME","04773","14112","99"]
["ME","04855","14112","99"]
["ME","04922","14112","99"]
["ME","04951","14112","99"]
["ME","04958","14112","99"]
["ME","04983","14112","99"]
["MI","48025","08202","01"]
["MI","48048","08202","01"]
["MI","48081","08202","01"]
["MI","48086","08202","01"]
["MI","48110","08202","99"]
["MI","48138","08202","01"]
["MI","48166","08202","99"]
["MI","48187","08202","01"]
["MI","48224","08202","01"]
["MI","48255","08202","01"]
["MI","48266","08202","01"]
["MI","48309","08202","01"]
["MI","48330","08202","01"]
["MI","48380","08202","01"]
["MI","48419","08202","99"]
["MI","48426","08202","99"]
["MI","48456","08202","99"]
["MI","48503","08202","99"]
["MI","48607","08202","99"]
["MI","48628","08202","99"]
["MI","48659","08202","99"]
["MI","48686","08202","99"]
["MI","48732","08202","99"]
["MI","48760","08202","99"]
["MI","48812","08202","99"]
["MI","48840","08202","99"]
["MI","48849","08202","99"]
["MI","48867","08202","99"]
["MI","48894","08202","99"]
["MI","48950","08202","99"]
["MI","49015","08202","99"]
["MI","49046","08202","99"]
["MI","49070","08202","99"]
["MI","49075","08202","99"]
["MI","49102","08202","99"]
["MI","49201","08202","99"]
["MI","49250","08202","99"]
["MI","49277","08202","99"]
["MI","49278","08202","99"]
["MI","49320","08202","99"]
["MI","49340","08202","99"]
["MI","49413","08202","99"]
["MI","49443","08202","99"]
["MI","49501","08202","99"]
["MI","49514","08202","99"]
["MI","49588","08202","99"]
["MI","49633","08202","99"]
["MI","49664","08202","99"]
["MI","49696","08202","99"]
["MI","49718","08202","99"]
["MI","49738","08202","99"]
["MI","49765","08202","99"]
["MI","49797","08202","99"]
["MI","49829","08202","99"]
["MI","49865","08202","99"]
["MI","49872","08202","99"]
["MI","49902","08202","99"]
["MI","49945","08202","99"]
["MI","49971","08202","99"]
["MN","55032","06202","00"]
["MN","55067","06202","00"]
["MN","55090","06202","00"]
["MN","55112","06202","00"]
["MN","55130","06202","00"]
["MN","55189","06202","00"]
["MN","55322","06202","00"]
["MN","55344","06202","00"]
["MN","55360","06202","00"]
["MN","55376","06202","00"]
["MN","55397","06202","00"]
["MN","55422","06202","00"]
["MN","55447","06202","00"]
["MN","55473","06202","00"]
["MN","55553","06202","00"]
["MN","55574","06202","00"]
["MN","55599","06202","00"]
["MN","55709","06202","00"]
["MN","55741","06202","00"]
["MN","55747","06202","00"]
["MN","55777","06202","00"]
["MN","55808","06202","00"]
["MN","55925","06202","00"]
["MN","55953","06202","00"]
["MN","55982","06202","00"]
["MN","55990","06202","00"]
["MN","56037","06202","00"]
["MN","56055","06202","00"]
["MN","56083","06202","00"]
["MN","56123","06202","00"]
["MN","56155","06202","00"]
["MN","56171","06202","00"]
["MN","56186","06202","00"]
["MN","56231","06202","00"]
["MN","56260","06202","00"]
["MN","56291","06202","00"]
["MN","56313","06202","00"]
["MN","56324","06202","00"]
["MN","56353","06202","00"]
["MN","56377","06202","00"]
["MN","56438","06202","00"]
["MN","56467","06202","00"]
["MN","56520","06202","00"]
["MN","56525","06202","00"]
["MN","56550","06202","00"]
["MN","56583","06202","00"]
["MN","56634","06202","00"]
["MN","56663","06202","00"]
["MN","56670","06202","00"]
["MN","56714","06202","00"]
["MN","56756","06202","00"]
["EM","63021","05302","01"]
["EM","63045","05302","01"]
["EM","63084","05302","99"]
["EM","63113","05302","01"]
["EM","63121","05302","01"]
["EM","63147","05302","01"]
["EM","63190","05302","01"]
["EM","63349","05302","99"]
["EM","63376","05302","01"]
["EM","63386","05302","01"]
["EM","63451","05302","99"]
["EM","63474","05302","99"]
["EM","63563","05302","99"]
["EM","63638","05302","99"]
["EM","63675","05302","99"]
["EM","63730","05302","99"]
["EM","63767","05302","99"]
["EM","63833","05302","99"]
["EM","63862","05302","99"]
["EM","63932","05302","99"]
["EM","63937","05302","99"]
["EM","63967","05302","99"]
["WM","64055","05302","02"]
["WM","64073","05302","02"]
["WM","64097","05302","99"]
["WM","64129","05302","02"]
["WM","64151","05302","02"]
["WM","64160","05302","02"]
["WM","64194","05302","02"]
["WM","64439","05302","02"]
["WM","64465","05302","99"]
["WM","64487","05302","99"]
["WM","64494","05302","99"]
["WM","64636","05302","99"]
["WM","64661","05302","99"]
["WM","64734","05302","99"]
["EM","64756","05302","99"]
["WM","64765","05302","99"]
["EM","64804","05302","99"]
["EM","64862","05302","99"]
["EM","65037","05302","99"]
["EM","65054","05302","99"]
["EM","65085","05302","99"]
["EM","65218","05302","99"]
["EM","65236","05302","99"]
["EM","65285","05302","99"]
["WM","65326","05302","99"]
["EM","65409","05302","99"]
["EM","65468","05302","99"]
["EM","65557","05302","99"]
["EM","65571","05302","99"]
["EM","65611","05302","99"]
["EM","65638","05302","99"]
["EM","65663","05302","99"]
["EM","65706","05302","99"]
["EM","65713","05302","99"]
["EM","65738","05302","99"]
["EM","65770","05302","99"]
["EM","65785","05302","99"]
["MS","38614","07302","00"]
["MS","38621","07302","00"]
["MS","38645","07302","00"]
["MS","38677","07302","00"]
["MS","38754","07302","00"]
["MS","38773","07302","00"]
["MS","38843","07302","00"]
["MS","38868","07302","00"]
["MS","38874","07302","00"]
["MS","38948","07302","00"]
["MS","38962","07302","00"]
["MS","39063","07302","00"]
["MS","39107","07302","00"]
["MS","39109","07302","00"]
["MS","39156","07302","00"]
["MS","39180","07302","00"]
["MS","39216","07302","00"]
["MS","39309","07302","00"]
["MS","39324","07302","00"]
["MS","39358","07302","00"]
["MS","39426","07302","00"]
["MS","39474","07302","00"]
["MS","39503","07302","00"]
["MS","39574","07302","00"]
["MS","39657","07302","00"]
["MS","39665","07302","00"]
["MS","39746","07302","00"]
["MS","39771","07302","00"]
["MT","59034","03202","01"]
["MT","59067","03202","01"]
["MT","59072","03202","01"]
["MT","59105","03202","01"]
["MT","59255","03202","01"]
["MT","59270","03202","01"]
["MT","59338","03202","01"]
["MT","59419","03202","01"]
["MT","59427","03202","01"]
["MT","59456","03202","01"]
["MT","59489","03202","01"]
["MT","59545","03202","01"]
["MT","59647","03202","01"]
["MT","59713","03202","01"]
["MT","59735","03202","01"]
["MT","59801","03202","01"]
["MT","59834","03202","01"]
["MT","59856","03202","01"]
["MT","59925","03202","01"]
["NC","27016","11502","00"]
["NC","27021","11502","00"]
["NC","27053","11502","00"]
["NC","27115","11502","00"]
["NC","27231","11502","00"]
["NC","27265","11502","00"]
["NC","27283","11502","00"]
["NC","27315","11502","00"]
["NC","27356","11502","00"]
["NC","27417","11502","00"]
["NC","27508","11502","00"]
["NC","27533","11502","00"]
["NC","27541","11502","00"]
["NC","27570","11502","00"]
["NC","27604","11502","00"]
["NC","27626","11502","00"]
["NC","27706","11502","00"]
["NC","27715","11502","00"]
["NC","27817","11502","00"]
["NC","27842","11502","00"]
["NC","27868","11502","00"]
["NC","27889","11502","00"]
["NC","27907","11502","00"]
["NC","27958","11502","00"]
["NC","27965","11502","00"]
["NC","28016","11502","00"]
["NC","28039","11502","00"]
["NC","28090","11502","00"]
["NC","28119","11502","00"]
["NC","28160","11502","00"]
["NC","28168","11502","00"]
["NC","28217","11502","00"]
["NC","28246","11502","00"]
["NC","28282","11502","00"]
["NC","28310","11502","00"]
["NC","28326","11502","00"]
["NC","28344","11502","00"]
["NC","28371","11502","00"]
["NC","28399","11502","00"]
["NC","28430","11502","00"]
["NC","28444","11502","00"]
["NC","28504","11502","00"]
["NC","28512","11502","00"]
["NC","28542","11502","00"]
["NC","28573","11502","00"]
["NC","28589","11502","00"]
["NC","28616","11502","00"]
["NC","28640","11502","00"]
["NC","28666","11502","00"]
["NC","28690","11502","00"]
["NC","28719","11502","00"]
["NC","28744","11502","00"]
["NC","28766","11502","00"]
["NC","28773","11502","00"]
["NC","28802","11502","00"]
["ND","58012","03302","01"]
["ND","58048","03302","01"]
["ND","58074","03302","01"]
["ND","58109","03302","01"]
["ND","58213","03302","01"]
["ND","58240","03302","01"]
["ND","58275","03302","01"]
["ND","58330","03302","01"]
["ND","58355","03302","01"]
["ND","58377","03302","01"]
["ND","58426","03302","01"]
["ND","58463","03302","01"]
["ND","58497","03302","01"]
["ND","58530","03302","01"]
["ND","58579","03302","01"]
["ND","58580","03302","01"]
["ND","58647","03302","01"]
["ND","58723","03302","01"]
["ND","58761","03302","01"]
["ND","58794","03302","01"]
["ND","58830","03302","01"]
["NE","68009","05402","00"]
["NE","68041","05402","00"]
["NE","68069","05402","00"]
["NE","68123","05402","00"]
["NE","68176","05402","00"]
["NE","68309","05402","00"]
["NE","68324","05402","00"]
["NE","68346","05402","00"]
["NE","68376","05402","00"]
["NE","68422","05402","00"]
["NE","68443","05402","00"]
["NE","68456","05402","00"]
["NE","68520","05402","00"]
["NE","68623","05402","00"]
["NE","68654","05402","00"]
["NE","68714","05402","00"]
["NE","68745","05402","00"]
["NE","68751","05402","00"]
["NE","68774","05402","00"]
["NE","68818","05402","00"]
["NE","68841","05402","00"]
["NE","68870","05402","00"]
["NE","68875","05402","00"]
["NE","68933","05402","00"]
["NE","68966","05402","00"]
["NE","69025","05402","00"]
["NE","69101","05402","00"]
["NE","69148","05402","00"]
["NE","69169","05402","00"]
["NE","69216","05402","00"]
["NE","69353","05402","00"]
["NH","03034","14312","40"]
["NH","03070","14312","40"]
["NH","03107","14312","40"]
["NH","03222","14312","40"]
["NH","03252","14312","40"]
["NH","03278","14312","40"]
["NH","03443","14312","40"]
["NH","03466","14312","40"]
["NH","03603","14312","40"]
["NH","03609","14312","40"]
["NH","03773","14312","40"]
["NH","03826","14312","40"]
["NH","03850","14312","40"]
["NH","03872","14312","40"]
["NJ","07011","12402","01"]
["NJ","07016","12402","01"]
["NJ","07050","12402","01"]
["NJ","07070","12402","01"]
["NJ","07094","12402","01"]
["NJ","07193","12402","01"]
["NJ","07199","12402","01"]
["NJ","07418","12402","01"]
["NJ","07444","12402","01"]
["NJ","07502","12402","01"]
["NJ","07606","12402","01"]
["NJ","07648","12402","01"]
["NJ","07716","12402","99"]
["NJ","07721","12402","99"]
["NJ","07755","12402","99"]
["NJ","07827","12402","01"]
["NJ","07851","12402","01"]
["NJ","07902","12402","01"]
["NJ","07926","12402","01"]
["NJ","07979","12402","01"]
["NJ","08030","12402","99"]
["NJ","08049","12402","99"]
["NJ","08075","12402","99"]
["NJ","08097","12402","99"]
["NJ","08102","12402","99"]
["NJ","08241","12402","99"]
["NJ","08310","12402","99"]
["NJ","08344","12402","99"]
["NJ","08502","12402","01"]
["NJ","08512","12402","01"]
["NJ","08604","12402","99"]
["NJ","08628","12402","99"]
["NJ","08733","12402","99"]
["NJ","08803","12402","01"]
["NJ","08833","12402","01"]
["NJ","08846","12402","01"]
["NJ","08875","12402","01"]
["NJ","08989","12402","01"]
["NM","87023","04212","05"]
["NM","87053","04212","05"]
["NM","87113","04212","05"]
["NM","87114","04212","05"]
["NM","87185","04212","05"]
["NM","87327","04212","05"]
["NM","87419","04212","05"]
["NM","87519","04212","05"]
["NM","87545","04212","05"]
["NM","87552","04212","05"]
["NM","87714","04212","05"]
["NM","87736","04212","05"]
["NM","87930","04212","05"]
["NM","88012","04212","05"]
["NM","88045","04212","05"]
["NM","88065","04212","05"]
["NM","88119","04212","05"]
["NM","88240","04212","05"]
["NM","88321","04212","05"]
["NM","88355","04212","05"]
["NM","88411","04212","05"]
["NM","88441","04212","05"]
["NV","89023","01312","00"]
["NV","89052","01312","00"]
["NV","89113","01312","00"]
["NV","89134","01312","00"]
["NV","89155","01312","00"]
["NV","89160","01312","00"]
["NV","89408","01312","00"]
["NV","89422","01312","00"]
["NV","89449","01312","00"]
["NV","89494","01312","00"]
["NV","89555","01312","00"]
["NY","00501","13202","02"]
["NY","10008","13202","01"]
["NY","10033","13202","01"]
["NY","10087","13202","01"]
["NY","10115","13202","01"]
["NY","10149","13202","01"]
["NY","10161","13202","01"]
["NY","10196","13202","01"]
["NY","10276","13202","01"]
["NY","10285","13202","01"]
["NY","10454","13202","02"]
["NY","10503","13202","02"]
["NY","10528","13202","02"]
["NY","10562","13202","02"]
["NY","10578","13202","02"]
["NY","10801","13202","02"]
["NY","10901","13202","02"]
["NY","10931","13202","02"]
["NY","10964","13202","02"]
["NY","11005","13292","04"]
["NY","11055","13202","02"]
["NY","11215","13202","02"]
["NY","11216","13202","02"]
["NY","11237","13202","02"]
["NY","11365","13292","04"]
["NY","11411","13292","04"]
["NY","11436","13292","04"]
["NY","11501","13202","02"]
["NY","11576","13202","02"]
["NY","11590","13202","02"]
["NY","11705","13202","02"]
["NY","11735","13202","02"]
["NY","11742","13202","02"]
["NY","11788","13202","02"]
["NY","11793","13202","02"]
["NY","11934","13202","02"]
["NY","11963","13202","02"]
["NY","12028","13282","99"]
["NY","12052","13282","99"]
["NY","12057","13282","99"]
["NY","12085","13282","99"]
["NY","12123","13282","99"]
["NY","12164","13282","99"]
["NY","12181","13282","99"]
["NY","12209","13282","99"]
["NY","12220","13282","99"]
["NY","12241","13282","99"]
["NY","12325","13282","99"]
["NY","12423","13202","03"]
["NY","12453","13202","03"]
["NY","12458","13202","03"]
["NY","12485","13202","03"]
["NY","12516","13202","03"]
["NY","12546","13202","03"]
["NY","12575","13202","03"]
["NY","12589","13202","03"]
["NY","12750","13202","03"]
["NY","12759","13202","03"]
["NY","12788","13202","03"]
["NY","12823","13282","99"]
["NY","12841","13282","99"]
["NY","12901","13282","99"]
["NY","12903","13282","99"]
["NY","12936","13282","99"]
["NY","12964","13282","99"]
["NY","12981","13282","99"]
["NY","13052","13282","99"]
["NY","13080","13282","99"]
["NY","13087","13282","99"]
["NY","13122","13282","99"]
["NY","13153","13282","99"]
["NY","13212","13282","99"]
["NY","13304","13282","99"]
["NY","13333","13282","99"]
["NY","13335","13282","99"]
["NY","13401","13282","99"]
["NY","13437","13282","99"]
["NY","13471","13282","99"]
["NY","13489","13282","99"]
["NY","13605","13282","99"]
["NY","13627","13282","99"]
["NY","13655","13282","99"]
["NY","13677","13282","99"]
["NY","13696","13282","99"]
["NY","13775","13202","03"]
["NY","13807","13282","99"]
["NY","13812","13282","99"]
["NY","13849","13282","99"]
["NY","13905","13282","99"]
["NY","14042","13282","99"]
["NY","14070","13282","99"]
["NY","14082","13282","99"]
["NY","14129","13282","99"]
["NY","14172","13282","99"]
["NY","14223","13282","99"]
["NY","14304","13282","99"]
["NY","14437","13282","99"]
["NY","14452","13282","99"]
["NY","14481","13282","99"]
["NY","14522","13282","99"]
["NY","14556","13282","99"]
["NY","14588","13282","99"]
["NY","14607","13282","99"]
["NY","14638","13282","99"]
["NY","14708","13282","99"]
["NY","14736","13282","99"]
["NY","14755","13282","99"]
["NY","14807","13282","99"]
["NY","14813","13282","99"]
["NY","14840","13282","99"]
["NY","14870","13282","99"]
["NY","14892","13282","99"]
["OH","43017","15202","00"]
["OH","43050","15202","00"]
["OH","43054","15202","00"]
["OH","43093","15202","00"]
["OH","43130","15202","00"]
["OH","43157","15202","00"]
["OH","43216","15202","00"]
["OH","43253","15202","00"]
["OH","43279","15202","00"]
["OH","43321","15202","00"]
["OH","43346","15202","00"]
["OH","43433","15202","00"]
["OH","43457","15202","00"]
["OH","43524","15202","00"]
["OH","43529","15202","00"]
["OH","43554","15202","00"]
["OH","43614","15202","00"]
["OH","43660","15202","00"]
["OH","43736","15202","00"]
["OH","43747","15202","00"]
["OH","43777","15202","00"]
["OH","43837","15202","00"]
["OH","43916","15202","00"]
["OH","43953","15202","00"]
["OH","44005","15202","00"]
["OH","44046","15202","00"]
["OH","44061","15202","00"]
["OH","44088","15202","00"]
["OH","44112","15202","00"]
["OH","44137","15202","00"]
["OH","44142","15202","00"]
["OH","44212","15202","00"]
["OH","44238","15202","00"]
["OH","44275","15202","00"]
["OH","44316","15202","00"]
["OH","44411","15202","00"]
["OH","44427","15202","00"]
["OH","44445","15202","00"]
["OH","44501","15202","00"]
["OH","44609","15202","00"]
["OH","44632","15202","00"]
["OH","44663","15202","00"]
["OH","44670","15202","00"]
["OH","44704","15202","00"]
["OH","44802","15202","00"]
["OH","44837","15202","00"]
["OH","44864","15202","00"]
["OH","45001","15202","00"]
["OH","45011","15202","00"]
["OH","45065","15202","00"]
["OH","45110","15202","00"]
["OH","45150","15202","00"]
["OH","45177","15202","00"]
["OH","45225","15202","00"]
["OH","45239","15202","00"]
["OH","45252","15202","00"]
["OH","45305","15202","00"]
["OH","45327","15202","00"]
["OH","45352","15202","00"]
["OH","45372","15202","00"]
["OH","45387","15202","00"]
["OH","45423","15202","00"]
["OH","45463","15202","00"]
["OH","45622","15202","00"]
["OH","45658","15202","00"]
["OH","45686","15202","00"]
["OH","45693","15202","00"]
["OH","45727","15202","00"]
["OH","45777","15202","00"]
["OH","45815","15202","00"]
["OH","45843","15202","00"]
["OH","45849","15202","00"]
["OH","45884","15202","00"]
["OH","45944","15202","00"]
["OK","73023","04312","00"]
["OK","73045","04312","00"]
["OK","73071","04312","00"]
["OK","73085","04312","00"]
["OK","73098","04312","00"]
["OK","73124","04312","00"]
["OK","73147","04312","00"]
["OK","73180","04312","00"]
["OK","73430","04312","00"]
["OK","73442","04312","00"]
["OK","73506","04312","00"]
["OK","73547","04312","00"]
["OK","73573","04312","00"]
["OK","73654","04312","00"]
["OK","73717","04312","00"]
["OK","73724","04312","00"]
["OK","73756","04312","00"]
["OK","73848","04312","00"]
["OK","73947","04312","00"]
["OK","74023","04312","00"]
["OK","74026","04312","00"]
["OK","74067","04312","00"]
["OK","74079","04312","00"]
["OK","74127","04312","00"]
["OK","74169","04312","00"]
["OK","74339","04312","00"]
["OK","74362","04312","00"]
["OK","74401","04312","00"]
["OK","74446","04312","00"]
["OK","74501","04312","00"]
["OK","74549","04312","00"]
["OK","74576","04312","00"]
["OK","74636","04312","00"]
["OK","74728","04312","00"]
["OK","74764","04312","00"]
["OK","74851","04312","00"]
["OK","74878","04312","00"]
["OK","74901","04312","00"]
["OK","74954","04312","00"]
["OR","97016","02302","99"]
["OR","97051","02302","99"]
["OR","97075","02302","01"]
["OR","97122","02302","99"]
["OR","97147","02302","99"]
["OR","97217","02302","01"]
["OR","97229","02302","01"]
["OR","97268","02302","01"]
["OR","97309","02302","99"]
["OR","97341","02302","99"]
["OR","97368","02302","99"]
["OR","97377","02302","99"]
["OR","97407","02302","99"]
["OR","97436","02302","99"]
["OR","97462","02302","99"]
["OR","97484","02302","99"]
["OR","97492","02302","99"]
["OR","97531","02302","99"]
["OR","97630","02302","99"]
["OR","97736","02302","99"]
["OR","97812","02302","99"]
["OR","97819","02302","99"]
["OR","97843","02302","99"]
["OR","97883","02302","99"]
["PA","15017","12502","99"]
["PA","15035","12502","99"]
["PA","15065","12502","99"]
["PA","15071","12502","99"]
["PA","15102","12502","99"]
["PA","15203","12502","99"]
["PA","15217","12502","99"]
["PA","15242","12502","99"]
["PA","15276","12502","99"]
["PA","15277","12502","99"]
["PA","15327","12502","99"]
["PA","15357","12502","99"]
["PA","15412","12502","99"]
["PA","15440","12502","99"]
["PA","15468","12502","99"]
["PA","15472","12502","99"]
["PA","15531","12502","99"]
["PA","15553","12502","99"]
["PA","15601","12502","99"]
["PA","15644","12502","99"]
["PA","15680","12502","99"]
["PA","15685","12502","99"]
["PA","15716","12502","99"]
["PA","15758","12502","99"]
["PA","15777","12502","99"]
["PA","15845","12502","99"]
["PA","15851","12502","99"]
["PA","15921","12502","99"]
["PA","16001","12502","99"]
["PA","16029","12502","99"]
["PA","16056","12502","99"]
["PA","16125","12502","99"]
["PA","16133","12502","99"]
["PA","16201","12502","99"]
["PA","16238","12502","99"]
["PA","16301","12502","99"]
["PA","16345","12502","99"]
["PA","16401","12502","99"]
["PA","16404","12502","99"]
["PA","16438","12502","99"]
["PA","16522","12502","99"]
["PA","16601","12502","99"]
["PA","16652","12502","99"]
["PA","16675","12502","99"]
["PA","16681","12502","99"]
["PA","16733","12502","99"]
["PA","16802","12502","99"]
["PA","16853","12502","99"]
["PA","16878","12502","99"]
["PA","16910","12502","99"]
["PA","16941","12502","99"]
["PA","17009","12502","99"]
["PA","17040","12502","99"]
["PA","17061","12502","99"]
["PA","17087","12502","99"]
["PA","17093","12502","99"]
["PA","17124","12502","99"]
["PA","17228","12502","99"]
["PA","17260","12502","99"]
["PA","17311","12502","99"]
["PA","17318","12502","99"]
["PA","17343","12502","99"]
["PA","17401","12502","99"]
["PA","17522","12502","99"]
["PA","17550","12502","99"]
["PA","17603","12502","99"]
["PA","17729","12502","99"]
["PA","17738","12502","99"]
["PA","17770","12502","99"]
["PA","17823","12502","99"]
["PA","17858","12502","99"]
["PA","17901","12502","99"]
["PA","17946","12502","99"]
["PA","17953","12502","99"]
["PA","17982","12502","99"]
["PA","18041","12502","01"]
["PA","18070","12502","01"]
["PA","18101","12502","99"]
["PA","18201","12502","99"]
["PA","18239","12502","99"]
["PA","18322","12502","99"]
["PA","18351","12502","99"]
["PA","18416","12502","99"]
["PA","18431","12502","99"]
["PA","18454","12502","99"]
["PA","18504","12502","99"]
["PA","18618","12502","99"]
["PA","18643","12502","99"]
["PA","18766","12502","99"]
["PA","18774","12502","99"]
["PA","18831","12502","99"]
["PA","18915","12502","01"]
["PA","18934","12502","01"]
["PA","18974","12502","01"]
["PA","19021","12502","01"]
["PA","19044","12502","01"]
["PA","19050","12502","01"]
["PA","19075","12502","01"]
["PA","19106","12502","01"]
["PA","19132","12502","01"]
["PA","19161","12502","01"]
["PA","19178","12502","01"]
["PA","19255","12502","01"]
["PA","19346","12502","01"]
["PA","19380","12502","01"]
["PA","19426","12502","01"]
["PA","19442","12502","01"]
["PA","19468","12502","01"]
["PA","19494","12502","01"]
["PA","19534","12502","99"]
["PA","19560","12502","99"]
["PR","00613","09202","20"]
["PR","00670","09202","20"]
["PR","00680","09202","20"]
["PR","00719","09202","20"]
["PR","00744","09202","20"]
["PR","00901","09202","20"]
["PR","00929","09202","20"]
["PR","00935","09202","20"]
["PR","00965","09202","20"]
["RI","02806","14412","01"]
["RI","02835","14412","01"]
["RI","02877","14412","01"]
["RI","02907","14412","01"]
["RI","02921","14412","01"]
["SC","29030","11202","01"]
["SC","29062","11202","01"]
["SC","29107","11202","01"]
["SC","29143","11202","01"]
["SC","29166","11202","01"]
["SC","29202","11202","01"]
["SC","29228","11202","01"]
["SC","29323","11202","01"]
["SC","29368","11202","01"]
["SC","29386","11202","01"]
["SC","29435","11202","01"]
["SC","29440","11202","01"]
["SC","29470","11202","01"]
["SC","29512","11202","01"]
["SC","29560","11202","01"]
["SC","29583","11202","01"]
["SC","29589","11202","01"]
["SC","29613","11202","01"]
["SC","29645","11202","01"]
["SC","29671","11202","01"]
["SC","29693","11202","01"]
["SC","29728","11202","01"]
["SC","29802","11202","01"]
["SC","29824","11202","01"]
["SC","29856","11202","01"]
["SC","29921","11202","01"]
["SD","57004","03402","02"]
["SD","57024","03402","02"]
["SD","57036","03402","02"]
["SD","57062","03402","02"]
["SD","57109","03402","02"]
["SD","57217","03402","02"]
["SD","57238","03402","02"]
["SD","57272","03402","02"]
["SD","57279","03402","02"]
["SD","57341","03402","02"]
["SD","57373","03402","02"]
["SD","57428","03402","02"]
["SD","57454","03402","02"]
["SD","57522","03402","02"]
["SD","57531","03402","02"]
["SD","57570","03402","02"]
["SD","57629","03402","02"]
["SD","57658","03402","02"]
["SD","57732","03402","02"]
["SD","57758","03402","02"]
["SD","57769","03402","02"]
["TN","37013","10302","35"]
["TN","37042","10302","35"]
["TN","37066","10302","35"]
["TN","37087","10302","35"]
["TN","37137","10302","35"]
["TN","37143","10302","35"]
["TN","37181","10302","35"]
["TN","37212","10302","35"]
["TN","37238","10302","35"]
["TN","37248","10302","35"]
["TN","37320","10302","35"]
["TN","37347","10302","35"]
["TN","37379","10302","35"]
["TN","37402","10302","35"]
["TN","37605","10302","35"]
["TN","37662","10302","35"]
["TN","37680","10302","35"]
["TN","37723","10302","35"]
["TN","37754","10302","35"]
["TN","37809","10302","35"]
["TN","37842","10302","35"]
["TN","37869","10302","35"]
["TN","37880","10302","35"]
["TN","37920","10302","35"]
["TN","38002","10302","35"]
["TN","38030","10302","35"]
["TN","38058","10302","35"]
["TN","38069","10302","35"]
["TN","38112","10302","35"]
["TN","38139","10302","35"]
["TN","38182","10302","35"]
["TN","38231","10302","35"]
["TN","38308","10302","35"]
["TN","38310","10302","35"]
["TN","38341","10302","35"]
["TN","38378","10302","35"]
["TN","38451","10302","35"]
["TN","38483","10302","35"]
["TN","38552","10302","35"]
["TN","38557","10302","35"]
["TX","75002","04412","99"]
["TX","75022","04412","99"]
["TX","75049","04412","11"]
["TX","75081","04412","11"]
["TX","75105","04412","99"]
["TX","75116","04412","11"]
["TX","75146","04412","11"]
["TX","75180","04412","11"]
["TX","75221","04412","11"]
["TX","75244","04412","11"]
["TX","75248","04412","11"]
["TX","75295","04412","11"]
["TX","75355","04412","11"]
["TX","75389","04412","11"]
["TX","75420","04412","99"]
["TX","75444","04412","99"]
["TX","75450","04412","99"]
["TX","75476","04412","99"]
["TX","75561","04412","99"]
["TX","75574","04412","99"]
["TX","75650","04412","99"]
["TX","75656","04412","99"]
["TX","75686","04412","99"]
["TX","75770","04412","99"]
["TX","75792","04412","99"]
["TX","75850","04412","99"]
["TX","75930","04412","99"]
["TX","75958","04412","99"]
["TX","75979","04412","99"]
["TX","76011","04412","28"]
["TX","76041","04412","99"]
["TX","76078","04412","99"]
["TX","76109","04412","28"]
["TX","76113","04412","28"]
["TX","76148","04412","28"]
["TX","76197","04412","28"]
["TX","76245","04412","99"]
["TX","76301","04412","99"]
["TX","76370","04412","99"]
["TX","76377","04412","99"]
["TX","76442","04412","99"]
["TX","76462","04412","99"]
["TX","76523","04412","99"]
["TX","76548","04412","99"]
["TX","76598","04412","99"]
["TX","76624","04412","99"]
["TX","76667","04412","99"]
["TX","76682","04412","99"]
["TX","76714","04412","99"]
["TX","76844","04412","99"]
["TX","76853","04412","99"]
["TX","76909","04412","99"]
["TX","76940","04412","99"]
["TX","77011","04412","18"]
["TX","77036","04412","18"]
["TX","77063","04412","18"]
["TX","77083","04412","18"]
["TX","77088","04412","18"]
["TX","77216","04412","18"]
["TX","77238","04412","18"]
["TX","77269","04412","18"]
["TX","77288","04412","18"]
["TX","77293","04412","18"]
["TX","77336","04412","18"]
["TX","77354","04412","99"]
["TX","77387","04412","99"]
["TX","77428","04412","99"]
["TX","77451","04412","99"]
["TX","77456","04412","99"]
["TX","77476","04412","99"]
["TX","77508","04412","18"]
["TX","77545","04412","99"]
["TX","77574","04412","15"]
["TX","77581","04412","09"]
["TX","77622","04412","20"]
["TX","77665","04412","99"]
["TX","77833","04412","99"]
["TX","77862","04412","99"]
["TX","77872","04412","99"]
["TX","77963","04412","99"]
["TX","77988","04412","99"]
["TX","78021","04412","99"]
["TX","78054","04412","99"]
["TX","78066","04412","99"]
["TX","78144","04412","99"]
["TX","78145","04412","99"]
["TX","78210","04412","99"]
["TX","78231","04412","99"]
["TX","78257","04412","99"]
["TX","78292","04412","99"]
["TX","78349","04412","99"]
["TX","78355","04412","99"]
["TX","78379","04412","99"]
["TX","78417","04412","99"]
["TX","78503","04412","99"]
["TX","78549","04412","99"]
["TX","78578","04412","99"]
["TX","78579","04412","99"]
["TX","78609","04412","99"]
["TX","78635","04412","99"]
["TX","78663","04412","99"]
["TX","78674","04412","99"]
["TX","78711","04412","31"]
["TX","78732","04412","31"]
["TX","78759","04412","31"]
["TX","78789","04412","31"]
["TX","78836","04412","99"]
["TX","78942","04412","99"]
["TX","79002","04412","99"]
["TX","79009","04412","99"]
["TX","79036","04412","99"]
["TX","79073","04412","99"]
["TX","79105","04412","99"]
["TX","79110","04412","99"]
["TX","79171","04412","99"]
["TX","79226","04412","99"]
["TX","79256","04412","99"]
["TX","79345","04412","99"]
["TX","79380","04412","99"]
["TX","79424","04412","99"]
["TX","79464","04412","99"]
["TX","79529","04412","99"]
["TX","79556","04412","99"]
["TX","79707","04412","99"]
["TX","79734","04412","99"]
["TX","79754","04412","99"]
["TX","79786","04412","99"]
["TX","79851","04412","99"]
["TX","79924","04412","99"]
["TX","79942","04412","99"]
["TX","79987","04412","99"]
["TX","79992","04412","99"]
["TX","88524","04412","99"]
["TX","88550","04412","99"]
["TX","88567","04412","99"]
["UT","84009","03502","09"]
["UT","84036","03502","09"]
["UT","84037","03502","09"]
["UT","84065","03502","09"]
["UT","84090","03502","09"]
["UT","84113","03502","09"]
["UT","84138","03502","09"]
["UT","84185","03502","09"]
["UT","84301","03502","09"]
["UT","84324","03502","09"]
["UT","84404","03502","09"]
["UT","84530","03502","09"]
["UT","84604","03502","09"]
["UT","84652","03502","09"]
["UT","84657","03502","09"]
["UT","84723","03502","09"]
["UT","84750","03502","09"]
["UT","84766","03502","09"]
["VA","20111","11302","00"]
["VA","20117","11302","00"]
["VA","20148","11302","00"]
["VA","20176","11302","00"]
["VA","20196","12202","01"]
["VA","22060","12202","01"]
["VA","22134","11302","00"]
["VA","22153","12202","01"]
["VA","22210","12202","01"]
["VA","22242","12202","01"]
["VA","22321","12202","01"]
["VA","22442","11302","00"]
["VA","22454","11302","00"]
["VA","22528","11302","00"]
["VA","22556","11302","00"]
["VA","22627","11302","00"]
["VA","22664","11302","00"]
["VA","22727","11302","00"]
["VA","22820","11302","00"]
["VA","22831","11302","00"]
["VA","22908","11302","00"]
["VA","22947","11302","00"]
["VA","22976","11302","00"]
["VA","23050","11302","00"]
["VA","23054","11302","00"]
["VA","23086","11302","00"]
["VA","23117","11302","00"]
["VA","23154","11302","00"]
["VA","23221","11302","00"]
["VA","23249","11302","00"]
["VA","23266","11302","00"]
["VA","23308","11302","00"]
["VA","23337","11302","00"]
["VA","23414","11302","00"]
["VA","23437","11302","00"]
["VA","23468","11302","00"]
["VA","23500","11302","00"]
["VA","23519","11302","00"]
["VA","23662","11302","00"]
["VA","23707","11302","00"]
["VA","23838","11302","00"]
["VA","23847","11302","00"]
["VA","23885","11302","00"]
["VA","23936","11302","00"]
["VA","23968","11302","00"]
["VA","24020","11302","00"]
["VA","24055","11302","00"]
["VA","24083","11302","00"]
["VA","24088","11302","00"]
["VA","24130","11302","00"]
["VA","24161","11302","00"]
["VA","24218","11302","00"]
["VA","24260","11302","00"]
["VA","24270","11302","00"]
["VA","24328","11302","00"]
["VA","24370","11302","00"]
["VA","24435","11302","00"]
["VA","24476","11302","00"]
["VA","24521","11302","00"]
["VA","24538","11302","00"]
["VA","24558","11302","00"]
["VA","24597","11302","00"]
["VA","24635","11302","00"]
["VI","00830","09202","50"]
["VI","00851","09202","50"]
["VT","05049","14512","50"]
["VT","05079","14512","50"]
["VT","05159","14512","50"]
["VT","05350","14512","50"]
["VT","05440","14512","50"]
["VT","05445","14512","50"]
["VT","05466","14512","50"]
["VT","05601","14512","50"]
["VT","05665","14512","50"]
["VT","05732","14512","50"]
["VT","05762","14512","50"]
["VT","05763","14512","50"]
["VT","05842","14512","50"]
["VT","05858","14512","50"]
["WA","98005","02402","02"]
["WA","98033","02402","02"]
["WA","98057","02402","02"]
["WA","98082","02402","99"]
["WA","98109","02402","02"]
["WA","98133","02402","02"]
["WA","98175","02402","02"]
["WA","98213","02402","99"]
["WA","98239","02402","99"]
["WA","98252","02402","99"]
["WA","98277","02402","99"]
["WA","98314","02402","99"]
["WA","98344","02402","99"]
["WA","98368","02402","99"]
["WA","98374","02402","99"]
["WA","98397","02402","99"]
["WA","98434","02402","99"]
["WA","98498","02402","99"]
["WA","98530","02402","99"]
["WA","98561","02402","99"]
["WA","98586","02402","99"]
["WA","98609","02402","99"]
["WA","98623","02402","99"]
["WA","98650","02402","99"]
["WA","98807","02402","99"]
["WA","98815","02402","99"]
["WA","98860","02402","99"]
["WA","98921","02402","99"]
["WA","98947","02402","99"]
["WA","99023","02402","99"]
["WA","99115","02402","99"]
["WA","99136","02402","99"]
["WA","99146","02402","99"]
["WA","99174","02402","99"]
["WA","99216","02402","99"]
["WA","99335","02402","99"]
["WA","99360","02402","99"]
["WA","99401","02402","99"]
["WI","53023","06302","00"]
["WI","53049","06302","00"]
["WI","53088","06302","00"]
["WI","53109","06302","00"]
["WI","53147","06302","00"]
["WI","53152","06302","00"]
["WI","53183","06302","00"]
["WI","53217","06302","00"]
["WI","53280","06302","00"]
["WI","53505","06302","00"]
["WI","53535","06302","00"]
["WI","53558","06302","00"]
["WI","53565","06302","00"]
["WI","53593","06302","00"]
["WI","53716","06302","00"]
["WI","53801","06302","00"]
["WI","53910","06302","00"]
["WI","53917","06302","00"]
["WI","53946","06302","00"]
["WI","53969","06302","00"]
["WI","54107","06302","00"]
["WI","54135","06302","00"]
["WI","54165","06302","00"]
["WI","54173","06302","00"]
["WI","54217","06302","00"]
["WI","54407","06302","00"]
["WI","54425","06302","00"]
["WI","54449","06302","00"]
["WI","54455","06302","00"]
["WI","54511","06302","00"]
["WI","54521","06302","00"]
["WI","54555","06302","00"]
["WI","54615","06302","00"]
["WI","54642","06302","00"]
["WI","54665","06302","00"]
["WI","54702","06302","00"]
["WI","54743","06302","00"]
["WI","54766","06302","00"]
["WI","54827","06302","00"]
["WI","54853","06302","00"]
["WI","54857","06302","00"]
["WI","54902","06302","00"]
["WI","54937","06302","00"]
["WI","54950","06302","00"]
["WV","24716","11402","16"]
["WV","24817","11402","16"]
["WV","24823","11402","16"]
["WV","24853","11402","16"]
["WV","24870","11402","16"]
["WV","24927","11402","16"]
["WV","24970","11402","16"]
["WV","24983","11402","16"]
["WV","25026","11402","16"]
["WV","25064","11402","16"]
["WV","25113","11402","16"]
["WV","25152","11402","16"]
["WV","25193","11402","16"]
["WV","25204","11402","16"]
["WV","25258","11402","16"]
["WV","25306","11402","16"]
["WV","25337","11402","16"]
["WV","25405","11402","16"]
["WV","25420","11402","16"]
["WV","25506","11402","16"]
["WV","25541","11402","16"]
["WV","25617","11402","16"]
["WV","25645","11402","16"]
["WV","25699","11402","16"]
["WV","25705","11402","16"]
["WV","25726","11402","16"]
["WV","25823","11402","16"]
["WV","25848","11402","16"]
["WV","25908","11402","16"]
["WV","25958","11402","16"]
["WV","26031","11402","16"]
["WV","26037","11402","16"]
["WV","26101","11402","16"]
["WV","26102","11402","16"]
["WV","26103","11402","16"]
["WV","26104","11402","16"]
["WV","26105","11402","16"]
["WV","26106","11402","16"]
["WV","26120","11402","16"]
["WV","26121","11402","16"]
["WV","26133","11402","16"]
["WV","26134","11402","16"]
["WV","26135","11402","16"]
["WV","26136","11402","16"]
["WV","26137","11402","16"]
["WV","26138","11402","16"]
["WV","26141","11402","16"]
["WV","26142","11402","16"]
["WV","26143","11402","16"]
["WV","26146","11402","16"]
["WV","26147","11402","16"]
["WV","26148","11402","16"]
["WV","26149","11402","16"]
["WV","26150","11402","16"]
["WV","26151","11402","16"]
["WV","26152","11402","16"]
["WV","26155","11402","16"]
["WV","26159","11402","16"]
["WV","26160","11402","16"]
["WV","26161","11402","16"]
["WV","26162","11402","16"]
["WV","26164","11402","16"]
["WV","26167","11402","16"]
["WV","26169","11402","16"]
["WV","26170","11402","16"]
["WV","26173","11402","16"]
["WV","26175","11402","16"]
["WV","26178","11402","16"]
["WV","26180","11402","16"]
["WV","26181","11402","16"]
["WV","26184","11402","16"]
["WV","26186","11402","16"]
["WV","26187","11402","16"]
["WV","26201","11402","16"]
["WV","26202","11402","16"]
["WV","26203","11402","16"]
["WV","26205","11402","16"]
["WV","26206","11402","16"]
["WV","26208","11402","16"]
["WV","26209","11402","16"]
["WV","26210","11402","16"]
["WV","26215","11402","16"]
["WV","26217","11402","16"]
["WV","26218","11402","16"]
["WV","26219","11402","16"]
["WV","26222","11402","16"]
["WV","26224","11402","16"]
["WV","26228","11402","16"]
["WV","26229","11402","16"]
["WV","26230","11402","16"]
["WV","26234","11402","16"]
["WV","26236","11402","16"]
["WV","26237","11402","16"]
["WV","26238","11402","16"]
["WV","26241","11402","16"]
["WV","26250","11402","16"]
["WV","26253","11402","16"]
["WV","26254","11402","16"]
["WV","26257","11402","16"]
["WV","26259","11402","16"]
["WV","26260","11402","16"]
["WV","26261","11402","16"]
["WV","26263","11402","16"]
["WV","26264","11402","16"]
["WV","26266","11402","16"]
["WV","26267","11402","16"]
["WV","26268","11402","16"]
["WV","26269","11402","16"]
["WV","26270","11402","16"]
["WV","26271","11402","16"]
["WV","26273","11402","16"]
["WV","26275","11402","16"]
["WV","26276","11402","16"]
["WV","26278","11402","16"]
["WV","26280","11402","16"]
["WV","26282","11402","16"]
["WV","26283","11402","16"]
["WV","26285","11402","16"]
["WV","26287","11402","16"]
["WV","26288","11402","16"]
["WV","26289","11402","16"]
["WV","26291","11402","16"]
["WV","26292","11402","16"]
["WV","26293","11402","16"]
["WV","26294","11402","16"]
["WV","26296","11402","16"]
["WV","26298","11402","16"]
["WV","26301","11402","16"]
["WV","26302","11402","16"]
["WV","26306","11402","16"]
["WV","26320","11402","16"]
["WV","26321","11402","16"]
["WV","26323","11402","16"]
["WV","26325","11402","16"]
["WV","26327","11402","16"]
["WV","26328","11402","16"]
["WV","26330","11402","16"]
["WV","26332","11402","16"]
["WV","26334","11402","16"]
["WV","26335","11402","16"]
["WV","26337","11402","16"]
["WV","26338","11402","16"]
["WV","26339","11402","16"]
["WV","26342","11402","16"]
["WV","26343","11402","16"]
["WV","26346","11402","16"]
["WV","26347","11402","16"]
["WV","26348","11402","16"]
["WV","26349","11402","16"]
["WV","26350","11402","16"]
["WV","26351","11402","16"]
["WV","26354","11402","16"]
["WV","26361","11402","16"]
["WV","26362","11402","16"]
["WV","26366","11402","16"]
["WV","26369","11402","16"]
["WV","26372","11402","16"]
["WV","26374","11402","16"]
["WV","26375","11402","16"]
["WV","26376","11402","16"]
["WV","26377","11402","16"]
["WV","26378","11402","16"]
["WV","26384","11402","16"]
["WV","26385","11402","16"]
["WV","26386","11402","16"]
["WV","26404","11402","16"]
["WV","26405","11402","16"]
["WV","26407","11402","16"]
["WV","26408","11402","16"]
["WV","26410","11402","16"]
["WV","26411","11402","16"]
["WV","26412","11402","16"]
["WV","26415","11402","16"]
["WV","26416","11402","16"]
["WV","26419","11402","16"]
["WV","26421","11402","16"]
["WV","26422","11402","16"]
["WV","26424","11402","16"]
["WV","26425","11402","16"]
["WV","26426","11402","16"]
["WV","26430","11402","16"]
["WV","26431","11402","16"]
["WV","26434","11402","16"]
["WV","26435","11402","16"]
["WV","26436","11402","16"]
["WV","26437","11402","16"]
["WV","26438","11402","16"]
["WV","26440","11402","16"]
["WV","26443","11402","16"]
["WV","26444","11402","16"]
["WV","26447","11402","16"]
["WV","26448","11402","16"]
["WV","26451","11402","16"]
["WV","26452","11402","16"]
["WV","26456","11402","16"]
["WV","26461","11402","16"]
["WV","26463","11402","16"]
["WV","26501","11402","16"]
["WV","26502","11402","16"]
["WV","26503","11402","16"]
["WV","26504","11402","16"]
["WV","26505","11402","16"]
["WV","26506","11402","16"]
["WV","26507","11402","16"]
["WV","26508","11402","16"]
["WV","26519","11402","16"]
["WV","26520","11402","16"]
["WV","26521","11402","16"]
["WV","26522","11402","16"]
["WV","26524","11402","16"]
["WV","26525","11402","16"]
["WV","26527","11402","16"]
["WV","26529","11402","16"]
["WV","26531","11402","16"]
["WV","26533","11402","16"]
["WV","26534","11402","16"]
["WV","26535","11402","16"]
["WV","26537","11402","16"]
["WV","26541","11402","16"]
["WV","26542","11402","16"]
["WV","26543","11402","16"]
["WV","26544","11402","16"]
["WV","26546","11402","16"]
["WV","26547","11402","16"]
["WV","26554","11402","16"]
["WV","26555","11402","16"]
["WV","26559","11402","16"]
["WV","26560","11402","16"]
["WV","26561","11402","16"]
["WV","26562","11402","16"]
["WV","26563","11402","16"]
["WV","26566","11402","16"]
["WV","26568","11402","16"]
["WV","26570","11402","16"]
["WV","26571","11402","16"]
["WV","26572","11402","16"]
["WV","26574","11402","16"]
["WV","26575","11402","16"]
["WV","26576","11402","16"]
["WV","26578","11402","16"]
["WV","26581","11402","16"]
["WV","26582","11402","16"]
["WV","26585","11402","16"]
["WV","26586","11402","16"]
["WV","26587","11402","16"]
["WV","26588","11402","16"]
["WV","26589","11402","16"]
["WV","26590","11402","16"]
["WV","26591","11402","16"]
["WV","26601","11402","16"]
["WV","26610","11402","16"]
["WV","26611","11402","16"]
["WV","26612","11402","16"]
["WV","26615","11402","16"]
["WV","26617","11402","16"]
["WV","26618","11402","16"]
["WV","26619","11402","16"]
["WV","26621","11402","16"]
["WV","26623","11402","16"]
["WV","26624","11402","16"]
["WV","26627","11402","16"]
["WV","26629","11402","16"]
["WV","26631","11402","16"]
["WV","26634","11402","16"]
["WV","26636","11402","16"]
["WV","26638","11402","16"]
["WV","26639","11402","16"]
["WV","26641","11402","16"]
["WV","26651","11402","16"]
["WV","26656","11402","16"]
["WV","26660","11402","16"]
["WV","26662","11402","16"]
["WV","26667","11402","16"]
["WV","26671","11402","16"]
["WV","26674","11402","16"]
["WV","26675","11402","16"]
["WV","26676","11402","16"]
["WV","26678","11402","16"]
["WV","26679","11402","16"]
["WV","26680","11402","16"]
["WV","26681","11402","16"]
["WV","26684","11402","16"]
["WV","26690","11402","16"]
["WV","26691","11402","16"]
["WV","26704","11402","16"]
["WV","26705","11402","16"]
["WV","26707","11402","16"]
["WV","26710","11402","16"]
["WV","26711","11402","16"]
["WV","26714","11402","16"]
["WV","26716","11402","16"]
["WV","26717","11402","16"]
["WV","26719","11402","16"]
["WV","26720","11402","16"]
["WV","26722","11402","16"]
["WV","26726","11402","16"]
["WV","26731","11402","16"]
["WV","26734","11402","16"]
["WV","26739","11402","16"]
["WV","26743","11402","16"]
["WV","26750","11402","16"]
["WV","26753","11402","16"]
["WV","26755","11402","16"]
["WV","26757","11402","16"]
["WV","26761","11402","16"]
["WV","26763","11402","16"]
["WV","26764","11402","16"]
["WV","26767","11402","16"]
["WV","26801","11402","16"]
["WV","26802","11402","16"]
["WV","26804","11402","16"]
["WV","26807","11402","16"]
["WV","26808","11402","16"]
["WV","26810","11402","16"]
["WV","26812","11402","16"]
["WV","26814","11402","16"]
["WV","26815","11402","16"]
["WV","26817","11402","16"]
["WV","26818","11402","16"]
["WV","26823","11402","16"]
["WV","26824","11402","16"]
["WV","26833","11402","16"]
["WV","26836","11402","16"]
["WV","26838","11402","16"]
["WV","26845","11402","16"]
["WV","26847","11402","16"]
["WV","26851","11402","16"]
["WV","26852","11402","16"]
["WV","26855","11402","16"]
["WV","26865","11402","16"]
["WV","26866","11402","16"]
["WV","26884","11402","16"]
["WV","26886","11402","16"]
["WY","82001","03602","21"]
["WY","82002","03602","21"]
["WY","82003","03602","21"]
["WY","82005","03602","21"]
["WY","82006","03602","21"]
["WY","82007","03602","21"]
["WY","82008","03602","21"]
["WY","82009","03602","21"]
["WY","82010","03602","21"]
["WY","82050","03602","21"]
["WY","82051","03602","21"]
["WY","82052","03602","21"]
["WY","82053","03602","21"]
["WY","82054","03602","21"]
["WY","82055","03602","21"]
["WY","82058","03602","21"]
["WY","82059","03602","21"]
["WY","82060","03602","21"]
["WY","82061","03602","21"]
["WY","82063","03602","21"]
["WY","82070","03602","21"]
["WY","82071","03602","21"]
["WY","82072","03602","21"]
["WY","82073","03602","21"]
["WY","82081","03602","21"]
["WY","82082","03602","21"]
["WY","82083","03602","21"]
["WY","82084","03602","21"]
["WY","82190","03602","21"]
["WY","82201","03602","21"]
["WY","82210","03602","21"]
["WY","82212","03602","21"]
["WY","82213","03602","21"]
["WY","82214","03602","21"]
["WY","82215","03602","21"]
["WY","82217","03602","21"]
["WY","82218","03602","21"]
["WY","82219","03602","21"]
["WY","82221","03602","21"]
["WY","82222","03602","21"]
["WY","82223","03602","21"]
["WY","82224","03602","21"]
["WY","82225","03602","21"]
["WY","82227","03602","21"]
["WY","82229","03602","21"]
["WY","82240","03602","21"]
["WY","82242","03602","21"]
["WY","82243","03602","21"]
["WY","82244","03602","21"]
["WY","82301","03602","21"]
["WY","82310","03602","21"]
["WY","82321","03602","21"]
["WY","82322","03602","21"]
["WY","82323","03602","21"]
["WY","82324","03602","21"]
["WY","82325","03602","21"]
["WY","82327","03602","21"]
["WY","82329","03602","21"]
["WY","82331","03602","21"]
["WY","82332","03602","21"]
["WY","82334","03602","21"]
["WY","82335","03602","21"]
["WY","82336","03602","21"]
["WY","82401","03602","21"]
["WY","82410","03602","21"]
["WY","82411","03602","21"]
["WY","82412","03602","21"]
["WY","82414","03602","21"]
["WY","82420","03602","21"]
["WY","82421","03602","21"]
["WY","82422","03602","21"]
["WY","82423","03602","21"]
["WY","82426","03602","21"]
["WY","82427","03602","21"]
["WY","82428","03602","21"]
["WY","82430","03602","21"]
["WY","82431","03602","21"]
["WY","82432","03602","21"]
["WY","82433","03602","21"]
["WY","82434","03602","21"]
["WY","82435","03602","21"]
["WY","82440","03602","21"]
["WY","82441","03602","21"]
["WY","82442","03602","21"]
["WY","82443","03602","21"]
["WY","82450","03602","21"]
["WY","82501","03602","21"]
["WY","82510","03602","21"]
["WY","82512","03602","21"]
["WY","82513","03602","21"]
["WY","82514","03602","21"]
["WY","82515","03602","21"]
["WY","82516","03602","21"]
["WY","82520","03602","21"]
["WY","82523","03602","21"]
["WY","82524","03602","21"]
["WY","82601","03602","21"]
["WY","82602","03602","21"]
["WY","82604","03602","21"]
["WY","82605","03602","21"]
["WY","82609","03602","21"]
["WY","82615","03602","21"]
["WY","82620","03602","21"]
["WY","82630","03602","21"]
["WY","82631","03602","21"]
["WY","82633","03602","21"]
["WY","82635","03602","21"]
["WY","82636","03602","21"]
["WY","82637","03602","21"]
["WY","82638","03602","21"]
["WY","82639","03602","21"]
["WY","82640","03602","21"]
["WY","82642","03602","21"]
["WY","82643","03602","21"]
["WY","82644","03602","21"]
["WY","82646","03602","21"]
["WY","82648","03602","21"]
["WY","82649","03602","21"]
["WY","82701","03602","21"]
["WY","82710","03602","21"]
["WY","82711","03602","21"]
["WY","82712","03602","21"]
["WY","82713","03602","21"]
["WY","82714","03602","21"]
["WY","82715","03602","21"]
["WY","82716","03602","21"]
["WY","82717","03602","21"]
["WY","82718","03602","21"]
["WY","82720","03602","21"]
["WY","82721","03602","21"]
["WY","82723","03602","21"]
["WY","82725","03602","21"]
["WY","82727","03602","21"]
["WY","82729","03602","21"]
["WY","82730","03602","21"]
["WY","82731","03602","21"]
["WY","82732","03602","21"]
["WY","82801","03602","21"]
["WY","82831","03602","21"]
["WY","82832","03602","21"]
["WY","82833","03602","21"]
["WY","82834","03602","21"]
["WY","82835","03602","21"]
["WY","82836","03602","21"]
["WY","82837","03602","21"]
["WY","82838","03602","21"]
["WY","82839","03602","21"]
["WY","82840","03602","21"]
["WY","82842","03602","21"]
["WY","82844","03602","21"]
["WY","82845","03602","21"]
["WY","82901","03602","21"]
["WY","82902","03602","21"]
["WY","82922","03602","21"]
["WY","82923","03602","21"]
["WY","82925","03602","21"]
["WY","82929","03602","21"]
["WY","82930","03602","21"]
["WY","82931","03602","21"]
["WY","82932","03602","21"]
["WY","82933","03602","21"]
["WY","82934","03602","21"]
["WY","82935","03602","21"]
["WY","82936","03602","21"]
["WY","82937","03602","21"]
["WY","82938","03602","21"]
["WY","82939","03602","21"]
["WY","82941","03602","21"]
["WY","82942","03602","21"]
["WY","82943","03602","21"]
["WY","82944","03602","21"]
["WY","82945","03602","21"]
["WY","83001","03602","21"]
["WY","83002","03602","21"]
["WY","83011","03602","21"]
["WY","83012","03602","21"]
["WY","83013","03602","21"]
["WY","83014","03602","21"]
["WY","83025","03602","21"]
["WY","83101","03602","21"]
["WY","83110","03602","21"]
["WY","83111","03602","21"]
["WY","83112","03602","21"]
["WY","83113","03602","21"]
["WY","83114","03602","21"]
["WY","83115","03602","21"]
["WY","83116","03602","21"]
["WY","83118","03602","21"]
["WY","83119","03602","21"]
["WY","83120","03602","21"]
["WY","83121","03602","21"]
["WY","83122","03602","21"]
["WY","83123","03602","21"]
["WY","83124","03602","21"]
["WY","83126","03602","21"]
["WY","83127","03602","21"]
["WY","83128","03602","21"]
["WY","83414","03602","21"]
["\u001a"]

{"sheet":"Rates","index":17,"n_rows":4096,"n_cols":10,"rows_kept":4096,"cut":false,"hidden":true,"merged":[]}
["HCPCS CODE","MAC LOCALITY","NON-FACILITY PRICE","FACILITY PRICE",null,{"$f":"IF(ISERROR(ZipLocal!F1), 0, ZipLocal!F1)","v":1220201},"<- base",null,{"$f":"IF(ISERROR(ZipLocal!I1), 0, ZipLocal!I1)","v":1220201},"<-- extra procedures"]
[77080,0,41.53,41.53]
[77080,111203,51.22,51.22]
[77080,111205,54.77,54.77,null,null,"FACILITY PRICE","FACILITY PRICE","NON-FACILITY PRICE","NON-FACILITY PRICE"]
[77080,111206,54.2,54.2,null,null,100,85,100,85]
[77080,111207,50.33,50.33,null,99204,{"$f":"SUM(($A$2:$A$4096=$F6)*($B$2:$B$4096=$F$1)*(G$4=$D$1)*$D$2:$D$4096)","v":145.53},{"$f":"ROUND(G6*0.85, 2)","v":123.7},{"$f":"SUM(($A$2:$A$4096=$F6)*($B$2:$B$4096=$F$1)*(I$4=$C$1)*$C$2:$C$4096)","v":187.38},{"$f":"ROUND(I6*0.85, 2)","v":159.27000000000001}]
[77080,111209,53.42,53.42,null,99214,{"$f":"SUM(($A$2:$A$4096=$F7)*($B$2:$B$4096=$F$1)*(G$4=$D$1)*$D$2:$D$4096)","v":87.35},{"$f":"ROUND(G7*0.85, 2)","v":74.25},{"$f":"SUM(($A$2:$A$4096=$F7)*($B$2:$B$4096=$F$1)*(I$4=$C$1)*$C$2:$C$4096)","v":122.29},{"$f":"ROUND(I7*0.85, 2)","v":103.95}]
[77080,111299,44.27,44.27,null,99213,{"$f":"SUM(($A$2:$A$4096=$F8)*($B$2:$B$4096=$F$1)*(G$4=$D$1)*$D$2:$D$4096)","v":56.97},48.42,{"$f":"SUM(($A$2:$A$4096=$F8)*($B$2:$B$4096=$F$1)*(I$4=$C$1)*$C$2:$C$4096)","v":83.29},70.8]
[77080,118217,47.69,47.69]
[77080,118218,47.22,47.22,null,77080,{"$f":"SUM(($A$2:$A$4096=$F10)*($B$2:$B$4096=$I$1)*(G$4=$D$1)*$D$2:$D$4096)","v":49},{"$f":"ROUND(G10*0.85, 2)","v":41.65},{"$f":"SUM(($A$2:$A$4096=$F10)*($B$2:$B$4096=$I$1)*(I$4=$C$1)*$C$2:$C$4096)","v":49},{"$f":"ROUND(I10*0.85, 2)","v":41.65}]
[77080,118226,48.99,48.99,null,77081,{"$f":"SUM(($A$2:$A$4096=$F11)*($B$2:$B$4096=$I$1)*(G$4=$D$1)*$D$2:$D$4096)","v":32.92},{"$f":"ROUND(G11*0.85, 2)","v":27.98},{"$f":"SUM(($A$2:$A$4096=$F11)*($B$2:$B$4096=$I$1)*(I$4=$C$1)*$C$2:$C$4096)","v":32.92},{"$f":"ROUND(I11*0.85, 2)","v":27.98}]
[77080,118299,44.27,44.27,null,77085,{"$f":"SUM(($A$2:$A$4096=$F12)*($B$2:$B$4096=$I$1)*(G$4=$D$1)*$D$2:$D$4096)","v":67.03},56.98,{"$f":"SUM(($A$2:$A$4096=$F12)*($B$2:$B$4096=$I$1)*(I$4=$C$1)*$C$2:$C$4096)","v":67.03},56.98]
[77080,121201,46.73,46.73,null,97001,{"$f":"SUM(($A$2:$A$4096=$F13)*($B$2:$B$4096=$I$1)*(G$4=$D$1)*$D$2:$D$4096)","v":84.98},72.23,{"$f":"SUM(($A$2:$A$4096=$F13)*($B$2:$B$4096=$I$1)*(I$4=$C$1)*$C$2:$C$4096)","v":84.98},72.23]
[77080,131200,43.27,43.27,null,97002,{"$f":"SUM(($A$2:$A$4096=$F14)*($B$2:$B$4096=$I$1)*(G$4=$D$1)*$D$2:$D$4096)","v":47.66},40.51,{"$f":"SUM(($A$2:$A$4096=$F14)*($B$2:$B$4096=$I$1)*(I$4=$C$1)*$C$2:$C$4096)","v":47.66},40.51]
[77080,210201,48.51,48.51,null,97116,{"$f":"SUM(($A$2:$A$4096=$F15)*($B$2:$B$4096=$I$1)*(G$4=$D$1)*$D$2:$D$4096)","v":32.340000000000003},27.49,{"$f":"SUM(($A$2:$A$4096=$F15)*($B$2:$B$4096=$I$1)*(I$4=$C$1)*$C$2:$C$4096)","v":32.340000000000003},27.49]
[77080,220200,37.75,37.75,null,96365,{"$f":"SUM(($A$2:$A$4096=$F16)*($B$2:$B$4096=$I$1)*(G$4=$D$1)*$D$2:$D$4096)","v":83.08},70.62,{"$f":"SUM(($A$2:$A$4096=$F16)*($B$2:$B$4096=$I$1)*(I$4=$C$1)*$C$2:$C$4096)","v":83.08},70.62]
[77080,230201,43.01,43.01,null,96366,{"$f":"SUM(($A$2:$A$4096=$F17)*($B$2:$B$4096=$I$1)*(G$4=$D$1)*$D$2:$D$4096)","v":21.9},18.62,{"$f":"SUM(($A$2:$A$4096=$F17)*($B$2:$B$4096=$I$1)*(I$4=$C$1)*$C$2:$C$4096)","v":21.9},18.62]
[77080,230299,40.21,40.21,null,71550,{"$f":"SUM(($A$2:$A$4096=$F18)*($B$2:$B$4096=$I$1)*(G$4=$D$1)*$D$2:$D$4096)","v":494.42},420.26,{"$f":"SUM(($A$2:$A$4096=$F18)*($B$2:$B$4096=$I$1)*(I$4=$C$1)*$C$2:$C$4096)","v":494.42},420.26]
[77080,240202,46.57,46.57,null,73718,{"$f":"SUM(($A$2:$A$4096=$F19)*($B$2:$B$4096=$I$1)*(G$4=$D$1)*$D$2:$D$4096)","v":435.05},369.79,{"$f":"SUM(($A$2:$A$4096=$F19)*($B$2:$B$4096=$I$1)*(I$4=$C$1)*$C$2:$C$4096)","v":435.05},369.79]
[77080,240299,41.66,41.66,null,73721,{"$f":"SUM(($A$2:$A$4096=$F20)*($B$2:$B$4096=$I$1)*(G$4=$D$1)*$D$2:$D$4096)","v":279.73},237.77,{"$f":"SUM(($A$2:$A$4096=$F20)*($B$2:$B$4096=$I$1)*(I$4=$C$1)*$C$2:$C$4096)","v":279.73},237.77]
[77080,310200,41.44,41.44,null,73218,{"$f":"SUM(($A$2:$A$4096=$F21)*($B$2:$B$4096=$I$1)*(G$4=$D$1)*$D$2:$D$4096)","v":435.05},369.79,{"$f":"SUM(($A$2:$A$4096=$F21)*($B$2:$B$4096=$I$1)*(I$4=$C$1)*$C$2:$C$4096)","v":435.05},369.79]
[77080,320201,41.69,41.69,null,73221,{"$f":"SUM(($A$2:$A$4096=$F22)*($B$2:$B$4096=$I$1)*(G$4=$D$1)*$D$2:$D$4096)","v":279.3},237.41,{"$f":"SUM(($A$2:$A$4096=$F22)*($B$2:$B$4096=$I$1)*(I$4=$C$1)*$C$2:$C$4096)","v":279.3},237.41]
[77080,330201,41.21,41.21,null,72195,{"$f":"SUM(($A$2:$A$4096=$F23)*($B$2:$B$4096=$I$1)*(G$4=$D$1)*$D$2:$D$4096)","v":446.96},379.92,{"$f":"SUM(($A$2:$A$4096=$F23)*($B$2:$B$4096=$I$1)*(I$4=$C$1)*$C$2:$C$4096)","v":446.96},379.92]
[77080,340202,41.1,41.1,null,72141,{"$f":"SUM(($A$2:$A$4096=$F24)*($B$2:$B$4096=$I$1)*(G$4=$D$1)*$D$2:$D$4096)","v":263.92},224.33,{"$f":"SUM(($A$2:$A$4096=$F24)*($B$2:$B$4096=$I$1)*(I$4=$C$1)*$C$2:$C$4096)","v":263.92},224.33]
[77080,350209,39.03,39.03,null,72148,{"$f":"SUM(($A$2:$A$4096=$F25)*($B$2:$B$4096=$I$1)*(G$4=$D$1)*$D$2:$D$4096)","v":262.62},223.23,{"$f":"SUM(($A$2:$A$4096=$F25)*($B$2:$B$4096=$I$1)*(I$4=$C$1)*$C$2:$C$4096)","v":262.62},223.23]
[77080,360221,41.69,41.69,null,72146,{"$f":"SUM(($A$2:$A$4096=$F26)*($B$2:$B$4096=$I$1)*(G$4=$D$1)*$D$2:$D$4096)","v":263.92},224.33,{"$f":"SUM(($A$2:$A$4096=$F26)*($B$2:$B$4096=$I$1)*(I$4=$C$1)*$C$2:$C$4096)","v":263.92},224.33]
[77080,411201,41.97,41.97,null,71250,{"$f":"SUM(($A$2:$A$4096=$F27)*($B$2:$B$4096=$I$1)*(G$4=$D$1)*$D$2:$D$4096)","v":213.74},181.68,{"$f":"SUM(($A$2:$A$4096=$F27)*($B$2:$B$4096=$I$1)*(I$4=$C$1)*$C$2:$C$4096)","v":213.74},181.68]
[77080,421205,38.92,38.92,null,73700,{"$f":"SUM(($A$2:$A$4096=$F28)*($B$2:$B$4096=$I$1)*(G$4=$D$1)*$D$2:$D$4096)","v":212.12},180.3,{"$f":"SUM(($A$2:$A$4096=$F28)*($B$2:$B$4096=$I$1)*(I$4=$C$1)*$C$2:$C$4096)","v":212.12},180.3]
[77080,431200,37.11,37.11,null,73200,{"$f":"SUM(($A$2:$A$4096=$F29)*($B$2:$B$4096=$I$1)*(G$4=$D$1)*$D$2:$D$4096)","v":212.12},180.3,{"$f":"SUM(($A$2:$A$4096=$F29)*($B$2:$B$4096=$I$1)*(I$4=$C$1)*$C$2:$C$4096)","v":212.12},180.3]
[77080,441209,41.3,41.3,null,72192,{"$f":"SUM(($A$2:$A$4096=$F30)*($B$2:$B$4096=$I$1)*(G$4=$D$1)*$D$2:$D$4096)","v":171.5},145.78,{"$f":"SUM(($A$2:$A$4096=$F30)*($B$2:$B$4096=$I$1)*(I$4=$C$1)*$C$2:$C$4096)","v":171.5},145.78]
[77080,441211,41.8,41.8,null,72125,{"$f":"SUM(($A$2:$A$4096=$F31)*($B$2:$B$4096=$I$1)*(G$4=$D$1)*$D$2:$D$4096)","v":218.21},185.48,{"$f":"SUM(($A$2:$A$4096=$F31)*($B$2:$B$4096=$I$1)*(I$4=$C$1)*$C$2:$C$4096)","v":218.21},185.48]
[77080,441215,42.07,42.07,null,72131,{"$f":"SUM(($A$2:$A$4096=$F32)*($B$2:$B$4096=$I$1)*(G$4=$D$1)*$D$2:$D$4096)","v":212.55},180.67,{"$f":"SUM(($A$2:$A$4096=$F32)*($B$2:$B$4096=$I$1)*(I$4=$C$1)*$C$2:$C$4096)","v":212.55},180.67]
[77080,441218,41.84,41.84,null,72128,{"$f":"SUM(($A$2:$A$4096=$F33)*($B$2:$B$4096=$I$1)*(G$4=$D$1)*$D$2:$D$4096)","v":213.42},181.41,{"$f":"SUM(($A$2:$A$4096=$F33)*($B$2:$B$4096=$I$1)*(I$4=$C$1)*$C$2:$C$4096)","v":213.42},181.41]
[77080,441220,38.200000000000003,38.200000000000003,null,78070,{"$f":"SUM(($A$2:$A$4096=$F34)*($B$2:$B$4096=$I$1)*(G$4=$D$1)*$D$2:$D$4096)","v":372.43},316.57,{"$f":"SUM(($A$2:$A$4096=$F34)*($B$2:$B$4096=$I$1)*(I$4=$C$1)*$C$2:$C$4096)","v":372.43},316.57]
[77080,441228,41.24,41.24,null,77078,{"$f":"SUM(($A$2:$A$4096=$F35)*($B$2:$B$4096=$I$1)*(G$4=$D$1)*$D$2:$D$4096)","v":136.74},116.23,{"$f":"SUM(($A$2:$A$4096=$F35)*($B$2:$B$4096=$I$1)*(I$4=$C$1)*$C$2:$C$4096)","v":136.74},116.23]
[77080,441231,42,42,null,99204,{"$f":"SUM(($A$2:$A$4096=$F36)*($B$2:$B$4096=$I$1)*(G$4=$D$1)*$D$2:$D$4096)","v":145.53},123.7,{"$f":"SUM(($A$2:$A$4096=$F36)*($B$2:$B$4096=$I$1)*(I$4=$C$1)*$C$2:$C$4096)","v":187.38},159.27000000000001]
[77080,441299,38.71,38.71,null,99214,{"$f":"SUM(($A$2:$A$4096=$F37)*($B$2:$B$4096=$I$1)*(G$4=$D$1)*$D$2:$D$4096)","v":87.35},74.25,{"$f":"SUM(($A$2:$A$4096=$F37)*($B$2:$B$4096=$I$1)*(I$4=$C$1)*$C$2:$C$4096)","v":122.29},103.95]
[77080,510200,37.67,37.67,null,99213,{"$f":"SUM(($A$2:$A$4096=$F38)*($B$2:$B$4096=$I$1)*(G$4=$D$1)*$D$2:$D$4096)","v":56.97},48.42,{"$f":"SUM(($A$2:$A$4096=$F38)*($B$2:$B$4096=$I$1)*(I$4=$C$1)*$C$2:$C$4096)","v":83.29},70.8]
[77080,520200,38.03,38.03,null,96372,{"$f":"SUM(($A$2:$A$4096=$F39)*($B$2:$B$4096=$I$1)*(G$4=$D$1)*$D$2:$D$4096)","v":29.72},{"$f":"ROUND(G39*0.85, 2)","v":25.26},{"$f":"SUM(($A$2:$A$4096=$F39)*($B$2:$B$4096=$I$1)*(I$4=$C$1)*$C$2:$C$4096)","v":29.72},{"$f":"ROUND(I39*0.85, 2)","v":25.26}]
[77080,530201,40.04,40.04,null,72080,{"$f":"SUM(($A$2:$A$4096=$F40)*($B$2:$B$4096=$I$1)*(G$4=$D$1)*$D$2:$D$4096)","v":35.94},30.55,{"$f":"SUM(($A$2:$A$4096=$F40)*($B$2:$B$4096=$I$1)*(I$4=$C$1)*$C$2:$C$4096)","v":35.94},30.55]
[77080,530202,39.94,39.94,null,97112,{"$f":"SUM(($A$2:$A$4096=$F41)*($B$2:$B$4096=$I$1)*(G$4=$D$1)*$D$2:$D$4096)","v":38.56},{"$f":"ROUND(G41*0.85, 2)","v":32.78},{"$f":"SUM(($A$2:$A$4096=$F41)*($B$2:$B$4096=$I$1)*(I$4=$C$1)*$C$2:$C$4096)","v":38.56},{"$f":"ROUND(I41*0.85, 2)","v":32.78}]
[77080,530299,36.380000000000003,36.380000000000003,null,97110,{"$f":"SUM(($A$2:$A$4096=$F42)*($B$2:$B$4096=$I$1)*(G$4=$D$1)*$D$2:$D$4096)","v":36.83},31.31,{"$f":"SUM(($A$2:$A$4096=$F42)*($B$2:$B$4096=$I$1)*(I$4=$C$1)*$C$2:$C$4096)","v":36.83},31.31]
[77080,540200,37.979999999999997,37.979999999999997,null,97530,{"$f":"SUM(($A$2:$A$4096=$F43)*($B$2:$B$4096=$I$1)*(G$4=$D$1)*$D$2:$D$4096)","v":39.880000000000003},33.9,{"$f":"SUM(($A$2:$A$4096=$F43)*($B$2:$B$4096=$I$1)*(I$4=$C$1)*$C$2:$C$4096)","v":39.880000000000003},33.9]
[77080,610212,39.950000000000003,39.950000000000003,null,85025,{"$f":"SUM(($A$2:$A$4096=$F44)*($B$2:$B$4096=$I$1)*(G$4=$D$1)*$D$2:$D$4096)","v":10.59},{"$f":"ROUND(G44*0.85, 2)","v":9},{"$f":"SUM(($A$2:$A$4096=$F44)*($B$2:$B$4096=$I$1)*(I$4=$C$1)*$C$2:$C$4096)","v":10.59},{"$f":"ROUND(I44*0.85, 2)","v":9}]
[77080,610215,43.99,43.99,null,80069,{"$f":"SUM(($A$2:$A$4096=$F45)*($B$2:$B$4096=$I$1)*(G$4=$D$1)*$D$2:$D$4096)","v":11.83},10.06,{"$f":"SUM(($A$2:$A$4096=$F45)*($B$2:$B$4096=$I$1)*(I$4=$C$1)*$C$2:$C$4096)","v":11.83},10.06]
[77080,610216,43.62,43.62,null,80076,{"$f":"SUM(($A$2:$A$4096=$F46)*($B$2:$B$4096=$I$1)*(G$4=$D$1)*$D$2:$D$4096)","v":11.13},9.4600000000000009,{"$f":"SUM(($A$2:$A$4096=$F46)*($B$2:$B$4096=$I$1)*(I$4=$C$1)*$C$2:$C$4096)","v":11.13},9.4600000000000009]
[77080,610299,38.65,38.65,null,82310,{"$f":"SUM(($A$2:$A$4096=$F47)*($B$2:$B$4096=$I$1)*(G$4=$D$1)*$D$2:$D$4096)","v":7.03},5.98,{"$f":"SUM(($A$2:$A$4096=$F47)*($B$2:$B$4096=$I$1)*(I$4=$C$1)*$C$2:$C$4096)","v":7.03},5.98]
[77080,620200,41.72,41.72,null,82306,{"$f":"SUM(($A$2:$A$4096=$F48)*($B$2:$B$4096=$I$1)*(G$4=$D$1)*$D$2:$D$4096)","v":40.33},34.28,{"$f":"SUM(($A$2:$A$4096=$F48)*($B$2:$B$4096=$I$1)*(I$4=$C$1)*$C$2:$C$4096)","v":40.33},34.28]
[77080,630200,39.71,39.71,null,80053,{"$f":"SUM(($A$2:$A$4096=$F49)*($B$2:$B$4096=$I$1)*(G$4=$D$1)*$D$2:$D$4096)","v":14.39},12.23,{"$f":"SUM(($A$2:$A$4096=$F49)*($B$2:$B$4096=$I$1)*(I$4=$C$1)*$C$2:$C$4096)","v":14.39},12.23]
[77080,710213,36.72,36.72,null,84100,{"$f":"SUM(($A$2:$A$4096=$F50)*($B$2:$B$4096=$I$1)*(G$4=$D$1)*$D$2:$D$4096)","v":6.46},5.49,{"$f":"SUM(($A$2:$A$4096=$F50)*($B$2:$B$4096=$I$1)*(I$4=$C$1)*$C$2:$C$4096)","v":6.46},5.49]
[77080,720201,41.24,41.24,null,83970,{"$f":"SUM(($A$2:$A$4096=$F51)*($B$2:$B$4096=$I$1)*(G$4=$D$1)*$D$2:$D$4096)","v":56.23},47.8,{"$f":"SUM(($A$2:$A$4096=$F51)*($B$2:$B$4096=$I$1)*(I$4=$C$1)*$C$2:$C$4096)","v":56.23},47.8]
[77080,720299,37.880000000000003,37.880000000000003,null,83516,{"$f":"SUM(($A$2:$A$4096=$F52)*($B$2:$B$4096=$I$1)*(G$4=$D$1)*$D$2:$D$4096)","v":14.99},12.74,{"$f":"SUM(($A$2:$A$4096=$F52)*($B$2:$B$4096=$I$1)*(I$4=$C$1)*$C$2:$C$4096)","v":14.99},12.74]
[77080,730200,36.68,36.68,null,84165,{"$f":"SUM(($A$2:$A$4096=$F53)*($B$2:$B$4096=$I$1)*(G$4=$D$1)*$D$2:$D$4096)","v":14.63},12.44,{"$f":"SUM(($A$2:$A$4096=$F53)*($B$2:$B$4096=$I$1)*(I$4=$C$1)*$C$2:$C$4096)","v":14.63},12.44]
[77080,810200,38.6,38.6,null,82340,{"$f":"SUM(($A$2:$A$4096=$F54)*($B$2:$B$4096=$I$1)*(G$4=$D$1)*$D$2:$D$4096)","v":8.2100000000000009},6.98,{"$f":"SUM(($A$2:$A$4096=$F54)*($B$2:$B$4096=$I$1)*(I$4=$C$1)*$C$2:$C$4096)","v":8.2100000000000009},6.98]
[77080,820201,41.57,41.57]
[77080,820299,38.81,38.81]
[77080,910203,43.05,43.05]
[77080,910204,43.71,43.71]
[77080,910299,40.409999999999997,40.409999999999997]
[77080,920220,31.1,31.1]
[77080,920250,40.18,40.18]
[77080,1010200,37.42,37.42]
[77080,1020201,41.66,41.66]
[77080,1020299,38.06,38.06]
[77080,1030235,37.76,37.76]
[77080,1120201,38.369999999999997,38.369999999999997]
[77080,1130200,40.83,40.83]
[77080,1140216,36.22,36.22]
[77080,1150200,39.01,39.01]
[77080,1210201,42.72,42.72]
[77080,1220201,49,49]
[77080,1230201,45.09,45.09]
[77080,1230299,42.83,42.83]
[77080,1240201,48.01,48.01]
[77080,1240299,45.98,45.98]
[77080,1250201,44.8,44.8]
[77080,1250299,39.130000000000003,39.130000000000003]
[77080,1310200,45.94,45.94]
[77080,1320201,48.11,48.11]
[77080,1320202,49.77,49.77]
[77080,1320203,44.44,44.44]
[77080,1328299,39.51,39.51]
[77080,1329204,49.45,49.45]
[77080,1411203,41.51,41.51]
[77080,1411299,38.520000000000003,38.520000000000003]
[77080,1421201,46.87,46.87]
[77080,1421299,43.6,43.6]
[77080,1431240,43.39,43.39]
[77080,1441201,43.3,43.3]
[77080,1451250,41.44,41.44]
[77080,1510200,37.08,37.08]
[77080,1520200,38.770000000000003,38.770000000000003]
[99204,0,166.13,131.4]
[99204,111203,187.67,143.01]
[99204,111205,196.37,148.16999999999999]
[99204,111206,194.91,147.26]
[99204,111207,185.69,141.93]
[99204,111209,193.91,147.13]
[99204,111299,171.7,134.09]
[99204,118217,180.26,139.28]
[99204,118218,180.97,140.65]
[99204,118226,183.84,141.61000000000001]
[99204,118299,171.7,134.09]
[99204,121201,174.93,134.57]
[99204,131200,170.06,133.56]
[99204,210201,214.99,176.54]
[99204,220200,154.99,123.8]
[99204,230201,167.76,131.33000000000001]
[99204,230299,161.47999999999999,127.9]
[99204,240202,175.37,135.26]
[99204,240299,163.07,127.81]
[99204,310200,165.16,130.43]
[99204,320201,167.91,133.18]
[99204,330201,162.62,127.89]
[99204,340202,161.41,126.68]
[99204,350209,161.91,129.88]
[99204,360221,167.86,133.13]
[99204,411201,167.62,132.51]
[99204,421205,161.63,129.71]
[99204,431200,155.79,125.51]
[99204,441209,166.72,132.34]
[99204,441211,166.54,131.5]
[99204,441215,168.36,133.18]
[99204,441218,167.86,132.91999999999999]
[99204,441220,158.79,127.47]
[99204,441228,164.41,129.86000000000001]
[99204,441231,165.64,130.25]
[99204,441299,159.03,127.08]
[99204,510200,154.72999999999999,123.61]
[99204,520200,156.56,125.2]
[99204,530201,163.12,129.96]
[99204,530202,162.91,129.85]
[99204,530299,154.88,125.43]
[99204,540200,154.55000000000001,123.02]
[99204,610212,168.4,135.96]
[99204,610215,176.25,139.54]
[99204,610216,178.19,142.16999999999999]
[99204,610299,161.63999999999999,130.07]
[99204,620200,162.19,126.77]
[99204,630200,159.51,126.34]
[99204,710213,152.97999999999999,122.87]
[99204,720201,167.99,133.85]
[99204,720299,159.69999999999999,128.88999999999999]
[99204,730200,153.38999999999999,123.39]
[99204,810200,157.49,125.5]
[99204,820201,168.29,133.77000000000001]
[99204,820299,160.07,128.12]
[99204,910203,173.9,138.13]
[99204,910204,180.22,144.34]
[99204,910299,165.76,132.41999999999999]
[99204,920220,139.54,115.06]
[99204,920250,163.25,129.91]
[99204,1010200,154.94999999999999,124.17]
[99204,1020201,166.04,131.13999999999999]
[99204,1020299,158.18,126.96]
[99204,1030235,155.11000000000001,123.93]
[99204,1120201,157.62,125.94]
[99204,1130200,163.53,129.38999999999999]
[99204,1140216,156.66999999999999,127.63]
[99204,1150200,159.32,127.02]
[99204,1210201,170.04,134.22999999999999]
[99204,1220201,187.38,145.53]
[99204,1230201,176.47,138.37]
[99204,1230299,169.77,133.79]
[99204,1240201,183.29,142.24]
[99204,1240299,177.92,138.85]
[99204,1250201,176.24,138.49]
[99204,1250299,160.97,128.71]
[99204,1310200,178.67,139.74]
[99204,1320201,188.64,148.08000000000001]
[99204,1320202,194.6,152.61000000000001]
[99204,1320203,176.09,138.79]
[99204,1328299,160.32,127.5]
[99204,1329204,194.14,152.5]
[99204,1411203,163.81,128.84]
[99204,1411299,157.47,125.59]
[99204,1421201,176.21,135.82]
[99204,1421299,169.3,132.27000000000001]
[99204,1431240,169.26,132.52000000000001]
[99204,1441201,169.92,133.35]
[99204,1451250,163.91,129.04]
[99204,1510200,155.4,125.11]
[99204,1520200,160.22999999999999,128.35]
[99213,0,73.400000000000006,51.56]
[99213,111203,84.53,56.44]
[99213,111205,88.81,58.5]
[99213,111206,88.13,58.17]
[99213,111207,83.56,56.04]
[99213,111209,87.54,58.12]
[99213,111299,76.48,52.83]
[99213,118217,80.53,54.76]
[99213,118218,80.62,55.27]
[99213,118226,82.19,55.64]
[99213,118299,76.48,52.83]
[99213,121201,78.400000000000006,53.03]
[99213,131200,75.37,52.42]
[99213,210201,93.91,69.73]
[99213,220200,68.48,48.86]
[99213,230201,74.61,51.7]
[99213,230299,71.47,50.35]
[99213,240202,78.61,53.38]
[99213,240299,72.63,50.46]
[99213,310200,73.09,51.25]
[99213,320201,73.97,52.12]
[99213,330201,72.28,50.44]
[99213,340202,71.900000000000006,50.05]
[99213,350209,71,50.86]
[99213,360221,73.95,52.11]
[99213,411201,74.02,51.94]
[99213,421205,70.87,50.8]
[99213,431200,68.38,49.34]
[99213,441209,73.58,51.96]
[99213,441211,73.78,51.74]
[99213,441215,74.42,52.29]
[99213,441218,74.16,52.19]
[99213,441220,69.739999999999995,50.04]
[99213,441228,72.819999999999993,51.09]
[99213,441231,73.5,51.24]
[99213,441299,70.06,49.97]
[99213,510200,68.37,48.8]
[99213,520200,69.040000000000006,49.32]
[99213,530201,71.83,50.98]
[99213,530202,71.73,50.93]
[99213,530299,67.77,49.25]
[99213,540200,68.47,48.64]
[99213,610212,73.23,52.83]
[99213,610215,77.47,54.39]
[99213,610216,77.849999999999994,55.2]
[99213,610299,70.739999999999995,50.89]
[99213,620200,72.42,50.14]
[99213,630200,70.680000000000007,49.83]
[99213,710213,67.42,48.49]
[99213,720201,73.760000000000005,52.29]
[99213,720299,69.83,50.45]
[99213,730200,67.510000000000005,48.64]
[99213,810200,69.58,49.47]
[99213,820201,74,52.29]
[99213,820299,70.39,50.3]
[99213,910203,76.28,53.78]
[99213,910204,78.33,55.77]
[99213,910299,72.739999999999995,51.77]
[99213,920220,60.96,45.56]
[99213,920250,71.94,50.98]
[99213,1010200,68.3,48.95]
[99213,1020201,73.44,51.49]
[99213,1020299,69.510000000000005,49.87]
[99213,1030235,68.52,48.9]
[99213,1120201,69.5,49.58]
[99213,1130200,72.34,50.87]
[99213,1140216,68.17,49.92]
[99213,1150200,70.290000000000006,49.97]
[99213,1210201,75.14,52.63]
[99213,1220201,83.29,56.97]
[99213,1230201,78.16,54.2]
[99213,1230299,75.150000000000006,52.52]
[99213,1240201,81.599999999999994,55.78]
[99213,1240299,79.010000000000005,54.44]
[99213,1250201,77.94,54.2]
[99213,1250299,70.8,50.51]
[99213,1310200,79.19,54.71]
[99213,1320201,83.19,57.69]
[99213,1320202,85.6,59.19]
[99213,1320203,77.64,54.18]
[99213,1328299,70.81,50.17]
[99213,1329204,85.36,59.17]
[99213,1411203,72.75,50.76]
[99213,1411299,69.540000000000006,49.49]
[99213,1421201,78.92,53.52]
[99213,1421299,75.42,52.13]
[99213,1431240,75.180000000000007,52.07]
[99213,1441201,75.48,52.48]
[99213,1451250,72.75,50.82]
[99213,1510200,68.260000000000005,49.21]
[99213,1520200,70.42,50.37]
[99214,0,108.13,79.13]
[99214,111203,124.03,86.74]
[99214,111205,130.15,89.9]
[99214,111206,129.19,89.4]
[99214,111207,122.68,86.14]
[99214,111209,128.41,89.34]
[99214,111299,112.57,81.17]
[99214,118217,118.3,84.08]
[99214,118218,118.51,84.84]
[99214,118226,120.66,85.4]
[99214,118299,112.57,81.17]
[99214,121201,115.16,81.459999999999994]
[99214,131200,110.93,80.45]
[99214,210201,139.38999999999999,107.29]
[99214,220200,101.18,75.14]
[99214,230201,109.84,79.42]
[99214,230299,105.41,77.36]
[99214,240202,115.54,82.05]
[99214,240299,107.01,77.58]
[99214,310200,107.69,78.69]
[99214,320201,108.94,79.94]
[99214,330201,106.53,77.53]
[99214,340202,105.98,76.98]
[99214,350209,104.77,78.03]
[99214,360221,108.91,79.91]
[99214,411201,109.01,79.69]
[99214,421205,104.59,77.930000000000007]
[99214,431200,101.07,75.78]
[99214,441209,108.48,79.77]
[99214,441211,108.74,79.47]
[99214,441215,109.65,80.27]
[99214,441218,109.29,80.12]
[99214,441220,102.99,76.83]
[99214,441228,107.33,78.47]
[99214,441231,108.26,78.7]
[99214,441299,103.42,76.739999999999995]
[99214,510200,101.03,75.040000000000006]
[99214,520200,101.99,75.8]
[99214,530201,105.93,78.23]
[99214,530202,105.78,78.17]
[99214,530299,100.21,75.61]
[99214,540200,101.17,74.83]
[99214,610212,107.94,80.849999999999994]
[99214,610215,113.95,83.29]
[99214,610216,114.52,84.44]
[99214,610299,104.41,78.05]
[99214,620200,106.71,77.13]
[99214,630200,104.29,76.59]
[99214,710213,99.7,74.55]
[99214,720201,108.66,80.150000000000006]
[99214,720299,103.12,77.39]
[99214,730200,99.83,74.77]
[99214,810200,102.74,76.03]
[99214,820201,109,80.17]
[99214,820299,103.9,77.22]
[99214,910203,112.21,82.34]
[99214,910204,115.14,85.18]
[99214,910299,107.22,79.38]
[99214,920220,90.6,70.150000000000006]
[99214,920250,106.08,78.239999999999995]
[99214,1010200,100.94,75.239999999999995]
[99214,1020201,108.18,79.03]
[99214,1020299,102.65,76.58]
[99214,1030235,101.24,75.2]
[99214,1120201,102.63,76.19]
[99214,1130200,106.63,78.13]
[99214,1140216,100.8,76.56]
[99214,1150200,103.74,76.77]
[99214,1210201,110.65,80.75]
[99214,1220201,122.29,87.35]
[99214,1230201,114.94,83.13]
[99214,1230299,110.66,80.62]
[99214,1240201,119.85,85.57]
[99214,1240299,116.15,83.52]
[99214,1250201,114.63,83.1]
[99214,1250299,104.47,77.53]
[99214,1310200,116.4,83.89]
[99214,1320201,122.2,88.32]
[99214,1320202,125.58,90.51]
[99214,1320203,114.16,83.01]
[99214,1328299,104.47,77.069999999999993]
[99214,1329204,125.27,90.5]
[99214,1411203,107.2,78]
[99214,1411299,102.68,76.05]
[99214,1421201,115.96,82.23]
[99214,1421299,111.03,80.11]
[99214,1431240,110.62,79.94]
[99214,1441201,111.14,80.599999999999994]
[99214,1451250,107.19,78.08]
[99214,1510200,100.89,75.599999999999994]
[99214,1520200,103.93,77.31]
[97001,0,75.91,75.91]
[97001,1010200,71.66,71.66]
[97001,210201,100.21,100.21]
[97001,310200,75.680000000000007,75.680000000000007]
[97001,710213,70.930000000000007,70.930000000000007]
[97001,118226,83.97,83.97]
[97001,118218,82.77,82.77]
[97001,111203,86.45,86.45]
[97001,111207,85.65,85.65]
[97001,111205,90.41,90.41]
[97001,111206,89.84,89.84]
[97001,111209,89.45,89.45]
[97001,118217,82.5,82.5]
[97001,111299,79.040000000000006,79.040000000000006]
[97001,118299,79.040000000000006,79.040000000000006]
[97001,411201,76.41,76.41]
[97001,1310200,81.12,81.12]
[97001,1220201,84.98,84.98]
[97001,1210201,77.53,77.53]
[97001,910203,78.12,78.12]
[97001,910204,79.599999999999994,79.599999999999994]
[97001,910299,75.22,75.22]
[97001,1020201,75.959999999999994,75.959999999999994]
[97001,1020299,72.59,72.59]
[97001,121201,80.400000000000006,80.400000000000006]
[97001,220200,71.849999999999994,71.849999999999994]
[97001,610216,79.569999999999993,79.569999999999993]
[97001,610212,75.430000000000007,75.430000000000007]
[97001,610215,79.33,79.33]
[97001,610299,73.52,73.52]
[97001,810200,72.760000000000005,72.760000000000005]
[97001,510200,71.760000000000005,71.760000000000005]
[97001,520200,72.28,72.28]
[97001,1510200,71.55,71.55]
[97001,720201,76.069999999999993,76.069999999999993]
[97001,720299,72.75,72.75]
[97001,1411203,75.48,75.48]
[97001,1411299,72.709999999999994,72.709999999999994]
[97001,1230201,80.239999999999995,80.239999999999995]
[97001,1230299,77.62,77.62]
[97001,1421201,81.03,81.03]
[97001,1421299,78.010000000000005,78.010000000000005]
[97001,820201,76.31,76.31]
[97001,820299,73.33,73.33]
[97001,620200,75.31,75.31]
[97001,730200,70.98,70.98]
[97001,530202,74.45,74.45]
[97001,530201,74.55,74.55]
[97001,530299,71.069999999999993,71.069999999999993]
[97001,320201,76.31,76.31]
[97001,540200,71.900000000000006,71.900000000000006]
[97001,131200,77.680000000000007,77.680000000000007]
[97001,1431240,77.48,77.48]
[97001,1240201,83.45,83.45]
[97001,1240299,81.03,81.03]
[97001,421205,73.67,73.67]
[97001,1320201,84.74,84.74]
[97001,1320202,86.57,86.57]
[97001,1320203,79.510000000000005,79.510000000000005]
[97001,1329204,86.45,86.45]
[97001,1328299,73.760000000000005,73.760000000000005]
[97001,1150200,73.31,73.31]
[97001,330201,75.11,75.11]
[97001,1520200,73.34,73.34]
[97001,431200,71.64,71.64]
[97001,230201,77.12,77.12]
[97001,230299,74.349999999999994,74.349999999999994]
[97001,1250201,79.989999999999995,79.989999999999995]
[97001,1250299,73.67,73.67]
[97001,920220,65.45,65.45]
[97001,1441201,78.069999999999993,78.069999999999993]
[97001,1120201,72.650000000000006,72.650000000000006]
[97001,340202,74.83,74.83]
[97001,1030235,71.88,71.88]
[97001,441231,76.08,76.08]
[97001,441220,72.77,72.77]
[97001,441209,76.33,76.33]
[97001,441211,76.55,76.55]
[97001,441228,75.56,75.56]
[97001,441215,77.05,77.05]
[97001,441218,76.83,76.83]
[97001,441299,73.09,73.09]
[97001,350209,73.78,73.78]
[97001,1451250,75.459999999999994,75.459999999999994]
[97001,1130200,75.06,75.06]
[97001,920250,74.650000000000006,74.650000000000006]
[97001,240202,80.900000000000006,80.900000000000006]
[97001,240299,75.430000000000007,75.430000000000007]
[97001,1140216,71.3,71.3]
[97001,630200,73.73,73.73]
[97001,360221,76.3,76.3]
[97116,0,28.64,28.64]
[97116,1010200,26.91,26.91]
[97116,210201,37.200000000000003,37.200000000000003]
[97116,310200,28.6,28.6]
[97116,710213,26.62,26.62]
[97116,118226,32.130000000000003,32.130000000000003]
[97116,118218,31.53,31.53]
[97116,111203,33.299999999999997,33.299999999999997]
[97116,111207,32.950000000000003,32.950000000000003]
[97116,111205,35,35]
[97116,111206,34.76,34.76]
[97116,111209,34.54,34.54]
[97116,118217,31.53,31.53]
[97116,111299,30.07,30.07]
[97116,118299,30.07,30.07]
[97116,411201,28.83,28.83]
[97116,1310200,30.76,30.76]
[97116,1220201,32.340000000000003,32.340000000000003]
[97116,1210201,29.28,29.28]
[97116,910203,29.32,29.32]
[97116,910204,29.64,29.64]
[97116,910299,28.2,28.2]
[97116,1020201,28.69,28.69]
[97116,1020299,27.2,27.2]
[97116,121201,30.81,30.81]
[97116,220200,27.04,27.04]
[97116,610216,29.75,29.75]
[97116,610212,28.04,28.04]
[97116,610215,29.84,29.84]
[97116,610299,27.46,27.46]
[97116,810200,27.4,27.4]
[97116,510200,27.01,27.01]
[97116,520200,27.17,27.17]
[97116,1510200,26.78,26.78]
[97116,720201,28.55,28.55]
[97116,720299,27.14,27.14]
[97002,0,42.25,42.25]
[97002,1010200,39.68,39.68]
[97002,210201,54.93,54.93]
[97002,310200,42.16,42.16]
[97002,710213,39.25,39.25]
[97002,118226,47.27,47.27]
[97002,118218,46.42,46.42]
[97002,111203,48.89,48.89]
[97002,111207,48.38,48.38]
[97002,111205,51.34,51.34]
[97002,111206,50.99,50.99]
[97002,111209,50.68,50.68]
[97002,118217,46.38,46.38]
[97002,111299,44.25,44.25]
[97002,118299,44.25,44.25]
[97002,411201,42.53,42.53]
[97002,1310200,45.36,45.36]
[97002,1220201,47.66,47.66]
[97002,1210201,43.19,43.19]
[97002,910203,43.36,43.36]
[97002,910204,43.98,43.98]
[97002,910299,41.67,41.67]
[97002,1020201,42.31,42.31]
[97002,1020299,40.159999999999997,40.159999999999997]
[97002,121201,45.29,45.29]
[97002,220200,39.85,39.85]
[97002,610216,44.06,44.06]
[97002,610212,41.56,41.56]
[97002,610215,44.11,44.11]
[97002,610299,40.61,40.61]
[97002,810200,40.39,40.39]
[97002,510200,39.799999999999997,39.799999999999997]
[97002,520200,40.06,40.06]
[97002,1510200,39.54,39.54]
[97002,720201,42.19,42.19]
[97002,720299,40.130000000000003,40.130000000000003]
[97116,1411203,28.61,28.61]
[97116,1411299,27.37,27.37]
[97116,1230201,30.39,30.39]
[97116,1230299,29.35,29.35]
[97116,1421201,31.03,31.03]
[97116,1421299,29.67,29.67]
[97116,820201,28.68,28.68]
[97116,820299,27.51,27.51]
[97116,620200,28.68,28.68]
[97116,730200,26.61,26.61]
[97116,530202,27.98,27.98]
[97116,530201,28.02,28.02]
[97116,530299,26.5,26.5]
[97116,320201,28.72,28.72]
[97116,540200,27.13,27.13]
[97116,131200,29.42,29.42]
[97116,1431240,29.41,29.41]
[97116,1240201,31.79,31.79]
[97116,1240299,30.78,30.78]
[97116,421205,27.57,27.57]
[97116,1320201,32.01,32.01]
[97116,1320202,32.659999999999997,32.659999999999997]
[97116,1320203,29.99,29.99]
[97116,1329204,32.590000000000003,32.590000000000003]
[97116,1328299,27.79,27.79]
[97116,1150200,27.58,27.58]
[97116,330201,28.48,28.48]
[97116,1520200,27.5,27.5]
[97116,431200,26.8,26.8]
[97116,230201,29.29,29.29]
[97116,230299,28.08,28.08]
[97116,1250201,30.25,30.25]
[97116,1250299,27.65,27.65]
[97116,920220,24.27,24.27]
[97116,1441201,29.61,29.61]
[97116,1120201,27.31,27.31]
[97002,1411203,42.13,42.13]
[97002,1411299,40.35,40.35]
[97002,1230201,44.82,44.82]
[97002,1230299,43.27,43.27]
[97002,1421201,45.61,45.61]
[97002,1421299,43.66,43.66]
[97002,820201,42.36,42.36]
[97002,820299,40.61,40.61]
[97002,620200,42.16,42.16]
[97002,730200,39.25,39.25]
[97002,530202,41.3,41.3]
[97002,530201,41.36,41.36]
[97002,530299,39.159999999999997,39.159999999999997]
[97002,320201,42.41,42.41]
[97002,540200,39.950000000000003,39.950000000000003]
[97002,131200,43.37,43.37]
[97002,1431240,43.32,43.32]
[97002,1240201,46.82,46.82]
[97002,1240299,45.36,45.36]
[97002,421205,40.74,40.74]
[97002,1320201,47.28,47.28]
[97002,1320202,48.3,48.3]
[97002,1320203,44.29,44.29]
[97002,1329204,48.2,48.2]
[97002,1328299,40.97,40.97]
[97002,1150200,40.68,40.68]
[97002,330201,41.93,41.93]
[97002,1520200,40.6,40.6]
[97002,431200,39.57,39.57]
[97002,230201,43.13,43.13]
[97002,230299,41.38,41.38]
[97002,1250201,44.63,44.63]
[97002,1250299,40.82,40.82]
[97002,920220,35.83,35.83]
[97002,1441201,43.61,43.61]
[97002,1120201,40.28,40.28]
[97002,340202,41.82,41.82]
[97002,1030235,39.86,39.86]
[97002,441231,42.46,42.46]
[97002,441220,40.25,40.25]
[97002,441209,42.42,42.42]
[97002,441211,42.65,42.65]
[97002,441228,42.09,42.09]
[97002,441215,42.89,42.89]
[97002,441218,42.75,42.75]
[97002,441299,40.520000000000003,40.520000000000003]
[97002,350209,40.81,40.81]
[97002,1451250,42.1,42.1]
[97002,1130200,41.78,41.78]
[97002,920250,41.44,41.44]
[97002,240202,45.53,45.53]
[97002,240299,42.17,42.17]
[97002,1140216,39.159999999999997,39.159999999999997]
[97002,630200,41.04,41.04]
[97002,360221,42.41,42.41]
[97116,340202,28.43,28.43]
[97116,1030235,27.05,27.05]
[97116,441231,28.82,28.82]
[97116,441220,27.26,27.26]
[97116,441209,28.76,28.76]
[97116,441211,28.95,28.95]
[97116,441228,28.56,28.56]
[97116,441215,29.08,29.08]
[97116,441218,28.98,28.98]
[97116,441299,27.46,27.46]
[97116,350209,27.61,27.61]
[97116,1451250,28.59,28.59]
[97116,1130200,28.34,28.34]
[97116,920250,28.08,28.08]
[97116,240202,30.99,30.99]
[97116,240299,28.66,28.66]
[97116,1140216,26.45,26.45]
[97116,630200,27.86,27.86]
[97116,360221,28.72,28.72]
[77081,0,28.29,28.29]
[77081,1010200,25.76,25.76]
[77081,210201,34.119999999999997,34.119999999999997]
[77081,310200,28.2,28.2]
[77081,710213,25.33,25.33]
[77081,118226,32.75,32.75]
[77081,118218,31.76,31.76]
[77081,111203,34.020000000000003,34.020000000000003]
[77081,111207,33.5,33.5]
[77081,111205,36.159999999999997,36.159999999999997]
[77081,111206,35.82,35.82]
[77081,111209,35.39,35.39]
[77081,118217,31.95,31.95]
[77081,111299,29.89,29.89]
[77081,118299,29.89,29.89]
[77081,411201,28.57,28.57]
[77081,1310200,31.02,31.02]
[77081,1220201,32.92,32.92]
[77081,1210201,29.05,29.05]
[77081,910203,29.39,29.39]
[77081,910204,30,30]
[77081,910299,27.72,27.72]
[77081,1020201,28.34,28.34]
[77081,1020299,26.23,26.23]
[77081,121201,31.23,31.23]
[77081,220200,25.92,25.92]
[77081,610216,29.87,29.87]
[77081,610212,27.62,27.62]
[77081,610215,29.96,29.96]
[77081,610299,26.67,26.67]
[77081,810200,26.46,26.46]
[77081,510200,25.87,25.87]
[77081,520200,26.13,26.13]
[77081,1510200,25.62,25.62]
[77081,720201,28.23,28.23]
[77081,720299,26.21,26.21]
[77081,1411203,28.17,28.17]
[77081,1411299,26.41,26.41]
[77081,1230201,30.51,30.51]
[77081,1230299,29.09,29.09]
[77081,1421201,31.35,31.35]
[77081,1421299,29.44,29.44]
[77081,820201,28.4,28.4]
[77081,820299,26.68,26.68]
[77081,620200,28.19,28.19]
[77081,730200,25.33,25.33]
[77081,530202,27.36,27.36]
[77081,530201,27.42,27.42]
[77081,530299,25.25,25.25]
[77081,320201,28.45,28.45]
[77081,540200,26.02,26.02]
[77081,131200,29.32,29.32]
[77081,1431240,29.34,29.34]
[77081,1240201,32.25,32.25]
[77081,1240299,31.01,31.01]
[77081,421205,26.81,26.81]
[77081,1320201,32.549999999999997,32.549999999999997]
[77081,1320202,33.630000000000003,33.630000000000003]
[77081,1320203,30.17,30.17]
[77081,1329204,33.46,33.46]
[77081,1328299,27.03,27.03]
[77081,1150200,26.74,26.74]
[77081,330201,27.97,27.97]
[77081,1520200,26.67,26.67]
[77081,431200,25.65,25.65]
[77081,230201,29.08,29.08]
[77081,230299,27.43,27.43]
[77081,1250201,30.35,30.35]
[77081,1250299,26.88,26.88]
[77081,920220,21.97,21.97]
[77081,1441201,29.33,29.33]
[77081,1120201,26.35,26.35]
[77081,340202,27.86,27.86]
[77081,1030235,25.94,25.94]
[77081,441231,28.49,28.49]
[77081,441220,26.32,26.32]
[77081,441209,28.21,28.21]
[77081,441211,28.44,28.44]
[77081,441228,28.06,28.06]
[77081,441215,28.66,28.66]
[77081,441218,28.52,28.52]
[77081,441299,26.58,26.58]
[77081,350209,26.87,26.87]
[77081,1451250,28.14,28.14]
[77081,1130200,27.82,27.82]
[77081,920250,27.49,27.49]
[77081,240202,31.17,31.17]
[77081,240299,28.2,28.2]
[77081,1140216,25.26,25.26]
[77081,630200,27.09,27.09]
[77081,360221,28.44,28.44]
[77085,0,56.93,56.93]
[77085,1010200,51.37,51.37]
[77085,210201,66.819999999999993,66.819999999999993]
[77085,310200,56.8,56.8]
[77085,710213,50.43,50.43]
[77085,118226,66.95,66.95]
[77085,118218,64.599999999999994,64.599999999999994]
[77085,111203,69.92,69.92]
[77085,111207,68.73,68.73]
[77085,111205,74.7,74.7]
[77085,111206,73.930000000000007,73.930000000000007]
[77085,111209,72.900000000000006,72.900000000000006]
[77085,118217,65.19,65.19]
[77085,111299,60.6,60.6]
[77085,118299,60.6,60.6]
[77085,411201,57.52,57.52]
[77085,1310200,62.89,62.89]
[77085,1220201,67.03,67.03]
[77085,1210201,58.55,58.55]
[77085,910203,59.05,59.05]
[77085,910204,60.02,60.02]
[77085,910299,55.46,55.46]
[77085,1020201,57.09,57.09]
[77085,1020299,52.27,52.27]
[77085,121201,63.86,63.86]
[77085,220200,51.8,51.8]
[77085,610216,59.86,59.86]
[77085,610212,54.9,54.9]
[77085,610215,60.31,60.31]
[77085,610299,53.1,53.1]
[77085,810200,52.95,52.95]
[77085,510200,51.69,51.69]
[77085,520200,52.19,52.19]
[77085,1510200,50.93,50.93]
[77085,720201,56.58,56.58]
[77085,720299,52.05,52.05]
[77085,1411203,56.86,56.86]
[77085,1411299,52.84,52.84]
[77085,1230201,61.75,61.75]
[77085,1230299,58.68,58.68]
[77085,1421201,64.05,64.05]
[77085,1421299,59.68,59.68]
[77085,820201,57.01,57.01]
[77085,820299,53.27,53.27]
[77085,620200,57.1,57.1]
[77085,730200,50.38,50.38]
[77085,530202,54.79,54.79]
[77085,530201,54.93,54.93]
[77085,530299,50.01,50.01]
[77085,320201,57.17,57.17]
[77085,540200,52.09,52.09]
[77085,131200,59.26,59.26]
[77085,1431240,59.41,59.41]
[77085,1240201,65.67,65.67]
[77085,1240299,62.93,62.93]
[77085,421205,53.45,53.45]
[77085,1320201,65.89,65.89]
[77085,1320202,68.16,68.16]
[77085,1320203,60.89,60.89]
[77085,1329204,67.73,67.73]
[77085,1328299,54.19,54.19]
[77085,1150200,53.52,53.52]
[77085,330201,56.45,56.45]
[77085,1520200,53.22,53.22]
[77085,431200,50.99,50.99]
[77085,230201,58.88,58.88]
[77085,230299,55.13,55.13]
[77085,1250201,61.36,61.36]
[77085,1250299,53.71,53.71]
[77085,920220,42.86,42.86]
[77085,1441201,59.3,59.3]
[77085,1120201,52.65,52.65]
[77085,340202,56.28,56.28]
[77085,1030235,51.82,51.82]
[77085,441231,57.53,57.53]
[77085,441220,52.46,52.46]
[77085,441209,56.63,56.63]
[77085,441211,57.28,57.28]
[77085,441228,56.51,56.51]
[77085,441215,57.67,57.67]
[77085,441218,57.36,57.36]
[77085,441299,53.13,53.13]
[77085,350209,53.59,53.59]
[77085,1451250,56.77,56.77]
[77085,1130200,55.97,55.97]
[77085,920250,55.12,55.12]
[77085,240202,63.65,63.65]
[77085,240299,57.04,57.04]
[77085,1140216,49.83,49.83]
[77085,630200,54.43,54.43]
[77085,360221,57.16,57.16]
[96366,0,18.98,18.98]
[96366,1010200,17.45,17.45]
[96366,210201,23.4,23.4]
[96366,310200,18.93,18.93]
[96366,710213,17.190000000000001,17.190000000000001]
[96366,118226,21.8,21.8]
[96366,118218,21.21,21.21]
[96366,111203,22.66,22.66]
[96366,111207,22.34,22.34]
[96366,111205,24.01,24.01]
[96366,111206,23.8,23.8]
[96366,111209,23.56,23.56]
[96366,118217,21.3,21.3]
[96366,111299,20.04,20.04]
[96366,118299,20.04,20.04]
[96366,411201,19.14,19.14]
[96366,1310200,20.69,20.69]
[96366,1220201,21.9,21.9]
[96366,1210201,19.46,19.46]
[96366,910203,19.600000000000001,19.600000000000001]
[96366,910204,19.91,19.91]
[96366,910299,18.600000000000001,18.600000000000001]
[96366,1020201,19.02,19.02]
[96366,1020299,17.71,17.71]
[96366,121201,20.83,20.83]
[96366,220200,17.559999999999999,17.559999999999999]
[96366,610216,19.89,19.89]
[96366,610212,18.489999999999998,18.489999999999998]
[96366,610215,19.98,19.98]
[96366,610299,17.96,17.96]
[96366,810200,17.88,17.88]
[96366,510200,17.53,17.53]
[96366,520200,17.670000000000002,17.670000000000002]
[96366,1510200,17.34,17.34]
[96366,720201,18.91,18.91]
[96366,720299,17.670000000000002,17.670000000000002]
[96366,1411203,18.93,18.93]
[96366,1411299,17.850000000000001,17.850000000000001]
[96366,1230201,20.37,20.37]
[96366,1230299,19.5,19.5]
[96366,1421201,20.93,20.93]
[96366,1421299,19.75,19.75]
[96366,820201,19.02,19.02]
[96366,820299,17.989999999999998,17.989999999999998]
[96366,620200,18.98,18.98]
[96366,730200,17.18,17.18]
[96366,530202,18.399999999999999,18.399999999999999]
[96366,530201,18.440000000000001,18.440000000000001]
[96366,530299,17.11,17.11]
[96366,320201,19.059999999999999,19.059999999999999]
[96366,540200,17.63,17.63]
[96366,131200,19.62,19.62]
[96366,1431240,19.64,19.64]
[96366,1240201,21.48,21.48]
[96366,1240299,20.69,20.69]
[96366,421205,18.05,18.05]
[96366,1320201,21.63,21.63]
[96366,1320202,22.25,22.25]
[96366,1320203,20.11,20.11]
[96366,1329204,22.16,22.16]
[96366,1328299,18.22,18.22]
[96366,1150200,18.04,18.04]
[96366,330201,18.82,18.82]
[96366,1520200,17.98,17.98]
[96366,431200,17.36,17.36]
[96366,230201,19.5,19.5]
[96366,230299,18.47,18.47]
[96366,1250201,20.27,20.27]
[96366,1250299,18.11,18.11]
[96366,920220,15.13,15.13]
[96366,1441201,19.68,19.68]
[96366,1120201,17.8,17.8]
[96365,0,69.819999999999993,69.819999999999993]
[96365,1010200,62.32,62.32]
[96365,210201,79.680000000000007,79.680000000000007]
[96365,310200,69.64,69.64]
[96365,710213,61.06,61.06]
[96365,118226,83.1,83.1]
[96365,118218,79.84,79.84]
[96365,111203,86.95,86.95]
[96365,111207,85.32,85.32]
[96365,111205,93.25,93.25]
[96365,111206,92.22,92.22]
[96365,111209,90.76,90.76]
[96365,118217,80.760000000000005,80.760000000000005]
[96365,111299,74.58,74.58]
[96365,118299,74.58,74.58]
[96365,411201,70.62,70.62]
[96365,1310200,77.7,77.7]
[96365,1220201,83.08,83.08]
[96365,1210201,71.91,71.91]
[96365,910203,72.67,72.67]
[96365,910204,73.959999999999994,73.959999999999994]
[96365,910299,67.83,67.83]
[96365,1020201,70.040000000000006,70.040000000000006]
[96365,1020299,63.53,63.53]
[96365,121201,79.150000000000006,79.150000000000006]
[96365,220200,62.91,62.91]
[96365,610216,73.650000000000006,73.650000000000006]
[96365,610212,67.069999999999993,67.069999999999993]
[96365,610215,74.290000000000006,74.290000000000006]
[96365,610299,64.64,64.64]
[96365,810200,64.459999999999994,64.459999999999994]
[96365,510200,62.76,62.76]
[96365,520200,63.43,63.43]
[96365,1510200,61.73,61.73]
[96365,720201,69.34,69.34]
[96365,720299,63.23,63.23]
[96365,1411203,69.73,69.73]
[96365,1411299,64.31,64.31]
[96365,1230201,76.150000000000006,76.150000000000006]
[96365,1230299,72.08,72.08]
[96365,1421201,79.319999999999993,79.319999999999993]
[96365,1421299,73.41,73.41]
[96365,820201,69.92,69.92]
[96365,820299,64.88,64.88]
[96365,620200,70.06,70.06]
[96365,730200,60.99,60.99]
[96365,530202,66.930000000000007,66.930000000000007]
[96365,530201,67.12,67.12]
[96365,530299,60.49,60.49]
[96365,320201,70.14,70.14]
[96365,540200,63.3,63.3]
[96365,131200,72.930000000000007,72.930000000000007]
[96365,1431240,73.17,73.17]
[96365,1240201,81.33,81.33]
[96365,1240299,77.739999999999995,77.739999999999995]
[96365,421205,65.12,65.12]
[96365,1320201,81.53,81.53]
[96365,1320202,84.63,84.63]
[96365,1320203,75.09,75.09]
[96365,1329204,84.01,84.01]
[96365,1328299,66.13,66.13]
[96365,1150200,65.23,65.23]
[96365,330201,69.180000000000007,69.180000000000007]
[96365,1520200,64.819999999999993,64.819999999999993]
[96365,431200,61.81,61.81]
[96365,230201,72.42,72.42]
[96365,230299,67.39,67.39]
[96365,1250201,75.650000000000006,75.650000000000006]
[96365,1250299,65.48,65.48]
[96365,920220,50.85,50.85]
[96365,1441201,72.86,72.86]
[96365,1120201,64.05,64.05]
[73718,0,366.99,366.99]
[73718,1010200,329.68,329.68]
[73718,210201,423.84,423.84]
[73718,310200,366.55,366.55]
[73718,710213,323.42,323.42]
[73718,118226,436.41,436.41]
[73718,118218,419.66,419.66]
[73718,111203,458.15,458.15]
[73718,111207,449.92,449.92]
[73718,111205,491.12,491.12]
[73718,111206,485.93,485.93]
[73718,111209,478.49,478.49]
[73718,118217,424.56,424.56]
[73718,111299,393.23,393.23]
[73718,118299,393.23,393.23]
[73718,411201,370.78,370.78]
[73718,1310200,407.11,407.11]
[73718,1220201,435.05,435.05]
[73718,1210201,377.64,377.64]
[73718,910203,379.01,379.01]
[73718,910204,382.73,382.73]
[73718,910299,355.52,355.52]
[73718,1020201,368.37,368.37]
[73718,1020299,334.83,334.83]
[73718,121201,416.81,416.81]
[73718,220200,333.09,333.09]
[73718,610216,383.07,383.07]
[73718,610212,349.37,349.37]
[73718,610215,387.81,387.81]
[73718,610299,339.23,339.23]
[73718,810200,340.73,340.73]
[73718,510200,332.41,332.41]
[73718,520200,335.22,335.22]
[73718,1510200,325.93,325.93]
[73718,720201,363.03,363.03]
[73718,720299,332.12,332.12]
[96366,340202,18.760000000000002,18.760000000000002]
[96366,1030235,17.559999999999999,17.559999999999999]
[96366,441231,19.12,19.12]
[96366,441220,17.77,17.77]
[96366,441209,18.96,18.96]
[96366,441211,19.12,19.12]
[96366,441228,18.87,18.87]
[96366,441215,19.239999999999998,19.239999999999998]
[96366,441218,19.16,19.16]
[96366,441299,17.940000000000001,17.940000000000001]
[96366,350209,18.09,18.09]
[96366,1451250,18.91,18.91]
[96366,1130200,18.71,18.71]
[96366,920250,18.489999999999998,18.489999999999998]
[96366,240202,20.84,20.84]
[96366,240299,18.97,18.97]
[96366,1140216,17.079999999999998,17.079999999999998]
[96366,630200,18.27,18.27]
[96366,360221,19.05,19.05]
[71550,0,416.76,416.76]
[71550,1010200,374.23,374.23]
[71550,210201,480.49,480.49]
[71550,310200,416.32,416.32]
[71550,710213,367.09,367.09]
[71550,118226,496.22,496.22]
[71550,118218,477,477]
[71550,111203,521.26,521.26]
[71550,111207,511.84,511.84]
[71550,111205,558.98,558.98]
[71550,111206,553.05999999999995,553.05999999999995]
[71550,111209,544.51,544.51]
[71550,118217,482.7,482.7]
[71550,111299,446.9,446.9]
[71550,118299,446.9,446.9]
[71550,411201,421.05,421.05]
[71550,1310200,462.52,462.52]
[71550,1220201,494.42,494.42]
[71550,1210201,428.87,428.87]
[71550,910203,430.15,430.15]
[71550,910204,434.01,434.01]
[71550,910299,403.45,403.45]
[71550,1020201,418.36,418.36]
[71550,1020299,379.97,379.97]
[71550,121201,474.02,474.02]
[71550,220200,378.19,378.19]
[71550,610216,434.6,434.6]
[71550,610212,396.11,396.11]
[71550,610215,440.24,440.24]
[71550,610299,384.83,384.83]
[71550,810200,386.88,386.88]
[71550,510200,377.41,377.41]
[71550,520200,380.54,380.54]
[71550,1510200,369.83,369.83]
[71550,720201,412.02,412.02]
[71550,720299,376.71,376.71]
[73718,1411203,367.92,367.92]
[73718,1411299,339.88,339.88]
[73718,1230201,399.32,399.32]
[73718,1230299,378.96,378.96]
[73718,1421201,417.8,417.8]
[73718,1421299,387.24,387.24]
[73718,820201,366.28,366.28]
[73718,820299,341.62,341.62]
[73718,620200,370.86,370.86]
[73718,730200,322.76,322.76]
[73718,530202,351.96,351.96]
[73718,530201,352.91,352.91]
[73718,530299,318.91000000000003,318.91000000000003]
[73718,320201,367.8,367.8]
[73718,540200,335.72,335.72]
[73718,131200,383.24,383.24]
[73718,1431240,384.81,384.81]
[73718,1240201,426.59,426.59]
[73718,1240299,407.91,407.91]
[73718,421205,342.05,342.05]
[73718,1320201,425.18,425.18]
[73718,1320202,439.42,439.42]
[73718,1320203,392.53,392.53]
[73718,1329204,436.44,436.44]
[73718,1328299,348.81,348.81]
[73718,1150200,344.11,344.11]
[73718,330201,365.4,365.4]
[73718,1520200,341.13,341.13]
[73718,431200,326.11,326.11]
[73718,230201,381.63,381.63]
[73718,230299,355.55,355.55]
[73718,1250201,396.37,396.37]
[73718,1250299,344.58,344.58]
[73718,920220,271.51,271.51]
[73718,1441201,383.89,383.89]
[73718,1120201,338.25,338.25]
[71550,1411203,418.01,418.01]
[71550,1411299,385.89,385.89]
[71550,1230201,453.62,453.62]
[71550,1230299,430.43,430.43]
[71550,1421201,475.11,475.11]
[71550,1421299,440.1,440.1]
[71550,820201,415.77,415.77]
[71550,820299,387.72,387.72]
[71550,620200,421.54,421.54]
[71550,730200,366.29,366.29]
[71550,530202,399.53,399.53]
[71550,530201,400.61,400.61]
[71550,530299,361.71,361.71]
[71550,320201,417.57,417.57]
[71550,540200,381.27,381.27]
[71550,131200,435.37,435.37]
[71550,1431240,437.24,437.24]
[71550,1240201,484.86,484.86]
[71550,1240299,463.5,463.5]
[71550,421205,388.11,388.11]
[71550,1320201,482.85,482.85]
[71550,1320202,498.95,498.95]
[71550,1320203,445.72,445.72]
[71550,1329204,495.53,495.53]
[71550,1328299,396.05,396.05]
[71550,1150200,390.67,390.67]
[71550,330201,415.17,415.17]
[71550,1520200,387.14,387.14]
[71550,431200,370.01,370.01]
[71550,230201,433.66,433.66]
[71550,230299,403.81,403.81]
[71550,1250201,450.2,450.2]
[71550,1250299,391.09,391.09]
[71550,920220,307.76,307.76]
[71550,1441201,436.18,436.18]
[71550,1120201,383.98,383.98]
[73718,340202,364.85,364.85]
[73718,1030235,333.15,333.15]
[73718,441231,372.14,372.14]
[73718,441220,335.96,335.96]
[73718,441209,364.6,364.6]
[73718,441211,369.88,369.88]
[73718,441228,364.84,364.84]
[73718,441215,371.85,371.85]
[73718,441218,369.64,369.64]
[73718,441299,341.15,341.15]
[73718,350209,343.02,343.02]
[73718,1451250,367.12,367.12]
[73718,1130200,361.01,361.01]
[73718,920250,354.38,354.38]
[73718,240202,415.23,415.23]
[73718,240299,369.84,369.84]
[73718,1140216,316.33,316.33]
[73718,630200,351.26,351.26]
[73718,360221,367.78,367.78]
[71550,340202,414.61,414.61]
[71550,1030235,378.25,378.25]
[71550,441231,422.78,422.78]
[71550,441220,381.23,381.23]
[71550,441209,413.99,413.99]
[71550,441211,420.13,420.13]
[71550,441228,414.4,414.4]
[71550,441215,422.29,422.29]
[71550,441218,419.76,419.76]
[71550,441299,387.25,387.25]
[71550,350209,389.22,389.22]
[71550,1451250,417.07,417.07]
[71550,1130200,410,410]
[71550,920250,402.31,402.31]
[71550,240202,472.2,472.2]
[71550,240299,420.3,420.3]
[71550,1140216,358.58,358.58]
[71550,630200,398.97,398.97]
[71550,360221,417.55,417.55]
[96365,340202,68.959999999999994,68.959999999999994]
[96365,1030235,62.93,62.93]
[96365,441231,70.64,70.64]
[96365,441220,63.79,63.79]
[96365,441209,69.290000000000006,69.290000000000006]
[96365,441211,70.17,70.17]
[96365,441228,69.23,69.23]
[96365,441215,70.69,70.69]
[96365,441218,70.260000000000005,70.260000000000005]
[96365,441299,64.69,64.69]
[96365,350209,65.31,65.31]
[96365,1451250,69.61,69.61]
[96365,1130200,68.53,68.53]
[96365,920250,67.38,67.38]
[96365,240202,78.72,78.72]
[96365,240299,69.98,69.98]
[96365,1140216,60.24,60.24]
[96365,630200,66.459999999999994,66.459999999999994]
[96365,360221,70.13,70.13]
[73721,0,238.1,238.1]
[73721,1010200,215.48,215.48]
[73721,210201,281.16000000000003,281.16000000000003]
[73721,310200,237.66,237.66]
[73721,710213,211.67,211.67]
[73721,118226,279.68,279.68]
[73721,118218,270.02,270.02]
[73721,111203,292.39,292.39]
[73721,111207,287.51,287.51]
[73721,111205,312.20999999999998,312.20999999999998]
[73721,111206,309.08999999999997,309.08999999999997]
[73721,111209,304.87,304.87]
[73721,118217,272.47000000000003,272.47000000000003]
[73721,111299,253.63,253.63]
[73721,118299,253.63,253.63]
[73721,411201,240.47,240.47]
[73721,1310200,262.62,262.62]
[73721,1220201,279.73,279.73]
[73721,1210201,244.75,244.75]
[73721,910203,246.24,246.24]
[73721,910204,249.58,249.58]
[73721,910299,231.78,231.78]
[73721,1020201,238.83,238.83]
[73721,1020299,218.95,218.95]
[73721,121201,267.04000000000002,267.04000000000002]
[73721,220200,217.35,217.35]
[73721,610216,249.41,249.41]
[73721,610212,228.98,228.98]
[73721,610215,251.57,251.57]
[73721,610299,222.06,222.06]
[73721,810200,222.02,222.02]
[73721,510200,216.92,216.92]
[73721,520200,218.83,218.83]
[73721,1510200,213.53,213.53]
[73721,720201,236.33,236.33]
[73721,720299,217.79,217.79]
[73721,1411203,238.12,238.12]
[73721,1411299,221.55,221.55]
[73721,1230201,257.92,257.92]
[73721,1230299,245.42,245.42]
[73721,1421201,267.89999999999998,267.89999999999998]
[73721,1421299,249.84,249.84]
[73721,820201,238.16,238.16]
[73721,820299,223.04,223.04]
[73721,620200,239.38,239.38]
[73721,730200,211.39,211.39]
[73721,530202,229.25,229.25]
[73721,530201,229.81,229.81]
[73721,530299,209.61,209.61]
[73721,320201,238.91,238.91]
[73721,540200,218.69,218.69]
[73721,131200,247.77,247.77]
[73721,1431240,248.44,248.44]
[73721,1240201,274.24,274.24]
[73721,1240299,262.89999999999998,262.89999999999998]
[73721,421205,223.59,223.59]
[73721,1320201,274.63,274.63]
[73721,1320202,283.58,283.58]
[73721,1320203,254.09,254.09]
[73721,1329204,281.89,281.89]
[73721,1328299,227,227]
[73721,1150200,224.24,224.24]
[73721,330201,236.5,236.5]
[73721,1520200,222.81,222.81]
[73721,431200,213.71,213.71]
[73721,230201,246.42,246.42]
[73721,230299,230.91,230.91]
[73721,1250201,256.26,256.26]
[73721,1250299,224.83,224.83]
[73721,920220,180.64,180.64]
[73721,1441201,248.17,248.17]
[73721,1120201,220.69,220.69]
[73721,340202,235.95,235.95]
[73721,1030235,217.4,217.4]
[73721,441231,240.8,240.8]
[73721,441220,219.69,219.69]
[73721,441209,236.99,236.99]
[73721,441211,239.83,239.83]
[73721,441228,236.59,236.59]
[73721,441215,241.28,241.28]
[73721,441218,239.97,239.97]
[73721,441299,222.57,222.57]
[73721,350209,224.18,224.18]
[73721,1451250,237.7,237.7]
[73721,1130200,234.3,234.3]
[73721,920250,230.64,230.64]
[73721,240202,266.36,266.36]
[73721,240299,239.01,239.01]
[73721,1140216,208.57,208.57]
[73721,630200,228.17,228.17]
[73721,360221,238.88,238.88]
[73221,0,237.74,237.74]
[73221,1010200,215.16,215.16]
[73221,210201,280.76,280.76]
[73221,310200,237.3,237.3]
[73221,710213,211.36,211.36]
[73221,118226,279.24,279.24]
[73221,118218,269.60000000000002,269.60000000000002]
[73221,111203,291.93,291.93]
[73221,111207,287.06,287.06]
[73221,111205,311.70999999999998,311.70999999999998]
[73221,111206,308.58999999999997,308.58999999999997]
[73221,111209,304.38,304.38]
[73221,118217,272.04000000000002,272.04000000000002]
[73221,111299,253.24,253.24]
[73221,118299,253.24,253.24]
[73221,411201,240.11,240.11]
[73221,1310200,262.22000000000003,262.22000000000003]
[73221,1220201,279.3,279.3]
[73221,1210201,244.38,244.38]
[73221,910203,245.88,245.88]
[73221,910204,249.21,249.21]
[73221,910299,231.44,231.44]
[73221,1020201,238.47,238.47]
[73221,1020299,218.63,218.63]
[73221,121201,266.62,266.62]
[73221,220200,217.02,217.02]
[73221,610216,249.04,249.04]
[73221,610212,228.64,228.64]
[73221,610215,251.19,251.19]
[73221,610299,221.74,221.74]
[73221,810200,221.69,221.69]
[73221,510200,216.6,216.6]
[73221,520200,218.51,218.51]
[73221,1510200,213.22,213.22]
[73221,720201,235.98,235.98]
[73221,720299,217.48,217.48]
[73221,1411203,237.76,237.76]
[73221,1411299,221.22,221.22]
[73221,1230201,257.52999999999997,257.52999999999997]
[73221,1230299,245.05,245.05]
[73221,1421201,267.48,267.48]
[73221,1421299,249.46,249.46]
[73221,820201,237.8,237.8]
[73221,820299,222.71,222.71]
[73221,620200,239.02,239.02]
[73221,730200,211.08,211.08]
[73221,530202,228.91,228.91]
[73221,530201,229.47,229.47]
[73221,530299,209.3,209.3]
[73221,320201,238.55,238.55]
[73221,540200,218.36,218.36]
[73221,131200,247.39,247.39]
[73221,1431240,248.06,248.06]
[73221,1240201,273.82,273.82]
[73221,1240299,262.5,262.5]
[73221,421205,223.27,223.27]
[73221,1320201,274.20999999999998,274.20999999999998]
[73221,1320202,283.14999999999998,283.14999999999998]
[73221,1320203,253.71,253.71]
[73221,1329204,281.45999999999998,281.45999999999998]
[73221,1328299,226.66,226.66]
[73221,1150200,223.9,223.9]
[73221,330201,236.14,236.14]
[73221,1520200,222.48,222.48]
[73221,431200,213.4,213.4]
[73221,230201,246.04,246.04]
[73221,230299,230.56,230.56]
[73221,1250201,255.87,255.87]
[73221,1250299,224.5,224.5]
[73221,920220,180.39,180.39]
[73221,1441201,247.79,247.79]
[73221,1120201,220.37,220.37]
[73221,340202,235.59,235.59]
[73221,1030235,217.08,217.08]
[73221,441231,240.43,240.43]
[73221,441220,219.37,219.37]
[73221,441209,236.64,236.64]
[73221,441211,239.47,239.47]
[73221,441228,236.24,236.24]
[73221,441215,240.91,240.91]
[73221,441218,239.61,239.61]
[73221,441299,222.24,222.24]
[73221,350209,223.85,223.85]
[73221,1451250,237.35,237.35]
[73221,1130200,233.95,233.95]
[73221,920250,230.29,230.29]
[73221,240202,265.94,265.94]
[73221,240299,238.65,238.65]
[73221,1140216,208.28,208.28]
[73221,630200,227.82,227.82]
[73221,360221,238.52,238.52]
[72195,0,377.38,377.38]
[72195,1010200,339.33,339.33]
[72195,210201,436.89,436.89]
[72195,310200,376.94,376.94]
[72195,710213,332.95,332.95]
[72195,118226,448.33,448.33]
[72195,118218,431.27,431.27]
[72195,111203,470.61,470.61]
[72195,111207,462.22,462.22]
[72195,111205,504.31,504.31]
[72195,111206,499.02,499.02]
[72195,111209,491.45,491.45]
[72195,118217,436.23,436.23]
[72195,111299,404.25,404.25]
[72195,118299,404.25,404.25]
[72195,411201,381.24,381.24]
[72195,1310200,418.37,418.37]
[72195,1220201,446.96,446.96]
[72195,1210201,388.27,388.27]
[72195,910203,389.58,389.58]
[72195,910204,393.32,393.32]
[72195,910299,365.64,365.64]
[72195,1020201,378.78,378.78]
[72195,1020299,344.56,344.56]
[72195,121201,428.25,428.25]
[72195,220200,342.82,342.82]
[72195,610216,393.76,393.76]
[72195,610212,359.33,359.33]
[72195,610215,398.61,398.61]
[72195,610299,349.02,349.02]
[72195,810200,350.61,350.61]
[72195,510200,342.12,342.12]
[72195,520200,344.98,344.98]
[72195,1510200,335.49,335.49]
[72195,720201,373.31,373.31]
[72195,720299,341.78,341.78]
[73218,0,366.99,366.99]
[73218,1010200,329.68,329.68]
[73218,210201,423.84,423.84]
[73218,310200,366.55,366.55]
[73218,710213,323.42,323.42]
[73218,118226,436.41,436.41]
[73218,118218,419.66,419.66]
[73218,111203,458.15,458.15]
[73218,111207,449.92,449.92]
[73218,111205,491.12,491.12]
[73218,111206,485.93,485.93]
[73218,111209,478.49,478.49]
[73218,118217,424.56,424.56]
[73218,111299,393.23,393.23]
[73218,118299,393.23,393.23]
[73218,411201,370.78,370.78]
[73218,1310200,407.11,407.11]
[73218,1220201,435.05,435.05]
[73218,1210201,377.64,377.64]
[73218,910203,379.01,379.01]
[73218,910204,382.73,382.73]
[73218,910299,355.52,355.52]
[73218,1020201,368.37,368.37]
[73218,1020299,334.83,334.83]
[73218,121201,416.81,416.81]
[73218,220200,333.09,333.09]
[73218,610216,383.07,383.07]
[73218,610212,349.37,349.37]
[73218,610215,387.81,387.81]
[73218,610299,339.23,339.23]
[73218,810200,340.73,340.73]
[73218,510200,332.41,332.41]
[73218,520200,335.22,335.22]
[73218,1510200,325.93,325.93]
[73218,720201,363.03,363.03]
[73218,720299,332.12,332.12]
[72148,0,224.49,224.49]
[72148,1010200,203.96,203.96]
[72148,210201,267.92,267.92]
[72148,310200,224.05,224.05]
[72148,710213,200.49,200.49]
[72148,118226,262.29000000000002,262.29000000000002]
[72148,118218,253.69,253.69]
[72148,111203,273.83999999999997,273.83999999999997]
[72148,111207,269.44,269.44]
[72148,111205,291.89,291.89]
[72148,111206,289.06,289.06]
[72148,111209,285.33,285.33]
[72148,118217,255.71,255.71]
[72148,111299,238.64,238.64]
[72148,118299,238.64,238.64]
[72148,411201,226.66,226.66]
[72148,1310200,246.91,246.91]
[72148,1220201,262.62,262.62]
[72148,1210201,230.63,230.63]
[72148,910203,232.09,232.09]
[72148,910204,235.37,235.37]
[72148,910299,218.9,218.9]
[72148,1020201,225.13,225.13]
[72148,1020299,207.19,207.19]
[72148,121201,250.49,250.49]
[72148,220200,205.6,205.6]
[72148,610216,235.2,235.2]
[72148,610212,216.58,216.58]
[72148,610215,236.98,236.98]
[72148,610299,210.12,210.12]
[72148,810200,209.86,209.86]
[72148,510200,205.21,205.21]
[72148,520200,206.99,206.99]
[72148,1510200,202.26,202.26]
[72148,720201,223.03,223.03]
[72148,720299,206.25,206.25]
[72141,0,225.57,225.57]
[72141,1010200,204.91,204.91]
[72141,210201,269.11,269.11]
[72141,310200,225.13,225.13]
[72141,710213,201.42,201.42]
[72141,118226,263.60000000000002,263.60000000000002]
[72141,118218,254.94,254.94]
[72141,111203,275.22000000000003,275.22000000000003]
[72141,111207,270.79000000000002,270.79000000000002]
[72141,111205,293.38,293.38]
[72141,111206,290.52999999999997,290.52999999999997]
[72141,111209,286.77999999999997,286.77999999999997]
[72141,118217,256.98,256.98]
[72141,111299,239.8,239.8]
[72141,118299,239.8,239.8]
[72141,411201,227.75,227.75]
[72141,1310200,248.12,248.12]
[72141,1220201,263.92,263.92]
[72141,1210201,231.74,231.74]
[72141,910203,233.2,233.2]
[72141,910204,236.48,236.48]
[72141,910299,219.94,219.94]
[72141,1020201,226.21,226.21]
[72141,1020299,208.15,208.15]
[72141,121201,251.74,251.74]
[72141,220200,206.57,206.57]
[72141,610216,236.32,236.32]
[72141,610212,217.58,217.58]
[72141,610215,238.11,238.11]
[72141,610299,211.09,211.09]
[72141,810200,210.85,210.85]
[72141,510200,206.18,206.18]
[72141,520200,207.96,207.96]
[72141,1510200,203.2,203.2]
[72141,720201,224.09,224.09]
[72141,720299,207.2,207.2]
[72195,1411203,378.35,378.35]
[72195,1411299,349.73,349.73]
[72195,1230201,410.42,410.42]
[72195,1230299,389.63,389.63]
[72195,1421201,429.3,429.3]
[72195,1421299,398.12,398.12]
[72195,820201,376.62,376.62]
[72195,820299,351.49,351.49]
[72195,620200,381.37,381.37]
[72195,730200,332.26,332.26]
[72195,530202,362.03,362.03]
[72195,530201,363,363]
[72195,530299,328.31,328.31]
[72195,320201,378.19,378.19]
[72195,540200,345.51,345.51]
[72195,131200,393.97,393.97]
[72195,1431240,395.57,395.57]
[72195,1240201,438.31,438.31]
[72195,1240299,419.2,419.2]
[72195,421205,351.91,351.91]
[72195,1320201,436.85,436.85]
[72195,1320202,451.33,451.33]
[72195,1320203,403.43,403.43]
[72195,1329204,448.31,448.31]
[72195,1328299,358.83,358.83]
[72195,1150200,354.04,354.04]
[72195,330201,375.78,375.78]
[72195,1520200,350.99,350.99]
[72195,431200,335.67,335.67]
[72195,230201,392.35,392.35]
[72195,230299,365.72,365.72]
[72195,1250201,407.39,407.39]
[72195,1250299,354.5,354.5]
[72195,920220,280,280]
[72195,1441201,394.71,394.71]
[72195,1120201,348.06,348.06]
[73218,1411203,367.92,367.92]
[73218,1411299,339.88,339.88]
[73218,1230201,399.32,399.32]
[73218,1230299,378.96,378.96]
[73218,1421201,417.8,417.8]
[73218,1421299,387.24,387.24]
[73218,820201,366.28,366.28]
[73218,820299,341.62,341.62]
[73218,620200,370.86,370.86]
[73218,730200,322.76,322.76]
[73218,530202,351.96,351.96]
[73218,530201,352.91,352.91]
[73218,530299,318.91000000000003,318.91000000000003]
[73218,320201,367.8,367.8]
[73218,540200,335.72,335.72]
[73218,131200,383.24,383.24]
[73218,1431240,384.81,384.81]
[73218,1240201,426.59,426.59]
[73218,1240299,407.91,407.91]
[73218,421205,342.05,342.05]
[73218,1320201,425.18,425.18]
[73218,1320202,439.42,439.42]
[73218,1320203,392.53,392.53]
[73218,1329204,436.44,436.44]
[73218,1328299,348.81,348.81]
[73218,1150200,344.11,344.11]
[73218,330201,365.4,365.4]
[73218,1520200,341.13,341.13]
[73218,431200,326.11,326.11]
[73218,230201,381.63,381.63]
[73218,230299,355.55,355.55]
[73218,1250201,396.37,396.37]
[73218,1250299,344.58,344.58]
[73218,920220,271.51,271.51]
[73218,1441201,383.89,383.89]
[73218,1120201,338.25,338.25]
[72148,1411203,224.39,224.39]
[72148,1411299,209.44,209.44]
[72148,1230201,242.65,242.65]
[72148,1230299,231.23,231.23]
[72148,1421201,251.39,251.39]
[72148,1421299,235.11,235.11]
[72148,820201,224.66,224.66]
[72148,820299,210.89,210.89]
[72148,620200,225.41,225.41]
[72148,730200,200.27,200.27]
[72148,530202,216.52,216.52]
[72148,530201,217.03,217.03]
[72148,530299,198.78,198.78]
[72148,320201,225.3,225.3]
[72148,540200,206.76,206.76]
[72148,131200,233.26,233.26]
[72148,1431240,233.78,233.78]
[72148,1240201,257.5,257.5]
[72148,1240299,247.13,247.13]
[72148,421205,211.47,211.47]
[72148,1320201,258.19,258.19]
[72148,1320202,266.38,266.38]
[72148,1320203,239.18,239.18]
[72148,1329204,264.89,264.89]
[72148,1328299,214.4,214.4]
[72148,1150200,211.91,211.91]
[72148,330201,222.9,222.9]
[72148,1520200,210.7,210.7]
[72148,431200,202.44,202.44]
[72148,230201,231.94,231.94]
[72148,230299,217.91,217.91]
[72148,1250201,241.16,241.16]
[72148,1250299,212.52,212.52]
[72148,920220,172.42,172.42]
[72148,1441201,233.7,233.7]
[72148,1120201,208.7,208.7]
[72141,1411203,225.47,225.47]
[72141,1411299,210.43,210.43]
[72141,1230201,243.83,243.83]
[72141,1230299,232.34,232.34]
[72141,1421201,252.64,252.64]
[72141,1421299,236.25,236.25]
[72141,820201,225.73,225.73]
[72141,820299,211.88,211.88]
[72141,620200,226.51,226.51]
[72141,730200,201.2,201.2]
[72141,530202,217.54,217.54]
[72141,530201,218.05,218.05]
[72141,530299,199.69,199.69]
[72141,320201,226.38,226.38]
[72141,540200,207.74,207.74]
[72141,131200,234.39,234.39]
[72141,1431240,234.91,234.91]
[72141,1240201,258.77,258.77]
[72141,1240299,248.34,248.34]
[72141,421205,212.45,212.45]
[72141,1320201,259.45,259.45]
[72141,1320202,267.68,267.68]
[72141,1320203,240.34,240.34]
[72141,1329204,266.18,266.18]
[72141,1328299,215.41,215.41]
[72141,1150200,212.91,212.91]
[72141,330201,223.97,223.97]
[72141,1520200,211.68,211.68]
[72141,431200,203.38,203.38]
[72141,230201,233.07,233.07]
[72141,230299,218.94,218.94]
[72141,1250201,242.33,242.33]
[72141,1250299,213.52,213.52]
[72141,920220,173.18,173.18]
[72141,1441201,234.83,234.83]
[72141,1120201,209.67,209.67]
[72148,340202,222.34,222.34]
[72148,1030235,205.66,205.66]
[72148,441231,226.85,226.85]
[72148,441220,207.88,207.88]
[72148,441209,223.66,223.66]
[72148,441211,226.14,226.14]
[72148,441228,223.1,223.1]
[72148,441215,227.52,227.52]
[72148,441218,226.35,226.35]
[72148,441299,210.42,210.42]
[72148,350209,212,212]
[72148,1451250,224.03,224.03]
[72148,1130200,221.01,221.01]
[72148,920250,217.76,217.76]
[72148,240202,250.04,250.04]
[72148,240299,225.13,225.13]
[72148,1140216,197.96,197.96]
[72148,630200,215.38,215.38]
[72148,360221,225.28,225.28]
[73218,340202,364.85,364.85]
[73218,1030235,333.15,333.15]
[73218,441231,372.14,372.14]
[73218,441220,335.96,335.96]
[73218,441209,364.6,364.6]
[73218,441211,369.88,369.88]
[73218,441228,364.84,364.84]
[73218,441215,371.85,371.85]
[73218,441218,369.64,369.64]
[73218,441299,341.15,341.15]
[73218,350209,343.02,343.02]
[73218,1451250,367.12,367.12]
[73218,1130200,361.01,361.01]
[73218,920250,354.38,354.38]
[73218,240202,415.23,415.23]
[73218,240299,369.84,369.84]
[73218,1140216,316.33,316.33]
[73218,630200,351.26,351.26]
[73218,360221,367.78,367.78]
[72141,340202,223.42,223.42]
[72141,1030235,206.63,206.63]
[72141,441231,227.94,227.94]
[72141,441220,208.84,208.84]
[72141,441209,224.72,224.72]
[72141,441211,227.23,227.23]
[72141,441228,224.17,224.17]
[72141,441215,228.61,228.61]
[72141,441218,227.43,227.43]
[72141,441299,211.41,211.41]
[72141,350209,212.99,212.99]
[72141,1451250,225.1,225.1]
[72141,1130200,222.06,222.06]
[72141,920250,218.79,218.79]
[72141,240202,251.28,251.28]
[72141,240299,226.22,226.22]
[72141,1140216,198.86,198.86]
[72141,630200,216.41,216.41]
[72141,360221,226.35,226.35]
[72195,340202,375.23,375.23]
[72195,1030235,342.88,342.88]
[72195,441231,382.65,382.65]
[72195,441220,345.71,345.71]
[72195,441209,374.99,374.99]
[72195,441211,380.4,380.4]
[72195,441228,375.21,375.21]
[72195,441215,382.39,382.39]
[72195,441218,380.14,380.14]
[72195,441299,351.02,351.02]
[72195,350209,352.9,352.9]
[72195,1451250,377.52,377.52]
[72195,1130200,371.28,371.28]
[72195,920250,364.5,364.5]
[72195,240202,426.71,426.71]
[72195,240299,380.32,380.32]
[72195,1140216,325.66000000000003,325.66000000000003]
[72195,630200,361.35,361.35]
[72195,360221,378.16,378.16]
[72192,0,147.16,147.16]
[72192,1010200,134.13999999999999,134.13999999999999]
[72192,210201,177.25,177.25]
[72192,310200,146.85,146.85]
[72192,710213,131.94,131.94]
[72192,118226,171.11,171.11]
[72192,118218,165.76,165.76]
[72192,111203,178.4,178.4]
[72192,111207,175.64,175.64]
[72192,111205,189.86,189.86]
[72192,111206,188.07,188.07]
[72192,111209,185.78,185.78]
[72192,118217,166.92,166.92]
[72192,111299,156.12,156.12]
[72192,118299,156.12,156.12]
[72192,411201,148.54,148.54]
[72192,1310200,161.44999999999999,161.44999999999999]
[72192,1220201,171.5,171.5]
[72192,1210201,151.11000000000001,151.11000000000001]
[72192,910203,152.12,152.12]
[72192,910204,154.38,154.38]
[72192,910299,143.72,143.72]
[72192,1020201,147.54,147.54]
[72192,1020299,136.25,136.25]
[72192,121201,163.43,163.43]
[72192,220200,135.15,135.15]
[72192,610216,154.24,154.24]
[72192,610212,142.4,142.4]
[72192,610215,155.24,155.24]
[72192,610299,138.18,138.18]
[72192,810200,137.85,137.85]
[72192,510200,134.9,134.9]
[72192,520200,136.06,136.06]
[72192,1510200,133.12,133.12]
[72192,720201,146.34,146.34]
[72192,720299,135.72999999999999,135.72999999999999]
[73200,0,180.45,180.45]
[73200,1010200,163.27000000000001,163.27000000000001]
[73200,210201,212.84,212.84]
[73200,310200,180.15,180.15]
[73200,710213,160.38,160.38]
[73200,118226,212.18,212.18]
[73200,118218,204.79,204.79]
[73200,111203,221.96,221.96]
[73200,111207,218.23,218.23]
[73200,111205,237.07,237.07]
[73200,111206,234.7,234.7]
[73200,111209,231.46,231.46]
[73200,118217,206.7,206.7]
[73200,111299,192.36,192.36]
[73200,118299,192.36,192.36]
[73200,411201,182.24,182.24]
[73200,1310200,199.09,199.09]
[73200,1220201,212.12,212.12]
[73200,1210201,185.5,185.5]
[73200,910203,186.51,186.51]
[73200,910204,188.88,188.88]
[73200,910299,175.56,175.56]
[73200,1020201,181.02,181.02]
[73200,1020299,165.86,165.86]
[73200,121201,202.63,202.63]
[73200,220200,164.72,164.72]
[73200,610216,188.84,188.84]
[73200,610212,173.29,173.29]
[73200,610215,190.58,190.58]
[73200,610299,168.15,168.15]
[73200,810200,168.26,168.26]
[73200,510200,164.4,164.4]
[73200,520200,165.82,165.82]
[73200,1510200,161.75,161.75]
[73200,720201,179.01,179.01]
[73200,720299,164.91,164.91]
[71250,0,181.89,181.89]
[71250,1010200,164.62,164.62]
[71250,210201,214.71,214.71]
[71250,310200,181.58,181.58]
[71250,710213,161.72,161.72]
[71250,118226,213.79,213.79]
[71250,118218,206.37,206.37]
[71250,111203,223.64,223.64]
[71250,111207,219.9,219.9]
[71250,111205,238.84,238.84]
[71250,111206,236.45,236.45]
[71250,111209,233.21,233.21]
[71250,118217,208.28,208.28]
[71250,111299,193.87,193.87]
[71250,118299,193.87,193.87]
[71250,411201,183.68,183.68]
[71250,1310200,200.63,200.63]
[71250,1220201,213.74,213.74]
[71250,1210201,186.96,186.96]
[71250,910203,187.96,187.96]
[71250,910204,190.33,190.33]
[71250,910299,176.96,176.96]
[71250,1020201,182.46,182.46]
[71250,1020299,167.22,167.22]
[71250,121201,204.18,204.18]
[71250,220200,166.08,166.08]
[71250,610216,190.31,190.31]
[71250,610212,174.68,174.68]
[71250,610215,192.06,192.06]
[71250,610299,169.52,169.52]
[71250,810200,169.64,169.64]
[71250,510200,165.76,165.76]
[71250,520200,167.18,167.18]
[71250,1510200,163.09,163.09]
[71250,720201,180.43,180.43]
[71250,720299,166.26,166.26]
[73200,1411203,180.55,180.55]
[73200,1411299,167.9,167.9]
[73200,1230201,195.52,195.52]
[73200,1230299,186.04,186.04]
[73200,1421201,203.27,203.27]
[73200,1421299,189.48,189.48]
[73200,820201,180.42,180.42]
[73200,820299,168.97,168.97]
[73200,620200,181.59,181.59]
[73200,730200,160.15,160.15]
[73200,530202,173.69,173.69]
[73200,530201,174.12,174.12]
[73200,530299,158.71,158.71]
[73200,320201,181.02,181.02]
[73200,540200,165.78,165.78]
[73200,131200,187.84,187.84]
[73200,1431240,188.38,188.38]
[73200,1240201,207.98,207.98]
[73200,1240299,199.34,199.34]
[73200,421205,169.34,169.34]
[73200,1320201,208.11,208.11]
[73200,1320202,214.85,214.85]
[73200,1320203,192.54,192.54]
[73200,1329204,213.56,213.56]
[73200,1328299,172.03,172.03]
[73200,1150200,169.92,169.92]
[73200,330201,179.34,179.34]
[73200,1520200,168.78,168.78]
[73200,431200,161.87,161.87]
[73200,230201,186.87,186.87]
[73200,230299,175.03,175.03]
[73200,1250201,194.23,194.23]
[73200,1250299,170.33,170.33]
[73200,920220,136.75,136.75]
[73200,1441201,188.17,188.17]
[73200,1120201,167.23,167.23]
[71250,1411203,181.99,181.99]
[71250,1411299,169.27,169.27]
[71250,1230201,197.04,197.04]
[71250,1230299,187.5,187.5]
[71250,1421201,204.83,204.83]
[71250,1421299,190.98,190.98]
[71250,820201,181.85,181.85]
[71250,820299,170.34,170.34]
[71250,620200,183.04,183.04]
[71250,730200,161.49,161.49]
[71250,530202,175.09,175.09]
[71250,530201,175.52,175.52]
[71250,530299,160.04,160.04]
[71250,320201,182.45,182.45]
[71250,540200,167.14,167.14]
[71250,131200,189.31,189.31]
[71250,1431240,189.85,189.85]
[71250,1240201,209.57,209.57]
[71250,1240299,200.88,200.88]
[71250,421205,170.72,170.72]
[71250,1320201,209.7,209.7]
[71250,1320202,216.47,216.47]
[71250,1320203,194.04,194.04]
[71250,1329204,215.17,215.17]
[71250,1328299,173.43,173.43]
[71250,1150200,171.3,171.3]
[71250,330201,180.77,180.77]
[71250,1520200,170.15,170.15]
[71250,431200,163.21,163.21]
[71250,230201,188.34,188.34]
[71250,230299,176.44,176.44]
[71250,1250201,195.74,195.74]
[71250,1250299,171.71,171.71]
[71250,920220,137.97,137.97]
[71250,1441201,189.66,189.66]
[71250,1120201,168.6,168.6]
[72192,1411203,147,147]
[72192,1411299,137.6,137.6]
[72192,1230201,158.75,158.75]
[72192,1230299,151.47,151.47]
[72192,1421201,164.08,164.08]
[72192,1421299,153.83000000000001,153.83000000000001]
[72192,820201,147.34,147.34]
[72192,820299,138.59,138.59]
[72192,620200,147.56,147.56]
[72192,730200,131.82,131.82]
[72192,530202,142.15,142.15]
[72192,530201,142.47,142.47]
[72192,530299,130.97,130.97]
[72192,320201,147.72,147.72]
[72192,540200,135.84,135.84]
[72192,131200,152.69,152.69]
[72192,1431240,152.96,152.96]
[72192,1240201,168.17,168.17]
[72192,1240299,161.56,161.56]
[72192,421205,139,139]
[72192,1320201,168.84,168.84]
[72192,1320202,174.07,174.07]
[72192,1320203,156.58000000000001,156.58000000000001]
[72192,1329204,173.16,173.16]
[72192,1328299,140.74,140.74]
[72192,1150200,139.18,139.18]
[72192,330201,146.04,146.04]
[72192,1520200,138.47999999999999,138.47999999999999]
[72192,431200,133.25,133.25]
[72192,230201,151.79,151.79]
[72192,230299,142.94,142.94]
[72192,1250201,157.83000000000001,157.83000000000001]
[72192,1250299,139.62,139.62]
[72192,920220,114.23,114.23]
[72192,1441201,153.01,153.01]
[72192,1120201,137.15,137.15]
[73200,340202,178.95,178.95]
[73200,1030235,164.76,164.76]
[73200,441231,182.57,182.57]
[73200,441220,166.41,166.41]
[73200,441209,179.6,179.6]
[73200,441211,181.81,181.81]
[73200,441228,179.35,179.35]
[73200,441215,182.87,182.87]
[73200,441218,181.87,181.87]
[73200,441299,168.64,168.64]
[73200,350209,169.79,169.79]
[73200,1451250,180.23,180.23]
[73200,1130200,177.6,177.6]
[73200,920250,174.76,174.76]
[73200,240202,202.12,202.12]
[73200,240299,181.27,181.27]
[73200,1140216,157.85,157.85]
[73200,630200,172.97,172.97]
[73200,360221,181,181]
[71250,340202,180.38,180.38]
[71250,1030235,166.12,166.12]
[71250,441231,184.01,184.01]
[71250,441220,167.77,167.77]
[71250,441209,181.04,181.04]
[71250,441211,183.26,183.26]
[71250,441228,180.78,180.78]
[71250,441215,184.32,184.32]
[71250,441218,183.32,183.32]
[71250,441299,170.01,170.01]
[71250,350209,171.17,171.17]
[71250,1451250,181.66,181.66]
[71250,1130200,179.02,179.02]
[71250,920250,176.16,176.16]
[71250,240202,203.68,203.68]
[71250,240299,182.71,182.71]
[71250,1140216,159.16,159.16]
[71250,630200,174.37,174.37]
[71250,360221,182.43,182.43]
[72146,0,225.57,225.57]
[72146,1010200,204.91,204.91]
[72146,210201,269.11,269.11]
[72146,310200,225.13,225.13]
[72146,710213,201.42,201.42]
[72146,118226,263.60000000000002,263.60000000000002]
[72146,118218,254.94,254.94]
[72146,111203,275.22000000000003,275.22000000000003]
[72146,111207,270.79000000000002,270.79000000000002]
[72146,111205,293.38,293.38]
[72146,111206,290.52999999999997,290.52999999999997]
[72146,111209,286.77999999999997,286.77999999999997]
[72146,118217,256.98,256.98]
[72146,111299,239.8,239.8]
[72146,118299,239.8,239.8]
[72146,411201,227.75,227.75]
[72146,1310200,248.12,248.12]
[72146,1220201,263.92,263.92]
[72146,1210201,231.74,231.74]
[72146,910203,233.2,233.2]
[72146,910204,236.48,236.48]
[72146,910299,219.94,219.94]
[72146,1020201,226.21,226.21]
[72146,1020299,208.15,208.15]
[72146,121201,251.74,251.74]
[72146,220200,206.57,206.57]
[72146,610216,236.32,236.32]
[72146,610212,217.58,217.58]
[72146,610215,238.11,238.11]
[72146,610299,211.09,211.09]
[72146,810200,210.85,210.85]
[72146,510200,206.18,206.18]
[72146,520200,207.96,207.96]
[72146,1510200,203.2,203.2]
[72146,720201,224.09,224.09]
[72146,720299,207.2,207.2]
[73700,0,180.45,180.45]
[73700,1010200,163.27000000000001,163.27000000000001]
[73700,210201,212.84,212.84]
[73700,310200,180.15,180.15]
[73700,710213,160.38,160.38]
[73700,118226,212.18,212.18]
[73700,118218,204.79,204.79]
[73700,111203,221.96,221.96]
[73700,111207,218.23,218.23]
[73700,111205,237.07,237.07]
[73700,111206,234.7,234.7]
[73700,111209,231.46,231.46]
[73700,118217,206.7,206.7]
[73700,111299,192.36,192.36]
[73700,118299,192.36,192.36]
[73700,411201,182.24,182.24]
[73700,1310200,199.09,199.09]
[73700,1220201,212.12,212.12]
[73700,1210201,185.5,185.5]
[73700,910203,186.51,186.51]
[73700,910204,188.88,188.88]
[73700,910299,175.56,175.56]
[73700,1020201,181.02,181.02]
[73700,1020299,165.86,165.86]
[73700,121201,202.63,202.63]
[73700,220200,164.72,164.72]
[73700,610216,188.84,188.84]
[73700,610212,173.29,173.29]
[73700,610215,190.58,190.58]
[73700,610299,168.15,168.15]
[73700,810200,168.26,168.26]
[73700,510200,164.4,164.4]
[73700,520200,165.82,165.82]
[73700,1510200,161.75,161.75]
[73700,720201,179.01,179.01]
[73700,720299,164.91,164.91]
[72192,340202,145.65,145.65]
[72192,1030235,135.19,135.19]
[72192,441231,148.58000000000001,148.58000000000001]
[72192,441220,136.69,136.69]
[72192,441209,146.72999999999999,146.72999999999999]
[72192,441211,148.24,148.24]
[72192,441228,146.25,146.25]
[72192,441215,149.16,149.16]
[72192,441218,148.41999999999999,148.41999999999999]
[72192,441299,138.26,138.26]
[72192,350209,139.34,139.34]
[72192,1451250,146.78,146.78]
[72192,1130200,144.91999999999999,144.91999999999999]
[72192,920250,142.91999999999999,142.91999999999999]
[72192,240202,163.24,163.24]
[72192,240299,147.41999999999999,147.41999999999999]
[72192,1140216,130.54,130.54]
[72192,630200,141.31,141.31]
[72192,360221,147.69999999999999,147.69999999999999]
[72146,1411203,225.47,225.47]
[72146,1411299,210.43,210.43]
[72146,1230201,243.83,243.83]
[72146,1230299,232.34,232.34]
[72146,1421201,252.64,252.64]
[72146,1421299,236.25,236.25]
[72146,820201,225.73,225.73]
[72146,820299,211.88,211.88]
[72146,620200,226.51,226.51]
[72146,730200,201.2,201.2]
[72146,530202,217.54,217.54]
[72146,530201,218.05,218.05]
[72146,530299,199.69,199.69]
[72146,320201,226.38,226.38]
[72146,540200,207.74,207.74]
[72146,131200,234.39,234.39]
[72146,1431240,234.91,234.91]
[72146,1240201,258.77,258.77]
[72146,1240299,248.34,248.34]
[72146,421205,212.45,212.45]
[72146,1320201,259.45,259.45]
[72146,1320202,267.68,267.68]
[72146,1320203,240.34,240.34]
[72146,1329204,266.18,266.18]
[72146,1328299,215.41,215.41]
[72146,1150200,212.91,212.91]
[72146,330201,223.97,223.97]
[72146,1520200,211.68,211.68]
[72146,431200,203.38,203.38]
[72146,230201,233.07,233.07]
[72146,230299,218.94,218.94]
[72146,1250201,242.33,242.33]
[72146,1250299,213.52,213.52]
[72146,920220,173.18,173.18]
[72146,1441201,234.83,234.83]
[72146,1120201,209.67,209.67]
[73700,1411203,180.55,180.55]
[73700,1411299,167.9,167.9]
[73700,1230201,195.52,195.52]
[73700,1230299,186.04,186.04]
[73700,1421201,203.27,203.27]
[73700,1421299,189.48,189.48]
[73700,820201,180.42,180.42]
[73700,820299,168.97,168.97]
[73700,620200,181.59,181.59]
[73700,730200,160.15,160.15]
[73700,530202,173.69,173.69]
[73700,530201,174.12,174.12]
[73700,530299,158.71,158.71]
[73700,320201,181.02,181.02]
[73700,540200,165.78,165.78]
[73700,131200,187.84,187.84]
[73700,1431240,188.38,188.38]
[73700,1240201,207.98,207.98]
[73700,1240299,199.34,199.34]
[73700,421205,169.34,169.34]
[73700,1320201,208.11,208.11]
[73700,1320202,214.85,214.85]
[73700,1320203,192.54,192.54]
[73700,1329204,213.56,213.56]
[73700,1328299,172.03,172.03]
[73700,1150200,169.92,169.92]
[73700,330201,179.34,179.34]
[73700,1520200,168.78,168.78]
[73700,431200,161.87,161.87]
[73700,230201,186.87,186.87]
[73700,230299,175.03,175.03]
[73700,1250201,194.23,194.23]
[73700,1250299,170.33,170.33]
[73700,920220,136.75,136.75]
[73700,1441201,188.17,188.17]
[73700,1120201,167.23,167.23]
[72146,340202,223.42,223.42]
[72146,1030235,206.63,206.63]
[72146,441231,227.94,227.94]
[72146,441220,208.84,208.84]
[72146,441209,224.72,224.72]
[72146,441211,227.23,227.23]
[72146,441228,224.17,224.17]
[72146,441215,228.61,228.61]
[72146,441218,227.43,227.43]
[72146,441299,211.41,211.41]
[72146,350209,212.99,212.99]
[72146,1451250,225.1,225.1]
[72146,1130200,222.06,222.06]
[72146,920250,218.79,218.79]
[72146,240202,251.28,251.28]
[72146,240299,226.22,226.22]
[72146,1140216,198.86,198.86]
[72146,630200,216.41,216.41]
[72146,360221,226.35,226.35]
[73700,340202,178.95,178.95]
[73700,1030235,164.76,164.76]
[73700,441231,182.57,182.57]
[73700,441220,166.41,166.41]
[73700,441209,179.6,179.6]
[73700,441211,181.81,181.81]
[73700,441228,179.35,179.35]
[73700,441215,182.87,182.87]
[73700,441218,181.87,181.87]
[73700,441299,168.64,168.64]
[73700,350209,169.79,169.79]
[73700,1451250,180.23,180.23]
[73700,1130200,177.6,177.6]
[73700,920250,174.76,174.76]
[73700,240202,202.12,202.12]
[73700,240299,181.27,181.27]
[73700,1140216,157.85,157.85]
[73700,630200,172.97,172.97]
[73700,360221,181,181]
[72131,0,180.81,180.81]
[72131,1010200,163.59,163.59]
[72131,210201,213.24,213.24]
[72131,310200,180.5,180.5]
[72131,710213,160.69,160.69]
[72131,118226,212.61,212.61]
[72131,118218,205.21,205.21]
[72131,111203,222.42,222.42]
[72131,111207,218.69,218.69]
[72131,111205,237.57,237.57]
[72131,111206,235.19,235.19]
[72131,111209,231.95,231.95]
[72131,118217,207.12,207.12]
[72131,111299,192.75,192.75]
[72131,118299,192.75,192.75]
[72131,411201,182.6,182.6]
[72131,1310200,199.5,199.5]
[72131,1220201,212.55,212.55]
[72131,1210201,185.87,185.87]
[72131,910203,186.88,186.88]
[72131,910204,189.25,189.25]
[72131,910299,175.9,175.9]
[72131,1020201,181.38,181.38]
[72131,1020299,166.18,166.18]
[72131,121201,203.05,203.05]
[72131,220200,165.04,165.04]
[72131,610216,189.21,189.21]
[72131,610212,173.62,173.62]
[72131,610215,190.96,190.96]
[72131,610299,168.48,168.48]
[72131,810200,168.59,168.59]
[72131,510200,164.72,164.72]
[72131,520200,166.14,166.14]
[72131,1510200,162.06,162.06]
[72131,720201,179.37,179.37]
[72131,720299,165.22,165.22]
[72125,0,185.82,185.82]
[72125,1010200,168.32,168.32]
[72125,210201,219.77,219.77]
[72125,310200,185.52,185.52]
[72125,710213,165.37,165.37]
[72125,118226,218.26,218.26]
[72125,118218,210.74,210.74]
[72125,111203,228.29,228.29]
[72125,111207,224.5,224.5]
[72125,111205,243.75,243.75]
[72125,111206,241.33,241.33]
[72125,111209,238.05,238.05]
[72125,118217,212.66,212.66]
[72125,111299,198.04,198.04]
[72125,118299,198.04,198.04]
[72125,411201,187.64,187.64]
[72125,1310200,204.87,204.87]
[72125,1220201,218.21,218.21]
[72125,1210201,190.99,190.99]
[72125,910203,191.97,191.97]
[72125,910204,194.34,194.34]
[72125,910299,180.81,180.81]
[72125,1020201,186.41,186.41]
[72125,1020299,170.94,170.94]
[72125,121201,208.47,208.47]
[72125,220200,169.8,169.8]
[72125,610216,194.36,194.36]
[72125,610212,178.47,178.47]
[72125,610215,196.14,196.14]
[72125,610299,173.26,173.26]
[72125,810200,173.41,173.41]
[72125,510200,169.47,169.47]
[72125,520200,170.91,170.91]
[72125,1510200,166.75,166.75]
[72125,720201,184.34,184.34]
[72125,720299,169.95,169.95]
[72131,1411203,180.91,180.91]
[72131,1411299,168.23,168.23]
[72131,1230201,195.91,195.91]
[72131,1230299,186.41,186.41]
[72131,1421201,203.69,203.69]
[72131,1421299,189.87,189.87]
[72131,820201,180.78,180.78]
[72131,820299,169.3,169.3]
[72131,620200,181.95,181.95]
[72131,730200,160.46,160.46]
[72131,530202,174.03,174.03]
[72131,530201,174.46,174.46]
[72131,530299,159.02000000000001,159.02000000000001]
[72131,320201,181.38,181.38]
[72131,540200,166.1,166.1]
[72131,131200,188.21,188.21]
[72131,1431240,188.76,188.76]
[72131,1240201,208.4,208.4]
[72131,1240299,199.75,199.75]
[72131,421205,169.67,169.67]
[72131,1320201,208.53,208.53]
[72131,1320202,215.29,215.29]
[72131,1320203,192.93,192.93]
[72131,1329204,213.99,213.99]
[72131,1328299,172.37,172.37]
[72131,1150200,170.26,170.26]
[72131,330201,179.69,179.69]
[72131,1520200,169.11,169.11]
[72131,431200,162.18,162.18]
[72131,230201,187.24,187.24]
[72131,230299,175.38,175.38]
[72131,1250201,194.62,194.62]
[72131,1250299,170.66,170.66]
[72131,920220,137,137]
[72131,1441201,188.55,188.55]
[72131,1120201,167.56,167.56]
[72125,1411203,185.94,185.94]
[72125,1411299,173.04,173.04]
[72125,1230201,201.22,201.22]
[72125,1230299,191.55,191.55]
[72125,1421201,209.15,209.15]
[72125,1421299,195.09,195.09]
[72125,820201,185.78,185.78]
[72125,820299,174.11,174.11]
[72125,620200,187.02,187.02]
[72125,730200,165.13,165.13]
[72125,530202,178.93,178.93]
[72125,530201,179.36,179.36]
[72125,530299,163.65,163.65]
[72125,320201,186.39,186.39]
[72125,540200,170.88,170.88]
[72125,131200,193.37,193.37]
[72125,1431240,193.92,193.92]
[72125,1240201,213.97,213.97]
[72125,1240299,205.13,205.13]
[72125,421205,174.48,174.48]
[72125,1320201,214.09,214.09]
[72125,1320202,220.94,220.94]
[72125,1320203,198.15,198.15]
[72125,1329204,219.63,219.63]
[72125,1328299,177.25,177.25]
[72125,1150200,175.09,175.09]
[72125,330201,184.71,184.71]
[72125,1520200,173.92,173.92]
[72125,431200,166.87,166.87]
[72125,230201,192.39,192.39]
[72125,230299,180.31,180.31]
[72125,1250201,199.91,199.91]
[72125,1250299,175.5,175.5]
[72125,920220,141.28,141.28]
[72125,1441201,193.75,193.75]
[72125,1120201,172.35,172.35]
[72128,0,181.53,181.53]
[72128,1010200,164.23,164.23]
[72128,210201,214.03,214.03]
[72128,310200,181.22,181.22]
[72128,710213,161.31,161.31]
[72128,118226,213.49,213.49]
[72128,118218,206.04,206.04]
[72128,111203,223.34,223.34]
[72128,111207,219.59,219.59]
[72128,111205,238.56,238.56]
[72128,111206,236.17,236.17]
[72128,111209,232.91,232.91]
[72128,118217,207.96,207.96]
[72128,111299,193.52,193.52]
[72128,118299,193.52,193.52]
[72128,411201,183.33,183.33]
[72128,1310200,200.3,200.3]
[72128,1220201,213.42,213.42]
[72128,1210201,186.61,186.61]
[72128,910203,187.62,187.62]
[72128,910204,189.99,189.99]
[72128,910299,176.59,176.59]
[72128,1020201,182.1,182.1]
[72128,1020299,166.82,166.82]
[72128,121201,203.88,203.88]
[72128,220200,165.69,165.69]
[72128,610216,189.95,189.95]
[72128,610212,174.29,174.29]
[72128,610215,191.71,191.71]
[72128,610299,169.13,169.13]
[72128,810200,169.25,169.25]
[72128,510200,165.36,165.36]
[72128,520200,166.79,166.79]
[72128,1510200,162.68,162.68]
[72128,720201,180.07,180.07]
[72128,720299,165.86,165.86]
[72128,1411203,181.63,181.63]
[72128,1411299,168.89,168.89]
[72128,1230201,196.7,196.7]
[72128,1230299,187.15,187.15]
[72128,1421201,204.52,204.52]
[72128,1421299,190.63,190.63]
[72128,820201,181.49,181.49]
[72128,820299,169.96,169.96]
[72128,620200,182.69,182.69]
[72128,730200,161.08000000000001,161.08000000000001]
[72128,530202,174.72,174.72]
[72128,530201,175.15,175.15]
[72128,530299,159.62,159.62]
[72128,320201,182.09,182.09]
[72128,540200,166.75,166.75]
[72128,131200,188.97,188.97]
[72128,1431240,189.52,189.52]
[72128,1240201,209.25,209.25]
[72128,1240299,200.55,200.55]
[72128,421205,170.33,170.33]
[72128,1320201,209.36,209.36]
[72128,1320202,216.15,216.15]
[72128,1320203,193.7,193.7]
[72128,1329204,214.85,214.85]
[72128,1328299,173.05,173.05]
[72128,1150200,170.92,170.92]
[72128,330201,180.41,180.41]
[72128,1520200,169.77,169.77]
[72128,431200,162.81,162.81]
[72128,230201,187.99,187.99]
[72128,230299,176.07,176.07]
[72128,1250201,195.4,195.4]
[72128,1250299,171.33,171.33]
[72128,920220,137.51,137.51]
[72128,1441201,189.3,189.3]
[72128,1120201,168.21,168.21]
[72128,340202,180.02,180.02]
[72128,1030235,165.73,165.73]
[72128,441231,183.66,183.66]
[72128,441220,167.38,167.38]
[72128,441209,180.66,180.66]
[72128,441211,182.89,182.89]
[72128,441228,180.42,180.42]
[72128,441215,183.96,183.96]
[72128,441218,182.95,182.95]
[72128,441299,169.62,169.62]
[72128,350209,170.78,170.78]
[72128,1451250,181.3,181.3]
[72128,1130200,178.65,178.65]
[72128,920250,175.79,175.79]
[72128,240202,203.36,203.36]
[72128,240299,182.36,182.36]
[72128,1140216,158.75,158.75]
[72128,630200,174,174]
[72128,360221,182.08,182.08]
[72125,340202,184.32,184.32]
[72125,1030235,169.84,169.84]
[72125,441231,187.99,187.99]
[72125,441220,171.5,171.5]
[72125,441209,184.99,184.99]
[72125,441211,187.25,187.25]
[72125,441228,184.72,184.72]
[72125,441215,188.32,188.32]
[72125,441218,187.31,187.31]
[72125,441299,173.78,173.78]
[72125,350209,174.94,174.94]
[72125,1451250,185.61,185.61]
[72125,1130200,182.92,182.92]
[72125,920250,180.01,180.01]
[72125,240202,207.99,207.99]
[72125,240299,186.68,186.68]
[72125,1140216,162.75,162.75]
[72125,630200,178.21,178.21]
[72125,360221,186.37,186.37]
[72131,340202,179.31,179.31]
[72131,1030235,165.08,165.08]
[72131,441231,182.93,182.93]
[72131,441220,166.73,166.73]
[72131,441209,179.95,179.95]
[72131,441211,182.17,182.17]
[72131,441228,179.71,179.71]
[72131,441215,183.23,183.23]
[72131,441218,182.23,182.23]
[72131,441299,168.97,168.97]
[72131,350209,170.12,170.12]
[72131,1451250,180.58,180.58]
[72131,1130200,177.95,177.95]
[72131,920250,175.1,175.1]
[72131,240202,202.53,202.53]
[72131,240299,181.63,181.63]
[72131,1140216,158.15,158.15]
[72131,630200,173.31,173.31]
[72131,360221,181.36,181.36]
[77078,0,114.57,114.57]
[77078,1010200,102.34,102.34]
[77078,210201,130.07,130.07]
[77078,310200,114.49,114.49]
[77078,710213,100.29,100.29]
[77078,118226,137.47999999999999,137.47999999999999]
[77078,118218,131.82,131.82]
[77078,111203,144.74,144.74]
[77078,111207,142.01,142.01]
[77078,111205,155.6,155.6]
[77078,111206,153.88999999999999,153.88999999999999]
[77078,111209,151.35,151.35]
[77078,118217,133.61000000000001,133.61000000000001]
[77078,111299,123.28,123.28]
[77078,118299,123.28,123.28]
[77078,411201,115.79,115.79]
[77078,1310200,127.65,127.65]
[77078,1220201,136.74,136.74]
[77078,1210201,117.99,117.99]
[77078,910203,118.23,118.23]
[77078,910204,119.1,119.1]
[77078,910299,110.6,110.6]
[77078,1020201,115.06,115.06]
[77078,1020299,103.91,103.91]
[77078,121201,131.32,131.32]
[77078,220200,103.52,103.52]
[77078,610216,119.33,119.33]
[77078,610212,108.28,108.28]
[77078,610215,121.12,121.12]
[77078,610299,105.21,105.21]
[77078,810200,106.01,106.01]
[77078,510200,103.3,103.3]
[77078,520200,104.16,104.16]
[77078,1510200,101,101]
[77078,720201,113.07,113.07]
[77078,720299,102.87,102.87]
[77078,1411203,115.05,115.05]
[77078,1411299,105.72,105.72]
[77078,1230201,125.09,125.09]
[77078,1230299,118.46,118.46]
[77078,1421201,131.55000000000001,131.55000000000001]
[77078,1421299,121.38,121.38]
[77078,820201,114.18,114.18]
[77078,820299,106.15,106.15]
[77078,620200,116.18,116.18]
[77078,730200,100.03,100.03]
[77078,530202,109.56,109.56]
[77078,530201,109.87,109.87]
[77078,530299,98.59,98.59]
[77078,320201,114.74,114.74]
[77078,540200,104.47,104.47]
[77078,131200,119.96,119.96]
[77078,1431240,120.57,120.57]
[78070,0,312.57,312.57]
[78070,1010200,279.51,279.51]
[78070,210201,356.28,356.28]
[78070,310200,312.26,312.26]
[78070,710213,273.97000000000003,273.97000000000003]
[78070,118226,374.13,374.13]
[78070,118218,359,359]
[78070,111203,393.48,393.48]
[78070,111207,386.13,386.13]
[78070,111205,422.67,422.67]
[78070,111206,418.06,418.06]
[78070,111209,411.28,411.28]
[78070,118217,363.67,363.67]
[78070,111299,335.85,335.85]
[78070,118299,335.85,335.85]
[78070,411201,315.89,315.89]
[78070,1310200,347.89,347.89]
[78070,1220201,372.43,372.43]
[78070,1210201,321.85000000000002,321.85000000000002]
[78070,910203,322.81,322.81]
[78070,910204,325.58999999999997,325.58999999999997]
[78070,910299,302.10000000000002,302.10000000000002]
[78070,1020201,313.83999999999997,313.83999999999997]
[78070,1020299,283.91000000000003,283.91000000000003]
[78070,121201,357.29,357.29]
[78070,220200,282.63,282.63]
[78070,610216,326,326]
[78070,610212,296.22000000000003,296.22000000000003]
[78070,610215,330.55,330.55]
[78070,610299,287.60000000000002,287.60000000000002]
[78070,810200,289.38,289.38]
[78070,510200,282.02999999999997,282.02999999999997]
[78070,520200,284.43,284.43]
[78070,1510200,276.04000000000002,276.04000000000002]
[78070,720201,308.76,308.76]
[78070,720299,281.27999999999997,281.27999999999997]
[77078,1240201,134.09,134.09]
[77078,1240299,127.98,127.98]
[77078,421205,106.19,106.19]
[77078,1320201,133.21,133.21]
[77078,1320202,137.78,137.78]
[77078,1320203,122.77,122.77]
[77078,1329204,136.76,136.76]
[77078,1328299,108.63,108.63]
[77078,1150200,107.06,107.06]
[77078,330201,114.25,114.25]
[77078,1520200,105.97,105.97]
[77078,431200,101.03,101.03]
[77078,230201,119.55,119.55]
[77078,230299,110.9,110.9]
[77078,1250201,124.08,124.08]
[77078,1250299,107.12,107.12]
[77078,920220,83.12,83.12]
[77078,1441201,120.16,120.16]
[77078,1120201,105.14,105.14]
[77078,340202,114.14,114.14]
[77078,1030235,103.53,103.53]
[77078,441231,116.4,116.4]
[77078,441220,104.26,104.26]
[77078,441209,113.66,113.66]
[77078,441211,115.52,115.52]
[77078,441228,113.93,113.93]
[77078,441215,116.08,116.08]
[77078,441218,115.34,115.34]
[77078,441299,106.05,106.05]
[77078,350209,106.51,106.51]
[77078,1451250,114.77,114.77]
[77078,1130200,112.66,112.66]
[77078,920250,110.37,110.37]
[77078,240202,130.69999999999999,130.69999999999999]
[77078,240299,115.77,115.77]
[77078,1140216,97.57,97.57]
[78070,1411203,313.64,313.64]
[78070,1411299,288.60000000000002,288.60000000000002]
[78070,1230201,340.98,340.98]
[78070,1230299,323.06,323.06]
[78070,1421201,357.97,357.97]
[78070,1421299,330.67,330.67]
[78070,820201,311.70999999999998,311.70999999999998]
[78070,820299,289.94,289.94]
[78070,620200,316.49,316.49]
[78070,730200,273.33,273.33]
[78070,530202,299.13,299.13]
[78070,530201,299.97000000000003,299.97000000000003]
[78070,530299,269.66000000000003,269.66000000000003]
[78070,320201,313.14,313.14]
[78070,540200,285.08,285.08]
[78070,131200,327.02,327.02]
[78070,1431240,328.58,328.58]
[78070,1240201,365.16,365.16]
[78070,1240299,348.69,348.69]
[78070,421205,290.18,290.18]
[78070,1320201,363.25,363.25]
[78070,1320202,375.75,375.75]
[78070,1320203,334.9,334.9]
[78070,1329204,373.02,373.02]
[78070,1328299,296.49,296.49]
[78070,1150200,292.29000000000002,292.29000000000002]
[78070,330201,311.45,311.45]
[78070,1520200,289.48,289.48]
[78070,431200,276.16000000000003,276.16000000000003]
[78070,230201,325.77,325.77]
[78070,230299,302.55,302.55]
[78070,1250201,338.32,338.32]
[78070,1250299,292.56,292.56]
[78070,920220,227.78,227.78]
[78070,1441201,327.51,327.51]
[78070,1120201,287.08999999999997,287.08999999999997]
[77078,630200,109.54,109.54]
[77078,360221,114.73,114.73]
[78070,340202,311.07,311.07]
[78070,1030235,282.67,282.67]
[78070,441231,317.33,317.33]
[78070,441220,284.88,284.88]
[78070,441209,310.19,310.19]
[78070,441211,315.05,315.05]
[78070,441228,310.74,310.74]
[78070,441215,316.66000000000003,316.66000000000003]
[78070,441218,314.69,314.69]
[78070,441299,289.61,289.61]
[78070,350209,291.04000000000002,291.04000000000002]
[78070,1451250,312.89999999999998,312.89999999999998]
[78070,1130200,307.35000000000002,307.35000000000002]
[78070,920250,301.3,301.3]
[78070,240202,355.64,355.64]
[78070,240299,315.48,315.48]
[78070,1140216,267.13,267.13]
[78070,630200,298.82,298.82]
[78070,360221,313.12,313.12]
[96372,0,25.42,25.42]
[96372,1010200,23.12,23.12]
[96372,210201,30.39,30.39]
[96372,310200,25.38,25.38]
[96372,710213,22.73,22.73]
[96372,118226,29.7,29.7]
[96372,118218,28.73,28.73]
[96372,111203,31.03,31.03]
[96372,111207,30.53,30.53]
[96372,111205,33.07,33.07]
[96372,111206,32.75,32.75]
[96372,111209,32.33,32.33]
[96372,118217,28.96,28.96]
[96372,111299,27.04,27.04]
[96372,118299,27.04,27.04]
[96372,411201,25.66,25.66]
[96372,1310200,27.95,27.95]
[96372,1220201,29.72,29.72]
[96372,1210201,26.11,26.11]
[96372,910203,26.25,26.25]
[96372,910204,26.58,26.58]
[96372,910299,24.77,24.77]
[96372,1020201,25.5,25.5]
[96372,1020299,23.47,23.47]
[96372,121201,28.38,28.38]
[96372,220200,23.31,23.31]
[96372,610216,26.59,26.59]
[96372,610212,24.49,24.49]
[96372,610215,26.8,26.8]
[96372,610299,23.78,23.78]
[96372,810200,23.78,23.78]
[96372,510200,23.27,23.27]
[96372,520200,23.46,23.46]
[96372,1510200,22.92,22.92]
[96372,720201,25.24,25.24]
[96372,720299,23.35,23.35]
[96372,1411203,25.43,25.43]
[96372,1411299,23.74,23.74]
[96372,1230201,27.47,27.47]
[96372,1230299,26.19,26.19]
[96372,1421201,28.48,28.48]
[96372,1421299,26.64,26.64]
[96372,820201,25.42,25.42]
[96372,820299,23.89,23.89]
[96372,620200,25.56,25.56]
[96372,730200,22.7,22.7]
[96372,530202,24.52,24.52]
[96372,530201,24.58,24.58]
[96372,530299,22.52,22.52]
[96372,320201,25.5,25.5]
[96372,540200,23.45,23.45]
[96372,131200,26.41,26.41]
[96372,1431240,26.48,26.48]
[96372,1240201,29.15,29.15]
[96372,1240299,27.98,27.98]
[96372,421205,23.94,23.94]
[96372,1320201,29.2,29.2]
[96372,1320202,30.1,30.1]
[96372,1320203,27.06,27.06]
[96372,1329204,29.94,29.94]
[96372,1328299,24.29,24.29]
[96372,1150200,24.01,24.01]
[96372,330201,25.26,25.26]
[96372,1520200,23.86,23.86]
[96372,431200,22.94,22.94]
[96372,230201,26.28,26.28]
[96372,230299,24.69,24.69]
[96372,1250201,27.29,27.29]
[96372,1250299,24.07,24.07]
[96372,920220,19.57,19.57]
[96372,1441201,26.47,26.47]
[96372,1120201,23.65,23.65]
[96372,340202,25.21,25.21]
[96372,1030235,23.32,23.32]
[96372,441231,25.7,25.7]
[96372,441220,23.55,23.55]
[96372,441209,25.33,25.33]
[96372,441211,25.62,25.62]
[96372,441228,25.27,25.27]
[96372,441215,25.77,25.77]
[96372,441218,25.63,25.63]
[96372,441299,23.84,23.84]
[96372,350209,24,24]
[96372,1451250,25.38,25.38]
[96372,1130200,25.04,25.04]
[96372,920250,24.66,24.66]
[96372,240202,28.33,28.33]
[96372,240299,25.52,25.52]
[96372,1140216,22.41,22.41]
[96372,630200,24.41,24.41]
[96372,360221,25.5,25.5]
[72080,0,30.79,30.79]
[72080,1010200,27.98,27.98]
[72080,210201,36.9,36.9]
[72080,310200,30.7,30.7]
[72080,710213,27.51,27.51]
[72080,118226,35.799999999999997,35.799999999999997]
[72080,118218,34.67,34.67]
[72080,111203,37.24,37.24]
[72080,111207,36.659999999999997,36.659999999999997]
[72080,111205,39.64,39.64]
[72080,111206,39.25,39.25]
[72080,111209,38.770000000000003,38.770000000000003]
[72080,118217,34.9,34.9]
[72080,111299,32.6,32.6]
[72080,118299,32.6,32.6]
[72080,411201,31.1,31.1]
[72080,1310200,33.83,33.83]
[72080,1220201,35.94,35.94]
[72080,1210201,31.63,31.63]
[72080,910203,31.97,31.97]
[72080,910204,32.590000000000003,32.590000000000003]
[72080,910299,30.13,30.13]
[72080,1020201,30.86,30.86]
[72080,1020299,28.48,28.48]
[72080,121201,34.14,34.14]
[72080,220200,28.18,28.18]
[72080,610216,32.47,32.47]
[72080,610212,29.96,29.96]
[72080,610215,32.61,32.61]
[72080,610299,28.95,28.95]
[72080,810200,28.76,28.76]
[72080,510200,28.12,28.12]
[72080,520200,28.4,28.4]
[72080,1510200,27.8,27.8]
[72080,720201,30.69,30.69]
[72080,720299,28.43,28.43]
[72080,1411203,30.69,30.69]
[72080,1411299,28.72,28.72]
[72080,1230201,33.26,33.26]
[72080,1230299,31.69,31.69]
[72080,1421201,34.270000000000003,34.270000000000003]
[72080,1421299,32.119999999999997,32.119999999999997]
[72080,820201,30.89,30.89]
[72080,820299,28.98,28.98]
[72080,620200,30.75,30.75]
[72080,730200,27.5,27.5]
[72080,530202,29.74,29.74]
[72080,530201,29.81,29.81]
[72080,530299,27.38,27.38]
[72080,320201,30.95,30.95]
[72080,540200,28.29,28.29]
[72080,131200,31.95,31.95]
[72080,1431240,31.99,31.99]
[72080,1240201,35.21,35.21]
[72080,1240299,33.83,33.83]
[72080,421205,29.11,29.11]
[72080,1320201,35.479999999999997,35.479999999999997]
[72080,1320202,36.659999999999997,36.659999999999997]
[72080,1320203,32.86,32.86]
[72080,1329204,36.46,36.46]
[72080,1328299,29.4,29.4]
[72080,1150200,29.07,29.07]
[72080,330201,30.47,30.47]
[72080,1520200,28.97,28.97]
[72080,431200,27.84,27.84]
[72080,230201,31.71,31.71]
[72080,230299,29.85,29.85]
[72080,1250201,33.08,33.08]
[72080,1250299,29.21,29.21]
[72080,920220,23.74,23.74]
[72080,1441201,31.97,31.97]
[72080,1120201,28.63,28.63]
[72080,340202,30.36,30.36]
[72080,1030235,28.19,28.19]
[72080,441231,31.05,31.05]
[72080,441220,28.58,28.58]
[72080,441209,30.69,30.69]
[72080,441211,30.97,30.97]
[72080,441228,30.56,30.56]
[72080,441215,31.2,31.2]
[72080,441218,31.04,31.04]
[72080,441299,28.89,28.89]
[72080,350209,29.18,29.18]
[72080,1451250,30.65,30.65]
[72080,1130200,30.29,30.29]
[72080,920250,29.9,29.9]
[72080,240202,34.07,34.07]
[72080,240299,30.75,30.75]
[72080,1140216,27.35,27.35]
[72080,630200,29.48,29.48]
[72080,360221,30.95,30.95]
[97530,0,35.090000000000003,35.090000000000003]
[97530,1010200,32.79,32.79]
[97530,210201,44.89,44.89]
[97530,310200,35.04,35.04]
[97530,710213,32.4,32.4]
[97530,118226,39.71,39.71]
[97530,118218,38.85,38.85]
[97530,111203,41.26,41.26]
[97530,111207,40.79,40.79]
[97530,111205,43.5,43.5]
[97530,111206,43.18,43.18]
[97530,111209,42.85,42.85]
[97530,118217,38.92,38.92]
[97530,111299,36.97,36.97]
[97530,118299,36.97,36.97]
[97530,411201,35.33,35.33]
[97530,1310200,37.85,37.85]
[97530,1220201,39.880000000000003,39.880000000000003]
[97530,1210201,35.9,35.9]
[97530,910203,35.909999999999997,35.909999999999997]
[97530,910204,36.25,36.25]
[97530,910299,34.44,34.44]
[97530,1020201,35.159999999999997,35.159999999999997]
[97530,1020299,33.14,33.14]
[97530,121201,38.07,38.07]
[97530,220200,32.979999999999997,32.979999999999997]
[97530,610216,36.409999999999997,36.409999999999997]
[97530,610212,34.15,34.15]
[97530,610215,36.590000000000003,36.590000000000003]
[97530,610299,33.450000000000003,33.450000000000003]
[97530,810200,33.450000000000003,33.450000000000003]
[97530,510200,32.93,32.93]
[97530,520200,33.130000000000003,33.130000000000003]
[97530,1510200,32.590000000000003,32.590000000000003]
[97530,720201,34.909999999999997,34.909999999999997]
[97530,720299,33.020000000000003,33.020000000000003]
[97112,0,34.01,34.01]
[97112,1010200,31.78,31.78]
[97112,210201,43.7,43.7]
[97112,310200,33.93,33.93]
[97112,710213,31.39,31.39]
[97112,118226,38.22,38.22]
[97112,118218,37.47,37.47]
[97112,111203,39.520000000000003,39.520000000000003]
[97112,111207,39.08,39.08]
[97112,111205,41.57,41.57]
[97112,111206,41.26,41.26]
[97112,111209,40.98,40.98]
[97112,118217,37.47,37.47]
[97112,111299,35.630000000000003,35.630000000000003]
[97112,118299,35.630000000000003,35.630000000000003]
[97112,411201,34.270000000000003,34.270000000000003]
[97112,1310200,36.65,36.65]
[97112,1220201,38.56,38.56]
[97112,1210201,34.799999999999997,34.799999999999997]
[97112,910203,35.04,35.04]
[97112,910204,35.65,35.65]
[97112,910299,33.549999999999997,33.549999999999997]
[97112,1020201,34.06,34.06]
[97112,1020299,32.21,32.21]
[97112,121201,36.57,36.57]
[97112,220200,31.91,31.91]
[97112,610216,35.64,35.64]
[97112,610212,33.51,33.51]
[97112,610215,35.64,35.64]
[97112,610299,32.630000000000003,32.630000000000003]
[97112,810200,32.380000000000003,32.380000000000003]
[97112,510200,31.86,31.86]
[97112,520200,32.1,32.1]
[97112,1510200,31.67,31.67]
[97112,720201,34,34]
[97112,720299,32.22,32.22]
[97112,1411203,33.880000000000003,33.880000000000003]
[97112,1411299,32.35,32.35]
[97112,1230201,36.18,36.18]
[97112,1230299,34.85,34.85]
[97112,1421201,36.82,36.82]
[97112,1421299,35.15,35.15]
[97112,820201,34.15,34.15]
[97112,820299,32.61,32.61]
[97112,620200,33.869999999999997,33.869999999999997]
[97112,730200,31.4,31.4]
[97112,530202,33.21,33.21]
[97112,530201,33.26,33.26]
[97112,530299,31.36,31.36]
[97112,320201,34.18,34.18]
[97112,540200,31.98,31.98]
[97112,131200,34.96,34.96]
[97112,1431240,34.92,34.92]
[97112,1240201,37.85,37.85]
[97112,1240299,36.630000000000003,36.630000000000003]
[97112,421205,32.74,32.74]
[97112,1320201,38.29,38.29]
[97112,1320202,39.22,39.22]
[97112,1320203,35.79,35.79]
[97112,1329204,39.119999999999997,39.119999999999997]
[97112,1328299,32.9,32.9]
[97112,1150200,32.64,32.64]
[97112,330201,33.69,33.69]
[97112,1520200,32.6,32.6]
[97112,431200,31.7,31.7]
[97112,230201,34.729999999999997,34.729999999999997]
[97112,230299,33.24,33.24]
[97112,1250201,36.04,36.04]
[97112,1250299,32.78,32.78]
[97112,920220,28.44,28.44]
[97112,1441201,35.11,35.11]
[97112,1120201,32.299999999999997,32.299999999999997]
[97530,1411203,35.090000000000003,35.090000000000003]
[97530,1411299,33.4,33.4]
[97530,1230201,37.36,37.36]
[97530,1230299,36,36]
[97530,1421201,38.31,38.31]
[97530,1421299,36.47,36.47]
[97530,820201,35.090000000000003,35.090000000000003]
[97530,820299,33.549999999999997,33.549999999999997]
[97530,620200,35.22,35.22]
[97530,730200,32.369999999999997,32.369999999999997]
[97530,530202,34.19,34.19]
[97530,530201,34.24,34.24]
[97530,530299,32.18,32.18]
[97530,320201,35.17,35.17]
[97530,540200,33.11,33.11]
[97530,131200,36.130000000000003,36.130000000000003]
[97530,1431240,36.14,36.14]
[97530,1240201,39.200000000000003,39.200000000000003]
[97530,1240299,37.89,37.89]
[97530,421205,33.61,33.61]
[97530,1320201,39.369999999999997,39.369999999999997]
[97530,1320202,40.21,40.21]
[97530,1320203,36.82,36.82]
[97530,1329204,40.11,40.11]
[97530,1328299,33.96,33.96]
[97530,1150200,33.68,33.68]
[97530,330201,34.93,34.93]
[97530,1520200,33.53,33.53]
[97530,431200,32.6,32.6]
[97530,230201,35.99,35.99]
[97530,230299,34.36,34.36]
[97530,1250201,37.159999999999997,37.159999999999997]
[97530,1250299,33.74,33.74]
[97530,920220,29.24,29.24]
[97530,1441201,36.35,36.35]
[97530,1120201,33.32,33.32]
[97112,340202,33.58,33.58]
[97112,1030235,31.92,31.92]
[97112,441231,34.17,34.17]
[97112,441220,32.299999999999997,32.299999999999997]
[97112,441209,34.119999999999997,34.119999999999997]
[97112,441211,34.299999999999997,34.299999999999997]
[97112,441228,33.85,33.85]
[97112,441215,34.51,34.51]
[97112,441218,34.39,34.39]
[97112,441299,32.51,32.51]
[97112,350209,32.79,32.79]
[97112,1451250,33.86,33.86]
[97112,1130200,33.6,33.6]
[97112,920250,33.32,33.32]
[97112,240202,36.72,36.72]
[97112,240299,33.9,33.9]
[97112,1140216,31.4,31.4]
[97112,630200,32.93,32.93]
[97112,360221,34.17,34.17]
[97530,340202,34.869999999999997,34.869999999999997]
[97530,1030235,32.979999999999997,32.979999999999997]
[97530,441231,35.36,35.36]
[97530,441220,33.21,33.21]
[97530,441209,35.18,35.18]
[97530,441211,35.46,35.46]
[97530,441228,34.99,34.99]
[97530,441215,35.619999999999997,35.619999999999997]
[97530,441218,35.49,35.49]
[97530,441299,33.51,33.51]
[97530,350209,33.67,33.67]
[97530,1451250,35.049999999999997,35.049999999999997]
[97530,1130200,34.700000000000003,34.700000000000003]
[97530,920250,34.33,34.33]
[97530,240202,38.24,38.24]
[97530,240299,35.18,35.18]
[97530,1140216,32.08,32.08]
[97530,630200,34.08,34.08]
[97530,360221,35.17,35.17]
[97110,0,32.58,32.58]
[97110,1010200,30.51,30.51]
[97110,210201,42.12,42.12]
[97110,310200,32.49,32.49]
[97110,710213,30.15,30.15]
[97110,118226,36.479999999999997,36.479999999999997]
[97110,118218,35.81,35.81]
[97110,111203,37.68,37.68]
[97110,111207,37.270000000000003,37.270000000000003]
[97110,111205,39.58,39.58]
[97110,111206,39.299999999999997,39.299999999999997]
[97110,111209,39.049999999999997,39.049999999999997]
[97110,118217,35.78,35.78]
[97110,111299,34.08,34.08]
[97110,118299,34.08,34.08]
[97110,411201,32.82,32.82]
[97110,1310200,35.04,35.04]
[97110,1220201,36.83,36.83]
[97110,1210201,33.32,33.32]
[97110,910203,33.57,33.57]
[97110,910204,34.17,34.17]
[97110,910299,32.18,32.18]
[97110,1020201,32.619999999999997,32.619999999999997]
[97110,1020299,30.92,30.92]
[97110,121201,34.909999999999997,34.909999999999997]
[97110,220200,30.62,30.62]
[97110,610216,34.15,34.15]
[97110,610212,32.18,32.18]
[97110,610215,34.130000000000003,34.130000000000003]
[97110,610299,31.33,31.33]
[97110,810200,31.06,31.06]
[97110,510200,30.58,30.58]
[97110,520200,30.81,30.81]
[97110,1510200,30.42,30.42]
[97110,720201,32.590000000000003,32.590000000000003]
[97110,720299,30.95,30.95]
[97110,1411203,32.44,32.44]
[97110,1411299,31.03,31.03]
[97110,1230201,34.61,34.61]
[97110,1230299,33.369999999999997,33.369999999999997]
[97110,1421201,35.15,35.15]
[97110,1421299,33.619999999999997,33.619999999999997]
[97110,820201,32.72,32.72]
[97110,820299,31.29,31.29]
[97110,620200,32.409999999999997,32.409999999999997]
[97110,730200,30.16,30.16]
[97110,530202,31.84,31.84]
[97110,530201,31.89,31.89]
[97110,530299,30.15,30.15]
[97110,320201,32.74,32.74]
[97110,540200,30.68,30.68]
[97110,131200,33.450000000000003,33.450000000000003]
[97110,1431240,33.4,33.4]
[97110,1240201,36.159999999999997,36.159999999999997]
[97110,1240299,35.020000000000003,35.020000000000003]
[97110,421205,31.42,31.42]
[97110,1320201,36.61,36.61]
[97110,1320202,37.49,37.49]
[97110,1320203,34.26,34.26]
[97110,1329204,37.4,37.4]
[97110,1328299,31.54,31.54]
[97110,1150200,31.31,31.31]
[97110,330201,32.26,32.26]
[97110,1520200,31.29,31.29]
[97110,431200,30.45,30.45]
[97110,230201,33.229999999999997,33.229999999999997]
[97110,230299,31.85,31.85]
[97110,1250201,34.479999999999997,34.479999999999997]
[97110,1250299,31.45,31.45]
[97110,920220,27.43,27.43]
[97110,1441201,33.6,33.6]
[97110,1120201,30.99,30.99]
[97110,340202,32.15,32.15]
[97110,1030235,30.63,30.63]
[97110,441231,32.71,32.71]
[97110,441220,31.01,31.01]
[97110,441209,32.700000000000003,32.700000000000003]
[97110,441211,32.85,32.85]
[97110,441228,32.42,32.42]
[97110,441215,33.06,33.06]
[97110,441218,32.950000000000003,32.950000000000003]
[97110,441299,31.19,31.19]
[97110,350209,31.47,31.47]
[97110,1451250,32.42,32.42]
[97110,1130200,32.19,32.19]
[97110,920250,31.95,31.95]
[97110,240202,35.06,35.06]
[97110,240299,32.44,32.44]
[97110,1140216,30.2,30.2]
[97110,630200,31.56,31.56]
[97110,360221,32.74,32.74]
[85025,0,10.59,10.59]
[85025,1010200,10.59,10.59]
[85025,210201,10.59,10.59]
[85025,310200,8.74,8.74]
[85025,710213,10.59,10.59]
[85025,118226,10.59,10.59]
[85025,118218,10.59,10.59]
[85025,111203,10.59,10.59]
[85025,111207,10.59,10.59]
[85025,111205,10.59,10.59]
[85025,111206,10.59,10.59]
[85025,111209,10.59,10.59]
[85025,118217,10.59,10.59]
[85025,111299,10.59,10.59]
[85025,118299,10.59,10.59]
[85025,411201,9.6300000000000008,9.6300000000000008]
[85025,1310200,10.59,10.59]
[85025,1220201,10.59,10.59]
[85025,1210201,10.59,10.59]
[85025,910203,10.59,10.59]
[85025,910204,10.59,10.59]
[85025,910299,10.59,10.59]
[85025,1020201,10.59,10.59]
[85025,1020299,10.59,10.59]
[85025,121201,10.59,10.59]
[85025,220200,10.59,10.59]
[85025,610216,10.59,10.59]
[85025,610212,10.59,10.59]
[85025,610215,10.59,10.59]
[85025,610299,10.59,10.59]
[85025,810200,10.59,10.59]
[85025,510200,10.59,10.59]
[85025,520200,6.33,6.33]
[85025,1510200,10.59,10.59]
[85025,720201,10.59,10.59]
[85025,720299,10.59,10.59]
[85025,1411203,10.59,10.59]
[85025,1411299,10.59,10.59]
[85025,1230201,10.59,10.59]
[85025,1230299,10.59,10.59]
[85025,1421201,10.59,10.59]
[85025,1421299,10.59,10.59]
[85025,820201,10.58,10.58]
[85025,820299,10.58,10.58]
[85025,620200,10.59,10.59]
[85025,730200,10.59,10.59]
[85025,530202,10.59,10.59]
[85025,530201,10.59,10.59]
[85025,530299,10.59,10.59]
[85025,320201,10.59,10.59]
[85025,540200,6.33,6.33]
[85025,131200,10.59,10.59]
[85025,1431240,10.59,10.59]
[85025,1240201,10.59,10.59]
[85025,1240299,10.59,10.59]
[85025,421205,10.59,10.59]
[85025,1320201,10.59,10.59]
[85025,1320202,10.59,10.59]
[85025,1320203,10.59,10.59]
[85025,1329204,10.59,10.59]
[85025,1328299,10.53,10.53]
[85025,1150200,10.59,10.59]
[85025,330201,10.59,10.59]
[85025,1520200,10.59,10.59]
[85025,431200,10.59,10.59]
[85025,230201,10.59,10.59]
[85025,230299,10.59,10.59]
[85025,1250201,10.59,10.59]
[85025,1250299,10.59,10.59]
[85025,920220,10.59,10.59]
[85025,1441201,10.59,10.59]
[85025,1120201,10.09,10.09]
[85025,340202,10.59,10.59]
[85025,1030235,10.59,10.59]
[85025,441231,10.59,10.59]
[85025,441220,10.59,10.59]
[85025,441209,10.59,10.59]
[85025,441211,10.59,10.59]
[85025,441228,10.59,10.59]
[85025,441215,10.59,10.59]
[85025,441218,10.59,10.59]
[85025,441299,10.59,10.59]
[85025,350209,7.21,7.21]
[85025,1451250,10.59,10.59]
[85025,1130200,10.59,10.59]
[85025,920250,10.59,10.59]
[85025,240202,10.59,10.59]
[85025,240299,10.59,10.59]
[85025,1140216,10.59,10.59]
[85025,630200,10.59,10.59]
[85025,360221,10.59,10.59]
[80069,0,11.83,11.83]
[80069,1010200,11.83,11.83]
[80069,210201,11.83,11.83]
[80069,310200,11.83,11.83]
[80069,710213,11.83,11.83]
[80069,118226,11.83,11.83]
[80069,118218,11.83,11.83]
[80069,111203,11.83,11.83]
[80069,111207,11.83,11.83]
[80069,111205,11.83,11.83]
[80069,111206,11.83,11.83]
[80069,111209,11.83,11.83]
[80069,118217,11.83,11.83]
[80069,111299,11.83,11.83]
[80069,118299,11.83,11.83]
[80069,411201,11.83,11.83]
[80069,1310200,11.83,11.83]
[80069,1220201,11.83,11.83]
[80069,1210201,11.83,11.83]
[80069,910203,11.83,11.83]
[80069,910204,11.83,11.83]
[80069,910299,11.83,11.83]
[80069,1020201,11.83,11.83]
[80069,1020299,11.83,11.83]
[80069,121201,11.83,11.83]
[80069,220200,11.83,11.83]
[80069,610216,11.83,11.83]
[80069,610212,11.83,11.83]
[80069,610215,11.83,11.83]
[80069,610299,11.83,11.83]
[80069,810200,11.83,11.83]
[80069,510200,11.83,11.83]
[80069,520200,11.83,11.83]
[80069,1510200,9.1300000000000008,9.1300000000000008]
[80069,720201,11.83,11.83]
[80069,720299,11.83,11.83]
[80069,1411203,11.83,11.83]
[80069,1411299,11.83,11.83]
[80069,1230201,11.83,11.83]
[80069,1230299,11.83,11.83]
[80069,1421201,11.83,11.83]
[80069,1421299,11.83,11.83]
[80069,820201,11.83,11.83]
[80069,820299,11.83,11.83]
[80069,620200,11.83,11.83]
[80069,730200,11.83,11.83]
[80069,530202,11.83,11.83]
[80069,530201,11.83,11.83]
[80069,530299,11.83,11.83]
[80069,320201,11.83,11.83]
[80069,540200,11.83,11.83]
[80069,131200,11.83,11.83]
[80069,1431240,11.83,11.83]
[80069,1240201,11.83,11.83]
[80069,1240299,11.83,11.83]
[80069,421205,11.83,11.83]
[80069,1320201,10.92,10.92]
[80069,1320202,10.92,10.92]
[80069,1320203,10.92,10.92]
[80069,1329204,10.92,10.92]
[80069,1328299,11.83,11.83]
[80069,1150200,10.92,10.92]
[80069,330201,11.83,11.83]
[80069,1520200,11.83,11.83]
[80069,431200,11.83,11.83]
[80069,230201,11.83,11.83]
[80069,230299,11.83,11.83]
[80069,1250201,11.83,11.83]
[80069,1250299,11.83,11.83]
[80069,920220,11.83,11.83]
[80069,1441201,11.83,11.83]
[80069,1120201,11.83,11.83]
[80069,340202,11.83,11.83]
[80069,1030235,9.4,9.4]
[80069,441231,11.83,11.83]
[80069,441220,11.83,11.83]
[80069,441209,11.83,11.83]
[80069,441211,11.83,11.83]
[80069,441228,11.83,11.83]
[80069,441215,11.83,11.83]
[80069,441218,11.83,11.83]
[80069,441299,11.83,11.83]
[80069,350209,11.83,11.83]
[80069,1451250,11.83,11.83]
[80069,1130200,11.83,11.83]
[80069,920250,11.83,11.83]
[80069,240202,8.6999999999999993,8.6999999999999993]
[80069,240299,8.6999999999999993,8.6999999999999993]
[80069,1140216,11.83,11.83]
[80069,630200,11.83,11.83]
[80069,360221,11.83,11.83]
[80076,0,11.13,11.13]
[80076,1010200,11.13,11.13]
[80076,210201,11.13,11.13]
[80076,310200,11.13,11.13]
[80076,710213,11.13,11.13]
[80076,118226,11.13,11.13]
[80076,118218,11.13,11.13]
[80076,111203,11.13,11.13]
[80076,111207,11.13,11.13]
[80076,111205,11.13,11.13]
[80076,111206,11.13,11.13]
[80076,111209,11.13,11.13]
[80076,118217,11.13,11.13]
[80076,111299,11.13,11.13]
[80076,118299,11.13,11.13]
[80076,411201,11.13,11.13]
[80076,1310200,11.13,11.13]
[80076,1220201,11.13,11.13]
[80076,1210201,11.13,11.13]
[80076,910203,11.13,11.13]
[80076,910204,11.13,11.13]
[80076,910299,11.13,11.13]
[80076,1020201,11.13,11.13]
[80076,1020299,11.13,11.13]
[80076,121201,11.13,11.13]
[80076,220200,11.13,11.13]
[80076,610216,11.13,11.13]
[80076,610212,11.13,11.13]
[80076,610215,11.13,11.13]
[80076,610299,11.13,11.13]
[80076,810200,8.6999999999999993,8.6999999999999993]
[80076,510200,11.13,11.13]
[80076,520200,11.13,11.13]
[80076,1510200,9.1300000000000008,9.1300000000000008]
[80076,720201,11.13,11.13]
[80076,720299,11.13,11.13]
[80076,1411203,11.13,11.13]
[80076,1411299,11.13,11.13]
[80076,1230201,11.13,11.13]
[80076,1230299,11.13,11.13]
[80076,1421201,11.13,11.13]
[80076,1421299,11.13,11.13]
[80076,820201,6.25,6.25]
[80076,820299,6.25,6.25]
[80076,620200,11.13,11.13]
[80076,730200,11.13,11.13]
[80076,530202,11.13,11.13]
[80076,530201,11.13,11.13]
[80076,530299,11.13,11.13]
[80076,320201,11.13,11.13]
[80076,540200,11.13,11.13]
[80076,131200,11.13,11.13]
[80076,1431240,11.13,11.13]
[80076,1240201,11.13,11.13]
[80076,1240299,11.13,11.13]
[80076,421205,11.13,11.13]
[80076,1320201,8.6999999999999993,8.6999999999999993]
[80076,1320202,8.6999999999999993,8.6999999999999993]
[80076,1320203,8.6999999999999993,8.6999999999999993]
[80076,1329204,8.6999999999999993,8.6999999999999993]
[80076,1328299,10.92,10.92]
[80076,1150200,10.92,10.92]
[80076,330201,11.13,11.13]
[80076,1520200,8.61,8.61]
[80076,431200,11.13,11.13]
[80076,230201,11.13,11.13]
[80076,230299,11.13,11.13]
[80076,1250201,11.13,11.13]
[80076,1250299,11.13,11.13]
[80076,920220,11.13,11.13]
[80076,1441201,11.13,11.13]
[80076,1120201,11.13,11.13]
[80076,340202,11.13,11.13]
[80076,1030235,9.4,9.4]
[80076,441231,11.13,11.13]
[80076,441220,11.13,11.13]
[80076,441209,11.13,11.13]
[80076,441211,11.13,11.13]
[80076,441228,11.13,11.13]
[80076,441215,11.13,11.13]
[80076,441218,11.13,11.13]
[80076,441299,11.13,11.13]
[80076,350209,11.13,11.13]
[80076,1451250,11.13,11.13]
[80076,1130200,11.13,11.13]
[80076,920250,11.13,11.13]
[80076,240202,8.6999999999999993,8.6999999999999993]
[80076,240299,8.6999999999999993,8.6999999999999993]
[80076,1140216,11.13,11.13]
[80076,630200,11.13,11.13]
[80076,360221,10.47,10.47]
[82310,0,7.03,7.03]
[82310,1010200,7.03,7.03]
[82310,210201,7.03,7.03]
[82310,310200,7.03,7.03]
[82310,710213,7.03,7.03]
[82310,118226,7.03,7.03]
[82310,118218,7.03,7.03]
[82310,111203,7.03,7.03]
[82310,111207,7.03,7.03]
[82310,111205,7.03,7.03]
[82310,111206,7.03,7.03]
[82310,111209,7.03,7.03]
[82310,118217,7.03,7.03]
[82310,111299,7.03,7.03]
[82310,118299,7.03,7.03]
[82310,411201,7.03,7.03]
[82310,1310200,7.03,7.03]
[82310,1220201,7.03,7.03]
[82310,1210201,7.03,7.03]
[82310,910203,7.03,7.03]
[82310,910204,7.03,7.03]
[82310,910299,7.03,7.03]
[82310,1020201,7.03,7.03]
[82310,1020299,7.03,7.03]
[82310,121201,7.03,7.03]
[82310,220200,7.03,7.03]
[82310,610216,7.03,7.03]
[82310,610212,7.03,7.03]
[82310,610215,7.03,7.03]
[82310,610299,7.03,7.03]
[82310,810200,7.03,7.03]
[82310,510200,7.03,7.03]
[82310,520200,7.03,7.03]
[82310,1510200,7.03,7.03]
[82310,720201,7.03,7.03]
[82310,720299,7.03,7.03]
[82310,1411203,7.03,7.03]
[82310,1411299,7.03,7.03]
[82310,1230201,7.03,7.03]
[82310,1230299,7.03,7.03]
[82310,1421201,7.03,7.03]
[82310,1421299,7.03,7.03]
[82310,820201,6.39,6.39]
[82310,820299,6.39,6.39]
[82310,620200,7.03,7.03]
[82310,730200,7.03,7.03]
[82310,530202,7.03,7.03]
[82310,530201,7.03,7.03]
[82310,530299,7.03,7.03]
[82310,320201,7.03,7.03]
[82310,540200,7.03,7.03]
[82310,131200,7.03,7.03]
[82310,1431240,7.03,7.03]
[82310,1240201,7.03,7.03]
[82310,1240299,7.03,7.03]
[82310,421205,7.03,7.03]
[82310,1320201,7.03,7.03]
[82310,1320202,7.03,7.03]
[82310,1320203,7.03,7.03]
[82310,1329204,7.03,7.03]
[82310,1328299,7.03,7.03]
[82310,1150200,7.03,7.03]
[82310,330201,7.03,7.03]
[82310,1520200,7.03,7.03]
[82310,431200,7.03,7.03]
[82310,230201,7.03,7.03]
[82310,230299,7.03,7.03]
[82310,1250201,7.03,7.03]
[82310,1250299,7.03,7.03]
[82310,920220,7.03,7.03]
[82310,1441201,7.03,7.03]
[82310,1120201,7.03,7.03]
[82310,340202,7.03,7.03]
[82310,1030235,7.03,7.03]
[82310,441231,7.03,7.03]
[82310,441220,7.03,7.03]
[82310,441209,7.03,7.03]
[82310,441211,7.03,7.03]
[82310,441228,7.03,7.03]
[82310,441215,7.03,7.03]
[82310,441218,7.03,7.03]
[82310,441299,7.03,7.03]
[82310,350209,7.03,7.03]
[82310,1451250,5.51,5.51]
[82310,1130200,7.03,7.03]
[82310,920250,7.03,7.03]
[82310,240202,7.03,7.03]
[82310,240299,7.03,7.03]
[82310,1140216,7.03,7.03]
[82310,630200,7.03,7.03]
[82310,360221,7.03,7.03]
[82306,0,40.33,40.33]
[82306,1010200,40.33,40.33]
[82306,210201,40.33,40.33]
[82306,310200,31.54,31.54]
[82306,710213,40.33,40.33]
[82306,118226,40.33,40.33]
[82306,118218,40.33,40.33]
[82306,111203,40.33,40.33]
[82306,111207,40.33,40.33]
[82306,111205,40.33,40.33]
[82306,111206,40.33,40.33]
[82306,111209,40.33,40.33]
[82306,118217,40.33,40.33]
[82306,111299,40.33,40.33]
[82306,118299,40.33,40.33]
[82306,411201,40.33,40.33]
[82306,1310200,40.33,40.33]
[82306,1220201,40.33,40.33]
[82306,1210201,40.33,40.33]
[82306,910203,40.33,40.33]
[82306,910204,40.33,40.33]
[82306,910299,40.33,40.33]
[82306,1020201,40.33,40.33]
[82306,1020299,40.33,40.33]
[82306,121201,40.33,40.33]
[82306,220200,40.33,40.33]
[82306,610216,40.33,40.33]
[82306,610212,40.33,40.33]
[82306,610215,40.33,40.33]
[82306,610299,40.33,40.33]
[82306,810200,40.33,40.33]
[82306,510200,40.33,40.33]
[82306,520200,40.33,40.33]
[82306,1510200,37.229999999999997,37.229999999999997]
[82306,720201,40.33,40.33]
[82306,720299,40.33,40.33]
[82306,1411203,40.33,40.33]
[82306,1411299,40.33,40.33]
[82306,1230201,40.33,40.33]
[82306,1230299,40.33,40.33]
[82306,1421201,40.33,40.33]
[82306,1421299,40.33,40.33]
[82306,820201,40.33,40.33]
[82306,820299,40.33,40.33]
[82306,620200,40.33,40.33]
[82306,730200,40.33,40.33]
[82306,530202,40.33,40.33]
[82306,530201,40.33,40.33]
[82306,530299,40.33,40.33]
[82306,320201,40.33,40.33]
[82306,540200,40.33,40.33]
[82306,131200,39.93,39.93]
[82306,1431240,40.33,40.33]
[82306,1240201,40.33,40.33]
[82306,1240299,40.33,40.33]
[82306,421205,40.33,40.33]
[82306,1320201,40.33,40.33]
[82306,1320202,40.33,40.33]
[82306,1320203,40.33,40.33]
[82306,1329204,40.33,40.33]
[82306,1328299,39.549999999999997,39.549999999999997]
[82306,1150200,40.33,40.33]
[82306,330201,40.33,40.33]
[82306,1520200,40.33,40.33]
[82306,431200,40.33,40.33]
[82306,230201,32.69,32.69]
[82306,230299,32.69,32.69]
[82306,1250201,40.33,40.33]
[82306,1250299,40.33,40.33]
[82306,920220,40.33,40.33]
[82306,1441201,40.33,40.33]
[82306,1120201,40.33,40.33]
[82306,340202,40.33,40.33]
[82306,1030235,40.33,40.33]
[82306,441231,37.020000000000003,37.020000000000003]
[82306,441220,37.020000000000003,37.020000000000003]
[82306,441209,37.020000000000003,37.020000000000003]
[82306,441211,37.020000000000003,37.020000000000003]
[82306,441228,37.020000000000003,37.020000000000003]
[82306,441215,37.020000000000003,37.020000000000003]
[82306,441218,37.020000000000003,37.020000000000003]
[82306,441299,37.020000000000003,37.020000000000003]
[82306,350209,40.33,40.33]
[82306,1451250,40.33,40.33]
[82306,1130200,40.33,40.33]
[82306,920250,40.33,40.33]
[82306,240202,40.33,40.33]
[82306,240299,40.33,40.33]
[82306,1140216,40.33,40.33]
[82306,630200,40.33,40.33]
[82306,360221,40.33,40.33]
[80053,0,14.39,14.39]
[80053,1010200,14.39,14.39]
[80053,210201,14.39,14.39]
[80053,310200,14.39,14.39]
[80053,710213,14.39,14.39]
[80053,118226,14.39,14.39]
[80053,118218,14.39,14.39]
[80053,111203,14.39,14.39]
[80053,111207,14.39,14.39]
[80053,111205,14.39,14.39]
[80053,111206,14.39,14.39]
[80053,111209,14.39,14.39]
[80053,118217,14.39,14.39]
[80053,111299,14.39,14.39]
[80053,118299,14.39,14.39]
[80053,411201,14.39,14.39]
[80053,1310200,14.39,14.39]
[80053,1220201,14.39,14.39]
[80053,1210201,14.39,14.39]
[80053,910203,14.39,14.39]
[80053,910204,14.39,14.39]
[80053,910299,14.39,14.39]
[80053,1020201,14.39,14.39]
[80053,1020299,14.39,14.39]
[80053,121201,14.39,14.39]
[80053,220200,14.39,14.39]
[80053,610216,14.39,14.39]
[80053,610212,14.39,14.39]
[80053,610215,14.39,14.39]
[80053,610299,14.39,14.39]
[80053,810200,14.17,14.17]
[80053,510200,14.39,14.39]
[80053,520200,14.39,14.39]
[80053,1510200,11.45,11.45]
[80053,720201,14.39,14.39]
[80053,720299,14.39,14.39]
[80053,1411203,14.39,14.39]
[80053,1411299,14.39,14.39]
[80053,1230201,14.39,14.39]
[80053,1230299,14.39,14.39]
[80053,1421201,14.39,14.39]
[80053,1421299,14.39,14.39]
[80053,820201,14.17,14.17]
[80053,820299,14.17,14.17]
[80053,620200,14.39,14.39]
[80053,730200,14.39,14.39]
[80053,530202,14.39,14.39]
[80053,530201,14.39,14.39]
[80053,530299,14.39,14.39]
[80053,320201,14.39,14.39]
[80053,540200,14.39,14.39]
[80053,131200,14.39,14.39]
[80053,1431240,14.39,14.39]
[80053,1240201,13.02,13.02]
[80053,1240299,13.02,13.02]
[80053,421205,14.39,14.39]
[80053,1320201,13.02,13.02]
[80053,1320202,13.02,13.02]
[80053,1320203,13.02,13.02]
[80053,1329204,13.02,13.02]
[80053,1328299,14.39,14.39]
[80053,1150200,11.51,11.51]
[80053,330201,14.39,14.39]
[80053,1520200,14.39,14.39]
[80053,431200,14.39,14.39]
[80053,230201,14.39,14.39]
[80053,230299,14.39,14.39]
[80053,1250201,14.39,14.39]
[80053,1250299,14.39,14.39]
[80053,920220,14.39,14.39]
[80053,1441201,14.39,14.39]
[80053,1120201,13.02,13.02]
[80053,340202,14.39,14.39]
[80053,1030235,11.74,11.74]
[80053,441231,14.39,14.39]
[80053,441220,14.39,14.39]
[80053,441209,14.39,14.39]
[80053,441211,14.39,14.39]
[80053,441228,14.39,14.39]
[80053,441215,14.39,14.39]
[80053,441218,14.39,14.39]
[80053,441299,14.39,14.39]
[80053,350209,14.39,14.39]
[80053,1451250,14.39,14.39]
[80053,1130200,14.39,14.39]
[80053,920250,14.39,14.39]
[80053,240202,11.62,11.62]
[80053,240299,11.62,11.62]
[80053,1140216,14.39,14.39]
[80053,630200,14.39,14.39]
[80053,360221,14.39,14.39]
[84100,0,6.46,6.46]
[84100,1010200,5.57,5.57]
[84100,210201,6.46,6.46]
[84100,310200,6.46,6.46]
[84100,710213,6.46,6.46]
[84100,118226,6.46,6.46]
[84100,118218,6.46,6.46]
[84100,111203,6.46,6.46]
[84100,111207,6.46,6.46]
[84100,111205,6.46,6.46]
[84100,111206,6.46,6.46]
[84100,111209,6.46,6.46]
[84100,118217,6.46,6.46]
[84100,111299,6.46,6.46]
[84100,118299,6.46,6.46]
[84100,411201,6.46,6.46]
[84100,1310200,6.46,6.46]
[84100,1220201,6.46,6.46]
[84100,1210201,6.46,6.46]
[84100,910203,6.46,6.46]
[84100,910204,6.46,6.46]
[84100,910299,6.46,6.46]
[84100,1020201,6.46,6.46]
[84100,1020299,6.46,6.46]
[84100,121201,6.46,6.46]
[84100,220200,6.46,6.46]
[84100,610216,6.46,6.46]
[84100,610212,6.46,6.46]
[84100,610215,6.46,6.46]
[84100,610299,6.46,6.46]
[84100,810200,6.46,6.46]
[84100,510200,6.46,6.46]
[84100,520200,6.46,6.46]
[84100,1510200,6.46,6.46]
[84100,720201,6.46,6.46]
[84100,720299,6.46,6.46]
[84100,1411203,6.32,6.32]
[84100,1411299,6.32,6.32]
[84100,1230201,5.86,5.86]
[84100,1230299,5.86,5.86]
[84100,1421201,6.46,6.46]
[84100,1421299,6.46,6.46]
[84100,820201,5.61,5.61]
[84100,820299,5.61,5.61]
[84100,620200,6.46,6.46]
[84100,730200,6.46,6.46]
[84100,530202,6.46,6.46]
[84100,530201,6.46,6.46]
[84100,530299,6.46,6.46]
[84100,320201,6.46,6.46]
[84100,540200,6.46,6.46]
[84100,131200,6.46,6.46]
[84100,1431240,6.46,6.46]
[84100,1240201,6.46,6.46]
[84100,1240299,6.46,6.46]
[84100,421205,6.46,6.46]
[84100,1320201,6.46,6.46]
[84100,1320202,6.46,6.46]
[84100,1320203,6.46,6.46]
[84100,1329204,6.46,6.46]
[84100,1328299,6.46,6.46]
[84100,1150200,6.46,6.46]
[84100,330201,6.46,6.46]
[84100,1520200,6.46,6.46]
[84100,431200,6.46,6.46]
[84100,230201,6.46,6.46]
[84100,230299,6.46,6.46]
[84100,1250201,6.46,6.46]
[84100,1250299,6.46,6.46]
[84100,920220,6.46,6.46]
[84100,1441201,6.46,6.46]
[84100,1120201,6.46,6.46]
[84100,340202,6.46,6.46]
[84100,1030235,5.96,5.96]
[84100,441231,6.46,6.46]
[84100,441220,6.46,6.46]
[84100,441209,6.46,6.46]
[84100,441211,6.46,6.46]
[84100,441228,6.46,6.46]
[84100,441215,6.46,6.46]
[84100,441218,6.46,6.46]
[84100,441299,6.46,6.46]
[84100,350209,6.46,6.46]
[84100,1451250,6.46,6.46]
[84100,1130200,6.46,6.46]
[84100,920250,6.46,6.46]
[84100,240202,6.46,6.46]
[84100,240299,6.46,6.46]
[84100,1140216,6.46,6.46]
[84100,630200,6.46,6.46]
[84100,360221,6.37,6.37]
[83970,0,56.23,56.23]
[83970,1010200,56.23,56.23]
[83970,210201,56.23,56.23]
[83970,310200,56.23,56.23]
[83970,710213,56.23,56.23]
[83970,118226,56.23,56.23]
[83970,118218,56.23,56.23]
[83970,111203,56.23,56.23]
[83970,111207,56.23,56.23]
[83970,111205,56.23,56.23]
[83970,111206,56.23,56.23]
[83970,111209,56.23,56.23]
[83970,118217,56.23,56.23]
[83970,111299,56.23,56.23]
[83970,118299,56.23,56.23]
[83970,411201,56.23,56.23]
[83970,1310200,56.23,56.23]
[83970,1220201,56.23,56.23]
[83970,1210201,56.23,56.23]
[83970,910203,56.23,56.23]
[83970,910204,56.23,56.23]
[83970,910299,56.23,56.23]
[83970,1020201,56.23,56.23]
[83970,1020299,56.23,56.23]
[83970,121201,56.23,56.23]
[83970,220200,56.23,56.23]
[83970,610216,56.23,56.23]
[83970,610212,56.23,56.23]
[83970,610215,56.23,56.23]
[83970,610299,56.23,56.23]
[83970,810200,56.23,56.23]
[83970,510200,56.23,56.23]
[83970,520200,56.23,56.23]
[83970,1510200,56.23,56.23]
[83970,720201,56.23,56.23]
[83970,720299,56.23,56.23]
[83970,1411203,56.23,56.23]
[83970,1411299,56.23,56.23]
[83970,1230201,56.23,56.23]
[83970,1230299,56.23,56.23]
[83970,1421201,56.23,56.23]
[83970,1421299,56.23,56.23]
[83970,820201,56.23,56.23]
[83970,820299,56.23,56.23]
[83970,620200,56.23,56.23]
[83970,730200,56.23,56.23]
[83970,530202,56.23,56.23]
[83970,530201,56.23,56.23]
[83970,530299,56.23,56.23]
[83970,320201,56.23,56.23]
[83970,540200,56.23,56.23]
[83970,131200,56.23,56.23]
[83970,1431240,56.23,56.23]
[83970,1240201,56.23,56.23]
[83970,1240299,56.23,56.23]
[83970,421205,56.23,56.23]
[83970,1320201,56.23,56.23]
[83970,1320202,56.23,56.23]
[83970,1320203,56.23,56.23]
[83970,1329204,56.23,56.23]
[83970,1328299,56.23,56.23]
[83970,1150200,56.23,56.23]
[83970,330201,56.23,56.23]
[83970,1520200,56.23,56.23]
[83970,431200,56.23,56.23]
[83970,230201,56.23,56.23]
[83970,230299,56.23,56.23]
[83970,1250201,56.23,56.23]
[83970,1250299,56.23,56.23]
[83970,920220,56.23,56.23]
[83970,1441201,56.23,56.23]
[83970,1120201,56.23,56.23]
[83970,340202,56.23,56.23]
[83970,1030235,56.23,56.23]
[83970,441231,56.23,56.23]
[83970,441220,56.23,56.23]
[83970,441209,56.23,56.23]
[83970,441211,56.23,56.23]
[83970,441228,56.23,56.23]
[83970,441215,56.23,56.23]
[83970,441218,56.23,56.23]
[83970,441299,56.23,56.23]
[83970,350209,56.23,56.23]
[83970,1451250,56.23,56.23]
[83970,1130200,56.23,56.23]
[83970,920250,56.23,56.23]
[83970,240202,56.23,56.23]
[83970,240299,56.23,56.23]
[83970,1140216,56.23,56.23]
[83970,630200,56.23,56.23]
[83970,360221,56.23,56.23]
[83516,0,15.71,15.71]
[83516,1010200,14.83,14.83]
[83516,210201,15.71,15.71]
[83516,310200,15.71,15.71]
[83516,710213,15.71,15.71]
[83516,118226,12.64,12.64]
[83516,118218,12.64,12.64]
[83516,111203,12.64,12.64]
[83516,111207,12.64,12.64]
[83516,111205,12.64,12.64]
[83516,111206,12.64,12.64]
[83516,111209,12.64,12.64]
[83516,118217,12.64,12.64]
[83516,111299,12.64,12.64]
[83516,118299,12.64,12.64]
[83516,411201,15.71,15.71]
[83516,1310200,15.71,15.71]
[83516,1220201,14.99,14.99]
[83516,1210201,14.99,14.99]
[83516,910203,15.71,15.71]
[83516,910204,15.71,15.71]
[83516,910299,15.71,15.71]
[83516,1020201,14.55,14.55]
[83516,1020299,14.55,14.55]
[83516,121201,15.71,15.71]
[83516,220200,14.72,14.72]
[83516,610216,15.71,15.71]
[83516,610212,15.71,15.71]
[83516,610215,15.71,15.71]
[83516,610299,15.71,15.71]
[83516,810200,15.71,15.71]
[83516,510200,15.71,15.71]
[83516,520200,15.71,15.71]
[83516,1510200,14.83,14.83]
[83516,720201,15.71,15.71]
[83516,720299,15.71,15.71]
[83516,1411203,15.6,15.6]
[83516,1411299,15.6,15.6]
[83516,1230201,15.71,15.71]
[83516,1230299,15.71,15.71]
[83516,1421201,15.6,15.6]
[83516,1421299,15.6,15.6]
[83516,820201,15.71,15.71]
[83516,820299,15.71,15.71]
[83516,620200,15.71,15.71]
[83516,730200,15.71,15.71]
[83516,530202,15.71,15.71]
[83516,530201,15.71,15.71]
[83516,530299,15.71,15.71]
[83516,320201,15.71,15.71]
[83516,540200,15.71,15.71]
[83516,131200,15.71,15.71]
[83516,1431240,15.6,15.6]
[83516,1240201,14.99,14.99]
[83516,1240299,14.99,14.99]
[83516,421205,15.71,15.71]
[83516,1320201,11.91,11.91]
[83516,1320202,11.91,11.91]
[83516,1320203,11.91,11.91]
[83516,1329204,13.4,13.4]
[83516,1328299,15.6,15.6]
[83516,1150200,15.6,15.6]
[83516,330201,15.71,15.71]
[83516,1520200,15.71,15.71]
[83516,431200,15.71,15.71]
[83516,230201,15.71,15.71]
[83516,230299,15.71,15.71]
[83516,1250201,14.99,14.99]
[83516,1250299,14.99,14.99]
[83516,920220,12.64,12.64]
[83516,1441201,15.71,15.71]
[83516,1120201,15.71,15.71]
[83516,340202,15.71,15.71]
[83516,1030235,15.6,15.6]
[83516,441231,15.71,15.71]
[83516,441220,15.71,15.71]
[83516,441209,15.71,15.71]
[83516,441211,15.71,15.71]
[83516,441228,15.71,15.71]
[83516,441215,15.71,15.71]
[83516,441218,15.71,15.71]
[83516,441299,15.71,15.71]
[83516,350209,15.71,15.71]
[83516,1451250,15.6,15.6]
[83516,1130200,15.71,15.71]
[83516,920250,12.64,12.64]
[83516,240202,15.71,15.71]
[83516,240299,15.71,15.71]
[83516,1140216,15.71,15.71]
[83516,630200,15.71,15.71]
[83516,360221,15.71,15.71]
[84165,0,14.63,14.63]
[84165,1010200,14.5,14.5]
[84165,210201,14.63,14.63]
[84165,310200,14.63,14.63]
[84165,710213,14.63,14.63]
[84165,118226,14.63,14.63]
[84165,118218,14.63,14.63]
[84165,111203,14.63,14.63]
[84165,111207,14.63,14.63]
[84165,111205,14.63,14.63]
[84165,111206,14.63,14.63]
[84165,111209,14.63,14.63]
[84165,118217,14.63,14.63]
[84165,111299,14.63,14.63]
[84165,118299,14.63,14.63]
[84165,411201,14.63,14.63]
[84165,1310200,14.63,14.63]
[84165,1220201,14.63,14.63]
[84165,1210201,14.63,14.63]
[84165,910203,14.63,14.63]
[84165,910204,14.63,14.63]
[84165,910299,14.63,14.63]
[84165,1020201,14.63,14.63]
[84165,1020299,14.63,14.63]
[84165,121201,14.63,14.63]
[84165,220200,14.63,14.63]
[84165,610216,14.63,14.63]
[84165,610212,14.63,14.63]
[84165,610215,14.63,14.63]
[84165,610299,14.63,14.63]
[84165,810200,14.63,14.63]
[84165,510200,14.63,14.63]
[84165,520200,14.63,14.63]
[84165,1510200,14.63,14.63]
[84165,720201,14.63,14.63]
[84165,720299,14.63,14.63]
[84165,1411203,14.63,14.63]
[84165,1411299,14.63,14.63]
[84165,1230201,14.63,14.63]
[84165,1230299,14.63,14.63]
[84165,1421201,14.63,14.63]
[84165,1421299,14.63,14.63]
[84165,820201,14.63,14.63]
[84165,820299,14.63,14.63]
[84165,620200,14.63,14.63]
[84165,730200,14.63,14.63]
[84165,530202,14.63,14.63]
[84165,530201,14.63,14.63]
[84165,530299,14.63,14.63]
[84165,320201,14.63,14.63]
[84165,540200,14.63,14.63]
[84165,131200,14.63,14.63]
[84165,1431240,14.63,14.63]
[84165,1240201,14.63,14.63]
[84165,1240299,14.63,14.63]
[84165,421205,14.63,14.63]
[84165,1320201,14.63,14.63]
[84165,1320202,14.63,14.63]
[84165,1320203,14.63,14.63]
[84165,1329204,14.63,14.63]
[84165,1328299,14.63,14.63]
[84165,1150200,14.56,14.56]
[84165,330201,14.63,14.63]
[84165,1520200,14.63,14.63]
[84165,431200,14.63,14.63]
[84165,230201,14.63,14.63]
[84165,230299,14.63,14.63]
[84165,1250201,14.63,14.63]
[84165,1250299,14.63,14.63]
[84165,920220,14.63,14.63]
[84165,1441201,14.63,14.63]
[84165,1120201,14.63,14.63]
[84165,340202,14.63,14.63]
[84165,1030235,14.63,14.63]
[84165,441231,14.63,14.63]
[84165,441220,14.63,14.63]
[84165,441209,14.63,14.63]
[84165,441211,14.63,14.63]
[84165,441228,14.63,14.63]
[84165,441215,14.63,14.63]
[84165,441218,14.63,14.63]
[84165,441299,14.63,14.63]
[84165,350209,14.63,14.63]
[84165,1451250,14.63,14.63]
[84165,1130200,14.63,14.63]
[84165,920250,14.63,14.63]
[84165,240202,14.63,14.63]
[84165,240299,14.63,14.63]
[84165,1140216,14.63,14.63]
[84165,630200,14.63,14.63]
[84165,360221,14.63,14.63]
[82340,0,8.2100000000000009,8.2100000000000009]
[82340,1010200,7.9,7.9]
[82340,210201,8.2100000000000009,8.2100000000000009]
[82340,310200,8.2100000000000009,8.2100000000000009]
[82340,710213,8.2100000000000009,8.2100000000000009]
[82340,118226,8.2100000000000009,8.2100000000000009]
[82340,118218,8.2100000000000009,8.2100000000000009]
[82340,111203,8.2100000000000009,8.2100000000000009]
[82340,111207,8.2100000000000009,8.2100000000000009]
[82340,111205,8.2100000000000009,8.2100000000000009]
[82340,111206,8.2100000000000009,8.2100000000000009]
[82340,111209,8.2100000000000009,8.2100000000000009]
[82340,118217,8.2100000000000009,8.2100000000000009]
[82340,111299,8.2100000000000009,8.2100000000000009]
[82340,118299,8.2100000000000009,8.2100000000000009]
[82340,411201,8.2100000000000009,8.2100000000000009]
[82340,1310200,8.2100000000000009,8.2100000000000009]
[82340,1220201,8.2100000000000009,8.2100000000000009]
[82340,1210201,8.2100000000000009,8.2100000000000009]
[82340,910203,8.2100000000000009,8.2100000000000009]
[82340,910204,8.2100000000000009,8.2100000000000009]
[82340,910299,8.2100000000000009,8.2100000000000009]
[82340,1020201,8.2100000000000009,8.2100000000000009]
[82340,1020299,8.2100000000000009,8.2100000000000009]
[82340,121201,8.2100000000000009,8.2100000000000009]
[82340,220200,8.2100000000000009,8.2100000000000009]
[82340,610216,8.2100000000000009,8.2100000000000009]
[82340,610212,8.2100000000000009,8.2100000000000009]
[82340,610215,8.2100000000000009,8.2100000000000009]
[82340,610299,8.2100000000000009,8.2100000000000009]
[82340,810200,5.61,5.61]
[82340,510200,8.2100000000000009,8.2100000000000009]
[82340,520200,8.2100000000000009,8.2100000000000009]
[82340,1510200,5.37,5.37]
[82340,720201,8.2100000000000009,8.2100000000000009]
[82340,720299,8.2100000000000009,8.2100000000000009]
[82340,1411203,7.9,7.9]
[82340,1411299,7.9,7.9]
[82340,1230201,8.2100000000000009,8.2100000000000009]
[82340,1230299,8.2100000000000009,8.2100000000000009]
[82340,1421201,8.2100000000000009,8.2100000000000009]
[82340,1421299,8.2100000000000009,8.2100000000000009]
[82340,820201,7.22,7.22]
[82340,820299,7.22,7.22]
[82340,620200,8.2100000000000009,8.2100000000000009]
[82340,730200,8.2100000000000009,8.2100000000000009]
[82340,530202,8.2100000000000009,8.2100000000000009]
[82340,530201,8.2100000000000009,8.2100000000000009]
[82340,530299,8.2100000000000009,8.2100000000000009]
[82340,320201,8.2100000000000009,8.2100000000000009]
[82340,540200,8.2100000000000009,8.2100000000000009]
[82340,131200,8.2100000000000009,8.2100000000000009]
[82340,1431240,8.2100000000000009,8.2100000000000009]
[82340,1240201,8.2100000000000009,8.2100000000000009]
[82340,1240299,8.2100000000000009,8.2100000000000009]
[82340,421205,8.2100000000000009,8.2100000000000009]
[82340,1320201,8.2100000000000009,8.2100000000000009]
[82340,1320202,8.2100000000000009,8.2100000000000009]
[82340,1320203,8.2100000000000009,8.2100000000000009]
[82340,1329204,8.2100000000000009,8.2100000000000009]
[82340,1328299,8.2100000000000009,8.2100000000000009]
[82340,1150200,7.11,7.11]
[82340,330201,8.2100000000000009,8.2100000000000009]
[82340,1520200,8.2100000000000009,8.2100000000000009]
[82340,431200,8.2100000000000009,8.2100000000000009]
[82340,230201,7.11,7.11]
[82340,230299,7.11,7.11]
[82340,1250201,8.2100000000000009,8.2100000000000009]
[82340,1250299,8.2100000000000009,8.2100000000000009]
[82340,920220,8.2100000000000009,8.2100000000000009]
[82340,1441201,8.2100000000000009,8.2100000000000009]
[82340,1120201,8.2100000000000009,8.2100000000000009]
[82340,340202,6.71,6.71]
[82340,1030235,8.2100000000000009,8.2100000000000009]
[82340,441231,8.2100000000000009,8.2100000000000009]
[82340,441220,8.2100000000000009,8.2100000000000009]
[82340,441209,8.2100000000000009,8.2100000000000009]
[82340,441211,8.2100000000000009,8.2100000000000009]
[82340,441228,8.2100000000000009,8.2100000000000009]
[82340,441215,8.2100000000000009,8.2100000000000009]
[82340,441218,8.2100000000000009,8.2100000000000009]
[82340,441299,8.2100000000000009,8.2100000000000009]
[82340,350209,7.11,7.11]
[82340,1451250,7.86,7.86]
[82340,1130200,8.2100000000000009,8.2100000000000009]
[82340,920250,8.2100000000000009,8.2100000000000009]
[82340,240202,8.2100000000000009,8.2100000000000009]
[82340,240299,8.2100000000000009,8.2100000000000009]
[82340,1140216,8.2100000000000009,8.2100000000000009]
[82340,630200,8.2100000000000009,8.2100000000000009]
[82340,360221,8.2100000000000009,8.2100000000000009]

{"sheet":"ToDo","index":18,"n_rows":1,"n_cols":1,"rows_kept":1,"cut":false,"hidden":true,"merged":[]}
["Can we model simplified data collection rather than assume no correlation?"]